{"text_format":"1","workbook":"xlsx","n_sheets":2,"sheets":["Current Events","PictureGraph"],"not_rendered":{"charts":1,"images":1,"macros":1,"external_links":5,"defined_names":317,"comments":1,"pivot_tables":0},"unopened":[],"bounds":{"document_bytes":16777216,"sheet_cells":100000,"rows_first":2000,"rows_last":500,"rows_between":2000,"halvings":0,"cell_chars":16384,"cell_head_chars":4096},"cells_cut":0,"cells_raw":0,"read":"whole","date_system":"1900"}

{"sheet":"Current Events","index":0,"n_rows":1236,"n_cols":58,"rows_kept":1236,"cut":false,"hidden":false,"merged":[[67,4,67,5],[64,4,64,5],[504,9,504,10],[51,4,52,4],[65,4,65,5],[66,4,66,5],[51,7,52,7],[51,8,52,8],[54,8,56,8],[51,5,52,5],[62,4,62,5],[63,4,63,5],[53,10,53,17],[51,12,51,13],[52,10,52,11],[52,12,52,13],[50,10,50,11],[36,11,36,12],[46,10,46,11],[47,10,47,11],[48,12,48,13],[49,10,49,11],[48,10,48,11],[47,12,47,13],[36,16,37,17],[36,15,37,15],[30,10,31,10],[36,13,37,13],[31,13,31,14],[33,13,33,14],[36,10,37,10],[32,13,32,14],[36,14,37,14],[32,10,34,10],[10,9,10,16],[12,8,13,17],[9,12,9,17],[9,8,9,11],[8,3,8,16],[701,5,710,10],[638,5,647,10],[71,4,71,5],[68,4,68,5],[664,5,673,10],[69,4,69,5],[70,4,70,5],[558,6,560,13],[549,6,550,13],[552,6,557,13],[202,11,206,13],[562,7,562,9],[485,7,489,12],[61,4,61,5],[51,10,51,11],[14,8,14,11],[14,12,14,17],[29,13,29,14],[30,13,30,14],[28,13,28,14],[38,16,38,17],[39,16,39,17],[40,16,40,17],[41,16,41,17],[46,12,46,13],[49,12,49,13],[50,12,50,13],[17,8,18,17],[36,4,37,4],[36,9,37,9],[31,6,31,8],[32,6,32,8],[36,6,37,6],[36,7,37,7],[35,6,35,8],[51,3,52,3],[36,3,37,3],[51,6,52,6],[19,6,19,7],[29,6,30,8],[20,6,20,8],[21,6,21,8],[42,7,42,8],[28,6,28,8],[36,8,37,8],[43,7,43,8],[36,5,37,5],[44,4,44,5],[20,3,21,5]]}
[1,1,null,null,null,null,null,null,null,null," Click here and Page Down once for 2nd half or twice for Overview"]
[null,null,null," Click here and Page Down once for 2nd half of year or Page Down twice for Overview"]
[]
[]
[]
[]
[]
[]
[null,null,null,"This LifeMath GPS Lite software is designed for you to experience entering your LifeMath. It is only 20% functional and is not to be utilized for financial decision making."]
[null,null,null,null,null,null,null,null,"1st 6 MONTHS - Click Graph for 2nd 6 months"]
[]
[null,null,null,null,null,null,null,null,null,null,null,null,null,null,null,null,null,null,null,"c"]
[]
[]
[null,null,null,null,null,null,null,null,"2nd 6 MONTHS - Click Graph for Full Year"]
[]
[]
[]
[]
[]
[null,null,null,null,null,null,null,null,null,null,null,null,null,null,null,null,null,null,null,null,null,null,null,{"$f":"K55","v":"HH"},null,null,{"$f":"#REF!","v":{"$error":"#REF!"}}]
[null,null,null,null,null,null,{"$f":"D541","v":0},null,null,null,null,null,null,null,null,null,null,null,"One family",null,null," Checks/Cash Received ",null,{"$f":"L55","v":0},{"$f":"#REF!","v":{"$error":"#REF!"}},null,{"$f":"#REF!","v":{"$error":"#REF!"}}]
[null,null,null,null,null,null,null,null,null,null,null,null,null,null,null,null,null,null,"Multi-family",null,null," Direct to Checking ",null,{"$f":"M55","v":0},null,null,{"$f":"#REF!","v":{"$error":"#REF!"}}]
[null,null,null,null,null,null,null,null,null,null,null,null,null,null,null,null,null,null,"Condo",null,null," Direct to Savings ",null,{"$f":"N55","v":0},null,null,{"$f":"#REF!","v":{"$error":"#REF!"}}]
[null,null,null,null,null,null,null,null,null,null,null,null,null,null,null,null,null,null,"Investment",null,null,null,null,{"$f":"P55","v":0},null,null,{"$f":"#REF!","v":{"$error":"#REF!"}}]
[null,null,null,null,null,null,null,null,null,null,null,null,null,null,null,null,null,null,null,null,null,null,null,{"$f":"Q55","v":0},null,null,{"$f":"#REF!","v":{"$error":"#REF!"}}]
[null,null,null,null,null,null,null,null,null,null,null,null,null,null,null,null,"Change             Screen Size",null,"Yes",null,null,null,null,{"$f":"R55","v":0},null,null,{"$f":"#REF!","v":{"$error":"#REF!"}}]
[null,null,null,null,null,null,null,null,null,null,null,null,null,null,null,null,null,null,"No",null,null,null,null,{"$f":"K57","v":"Food"},null,null,{"$f":"#REF!","v":{"$error":"#REF!"}}]
[null,null,null,null,null,null,"Lifemath GPS for the",null,null,null,null,null,"2 Initials","Accounts",null,"Balance","% Rate",{"$f":"IF(P29>0,3,0)","v":3},{"$f":"D499","v":"2017-10-27"},null,null,null,null,{"$f":"L57","v":"Beverages"},null,null,{"$f":"#REF!","v":{"$error":"#REF!"}}]
[null,null,null,null,null,null,{"$f":"D501","v":"Sample Household"},null,null,{"$f":"D499","v":"2017-10-27"},null,null,null," Checking",null,null,null,0,null,{"$f":"IF(K31-S29>7,1/0,K31)","v":{"$error":"#DIV/0!"}},null,null,null,{"$f":"M57","v":"Medical"},null,null,{"$f":"#REF!","v":{"$error":"#REF!"}}]
[null,null,null,null,null,null,null,null,null,{"$f":"J30+8","v":43043},{"$f":"NOW()","v":"2017-11-20T17:01:47.040"},null,null," Savings",null,null,{"$f":"IF(P31<>0,0.025,0)","v":0},0,null,null,"Weekly",null,null,{"$f":"N57","v":"Taxes"},null,null,{"$f":"#REF!","v":{"$error":"#REF!"}}]
[null,null,null,null,null,null,"Money is the math of life!",null,null,null,null,null,null," Tax Deferred",null,null,{"$f":"IF(P32<>0,0.04,0)","v":0},0,null,null,"Bi-Weekly",null,null,{"$f":"P57","v":"House"},null,null,{"$f":"#REF!","v":{"$error":"#REF!"}}]
[null,null,null,null,null,null,"Info@LifeMath.com 401 941 2020 ",null,null,null,null,null,null," Investment",null,null,{"$f":"IF(P33<>0,0.05,0)","v":0},0,null,null,"Semi-Monthly",{"$f":"#REF!","v":{"$error":"#REF!"}},null,{"$f":"Q57","v":"Automobile"},null,null,{"$f":"#REF!","v":{"$error":"#REF!"}}]
[null,null,null,null,null,null,null,null,null,null,null,null,null," Insurance CV",null,null,null,{"$f":"IF(P34>0,3,0)","v":0},null,null,"Monthly",{"$f":"#REF!","v":{"$error":"#REF!"}},null,{"$f":"R57","v":"Pets"},null,null,{"$f":"IF(#REF!=\"  Cash Advance\",0,#REF!)","v":{"$error":"#REF!"}}]
[null,null,"  TM 2017 and © Copyright 1981-2017 -  Moneywatch Ltd - All Rights Reserved",null,null,null,null,null,null,null,null,null,null,null,null,null,null,null,null,null,"Quarterly",{"$f":"#REF!","v":{"$error":"#REF!"}},null,{"$f":"K59","v":"Gifts"},null,null,{"$f":"IF(#REF!=\"  Cash Advance\",0,#REF!)","v":{"$error":"#REF!"}}]
[null,null,null,null,null,null,null,null,null,null,null,null,null,null,null,null,null,null,null,null,"Semi-Annual","Stipend",null,{"$f":"L59","v":"Holiday"},null,null,{"$f":"IF(#REF!=\"  Cash Advance\",0,#REF!)","v":{"$error":"#REF!"}}]
[null,null,null,"Income Sources","Annual                Gross Income","Payday Frequency","Received By","Net Pay                      or Income","Begin Date","End Date","Payroll             Savings","Tax Deferred",null,"Payroll Investment","Misc","Payroll Loans &  Other","Estimated Annual                  Income & Payroll Taxes Deposited",null,null,null,"Annual",null,null,{"$f":"M59","v":"Insurance"},null,null,{"$f":"IF(#REF!=\"  Cash Advance\",0,#REF!)","v":{"$error":"#REF!"}}]
[null,null,null,null,null,null,null,null,null,null,null,"Employee","Employer",null,null,null,null,null,null,null,null,null,null,{"$f":"N59","v":"Trips"},null,null,{"$f":"IF(#REF!=\"  Cash Advance\",0,#REF!)","v":{"$error":"#REF!"}}]
[null,null,null,null,null,null,null,null,{"$f":"IF(H39=0,0,K31)","v":"00:00:00"},{"$f":"IF(gegindate=0,0,gegindate+364)","v":"00:00:00"},null,null,null,null,null,null,{"$f":"E39-((IF(F39=\"Weekly\",52,IF(F39=\"bi-weekly\",26,IF(F39=\"semi-monthly\",24,IF(F39=\"Monthly\",12,IF(F39=\"quarterly\",4,1))))))*(H39+K39+L39+N39+P39))","v":0},"=(IF(F39=\"Weekly\",52,IF(F39=\"bi-weekly\",26,IF(F39=\"semi-monthly\",24,IF(F39=\"Monthly\",12,IF(F39=\"quarterly\",4,1))))))*(H39+K39+L39+N39+P39)",null,null,null,null,"Yes",{"$f":"P59","v":"Business"},null,null,{"$f":"IF(#REF!=\"  Cash Advance\",0,#REF!)","v":{"$error":"#REF!"}}]
[null,null,null,null,null,null,null,null,{"$f":"IF(H40=0,0,Begindate)","v":"00:00:00"},{"$f":"IF(I40=0,0,enddate)","v":"00:00:00"},null,null,null,null,null,null,{"$f":"E40-((IF(F40=\"Weekly\",52,IF(F40=\"bi-weekly\",26,IF(F40=\"semi-monthly\",24,IF(F40=\"Monthly\",12,IF(F40=\"quarterly\",4,1))))))*(H40+K40+L40+N40+P40))","v":0},"=(IF(F39=\"Weekly\",52,IF(F39=\"bi-weekly\",26,IF(F39=\"semi-monthly\",24,IF(F39=\"Monthly\",12,IF(F39=\"quarterly\",4,1))))))*(H39+K39+L39+N39+P39)",null,null,null,null,"No",{"$f":"Q59","v":"Utilities"},null,null,{"$f":"IF(#REF!=\"  Cash Advance\",0,#REF!)","v":{"$error":"#REF!"}}]
[null,null,null,null,null,null,null,null,{"$f":"IF(H41=0,0,Begindate)","v":"00:00:00"},{"$f":"IF(I41=0,0,enddate)","v":"00:00:00"},null,null,null,null,null,null,null,null,null,null,null,null,null,"Income",null,null,{"$f":"IF(#REF!=\"  Cash Advance\",0,#REF!)","v":{"$error":"#REF!"}}]
[null,null,null,null,null,null,null,null,{"$f":"IF(H42=0,0,Begindate)","v":"00:00:00"},{"$f":"IF(I42=0,0,enddate)","v":"00:00:00"},null,null,null,null,null,null,null,null,null,null,null,null,null,"Other",null,null,{"$f":"IF(#REF!=\"  Cash Advance\",0,#REF!)","v":{"$error":"#REF!"}}]
[null,null,null,"Federal Tax Refund",null,{"$f":"IF(E43=0,0,IF($K$31<=DATE(YEAR($K$31),4,15),DATE(YEAR($K$31),4,15),DATE(YEAR($K$31)+1,4,15)))","v":"00:00:00"},{"$f":"IF(E43=0,0,\" Checks/Cash Received \")","v":0},{"$f":"IF(SUM(E39:E44)=0,0,\"Estimated Income & Payroll Taxes\")","v":0},null,{"$f":"IF(H43=0,0,\"Income Tax %\")","v":0},null,null,null,null,null,null,null,null,null,null,null,null,null,null,null,null,{"$f":"IF(#REF!=\"  Cash Advance\",0,#REF!)","v":{"$error":"#REF!"}}]
[null,null,null,"State Tax Refund",null,{"$f":"IF(E44=0,0,IF($K$31<=DATE(YEAR($K$31),4,15),DATE(YEAR($K$31),4,15),DATE(YEAR($K$31)+1,4,15)))","v":"00:00:00"},{"$f":"IF(E44=0,0,\" Checks/Cash Received \")","v":0},{"$f":"SUM(Q39:R42)-SUM(E43:E44)","v":0},null,{"$f":"IF(ISERROR((SUM(Q39:R42)-SUM(E43:E44))/SUM(E39:E41)),0,(SUM(Q39:R42)-SUM(E43:E44))/SUM(E39:E41))","v":0},null,{"$f":"enddate","v":{"$error":"#REF!"}}]
[null,null,null,null,null,null,null,null,null,null,null,null,null,null,null,null,null,null,null,null,null,{"$f":"#REF!","v":{"$error":"#REF!"}}]
[null,null,null,null,null,null,null,null,null,null,null,null,null,null,null,null,null,null,null,null,null,{"$f":"#REF!","v":{"$error":"#REF!"}}]
[null,null,null,"Types of Real Estate Owned","Personal Residence","Ownership","Value","As of Date",null,null,"Funds Transfers                                           & Cash Advances",null,"From/To",null,null,"Frequency","Amount","Begin Date","End Date"]
[null,null,null,null,null,null,null,{"$f":"IF(G48<>0,$K$31,0)","v":"00:00:00"},null,null,null,null,null,null,null,null,null,{"$f":"IF(Q48=0,0,$K$31)","v":"00:00:00"},{"$f":"IF(R48=0,0,IF(P48=\"Annual\",R48,R48+358))","v":"00:00:00"}]
[null,null,null,null,null,null,null,{"$f":"IF(G49<>0,$K$31,0)","v":"00:00:00"},null,null,null,null,null,null,null,null,null,{"$f":"IF(Q49=0,0,$K$31)","v":"00:00:00"},{"$f":"IF(R49=0,0,IF(P49=\"Annual\",R49,enddate))","v":"00:00:00"},null,null,null,null,null,null,"HH"]
[null,null,null,null,null,null,null,{"$f":"IF(G50<>0,$K$31,0)","v":"00:00:00"},null,null,null,null,null,null,null,null,null,{"$f":"IF(Q50=0,0,$K$31)","v":"00:00:00"},"00:00:00",null,null,null,null,null,null,{"$f":"M30","v":0}]
[null,null,null,null,null,null,null,null,null,null,null,null,null,null,null,null,null,{"$f":"IF(Q51=0,0,$K$31)","v":"00:00:00"},"00:00:00",null,null,null,null,"Check",null,0]
[null,null,null,"Automobile & RV","Ownership","Value","As of Date",null,"Will/Trust               HIPPA/DPA",null,null,null,null,null,null,null,null,{"$f":"IF(Q52=0,0,$K$31)","v":"00:00:00"},"00:00:00",null,"Weekly","Joint",null,"AWD Checking",null,0]
[null,null,null,null,null,null,null,null,null,null,null,null,null,null,null,null,null,{"$f":"IF(Q53=0,0,Begindate)","v":"00:00:00"},0,null,"Bi-Weekly",{"$f":"M30","v":0},null,"Payroll",null,0]
[null,null,null,null,null,null,{"$f":"IF(F54<>0,$K$31,0)","v":"00:00:00"},null,null,null,"Categories",null,null,null,null,null,null,null,null,null,"Semi-Monthly",0,null,"Savings",null,0]
[null,null,null,null,null,null,"00:00:00",null,"Financial & Tax Planner                                  & Insurance         Review",null,"HH",{"$f":"M30","v":0},{"$f":"M31","v":0},{"$f":"M32","v":0},null,{"$f":"M33","v":0},{"$f":"M34","v":0},{"$f":"M35","v":0},null,null,"Monthly",0,null,null,null,0]
[null,null,null,null,null,null,"00:00:00",null,null,null,null,null,null,null,null,null,null,null,null,null,"Quarterly",0,null,null,null,{"$f":"L59","v":"Holiday"}]
[null,null,null,null,null,null,"00:00:00",null,null,null,"Food","Beverages","Medical","Taxes",null,"House","Automobile","Pets",null,null,"Annual",0,null,null,null,{"$f":"M59","v":"Insurance"}]
[null,null,null,"Personal Property",null,null,"00:00:00",null,null,null,null,null,null,null,null,null,null,null,null,null,null,0,null,null,null,{"$f":"N59","v":"Trips"}]
[null,null,null,"Tools",null,null,"00:00:00",null,"Credit Score",null,"Gifts","Holiday","Insurance","Trips",null,"Business","Utilities","Other",null,null,null,"BX",null,null,null,{"$f":"P59","v":"Business"}]
[null,null,null,"Check",null,null,{"$f":"IF(F60<>0,Begindate,0)","v":"00:00:00"},null,null,null,null,null,null,null,null,null,null,null,null,null,null,"HH",null,null,null,{"$f":"Q59","v":"Utilities"}]
[null,null,null,"Cash",null,null,null,null,null,null,null,null,null,null,null,null,null,null,null,null,null,{"$f":"V53","v":0}]
[null,null,null,"Credit Card","Credit Type",null,"Paying Party","Pay By","Minimum Monthly      Payment %","Fixed Monthly Payment","Credit Limit","Balance","Interest Rate","Date                   Next Due",null,"Closing Day         of the Month","Months in   Arrears","Other             Due",null,null,null,0]
[null,null,null,null,null,null,null,null,null,null,null,null,{"$f":"IF(I63<1,0,\"N/A\")","v":0},null,null,{"$f":"IF(N63=0,0,IF(IF(DAY(N63+8)>28,4,DAY(N63+12))>28,1,IF(DAY(N63+8)>28,4,DAY(N63+12))))","v":0},null,null,null,null,null,0]
[null,null,null,null,null,null,null,null,null,null,null,null,0,null,null,{"$f":"IF(N64=0,0,IF(DAY(N64+8)>28,4,DAY(N64+12)))","v":0},null,null,null,null,null,0]
[null,null,null,null,null,null,null,null,null,null,null,null,0,null,null,0,null,null,null,null,null,0]
[null,null,null,null,null,null,null,null,null,null,null,null,0,null,null,{"$f":"IF(N66=0,0,IF(DAY(N66+8)>28,4,DAY(N66+12)))","v":0},null,null,null,null,null,0]
[null,null,null,null,null,null,null,null,null,null,null,null,0,null,null,0,null,null,null,null,null,"BX"]
[null,null,null,null,null,null,null,null,null,null,null,null,0,null,null,0,null,null,null,null,null,"HH"]
[null,null,null,null,null,null,null,null,null,null,null,null,0,null,null,0,null,null,null,null,null,0]
[null,null,null,null,null,null,null,null,null,null,null,null,0,null,null,0,null,null,null,null,null,0]
[null,null,null,null,null,null,null,null,null,null,null,null,0,null,null,0,null,null,null,null,null,0]
[null,null,null,null,null,null,null,null,null,null,null,null,0,null,null,0,null,null,null,null,null,"  Check","Credit Card"]
[null,null,null,null,null,null,null,null,null,null,null,null,null,null,null,null,null,null,null,null,null,{"$f":"#REF!","v":{"$error":"#REF!"}},{"$f":"#REF!","v":{"$error":"#REF!"}},{"$f":"#REF!","v":{"$error":"#REF!"}}]
[null,null,null," Loans & Leases","Type","Liable Party","Paying Party","Pay By","Monthly Payment","Escrow","Balance","Interest     Rate","Date                Next Due","Months in  Arrears",null,"Other                Due",null,null,null,null,null,{"$f":"#REF!","v":{"$error":"#REF!"}},{"$f":"#REF!","v":{"$error":"#REF!"}}]
[null,null,null,null,null,null,null,null,null,null,null,null,null,null,null,null,null,null,null,null,null,{"$f":"#REF!","v":{"$error":"#REF!"}},{"$f":"#REF!","v":{"$error":"#REF!"}}]
[null,null,null,null,null,null,null,null,null,null,null,null,null,null,null,null,null,null,null,null,null,{"$f":"#REF!","v":{"$error":"#REF!"}},{"$f":"#REF!","v":{"$error":"#REF!"}}]
[null,null,null,null,null,null,null,null,null,null,null,null,null,null,null,null,null,null,null,null,null,{"$f":"#REF!","v":{"$error":"#REF!"}},{"$f":"#REF!","v":{"$error":"#REF!"}}]
[null,null,null,null,null,null,null,null,null,null,null,null,null,null,null,null,null,null,null,null,null,{"$f":"#REF!","v":{"$error":"#REF!"}},{"$f":"#REF!","v":{"$error":"#REF!"}}]
[null,null,null,null,null,null,null,null,null,null,null,null,null,null,null,null,null,null,null,null,null,{"$f":"#REF!","v":{"$error":"#REF!"}},{"$f":"#REF!","v":{"$error":"#REF!"}}]
[null,null,null,null,null,null,null,null,null,null,null,null,null,null,null,null,null,null,null,null,null,{"$f":"#REF!","v":{"$error":"#REF!"}},{"$f":"#REF!","v":{"$error":"#REF!"}}]
[null,null,null,null,null,null,null,null,null,null,null,null,null,null,null,null,null,null,null,null,null,{"$f":"#REF!","v":{"$error":"#REF!"}}]
[null,null,null,null,null,{"$f":"IF($E82<>0,\"Entertainment\",0)","v":0},null,null,null,null,null,null,null,null,null,null,null,null,null,null,null,{"$f":"#REF!","v":{"$error":"#REF!"}},{"$f":"#REF!","v":{"$error":"#REF!"}}]
[null,null,null," Weekly Outgo","Amount","Who","Pay By","Category","Begin Date","End Date","Annual","15 Years",null,null,null,null,null,null,null,null,null,{"$f":"#REF!","v":{"$error":"#REF!"}},{"$f":"#REF!","v":{"$error":"#REF!"}}]
[null,null,null,null,null,null,null,null,null,null,null,null,null,null,null,null,null,null,null,null,null,{"$f":"#REF!","v":{"$error":"#REF!"}}]
[null,null,null,"Groceries & Sundries",null,null,null,null,{"$f":"IF(E85>0,K$31,0)","v":"00:00:00"},{"$f":"IF(I85>0,I85+358,0)","v":"00:00:00"},{"$f":"IF(J85=0,0,52*E85)","v":0},{"$f":"15*K85","v":0},null,null,null,null,null,null,null,null,null,{"$f":"#REF!","v":{"$error":"#REF!"}}]
[null,null,null,"Dining Out",null,null,null,null,"00:00:00","00:00:00",{"$f":"52*E86","v":0},{"$f":"15*K86","v":0},null,null,null,null,null,null,null,null,null,{"$f":"#REF!","v":{"$error":"#REF!"}}]
[null,null,null,"Because I want to",null,null,null,null,"00:00:00","00:00:00",0,0,null,null,null,null,null,null,null,null,null,{"$f":"#REF!","v":{"$error":"#REF!"}}]
[null,null,null,"School Lunches",null,null,null,null,"00:00:00","00:00:00",0,0,null,null,null,null,null,null,null,null,null,{"$f":"#REF!","v":{"$error":"#REF!"}}]
[null,null,null,"School Lunches",null,null,null,null,"00:00:00","00:00:00",0,0,null,null,null,null,null,null,null,null,null,{"$f":"#REF!","v":{"$error":"#REF!"}}]
[null,null,null,"Sports",null,null,null,null,"00:00:00","00:00:00",0,0,null,null,null,null,null,null,null,null,null,{"$f":"#REF!","v":{"$error":"#REF!"}}]
[null,null,null,"Allowances",null,null,null,null,"00:00:00","00:00:00",0,0,null,null,null,null,null,null,null,null,null,{"$f":"#REF!","v":{"$error":"#REF!"}},null,null,{"$f":"#REF!","v":{"$error":"#REF!"}},1]
[null,null,null,"Because I want to",null,null,null,null,"00:00:00","00:00:00",0,0,null,null,null,null,null,null,null,null,null,{"$f":"#REF!","v":{"$error":"#REF!"}},null,null,{"$f":"IF(D63=0,0,D63&\" Refund\")","v":0},1]
[null,null,null,"Household Misc",null,null,null,null,"00:00:00","00:00:00",0,0,null,null,null,null,null,null,null,null,null,null,null,null,{"$f":"IF(D64=0,0,D64&\" Refund\")","v":0},1]
[null,null,null,"Milk & Bread",null,null,null,null,"00:00:00","00:00:00",0,0,null,null,null,null,null,null,null,null,null,null,null,null,0,1]
[null,null,null,"Gasoline",null,null,null,null,"00:00:00","00:00:00",0,0,null,null,null,null,null,null,null,null,null,null,null,null,0,1]
[null,null,null,"Gasoline",null,null,null,null,"00:00:00","00:00:00",0,0,null,null,null,null,null,null,null,null,null,null,null,null,0,1]
[null,null,null,null,null,null,null,null,"00:00:00","00:00:00",0,0,null,null,null,null,null,null,null,null,null,null,null,null,0,1]
[null,null,null,null,null,null,null,null,"00:00:00","00:00:00",{"$f":"52*E98","v":0},{"$f":"15*K98","v":0},null,null,null,null,null,null,null,null,null,null,null,null,0,1]
[null,null,null,null,null,null,null,null,null,null,null,null,null,null,null,null,null,null,null,null,null,null,null,null,0,1]
[null,null,null," Bi-Weekly Outgo","Amount","Who","Pay By","Category","Begin Date","End Date","Annual","15 Years",null,null,null,null,null,null,null,null,null,null,null,null,0,1]
[null,null,null,"Nails",null,null,null,null,{"$f":"IF(E101>0,K$31,0)","v":"00:00:00"},{"$f":"IF(I101>0,I101+358,0)","v":"00:00:00"},{"$f":"26*E101","v":0},{"$f":"15*K101","v":0},null,null,null,null,null,null,null,null,null,null,null,null,0,1]
[null,null,null,null,null,null,null,null,"00:00:00","00:00:00",{"$f":"26*E102","v":0},0,null,null,null,null,null,null,null,null,null,{"$f":"#REF!","v":{"$error":"#REF!"}},null,null,0]
[null,null,null,null,null,null,null,null,"00:00:00","00:00:00",0,0,null,null,null,null,null,null,null,null,null,{"$f":"#REF!","v":{"$error":"#REF!"}}]
[null,null,null,null,null,null,null,null,"00:00:00","00:00:00",0,0,null,null,null,null,null,null,null,null,null,{"$f":"#REF!","v":{"$error":"#REF!"}}]
[null,null,null,null,null,null,null,null,"00:00:00","00:00:00",0,0,null,null,null,null,null,null,null,null,null,{"$f":"#REF!","v":{"$error":"#REF!"}}]
[null,null,null,null,null,null,null,null,"00:00:00","00:00:00",0,0,null,null,null,null,null,null,null,null,null,{"$f":"#REF!","v":{"$error":"#REF!"}}]
[null,null,null,null,null,null,null,null,"00:00:00","00:00:00",0,0,null,null,null,null,null,null,null,null,null,{"$f":"#REF!","v":{"$error":"#REF!"}}]
[null,null,null,null,null,null,null,null,"00:00:00","00:00:00",0,0,null,null,null,null,null,null,null,null,null,{"$f":"#REF!","v":{"$error":"#REF!"}}]
[null,null,null,null,null,null,null,null,"00:00:00","00:00:00",0,0,null,null,null,null,null,null,null,null,null,{"$f":"#REF!","v":{"$error":"#REF!"}}]
[null,null,null,null,null,null,null,null,"00:00:00","00:00:00",0,0,null,null,null,null,null,null,null,null,null,{"$f":"#REF!","v":{"$error":"#REF!"}}]
[null,null,null,null,null,null,null,null,"00:00:00","00:00:00",0,0,null,null,null,null,null,null,null,null,null,{"$f":"#REF!","v":{"$error":"#REF!"}}]
[null,null,null,null,null,null,null,null,null,null,null,null,null,null,null,null,null,null,null,null,null,{"$f":"#REF!","v":{"$error":"#REF!"}}]
[null,null,null," Semi-Monthly Outgo","Amount","Who","Pay By","Category","Begin Date","End Date","Annual","15 Years",null,null,null,null,null,null,null,null,null,{"$f":"#REF!","v":{"$error":"#REF!"}}]
[null,null,null,null,null,null,null,null,{"$f":"IF(E114>0,K$31,0)","v":"00:00:00"},{"$f":"IF(I114>0,I114+358,0)","v":"00:00:00"},{"$f":"24*E114","v":0},{"$f":"15*K114","v":0}]
[null,null,null,null,null,null,null,null,"00:00:00","00:00:00",{"$f":"24*E115","v":0},0]
[null,null,null,null,null,null,null,null,"00:00:00","00:00:00",0,0]
[null,null,null,null,null,null,null,null,"00:00:00","00:00:00",0,0,null,null,null,null,null,null,null,null,null,{"$f":"#REF!","v":{"$error":"#REF!"}}]
[null,null,null,null,null,null,null,null,"00:00:00","00:00:00",0,0,null,null,null,null,null,null,null,null,null,{"$f":"#REF!","v":{"$error":"#REF!"}}]
[null,null,null,null,null,null,null,null,"00:00:00","00:00:00",0,0]
[]
[null,null,null," Monthly Outgo","Amount","Who","Pay By","Category","Begin Date","End Date","Annual","15 Years"]
[null,null,null,"Cable & Internet & phone",null,null,null,null,{"$f":"IF(E122>0,K$31,0)","v":"00:00:00"},{"$f":"IF(I122>0,I122+358,0)","v":"00:00:00"},{"$f":"12*E122","v":0},{"$f":"15*K122","v":0}]
[null,null,null," W Electric",null,null,null,null,"00:00:00","00:00:00",{"$f":"12*E123","v":0},0,null,{"$f":"#REF!","v":{"$error":"#REF!"}},null,{"$f":"IF(D63=0,\"\",D63)","v":""},{"$f":"IF(D64=0,\"\",D64)","v":""},{"$f":"IF(D65=0,\"\",D65)","v":""},{"$f":"IF(D66=0,\"\",D66)","v":""},{"$f":"IF(D67=0,\"\",D67)","v":""},{"$f":"IF(D68=0,\"\",D68)","v":""},{"$f":"IF(D69=0,\"\",D69)","v":""},{"$f":"IF(D70=0,\"\",D70)","v":""},{"$f":"IF(D71=0,\"\",D71)","v":""},{"$f":"IF(D72=0,\"\",D72)","v":""}]
[null,null,null,"S Electric",null,null,null,null,"00:00:00","00:00:00",0,0,null,{"$f":"#REF!","v":{"$error":"#REF!"}}]
[null,null,null,"Cell phones",null,null,null,null,"00:00:00","00:00:00",0,0,null,{"$f":"#REF!","v":{"$error":"#REF!"}}]
[null,null,null,"Home Phone",null,null,null,null,"00:00:00","00:00:00",0,0,null,{"$f":"#REF!","v":{"$error":"#REF!"}}]
[null,null,null,"Wholesale Food Outlet",null,null,null,null,"00:00:00","00:00:00",0,0,null,{"$f":"#REF!","v":{"$error":"#REF!"}}]
[null,null,null,"Haircare",null,null,null,null,"00:00:00","00:00:00",0,0,null,{"$f":"#REF!","v":{"$error":"#REF!"}}]
[null,null,null,"Pet Food",null,null,null,null,"00:00:00","00:00:00",0,0,null,{"$f":"#REF!","v":{"$error":"#REF!"}}]
[null,null,null,"Cooking Gas",null,null,null,null,"00:00:00","00:00:00",0,0,null,{"$f":"#REF!","v":{"$error":"#REF!"}}]
[null,null,null,"Medical Insurance",null,null,null,null,"00:00:00","00:00:00",0,0,null,{"$f":"#REF!","v":{"$error":"#REF!"}}]
[null,null,null,"Haircare",null,null,null,null,"00:00:00","00:00:00",0,0,null,{"$f":"#REF!","v":{"$error":"#REF!"}}]
[null,null,null,"Sports",null,null,null,null,"00:00:00","00:00:00",0,0]
[null,null,null,"Pet Food",null,null,null,null,"00:00:00","00:00:00",0,0]
[null,null,null,"Heat",null,null,null,null,"00:00:00","00:00:00",0,0]
[null,null,null,null,null,null,null,null,"00:00:00","00:00:00",0,0]
[null,null,null,null,null,null,null,null,"00:00:00","00:00:00",0,0]
[null,null,null,null,null,null,null,null,"00:00:00","00:00:00",0,0]
[null,null,null,null,null,null,null,null,"00:00:00","00:00:00",0,0]
[null,null,null,null,null,null,null,null,"00:00:00","00:00:00",0,0]
[null,null,null,null,null,null,null,null,"00:00:00","00:00:00",0,0]
[null,null,null,null,null,null,null,null,"00:00:00","00:00:00",0,0]
[null,null,null,null,null,null,null,null,"00:00:00","00:00:00",0,0]
[null,null,null,null,null,null,null,null,"00:00:00","00:00:00",0,0]
[null,null,null,null,null,null,null,null,"00:00:00","00:00:00",0,0]
[null,null,null,null,null,null,null,null,"00:00:00","00:00:00",0,0]
[null,null,null,null,null,null,null,null,"00:00:00","00:00:00",0,0]
[null,null,null,null,null,null,null,null,"00:00:00","00:00:00",0,0]
[null,null,null,null,null,null,null,null,"00:00:00","00:00:00",0,0]
[null,null,null,null,null,null,null,null,"00:00:00","00:00:00",0,0]
[null,null,null,null,null,{"$f":"IF(E151<>0,F150,0)","v":0},0,null,{"$f":"IF(E151<>0,Begindate,0)","v":"00:00:00"},{"$f":"IF(E151<>0,enddate,0)","v":"00:00:00"},{"$f":"#REF!","v":{"$error":"#REF!"}},{"$f":"#REF!","v":{"$error":"#REF!"}}]
[null,null,null,null,null,0,0,null,{"$f":"IF(E152<>0,Begindate,0)","v":"00:00:00"},{"$f":"IF(E152<>0,enddate,0)","v":"00:00:00"},{"$f":"#REF!","v":{"$error":"#REF!"}},{"$f":"#REF!","v":{"$error":"#REF!"}}]
[null,null,null,null,null,0,0,null,{"$f":"IF(E153<>0,Begindate,0)","v":"00:00:00"},{"$f":"IF(E153<>0,enddate,0)","v":"00:00:00"},{"$f":"#REF!","v":{"$error":"#REF!"}},{"$f":"#REF!","v":{"$error":"#REF!"}}]
[null,null,null,null,null,0,0,null,{"$f":"IF(E154<>0,Begindate,0)","v":"00:00:00"},{"$f":"IF(E154<>0,enddate,0)","v":"00:00:00"},{"$f":"#REF!","v":{"$error":"#REF!"}},{"$f":"#REF!","v":{"$error":"#REF!"}}]
[null,null,null,null,null,0,0,null,{"$f":"IF(E155<>0,Begindate,0)","v":"00:00:00"},{"$f":"IF(E155<>0,enddate,0)","v":"00:00:00"},{"$f":"#REF!","v":{"$error":"#REF!"}},{"$f":"#REF!","v":{"$error":"#REF!"}}]
[]
[null,null,null," Bi-Monthly Outgo","Amount","Who","Pay By","Category","Begin Date","End Date","Annual","15 Years"]
[null,null,null,null,null,null,null,null,{"$f":"IF(E158>0,K$31,0)","v":"00:00:00"},{"$f":"IF(I158>0,I158+358,0)","v":"00:00:00"},{"$f":"6*E158","v":0},{"$f":"15*K158","v":0}]
[null,null,null,null,null,{"$f":"IF(E159<>0,F158,0)","v":0},null,null,"00:00:00","00:00:00",{"$f":"6*E159","v":0},0]
[null,null,null,null,null,0,null,null,"00:00:00","00:00:00",0,0]
[null,null,null,null,null,0,null,null,"00:00:00","00:00:00",0,0]
[null,null,null,null,null,{"$f":"IF(E162<>0,F161,0)","v":0},null,null,"00:00:00","00:00:00",0,0]
[null,null,null,null,null,0,null,null,"00:00:00","00:00:00",0,0]
[null,null,null,null,null,0,null,null,"00:00:00","00:00:00",0,0]
[null,null,null,null,null,0,null,null,"00:00:00","00:00:00",0,0]
[]
[null,null,null," Quarterly Outgo","Amount","Who","Pay By","Category","Begin Date","End Date","Annual","15 Years"]
[null,null,null,"Pharmacy",null,null,null,null,{"$f":"IF(E168>0,K$31,0)","v":"00:00:00"},{"$f":"IF(I168>0,I168+358,0)","v":"00:00:00"},{"$f":"4*E168","v":0},{"$f":"15*K168","v":0}]
[null,null,null,"Auto Taxes",null,{"$f":"IF(E169<>0,F168,0)","v":0},null,null,"00:00:00","00:00:00",{"$f":"4*E169","v":0},0]
[null,null,null,"Auto Taxes",null,0,null,null,"00:00:00","00:00:00",0,0]
[null,null,null,"Auto Insurance",null,0,null,null,"00:00:00","00:00:00",0,0]
[null,null,null,"Life Insurance Package",null,0,null,null,"00:00:00","00:00:00",0,0]
[null,null,null,"Oil Changes",null,0,null,null,"00:00:00","00:00:00",0,0]
[null,null,null,"Oil Changes",null,0,null,null,"00:00:00","00:00:00",0,0]
[null,null,null,"House Maintenance",null,0,null,null,"00:00:00","00:00:00",0,0]
[null,null,null,null,null,{"$f":"IF(E176<>0,F175,0)","v":0},null,null,"00:00:00","00:00:00",0,0]
[null,null,null,null,null,0,null,null,"00:00:00","00:00:00",0,0]
[null,null,null,null,null,0,null,null,"00:00:00","00:00:00",0,0]
[null,null,null,null,null,0,null,null,"00:00:00","00:00:00",0,0]
[]
[null,null,null," Tri-Monthly Outgo","Amount","Who","Pay By","Category","Begin Date","End Date","Annual","15 Years"]
[null,null,null,null,null,null,null,null,{"$f":"IF(E182>0,K$31,0)","v":"00:00:00"},{"$f":"IF(I182>0,I182+358,0)","v":"00:00:00"},{"$f":"3*E182","v":0},{"$f":"15*K182","v":0}]
[null,null,null,null,null,{"$f":"IF(E183<>0,F182,0)","v":0},null,null,"00:00:00","00:00:00",{"$f":"3*E183","v":0},0]
[null,null,null,null,null,0,null,null,"00:00:00","00:00:00",0,0]
[null,null,null,null,null,0,null,null,"00:00:00","00:00:00",0,0]
[null,null,null,null,null,0,null,null,"00:00:00","00:00:00",0,0]
[null,null,null,null,null,0,null,null,"00:00:00","00:00:00",0,0]
[null,null,null,null,null,0,null,null,"00:00:00","00:00:00",0,0]
[]
[null,null,null," Semi-Annual Outgo","Amount","Who","Pay By","Category","Begin Date","End Date","Annual","15 Years"]
[null,null,null,"Trips",null,{"$f":"IF(E191<>0,F190,0)","v":0},null,null,{"$f":"IF(E191>0,K$31,0)","v":"00:00:00"},{"$f":"IF(I191>0,I191+358,0)","v":"00:00:00"},{"$f":"2*E191","v":0},{"$f":"15*K191","v":0}]
[null,null,null,"Clothes/Shoes",null,0,null,null,"00:00:00","00:00:00",{"$f":"2*E192","v":0},0]
[null,null,null,"Clothes/Shoes",null,0,null,null,"00:00:00","00:00:00",0,0]
[null,null,null,"Clothes/Shoes",null,0,null,null,"00:00:00","00:00:00",0,0]
[null,null,null,"Dentist",null,0,null,null,"00:00:00","00:00:00",0,0]
[null,null,null,"Dentist",null,0,null,null,"00:00:00","00:00:00",0,0]
[null,null,null,"Dentist",null,0,null,null,"00:00:00","00:00:00",0,0]
[null,null,null,"Dentist",null,0,null,null,"00:00:00","00:00:00",0,0]
[null,null,null,null,null,{"$f":"IF(E199<>0,F198,0)","v":0},null,null,"00:00:00","00:00:00",0,0]
[]
[null,null,null,"Annual","Amount","Who","Date","Pay By","Category","15 Years"]
[null,null,null,"Mothers Day",null,null,{"$f":"IF($K$31<=DATE(YEAR($K$31),5,1),DATE(YEAR($K$31),5,1),DATE(YEAR($K$31)+1,5,1))","v":"2018-05-01"},null,"Gifts",{"$f":"E202*15","v":0}]
[null,null,null,"Fathers Day",null,null,{"$f":"IF($K$31<=DATE(YEAR($K$31),5,15),DATE(YEAR($K$31),6,15),DATE(YEAR($K$31)+1,6,15))","v":"2018-06-15"},null,"Gifts",{"$f":"E203*15","v":0}]
[null,null,null,"Halloween",null,null,{"$f":"IF($K$31<=DATE(YEAR($K$31),10,15),DATE(YEAR($K$31),10,15),DATE(YEAR($K$31)+1,10,15))","v":"2018-10-15"},null,"Holiday",0]
[null,null,null,"Thanksgiving",null,null,{"$f":"IF($K$31<=DATE(YEAR($K$31),11,23),DATE(YEAR($K$31),11,23),DATE(YEAR($K$31)+1,11,23))","v":"2017-11-23"},null,"Holiday",0]
[null,null,null,"Winter Holiday gifts",null,null,{"$f":"IF($K$31<=DATE(YEAR($K$31),11,15),DATE(YEAR($K$31),11,15),DATE(YEAR($K$31)+1,11,15))","v":"2018-11-15"},null,"Gifts",0]
[null,null,null,"Winter Holiday food",null,null,{"$f":"IF($K$31<=DATE(YEAR($K$31),12,23),DATE(YEAR($K$31),12,23),DATE(YEAR($K$31)+1,23,15))","v":"2017-12-23"},null,"Holiday",0]
[null,null,null,"New Years ",null,null,{"$f":"IF($K$31<=DATE(YEAR($K$31),12,27),DATE(YEAR($K$31),12,27),DATE(YEAR($K$31)+1,12,27))","v":"2017-12-27"},null,"Holiday",0]
[null,null,null,"Valentines Day",null,null,{"$f":"IF($K$31<=DATE(YEAR($K$31),2,1),DATE(YEAR($K$31),2,1),DATE(YEAR($K$31)+1,2,1))","v":"2018-02-01"},null,"Gifts",0]
[null,null,null,"Spring Holiday food",null,null,{"$f":"IF($K$31<=DATE(YEAR($K$31),2,25),DATE(YEAR($K$31),2,25),DATE(YEAR($K$31)+1,2,25))","v":"2018-02-25"},null,"Holiday",0]
[null,null,null,"Spring Holiday gifts",null,null,{"$f":"IF($K$31<=DATE(YEAR($K$31),2,25),DATE(YEAR($K$31),2,25),DATE(YEAR($K$31)+1,2,25))","v":"2018-02-25"},null,"Gifts",0]
[null,null,null,null,null,null,null,null,null,0]
[null,null,null,null,null,null,null,null,null,0]
[null,null,null,null,null,null,null,null,null,0]
[null,null,null,null,null,null,null,null,null,0]
[null,null,null,null,null,null,null,null,null,0]
[null,null,null,null,null,null,null,null,null,0]
[null,null,null,null,null,null,null,null,null,0]
[null,null,null,null,null,null,null,null,null,0]
[null,null,null,null,null,null,null,null,null,0]
[null,null,null,null,null,null,null,null,null,0]
[null,null,null,null,null,null,null,null,null,0]
[null,null,null,null,null,null,null,null,null,0]
[null,null,null,null,null,null,null,null,null,0]
[null,null,null,null,null,null,null,null,null,0]
[null,null,null,null,null,null,null,null,null,0]
[null,null,null,null,null,null,null,null,null,0]
[null,null,null,null,null,null,null,null,null,0]
[null,null,null,null,null,null,null,null,null,0]
[null,null,null,null,null,null,null,null,null,0]
[null,null,null,null,null,null,null,null,null,0]
[null,null,null,null,null,null,null,null,null,0]
[null,null,null,null,null,null,null,null,null,0]
[null,null,null,null,null,null,null,null,null,0]
[null,null,null,null,null,null,null,null,null,0]
[null,null,null,null,null,null,null,null,null,0]
[null,null,null,null,null,null,null,null,null,0]
[null,null,null,null,null,null,null,null,null,0]
[null,null,null,null,null,null,null,null,null,0]
[null,null,null,null,null,null,null,null,null,0]
[null,null,null,null,null,null,null,null,null,0]
[null,null,null,null,null,null,null,null,null,0]
[null,null,null,null,null,null,null,null,null,0]
[null,null,null,null,null,null,null,null,null,0]
[null,null,null,null,null,null,null,null,null,0]
[null,null,null,null,null,null,null,null,null,0]
[null,null,null,null,null,null,null,null,null,0]
[null,null,null,null,null,null,null,null,null,0]
[null,null,null,null,null,null,null,null,null,0]
[null,null,null,null,null,null,null,null,null,0]
[null,null,null,null,null,null,null,null,null,0]
[null,null,null,null,null,null,null,null,null,0]
[null,null,null,null,null,null,null,null,null,0]
[null,null,null,null,null,null,null,null,null,0]
[null,null,null,null,null,null,null,null,null,0]
[null,null,null,null,null,null,null,null,null,0]
[null,null,null,null,null,null,null,null,null,0]
[null,null,null,null,null,null,null,null,null,0]
[null,null,null,null,null,null,null,null,null,0]
[null,null,null,null,null,null,null,null,null,0]
[null,null,null,null,null,null,null,null,null,0]
[null,null,null,null,null,null,null,null,null,0]
[null,null,null,null,null,null,null,null,null,0]
[null,null,null,null,null,null,null,null,null,0]
[null,null,null,null,null,null,null,null,null,0]
[null,null,null,null,null,null,null,null,null,0]
[null,null,null,null,null,null,null,null,null,{"$f":"E267*15","v":0}]
[null,null,null,null,null,null,null,null,null,0]
[null,null,null,null,null,null,null,null,null,0]
[null,null,null,null,null,null,null,null,null,0]
[null,null,null,null,null,null,null,null,null,0]
[null,null,null,null,null,null,null,null,null,0]
[null,null,null,null,null,null,null,null,null,0]
[null,null,null,null,null,null,null,null,null,0]
[null,null,null,null,null,null,null,null,null,0]
[null,null,null,null,null,null,null,null,null,0]
[null,null,null,null,null,null,null,null,null,0]
[null,null,null,null,null,null,null,null,null,0]
[null,null,null,null,null,null,null,null,null,0]
[null,null,null,null,null,null,null,null,null,0]
[null,null,null,null,null,null,null,null,null,0]
[null,null,null,null,null,null,null,null,null,0]
[null,null,null,null,null,null,null,null,null,0]
[null,null,null,null,null,null,null,null,null,0]
[null,null,null,null,null,null,null,null,null,0]
[null,null,null,null,null,null,null,null,null,0]
[null,null,null,null,null,null,null,null,null,0]
[null,null,null,null,null,null,null,null,null,0]
[null,null,null,null,null,null,null,null,null,0]
[null,null,null,null,null,null,null,null,null,0]
[null,null,null,null,null,null,null,null,null,0]
[null,null,null,null,null,null,null,null,null,0]
[null,null,null,null,null,null,null,null,null,0]
[null,null,null,null,null,null,null,null,null,0]
[null,null,null,null,null,null,null,null,null,0]
[null,null,null,null,null,null,null,null,null,0]
[null,null,null,null,null,null,null,null,null,0]
[null,null,null,null,null,null,null,null,null,0]
[null,null,null,null,null,null,null,null,null,0]
[null,null,null,null,null,null,null,null,null,0]
[null,null,null,null,null,null,null,null,null,0]
[null,null,null,null,null,null,null,null,null,0]
[null,null,null,null,null,null,null,null,null,0]
[null,null,null,null,null,null,null,null,null,0]
[null,null,null,null,null,null,null,null,null,0]
[null,null,null,null,null,null,null,null,null,0]
[null,null,null,null,null,null,null,null,null,0]
[null,null,null,null,null,null,null,null,null,0]
[null,null,null,null,null,null,null,null,null,0]
[null,null,null,null,null,null,null,null,null,0]
[null,null,null,null,null,null,null,null,null,0]
[null,null,null,null,null,null,null,null,null,0]
[null,null,null,null,null,null,null,null,null,0]
[null,null,null,null,null,null,null,null,null,0]
[null,null,null,null,null,null,null,null,null,0]
[null,null,null,null,null,null,null,null,null,0]
[null,null,null,null,null,null,null,null,null,0]
[null,null,null,null,null,null,null,null,null,0]
[null,null,null,null,null,null,null,null,null,0]
[null,null,null,null,null,null,null,null,null,0]
[null,null,null,null,null,null,null,null,null,0]
[null,null,null,null,null,null,null,null,null,0]
[null,null,null,null,null,null,null,null,null,0]
[null,null,null,null,null,null,null,null,null,0]
[null,null,null,null,null,null,null,null,null,0]
[null,null,null,null,null,null,null,null,null,0]
[null,null,null,null,null,null,null,null,null,0]
[null,null,null,null,null,null,null,null,null,0]
[null,null,null,null,null,null,null,null,null,0]
[null,null,null,null,null,null,null,null,null,0]
[null,null,null,null,null,null,null,null,null,{"$f":"E331*15","v":0}]
[null,null,null,null,null,null,null,null,null,0]
[null,null,null,null,null,null,null,null,null,0]
[null,null,null,null,null,null,null,null,null,0]
[null,null,null,null,null,null,null,null,null,0]
[null,null,null,null,null,null,null,null,null,0]
[null,null,null,null,null,null,null,null,null,0]
[null,null,null,null,null,null,null,null,null,0]
[null,null,null,null,null,null,null,null,null,0]
[null,null,null,null,null,null,null,null,null,0]
[null,null,null,null,null,null,null,null,null,0]
[null,null,null,null,null,null,null,null,null,0]
[null,null,null,null,null,null,null,null,null,0]
[null,null,null,null,null,null,null,null,null,0]
[null,null,null,null,null,null,null,null,null,0]
[null,null,null,null,null,null,null,null,null,0]
[null,null,null,null,null,null,null,null,null,0]
[null,null,null,null,null,null,null,null,null,0]
[null,null,null,null,null,null,null,null,null,0]
[null,null,null,null,null,null,null,null,null,0]
[null,null,null,null,null,null,null,null,null,0]
[null,null,null,null,null,null,null,null,null,0]
[null,null,null,null,null,null,null,null,null,0]
[null,null,null,null,null,null,null,null,null,0]
[null,null,null,null,null,null,null,null,null,0]
[null,null,null,null,null,null,null,null,null,0]
[null,null,null,null,null,null,null,null,null,0]
[null,null,null,null,null,null,null,null,null,0]
[null,null,null,null,null,null,null,null,null,0]
[null,null,null,null,null,null,null,null,null,0]
[null,null,null,null,null,null,null,null,null,0]
[null,null,null,null,null,null,null,null,null,0]
[null,null,null,null,null,null,null,null,null,0]
[null,null,null,null,null,null,null,null,null,0]
[null,null,null,null,null,null,null,null,null,0]
[null,null,null,null,null,null,null,null,null,0]
[null,null,null,null,null,null,null,null,null,0]
[null,null,null,null,null,null,null,null,null,0]
[null,null,null,null,null,null,null,null,null,0]
[null,null,null,null,null,null,null,null,null,0]
[null,null,null,null,null,null,null,null,null,0]
[null,null,null,null,null,null,null,null,null,0]
[null,null,null,null,null,null,null,null,null,0]
[null,null,null,null,null,null,null,null,null,0]
[null,null,null,null,null,null,null,null,null,0]
[null,null,null,null,null,null,null,null,null,0]
[null,null,null,null,null,null,null,null,null,0]
[null,null,null,null,null,null,null,null,null,0]
[null,null,null,null,null,null,null,null,null,0]
[null,null,null,null,null,null,null,null,null,0]
[null,null,null,null,null,null,null,null,null,0]
[null,null,null,null,null,null,null,null,null,0]
[null,null,null,null,null,null,null,null,null,0]
[null,null,null,null,null,null,null,null,null,0]
[null,null,null,null,null,null,null,null,null,0]
[null,null,null,null,null,null,null,null,null,0]
[null,null,null,null,null,null,null,null,null,0]
[null,null,null,null,null,null,null,null,null,0]
[null,null,null,null,null,null,null,null,null,0]
[null,null,null,null,null,null,null,null,null,0]
[null,null,null,null,null,null,null,null,null,0]
[null,null,null,null,null,null,null,null,null,0]
[null,null,null,null,null,null,null,null,null,0]
[null,null,null,null,null,null,null,null,null,0]
[null,null,null,null,null,null,null,null,null,{"$f":"E395*15","v":0}]
[null,null,null,null,null,null,null,null,null,0]
[null,null,null,null,null,null,null,null,null,0]
[null,null,null,null,null,null,null,null,null,0]
[null,null,null,null,null,null,null,null,null,0]
[null,null,null,null,null,null,null,null,null,0]
[null,null,null,null,null,null,null,null,null,0]
[null,null,null,null,null,null,null,null,null,0]
[null,null,null,null,null,null,null,null,null,0]
[null,null,null,null,null,null,null,null,null,0]
[null,null,null,null,null,null,null,null,null,0]
[null,null,null,null,null,null,null,null,null,0]
[null,null,null,null,null,null,null,null,null,0]
[null,null,null,null,null,null,null,null,null,0]
[null,null,null,null,null,null,null,null,null,0]
[null,null,null,null,null,null,null,null,null,0]
[null,null,null,null,null,null,null,null,null,0]
[null,null,null,null,null,null,null,null,null,0]
[null,null,null,null,null,null,null,null,null,0]
[null,null,null,null,null,null,null,null,null,0]
[null,null,null,null,null,null,null,null,null,0]
[null,null,null,null,null,null,null,null,null,0]
[null,null,null,null,null,null,null,null,null,0]
[null,null,null,null,null,null,null,null,null,0]
[null,null,null,null,null,null,null,null,null,0]
[null,null,null,null,null,null,null,null,null,0]
[null,null,null,null,null,null,null,null,null,0]
[null,null,null,null,null,null,null,null,null,0]
[null,null,null,null,null,null,null,null,null,0]
[null,null,null,null,null,null,null,null,null,0]
[null,null,null,null,null,null,null,null,null,0]
[null,null,null,null,null,null,null,null,null,0]
[]
[null,null,null,"Occasional                                Incomes  & Refunds","Who","Date","Received by","Amount","Category"]
[]
[]
[]
[]
[]
[]
[]
[]
[]
[]
[]
[]
[]
[]
[]
[]
[]
[]
[]
[]
[]
[]
[]
[]
[]
[]
[]
[]
[]
[]
[]
[]
[null,null,null,null,null,"END"]
[]
[]
[]
[]
[]
[]
[]
[]
[]
[]
[]
[]
[]
[]
[]
[]
[]
[]
[]
[]
[]
[]
[]
[]
[null,null,null,null,null,null,null,"This LifeMath GPS Lite software is designed for you to experience entering your LifeMath. It is only 20% functional and not to be utilized for financial decision making."]
[]
[]
[]
[]
[]
[null,null,null,null,null,null,null,{"$f":"\"This copyrighted software copy is for the use for the \"&D501&\" only.\"","v":"This copyrighted software copy is for the use for the Sample Household only."}]
[null,null,null,null,null,null,null,"It is not authorized for use of or with third parties such as governments, non-profits, attorneys, accountants,"]
[null,null,null,null,null,null,null,"financial planners, therapists, lenders, etc. unless specifically authorized in writing by Moneywatch Ltd."]
[null,null,null,null,null,null,null,"This software was designed to function on personal computer without needing access to or from the Internet."]
[]
[null,null,null,{"$f":"IF(I502=1,0,\"These instructions will hide themselves automatically\")","v":0}]
[null,null,null,{"$f":"IF(I502=1,0,\"Enter begin date M/D/Y  below - don't use  29th, 30th  31st\")","v":0}]
[null,null,null,"2017-10-27"]
[null,null,null,{"$f":"IF($I$502=1,0,\"Enter user name & description in cell below\")","v":0},null,null,null,null,1]
[null,null,null,"Sample Household"]
[null,null,null,{"$f":"IF(I502=1,0,\"Enter a 1 in cell I502 - then PROTECT SHEET & save in User Name\")","v":0},null,null,null,null,1]
[]
[]
[null,null,null,{"$f":"IF(I502=1,0,\"Cell A1 and I502 must always be zero to start\")","v":0}]
[]
[]
[]
[]
[]
[null,null,null,7]
[null,null,null,{"$f":"D499","v":"2017-10-27"}]
[null,null,null,{"$f":"D512+D511","v":"2017-11-03"}]
[null,null,null,{"$f":"DAY(K31)","v":20}]
[]
[]
[]
[]
[]
[]
[]
[]
[]
[]
[]
[]
[]
[]
[]
[]
[]
[]
[]
[]
[]
[]
[]
[]
[]
[]
[]
[]
[]
[]
[]
[]
[]
[null,null,null,null,null,null,"     It’s all about you, your family and your money!"]
[]
[null,null,null,null,null,null,"As you enter information you’ll experience that feeling of familiarity because Juggles, the persona of LifeMath GPS technology, actually “thinks” about household finances the same way humans do only faster, in more detail, with greater accuracy andwithout the anxiety.          "]
[]
[]
[null,null,null,"Juggles, the persona of LifeMath GPS technology,",null,null,"Entering information is easy when you think of your finances as \"events\" in your life including their costs and when they’re going to happen. Examples: grocery shopping $150 weekly; gasoline $75 every other week; electric $72.23 monthly; car taxes $163.58 quarterly; anniversary dinner $100 annually. Loans and credit cards are automatically entered as monthly."]
[null,null,null,"constantly analizes the 57.2 million bits of"]
[null,null,null,"information necessary to give you instant and"]
[null,null,null,"accurate pictures of the financial positions"]
[null,null,null,"of your household and its members."]
[]
[null,null,null,null,null,null,"Initially, don't refer to paperwork. Enter information right from your mind. It's not about the past.     It's all about what you and the members of your household want in the immedate and near future. Refining it later is easy because the software was specifically designed to be changed."]
[]
[]
[]
[null,null,null,null,null,null,null,"              Click here to begin"]
[]
[]
[]
[]
[]
[]
[]
[]
[]
[]
[]
[]
[]
[]
[]
[null,null,null,{"$f":"#REF!","v":{"$error":"#REF!"}},{"$f":"#REF!","v":{"$error":"#REF!"}},{"$f":"#REF!","v":{"$error":"#REF!"}},{"$f":"#REF!","v":{"$error":"#REF!"}},{"$f":"#REF!","v":{"$error":"#REF!"}},{"$f":"#REF!","v":{"$error":"#REF!"}},{"$f":"#REF!","v":{"$error":"#REF!"}},{"$f":"#REF!","v":{"$error":"#REF!"}},{"$f":"#REF!","v":{"$error":"#REF!"}},{"$f":"#REF!","v":{"$error":"#REF!"}},{"$f":"#REF!","v":{"$error":"#REF!"}},{"$f":"#REF!","v":{"$error":"#REF!"}},{"$f":"#REF!","v":{"$error":"#REF!"}},{"$f":"#REF!","v":{"$error":"#REF!"}},{"$f":"#REF!","v":{"$error":"#REF!"}},{"$f":"#REF!","v":{"$error":"#REF!"}},{"$f":"#REF!","v":{"$error":"#REF!"}},{"$f":"#REF!","v":{"$error":"#REF!"}},{"$f":"#REF!","v":{"$error":"#REF!"}},{"$f":"#REF!","v":{"$error":"#REF!"}},{"$f":"#REF!","v":{"$error":"#REF!"}},{"$f":"#REF!","v":{"$error":"#REF!"}},{"$f":"#REF!","v":{"$error":"#REF!"}},{"$f":"#REF!","v":{"$error":"#REF!"}},{"$f":"#REF!","v":{"$error":"#REF!"}},{"$f":"#REF!","v":{"$error":"#REF!"}},{"$f":"#REF!","v":{"$error":"#REF!"}},{"$f":"#REF!","v":{"$error":"#REF!"}},{"$f":"#REF!","v":{"$error":"#REF!"}},{"$f":"#REF!","v":{"$error":"#REF!"}},{"$f":"#REF!","v":{"$error":"#REF!"}},{"$f":"#REF!","v":{"$error":"#REF!"}},{"$f":"#REF!","v":{"$error":"#REF!"}},{"$f":"#REF!","v":{"$error":"#REF!"}},{"$f":"#REF!","v":{"$error":"#REF!"}},{"$f":"#REF!","v":{"$error":"#REF!"}},{"$f":"#REF!","v":{"$error":"#REF!"}},{"$f":"#REF!","v":{"$error":"#REF!"}},{"$f":"#REF!","v":{"$error":"#REF!"}},{"$f":"#REF!","v":{"$error":"#REF!"}},{"$f":"#REF!","v":{"$error":"#REF!"}},{"$f":"#REF!","v":{"$error":"#REF!"}},{"$f":"#REF!","v":{"$error":"#REF!"}},{"$f":"#REF!","v":{"$error":"#REF!"}},{"$f":"#REF!","v":{"$error":"#REF!"}},{"$f":"#REF!","v":{"$error":"#REF!"}},{"$f":"#REF!","v":{"$error":"#REF!"}},{"$f":"#REF!","v":{"$error":"#REF!"}},{"$f":"#REF!","v":{"$error":"#REF!"}},{"$f":"#REF!","v":{"$error":"#REF!"}},{"$f":"#REF!","v":{"$error":"#REF!"}},{"$f":"#REF!","v":{"$error":"#REF!"}},{"$f":"#REF!","v":{"$error":"#REF!"}}]
[null,null,null,{"$f":"#REF!","v":{"$error":"#REF!"}},{"$f":"#REF!","v":{"$error":"#REF!"}},{"$f":"#REF!","v":{"$error":"#REF!"}},{"$f":"#REF!","v":{"$error":"#REF!"}},{"$f":"#REF!","v":{"$error":"#REF!"}},{"$f":"#REF!","v":{"$error":"#REF!"}},{"$f":"#REF!","v":{"$error":"#REF!"}},{"$f":"#REF!","v":{"$error":"#REF!"}},{"$f":"#REF!","v":{"$error":"#REF!"}},{"$f":"#REF!","v":{"$error":"#REF!"}},{"$f":"#REF!","v":{"$error":"#REF!"}},{"$f":"#REF!","v":{"$error":"#REF!"}},{"$f":"#REF!","v":{"$error":"#REF!"}},{"$f":"#REF!","v":{"$error":"#REF!"}},{"$f":"#REF!","v":{"$error":"#REF!"}},{"$f":"#REF!","v":{"$error":"#REF!"}},{"$f":"#REF!","v":{"$error":"#REF!"}},{"$f":"#REF!","v":{"$error":"#REF!"}},{"$f":"#REF!","v":{"$error":"#REF!"}},{"$f":"#REF!","v":{"$error":"#REF!"}},{"$f":"#REF!","v":{"$error":"#REF!"}},{"$f":"#REF!","v":{"$error":"#REF!"}},{"$f":"#REF!","v":{"$error":"#REF!"}},{"$f":"#REF!","v":{"$error":"#REF!"}},{"$f":"#REF!","v":{"$error":"#REF!"}},{"$f":"#REF!","v":{"$error":"#REF!"}},{"$f":"#REF!","v":{"$error":"#REF!"}},{"$f":"#REF!","v":{"$error":"#REF!"}},{"$f":"#REF!","v":{"$error":"#REF!"}},{"$f":"#REF!","v":{"$error":"#REF!"}},{"$f":"#REF!","v":{"$error":"#REF!"}},{"$f":"#REF!","v":{"$error":"#REF!"}},{"$f":"#REF!","v":{"$error":"#REF!"}},{"$f":"#REF!","v":{"$error":"#REF!"}},{"$f":"#REF!","v":{"$error":"#REF!"}},{"$f":"#REF!","v":{"$error":"#REF!"}},{"$f":"#REF!","v":{"$error":"#REF!"}},{"$f":"#REF!","v":{"$error":"#REF!"}},{"$f":"#REF!","v":{"$error":"#REF!"}},{"$f":"#REF!","v":{"$error":"#REF!"}},{"$f":"#REF!","v":{"$error":"#REF!"}},{"$f":"#REF!","v":{"$error":"#REF!"}},{"$f":"#REF!","v":{"$error":"#REF!"}},{"$f":"#REF!","v":{"$error":"#REF!"}},{"$f":"#REF!","v":{"$error":"#REF!"}},{"$f":"#REF!","v":{"$error":"#REF!"}},{"$f":"#REF!","v":{"$error":"#REF!"}},{"$f":"#REF!","v":{"$error":"#REF!"}},{"$f":"#REF!","v":{"$error":"#REF!"}},{"$f":"#REF!","v":{"$error":"#REF!"}},{"$f":"#REF!","v":{"$error":"#REF!"}},{"$f":"#REF!","v":{"$error":"#REF!"}},{"$f":"#REF!","v":{"$error":"#REF!"}}]
[null,null,null,{"$f":"#REF!","v":{"$error":"#REF!"}},{"$f":"#REF!","v":{"$error":"#REF!"}},{"$f":"#REF!","v":{"$error":"#REF!"}},{"$f":"#REF!","v":{"$error":"#REF!"}},{"$f":"#REF!","v":{"$error":"#REF!"}},{"$f":"#REF!","v":{"$error":"#REF!"}},{"$f":"#REF!","v":{"$error":"#REF!"}},{"$f":"#REF!","v":{"$error":"#REF!"}},{"$f":"#REF!","v":{"$error":"#REF!"}},{"$f":"#REF!","v":{"$error":"#REF!"}},{"$f":"#REF!","v":{"$error":"#REF!"}},{"$f":"#REF!","v":{"$error":"#REF!"}},{"$f":"#REF!","v":{"$error":"#REF!"}},{"$f":"#REF!","v":{"$error":"#REF!"}},{"$f":"#REF!","v":{"$error":"#REF!"}},{"$f":"#REF!","v":{"$error":"#REF!"}},{"$f":"#REF!","v":{"$error":"#REF!"}},{"$f":"#REF!","v":{"$error":"#REF!"}},{"$f":"#REF!","v":{"$error":"#REF!"}},{"$f":"#REF!","v":{"$error":"#REF!"}},{"$f":"#REF!","v":{"$error":"#REF!"}},{"$f":"#REF!","v":{"$error":"#REF!"}},{"$f":"#REF!","v":{"$error":"#REF!"}},{"$f":"#REF!","v":{"$error":"#REF!"}},{"$f":"#REF!","v":{"$error":"#REF!"}},{"$f":"#REF!","v":{"$error":"#REF!"}},{"$f":"#REF!","v":{"$error":"#REF!"}},{"$f":"#REF!","v":{"$error":"#REF!"}},{"$f":"#REF!","v":{"$error":"#REF!"}},{"$f":"#REF!","v":{"$error":"#REF!"}},{"$f":"#REF!","v":{"$error":"#REF!"}},{"$f":"#REF!","v":{"$error":"#REF!"}},{"$f":"#REF!","v":{"$error":"#REF!"}},{"$f":"#REF!","v":{"$error":"#REF!"}},{"$f":"#REF!","v":{"$error":"#REF!"}},{"$f":"#REF!","v":{"$error":"#REF!"}},{"$f":"#REF!","v":{"$error":"#REF!"}},{"$f":"#REF!","v":{"$error":"#REF!"}},{"$f":"#REF!","v":{"$error":"#REF!"}},{"$f":"#REF!","v":{"$error":"#REF!"}},{"$f":"#REF!","v":{"$error":"#REF!"}},{"$f":"#REF!","v":{"$error":"#REF!"}},{"$f":"#REF!","v":{"$error":"#REF!"}},{"$f":"#REF!","v":{"$error":"#REF!"}},{"$f":"#REF!","v":{"$error":"#REF!"}},{"$f":"#REF!","v":{"$error":"#REF!"}},{"$f":"#REF!","v":{"$error":"#REF!"}},{"$f":"#REF!","v":{"$error":"#REF!"}},{"$f":"#REF!","v":{"$error":"#REF!"}},{"$f":"#REF!","v":{"$error":"#REF!"}},{"$f":"#REF!","v":{"$error":"#REF!"}},{"$f":"#REF!","v":{"$error":"#REF!"}},{"$f":"#REF!","v":{"$error":"#REF!"}}]
[null,null,null,{"$f":"#REF!","v":{"$error":"#REF!"}},{"$f":"#REF!","v":{"$error":"#REF!"}},{"$f":"#REF!","v":{"$error":"#REF!"}},{"$f":"#REF!","v":{"$error":"#REF!"}},{"$f":"#REF!","v":{"$error":"#REF!"}},{"$f":"#REF!","v":{"$error":"#REF!"}},{"$f":"#REF!","v":{"$error":"#REF!"}},{"$f":"#REF!","v":{"$error":"#REF!"}},{"$f":"#REF!","v":{"$error":"#REF!"}},{"$f":"#REF!","v":{"$error":"#REF!"}},{"$f":"#REF!","v":{"$error":"#REF!"}},{"$f":"#REF!","v":{"$error":"#REF!"}},{"$f":"#REF!","v":{"$error":"#REF!"}},{"$f":"#REF!","v":{"$error":"#REF!"}},{"$f":"#REF!","v":{"$error":"#REF!"}},{"$f":"#REF!","v":{"$error":"#REF!"}},{"$f":"#REF!","v":{"$error":"#REF!"}},{"$f":"#REF!","v":{"$error":"#REF!"}},{"$f":"#REF!","v":{"$error":"#REF!"}},{"$f":"#REF!","v":{"$error":"#REF!"}},{"$f":"#REF!","v":{"$error":"#REF!"}},{"$f":"#REF!","v":{"$error":"#REF!"}},{"$f":"#REF!","v":{"$error":"#REF!"}},{"$f":"#REF!","v":{"$error":"#REF!"}},{"$f":"#REF!","v":{"$error":"#REF!"}},{"$f":"#REF!","v":{"$error":"#REF!"}},{"$f":"#REF!","v":{"$error":"#REF!"}},{"$f":"#REF!","v":{"$error":"#REF!"}},{"$f":"#REF!","v":{"$error":"#REF!"}},{"$f":"#REF!","v":{"$error":"#REF!"}},{"$f":"#REF!","v":{"$error":"#REF!"}},{"$f":"#REF!","v":{"$error":"#REF!"}},{"$f":"#REF!","v":{"$error":"#REF!"}},{"$f":"#REF!","v":{"$error":"#REF!"}},{"$f":"#REF!","v":{"$error":"#REF!"}},{"$f":"#REF!","v":{"$error":"#REF!"}},{"$f":"#REF!","v":{"$error":"#REF!"}},{"$f":"#REF!","v":{"$error":"#REF!"}},{"$f":"#REF!","v":{"$error":"#REF!"}},{"$f":"#REF!","v":{"$error":"#REF!"}},{"$f":"#REF!","v":{"$error":"#REF!"}},{"$f":"#REF!","v":{"$error":"#REF!"}},{"$f":"#REF!","v":{"$error":"#REF!"}},{"$f":"#REF!","v":{"$error":"#REF!"}},{"$f":"#REF!","v":{"$error":"#REF!"}},{"$f":"#REF!","v":{"$error":"#REF!"}},{"$f":"#REF!","v":{"$error":"#REF!"}},{"$f":"#REF!","v":{"$error":"#REF!"}},{"$f":"#REF!","v":{"$error":"#REF!"}},{"$f":"#REF!","v":{"$error":"#REF!"}},{"$f":"#REF!","v":{"$error":"#REF!"}},{"$f":"#REF!","v":{"$error":"#REF!"}},{"$f":"#REF!","v":{"$error":"#REF!"}}]
[]
[]
[]
[]
[]
[]
[]
[]
[]
[]
[]
[]
[]
[]
[]
[]
[]
[]
[]
[]
[]
[]
[]
[]
[]
[]
[]
[]
[]
[]
[]
[]
[]
[]
[]
[]
[]
[]
[]
[]
[null,null,null,"Groceries",150," GG"," Visa"," food"," 7/1/15"," 8/1/15"," weekly"," this is a test"]
[]
[]
[null,null,null,null,null,"..."]
[null,null,null,null,null,"Outgo","Amount","Who","Begin Date","End Date","Pay By","Category","Time Period"]
[null,null,null,null,null,null,null,null,null,null,null,null,null,null,null,null,null,null,null,null,"..."]
[null,null,null,"Copy email form"]
[null,null,null,"click Data, Text to column,"]
[null,null,null,"Delimited, Next, Comma, Finish"]
[]
[null,null,null,"Then Edit, Find, type or say",null,"Outgo","Amount","Who","Date","Pay By","Category"]
[null,null,null,"the Outgo description, click"]
[null,null,null,"Find, Copy the info and paste"]
[null,null,null,"into the Journal Make sure"]
[null,null,null,"current week has been"]
[null,null,null,"FIXED if change THE"]
[null,null,null,"CHANGE IS ONLY TO",null,"Other"]
[null,null,null,"HAPPEN IN THE FFUTURE."]
[]
[]
[]
[]
[]
[]
[]
[]
[]
[]
[]
[]
[null,null,null,null,null,"Outgo","Amount","Who","Pay By","Category","Begin Date","End Date","Time Period"]
[null,null,null,null,null,{"$f":"IF(F628<>0,RIGHT(F628,LEN(F628)-1),0)","v":0},{"$f":"IF(ISERROR(VALUE(IF(G628<>0,RIGHT(G628,LEN(G628)-1),0))),G628,VALUE(IF(G628<>0,RIGHT(G628,LEN(G628)-1),0)))","v":0},{"$f":"IF(H628<>0,RIGHT(H628,LEN(H628)-1),0)","v":0},{"$f":"IF(ISERROR(VALUE(IF(K628<>0,RIGHT(K628,LEN(K628)-1),0))),K628,VALUE(IF(K628<>0,RIGHT(K628,LEN(K628)-1),0)))","v":"00:00:00"},{"$f":"IF(L628<>0,RIGHT(L628,LEN(L628)-1),0)","v":0},{"$f":"IF(ISERROR(VALUE(IF(I628<>0,RIGHT(I628,LEN(I628)-1),0))),I628,VALUE(IF(I628<>0,RIGHT(I628,LEN(I628)-1),0)))","v":"00:00:00"},"00:00:00",{"$f":"IF(M628<>0,RIGHT(M628,LEN(M628)-1),0)","v":0}]
[null,null,null,null,null,{"$f":"IF(F629<>0,RIGHT(F629,LEN(F629)-1),0)","v":0},{"$f":"IF(ISERROR(VALUE(IF(G629<>0,RIGHT(G629,LEN(G629)-1),0))),G629,VALUE(IF(G629<>0,RIGHT(G629,LEN(G629)-1),0)))","v":0},{"$f":"IF(H629<>0,RIGHT(H629,LEN(H629)-1),0)","v":0},{"$f":"IF(ISERROR(VALUE(IF(K629<>0,RIGHT(K629,LEN(K629)-1),0))),K629,VALUE(IF(K629<>0,RIGHT(K629,LEN(K629)-1),0)))","v":0},{"$f":"IF(L629<>0,RIGHT(L629,LEN(L629)-1),0)","v":0},"00:00:00","00:00:00",{"$f":"IF(M629<>0,RIGHT(M629,LEN(M629)-1),0)","v":0}]
[null,null,null,null,null,{"$f":"IF(F630<>0,RIGHT(F630,LEN(F630)-1),0)","v":0},{"$f":"IF(ISERROR(VALUE(IF(G630<>0,RIGHT(G630,LEN(G630)-1),0))),G630,VALUE(IF(G630<>0,RIGHT(G630,LEN(G630)-1),0)))","v":0},{"$f":"IF(H630<>0,RIGHT(H630,LEN(H630)-1),0)","v":0},{"$f":"IF(ISERROR(VALUE(IF(K630<>0,RIGHT(K630,LEN(K630)-1),0))),K630,VALUE(IF(K630<>0,RIGHT(K630,LEN(K630)-1),0)))","v":0},{"$f":"IF(L630<>0,RIGHT(L630,LEN(L630)-1),0)","v":0},"00:00:00","00:00:00",{"$f":"IF(M630<>0,RIGHT(M630,LEN(M630)-1),0)","v":0}]
[null,null,null,null,null,{"$f":"IF(F631<>0,RIGHT(F631,LEN(F631)-1),0)","v":0},{"$f":"IF(ISERROR(VALUE(IF(G631<>0,RIGHT(G631,LEN(G631)-1),0))),G631,VALUE(IF(G631<>0,RIGHT(G631,LEN(G631)-1),0)))","v":0},{"$f":"IF(H631<>0,RIGHT(H631,LEN(H631)-1),0)","v":0},{"$f":"IF(ISERROR(VALUE(IF(K631<>0,RIGHT(K631,LEN(K631)-1),0))),K631,VALUE(IF(K631<>0,RIGHT(K631,LEN(K631)-1),0)))","v":0},{"$f":"IF(L631<>0,RIGHT(L631,LEN(L631)-1),0)","v":0},"00:00:00","00:00:00",{"$f":"IF(M631<>0,RIGHT(M631,LEN(M631)-1),0)","v":0}]
[null,null,null,null,null,{"$f":"IF(F632<>0,RIGHT(F632,LEN(F632)-1),0)","v":0},{"$f":"IF(ISERROR(VALUE(IF(G632<>0,RIGHT(G632,LEN(G632)-1),0))),G632,VALUE(IF(G632<>0,RIGHT(G632,LEN(G632)-1),0)))","v":0},{"$f":"IF(H632<>0,RIGHT(H632,LEN(H632)-1),0)","v":0},{"$f":"IF(ISERROR(VALUE(IF(K632<>0,RIGHT(K632,LEN(K632)-1),0))),K632,VALUE(IF(K632<>0,RIGHT(K632,LEN(K632)-1),0)))","v":0},{"$f":"IF(L632<>0,RIGHT(L632,LEN(L632)-1),0)","v":0},"00:00:00","00:00:00",{"$f":"IF(M632<>0,RIGHT(M632,LEN(M632)-1),0)","v":0}]
[null,null,null,null,null,"1 time","Amount","Who","Date","Pay By","Category"]
[null,null,null,null,null,{"$f":"IF(F634<>0,RIGHT(F634,LEN(F634)-1),0)","v":0},{"$f":"IF(ISERROR(VALUE(IF(G634<>0,RIGHT(G634,LEN(G634)-1),0))),G634,VALUE(IF(G634<>0,RIGHT(G634,LEN(G634)-1),0)))","v":0},{"$f":"IF(H634<>0,RIGHT(H634,LEN(H634)-1),0)","v":0},{"$f":"IF(ISERROR(VALUE(IF(I634<>0,RIGHT(I634,LEN(I634)-1),0))),I634,VALUE(IF(I634<>0,RIGHT(I634,LEN(I634)-1),0)))","v":"00:00:00"},{"$f":"IF(ISERROR(VALUE(IF(J634<>0,RIGHT(J634,LEN(J634)-1),0))),J634,VALUE(IF(J634<>0,RIGHT(J634,LEN(J634)-1),0)))","v":0},"00:00:00",{"$f":"IF(ISERROR(SUM(G660:K660)),\"Error\",0)","v":0}]
[null,null,null,null,null,{"$f":"IF(F635<>0,RIGHT(F635,LEN(F635)-1),0)","v":0},{"$f":"IF(ISERROR(VALUE(IF(G635<>0,RIGHT(G635,LEN(G635)-1),0))),G635,VALUE(IF(G635<>0,RIGHT(G635,LEN(G635)-1),0)))","v":0},{"$f":"IF(H635<>0,RIGHT(H635,LEN(H635)-1),0)","v":0},{"$f":"IF(ISERROR(VALUE(IF(I635<>0,RIGHT(I635,LEN(I635)-1),0))),I635,VALUE(IF(I635<>0,RIGHT(I635,LEN(I635)-1),0)))","v":"00:00:00"},"00:00:00","00:00:00",{"$f":"IF(ISERROR(SUM(G661:K661)),\"Error\",0)","v":0}]
[null,null,null,null,null,{"$f":"IF(F636<>0,RIGHT(F636,LEN(F636)-1),0)","v":0},{"$f":"IF(ISERROR(VALUE(IF(G636<>0,RIGHT(G636,LEN(G636)-1),0))),G636,VALUE(IF(G636<>0,RIGHT(G636,LEN(G636)-1),0)))","v":0},{"$f":"IF(H636<>0,RIGHT(H636,LEN(H636)-1),0)","v":0},{"$f":"IF(ISERROR(VALUE(IF(I636<>0,RIGHT(I636,LEN(I636)-1),0))),I636,VALUE(IF(I636<>0,RIGHT(I636,LEN(I636)-1),0)))","v":"00:00:00"},0,"00:00:00",{"$f":"IF(ISERROR(SUM(G662:K662)),\"Error\",0)","v":0}]
[null,null,null,null,null,{"$f":"IF(F637<>0,RIGHT(F637,LEN(F637)-1),0)","v":0},{"$f":"IF(ISERROR(VALUE(IF(G637<>0,RIGHT(G637,LEN(G637)-1),0))),G637,VALUE(IF(G637<>0,RIGHT(G637,LEN(G637)-1),0)))","v":0},{"$f":"IF(H637<>0,RIGHT(H637,LEN(H637)-1),0)","v":0},{"$f":"IF(ISERROR(VALUE(IF(I637<>0,RIGHT(I637,LEN(I637)-1),0))),I637,VALUE(IF(I637<>0,RIGHT(I637,LEN(I637)-1),0)))","v":"00:00:00"},0,"00:00:00",{"$f":"IF(ISERROR(SUM(G663:K663)),\"Error\",0)","v":0}]
[null,null,null,null,null,{"$f":"IF(F638<>0,RIGHT(F638,LEN(F638)-1),0)","v":0},{"$f":"IF(ISERROR(VALUE(IF(G638<>0,RIGHT(G638,LEN(G638)-1),0))),G638,VALUE(IF(G638<>0,RIGHT(G638,LEN(G638)-1),0)))","v":0},{"$f":"IF(H638<>0,RIGHT(H638,LEN(H638)-1),0)","v":0},{"$f":"IF(ISERROR(VALUE(IF(I638<>0,RIGHT(I638,LEN(I638)-1),0))),I638,VALUE(IF(I638<>0,RIGHT(I638,LEN(I638)-1),0)))","v":"00:00:00"},0,"00:00:00",{"$f":"IF(ISERROR(SUM(G664:K664)),\"Error\",0)","v":0}]
[null,null,null,null,null,{"$f":"F639","v":"Other"}]
[]
[]
[]
[]
[]
[]
[]
[]
[]
[]
[]
[]
[]
[]
[]
[]
[]
[]
[]
[]
[]
[null,null,null,null,null,null,"Below is the matrix - do not enter info"]
[]
[null,null,null,null,null,"..."]
[null,null,null,null,null,"Outgo","Amount","Who","Begin Date","End Date","Pay By","Category","Time Period"]
[]
[]
[]
[]
[]
[null,null,null,null,null,"Outgo","Amount","Who","Date","Pay By","Category"]
[]
[]
[]
[]
[]
[null,null,null,null,null,"Other"]
[]
[]
[]
[]
[]
[]
[]
[]
[]
[]
[]
[]
[null,null,null,null,null,"Hints on new, changes and deletions for Outgoes:"]
[null,null,null,null,null,"All changes must have Outgo names"]
[null,null,null,null,null,"Enter only Outgo info that will be changed"]
[null,null,null,null,null,"Enter \"DELETE' in the Amount box to remove an Outgo completely."]
[]
[null,null,null,null,null,"Describe income and other changes in the large Other box."]
[]
[]
[]
[]
[]
[]
[]
[]
[]
[]
[]
[]
[]
[]
[]
[]
[]
[null,null,null,null,null,null,null,null,null,"Annual or Once"]
[]
[null,null,null,null,null,null,null,null,"Outgo","Amount","Who","Date","Pay By","Category"]
[null,null,null,null,null,null,"New Outgo",null,"X","X","X","X","X","X"]
[null,null,null,null,null,null,"Change Amount",null,"X","X"]
[null,null,null,null,null,null,"Change Who",null,"X",null,"X"]
[null,null,null,null,null,null,"Change Date",null,"X",null,null,"X"]
[null,null,null,null,null,null,"Change Pay By",null,"X",null,null,null,"X"]
[null,null,null,null,null,null,"Change Category",null,"X",null,null,null,null,"X"]
[null,null,null,null,null,null,"Delete the Outgo",null,"X","D","D","D","D","D"]
[]
[]
[]
[null,null,null,null,null,null,null,null,"Outgo","Amount","Who","Begin Date","End Date","Pay By",null,"Category","Time Period"]
[null,null,null,null,null,null,"New Outgo",null,"X","X","X","X","X","X",null,"X","X"]
[null,null,null,null,null,null,"Change Amount",null,"X","X"]
[null,null,null,null,null,null,"Change Who",null,"X",null,"X"]
[null,null,null,null,null,null,"Change Date",null,"X",null,null,"X"]
[null,null,null,null,null,null,"Change Pay By",null,"X",null,null,null,"X"]
[null,null,null,null,null,null,"Change Category",null,"X",null,null,null,null,"X",null,"X","X"]
[null,null,null,null,null,null,"Delete the Outgo",null,"X","D","D","D","D","D",null,"D","D"]
[]
[]
[null,null,null,null,null,null,"Delete the Outgo",null,"X","D","D","D","D","D",null,"D","D"]
[]
[]
[]
[]
[]
[]
[]
[]
[]
[]
[]
[]
[]
[]
[]
[]
[]
[]
[]
[]
[]
[]
[]
[]
[]
[]
[]
[]
[]
[]
[]
[]
[]
[]
[]
[]
[]
[]
[]
[]
[]
[]
[]
[null,null,null,"Dates",{"$f":"#REF!","v":{"$error":"#REF!"}}]
[null,null,null,{"$f":"#REF!","v":{"$error":"#REF!"}},{"$f":"IF(A$1=0,0,#REF!)","v":{"$error":"#REF!"}},null,{"$f":"#REF!","v":{"$error":"#REF!"}},{"$f":"#REF!","v":{"$error":"#REF!"}},{"$f":"#REF!","v":{"$error":"#REF!"}},{"$f":"#REF!","v":{"$error":"#REF!"}},{"$f":"#REF!","v":{"$error":"#REF!"}},{"$f":"#REF!","v":{"$error":"#REF!"}},{"$f":"#REF!","v":{"$error":"#REF!"}},{"$f":"#REF!","v":{"$error":"#REF!"}},{"$f":"#REF!","v":{"$error":"#REF!"}},{"$f":"#REF!","v":{"$error":"#REF!"}},{"$f":"#REF!","v":{"$error":"#REF!"}},{"$f":"#REF!","v":{"$error":"#REF!"}},{"$f":"#REF!","v":{"$error":"#REF!"}},{"$f":"#REF!","v":{"$error":"#REF!"}},{"$f":"#REF!","v":{"$error":"#REF!"}},{"$f":"#REF!","v":{"$error":"#REF!"}},{"$f":"#REF!","v":{"$error":"#REF!"}},{"$f":"#REF!","v":{"$error":"#REF!"}},{"$f":"#REF!","v":{"$error":"#REF!"}},{"$f":"#REF!","v":{"$error":"#REF!"}},{"$f":"#REF!","v":{"$error":"#REF!"}},{"$f":"#REF!","v":{"$error":"#REF!"}},{"$f":"#REF!","v":{"$error":"#REF!"}},{"$f":"#REF!","v":{"$error":"#REF!"}},{"$f":"#REF!","v":{"$error":"#REF!"}},{"$f":"#REF!","v":{"$error":"#REF!"}},{"$f":"#REF!","v":{"$error":"#REF!"}},{"$f":"#REF!","v":{"$error":"#REF!"}},{"$f":"#REF!","v":{"$error":"#REF!"}},{"$f":"#REF!","v":{"$error":"#REF!"}},{"$f":"#REF!","v":{"$error":"#REF!"}},{"$f":"#REF!","v":{"$error":"#REF!"}},{"$f":"#REF!","v":{"$error":"#REF!"}},{"$f":"#REF!","v":{"$error":"#REF!"}},{"$f":"#REF!","v":{"$error":"#REF!"}},{"$f":"#REF!","v":{"$error":"#REF!"}},{"$f":"#REF!","v":{"$error":"#REF!"}},{"$f":"#REF!","v":{"$error":"#REF!"}},{"$f":"#REF!","v":{"$error":"#REF!"}},{"$f":"#REF!","v":{"$error":"#REF!"}},{"$f":"#REF!","v":{"$error":"#REF!"}},{"$f":"#REF!","v":{"$error":"#REF!"}},{"$f":"#REF!","v":{"$error":"#REF!"}},{"$f":"#REF!","v":{"$error":"#REF!"}},{"$f":"#REF!","v":{"$error":"#REF!"}},{"$f":"#REF!","v":{"$error":"#REF!"}},{"$f":"#REF!","v":{"$error":"#REF!"}},{"$f":"#REF!","v":{"$error":"#REF!"}},{"$f":"#REF!","v":{"$error":"#REF!"}},{"$f":"#REF!","v":{"$error":"#REF!"}},{"$f":"#REF!","v":{"$error":"#REF!"}},{"$f":"#REF!","v":{"$error":"#REF!"}}]
[null,null,null,{"$f":"#REF!","v":{"$error":"#REF!"}},{"$f":"IF(A$1=0,0,#REF!)","v":{"$error":"#REF!"}},null,{"$f":"IF(A$1=0,0,#REF!)","v":{"$error":"#REF!"}},{"$f":"IF(A$1=0,0,#REF!)","v":{"$error":"#REF!"}},{"$f":"IF(A$1=0,0,#REF!)","v":{"$error":"#REF!"}},{"$f":"IF(A$1=0,0,#REF!)","v":{"$error":"#REF!"}},{"$f":"IF(A$1=0,0,#REF!)","v":{"$error":"#REF!"}},{"$f":"IF(A$1=0,0,#REF!)","v":{"$error":"#REF!"}},{"$f":"IF(A$1=0,0,#REF!)","v":{"$error":"#REF!"}},{"$f":"IF(A$1=0,0,#REF!)","v":{"$error":"#REF!"}},{"$f":"IF(A$1=0,0,#REF!)","v":{"$error":"#REF!"}},{"$f":"IF(A$1=0,0,#REF!)","v":{"$error":"#REF!"}},{"$f":"IF(A$1=0,0,#REF!)","v":{"$error":"#REF!"}},{"$f":"IF(A$1=0,0,#REF!)","v":{"$error":"#REF!"}},{"$f":"IF(A$1=0,0,#REF!)","v":{"$error":"#REF!"}},{"$f":"IF(A$1=0,0,#REF!)","v":{"$error":"#REF!"}},{"$f":"IF(A$1=0,0,#REF!)","v":{"$error":"#REF!"}},{"$f":"IF(A$1=0,0,#REF!)","v":{"$error":"#REF!"}},{"$f":"IF(A$1=0,0,#REF!)","v":{"$error":"#REF!"}},{"$f":"IF(A$1=0,0,#REF!)","v":{"$error":"#REF!"}},{"$f":"IF(A$1=0,0,#REF!)","v":{"$error":"#REF!"}},{"$f":"IF(A$1=0,0,#REF!)","v":{"$error":"#REF!"}},{"$f":"IF(A$1=0,0,#REF!)","v":{"$error":"#REF!"}},{"$f":"IF(A$1=0,0,#REF!)","v":{"$error":"#REF!"}},{"$f":"IF(A$1=0,0,#REF!)","v":{"$error":"#REF!"}},{"$f":"IF(A$1=0,0,#REF!)","v":{"$error":"#REF!"}},{"$f":"IF(A$1=0,0,#REF!)","v":{"$error":"#REF!"}},{"$f":"IF(A$1=0,0,#REF!)","v":{"$error":"#REF!"}},{"$f":"IF(A$1=0,0,#REF!)","v":{"$error":"#REF!"}},{"$f":"IF(A$1=0,0,#REF!)","v":{"$error":"#REF!"}},{"$f":"IF(A$1=0,0,#REF!)","v":{"$error":"#REF!"}},{"$f":"IF(A$1=0,0,#REF!)","v":{"$error":"#REF!"}},{"$f":"IF(A$1=0,0,#REF!)","v":{"$error":"#REF!"}},{"$f":"IF(A$1=0,0,#REF!)","v":{"$error":"#REF!"}},{"$f":"IF(A$1=0,0,#REF!)","v":{"$error":"#REF!"}},{"$f":"IF(A$1=0,0,#REF!)","v":{"$error":"#REF!"}},{"$f":"IF(A$1=0,0,#REF!)","v":{"$error":"#REF!"}},{"$f":"IF(A$1=0,0,#REF!)","v":{"$error":"#REF!"}},{"$f":"IF(A$1=0,0,#REF!)","v":{"$error":"#REF!"}},{"$f":"IF(A$1=0,0,#REF!)","v":{"$error":"#REF!"}},{"$f":"IF(A$1=0,0,#REF!)","v":{"$error":"#REF!"}},{"$f":"IF(A$1=0,0,#REF!)","v":{"$error":"#REF!"}},{"$f":"IF(A$1=0,0,#REF!)","v":{"$error":"#REF!"}},{"$f":"IF(A$1=0,0,#REF!)","v":{"$error":"#REF!"}},{"$f":"IF(A$1=0,0,#REF!)","v":{"$error":"#REF!"}},{"$f":"IF(A$1=0,0,#REF!)","v":{"$error":"#REF!"}},{"$f":"IF(A$1=0,0,#REF!)","v":{"$error":"#REF!"}},{"$f":"IF(A$1=0,0,#REF!)","v":{"$error":"#REF!"}},{"$f":"IF(A$1=0,0,#REF!)","v":{"$error":"#REF!"}},{"$f":"IF(A$1=0,0,#REF!)","v":{"$error":"#REF!"}},{"$f":"IF(A$1=0,0,#REF!)","v":{"$error":"#REF!"}},{"$f":"IF(A$1=0,0,#REF!)","v":{"$error":"#REF!"}},{"$f":"IF(A$1=0,0,#REF!)","v":{"$error":"#REF!"}},{"$f":"IF(A$1=0,0,#REF!)","v":{"$error":"#REF!"}}]
[null,null,null,{"$f":"#REF!","v":{"$error":"#REF!"}},{"$f":"IF(A$1=0,0,#REF!)","v":{"$error":"#REF!"}}]
[null,null,null,{"$f":"#REF!","v":{"$error":"#REF!"}},{"$f":"IF(A$1=0,0,#REF!)","v":{"$error":"#REF!"}}]
[null,null,null,{"$f":"#REF!","v":{"$error":"#REF!"}},{"$f":"IF(A$1=0,0,#REF!)","v":{"$error":"#REF!"}}]
[null,null,null,{"$f":"#REF!","v":{"$error":"#REF!"}},{"$f":"IF(A$1=0,0,#REF!)","v":{"$error":"#REF!"}}]
[null,null,null,{"$f":"#REF!","v":{"$error":"#REF!"}},{"$f":"IF(A$1=0,0,#REF!)","v":{"$error":"#REF!"}}]
[null,null,null,{"$f":"#REF!","v":{"$error":"#REF!"}},{"$f":"IF(A$1=0,0,#REF!)","v":{"$error":"#REF!"}}]
[null,null,null,{"$f":"#REF!","v":{"$error":"#REF!"}},{"$f":"IF(A$1=0,0,#REF!)","v":{"$error":"#REF!"}}]
[null,null,null,{"$f":"#REF!","v":{"$error":"#REF!"}},{"$f":"IF(A$1=0,0,#REF!)","v":{"$error":"#REF!"}}]
[null,null,null,{"$f":"#REF!","v":{"$error":"#REF!"}},{"$f":"IF(A$1=0,0,#REF!)","v":{"$error":"#REF!"}}]
[null,null,null,{"$f":"#REF!","v":{"$error":"#REF!"}},{"$f":"IF(A$1=0,0,#REF!)","v":{"$error":"#REF!"}}]
[null,null,null,{"$f":"#REF!","v":{"$error":"#REF!"}},{"$f":"IF(A$1=0,0,#REF!)","v":{"$error":"#REF!"}}]
[null,null,null,{"$f":"#REF!","v":{"$error":"#REF!"}},{"$f":"IF(A$1=0,0,#REF!)","v":{"$error":"#REF!"}}]
[null,null,null,{"$f":"#REF!","v":{"$error":"#REF!"}},{"$f":"IF(A$1=0,0,#REF!)","v":{"$error":"#REF!"}}]
[null,null,null,{"$f":"#REF!","v":{"$error":"#REF!"}},{"$f":"IF(A$1=0,0,#REF!)","v":{"$error":"#REF!"}}]
[null,null,null,{"$f":"#REF!","v":{"$error":"#REF!"}},{"$f":"IF(A$1=0,0,#REF!)","v":{"$error":"#REF!"}}]
[null,null,null,{"$f":"#REF!","v":{"$error":"#REF!"}},{"$f":"IF(A$1=0,0,#REF!)","v":{"$error":"#REF!"}}]
[null,null,null,{"$f":"#REF!","v":{"$error":"#REF!"}},{"$f":"IF(A$1=0,0,#REF!)","v":{"$error":"#REF!"}}]
[null,null,null,{"$f":"#REF!","v":{"$error":"#REF!"}},{"$f":"IF(A$1=0,0,#REF!)","v":{"$error":"#REF!"}}]
[null,null,null,{"$f":"#REF!","v":{"$error":"#REF!"}},{"$f":"IF(A$1=0,0,#REF!)","v":{"$error":"#REF!"}}]
[null,null,null,{"$f":"#REF!","v":{"$error":"#REF!"}},{"$f":"IF(A$1=0,0,#REF!)","v":{"$error":"#REF!"}}]
[null,null,null,{"$f":"#REF!","v":{"$error":"#REF!"}},{"$f":"IF(A$1=0,0,#REF!)","v":{"$error":"#REF!"}}]
[null,null,null,{"$f":"#REF!","v":{"$error":"#REF!"}},{"$f":"IF(A$1=0,0,#REF!)","v":{"$error":"#REF!"}}]
[null,null,null,{"$f":"#REF!","v":{"$error":"#REF!"}},{"$f":"IF(A$1=0,0,#REF!)","v":{"$error":"#REF!"}}]
[null,null,null,{"$f":"#REF!","v":{"$error":"#REF!"}},{"$f":"IF(A$1=0,0,#REF!)","v":{"$error":"#REF!"}}]
[null,null,null,{"$f":"#REF!","v":{"$error":"#REF!"}},{"$f":"IF(A$1=0,0,#REF!)","v":{"$error":"#REF!"}}]
[null,null,null,{"$f":"#REF!","v":{"$error":"#REF!"}},{"$f":"IF(A$1=0,0,#REF!)","v":{"$error":"#REF!"}}]
[null,null,null,{"$f":"#REF!","v":{"$error":"#REF!"}},{"$f":"IF(A$1=0,0,#REF!)","v":{"$error":"#REF!"}}]
[null,null,null,{"$f":"#REF!","v":{"$error":"#REF!"}},{"$f":"IF(A$1=0,0,#REF!)","v":{"$error":"#REF!"}}]
[null,null,null,{"$f":"#REF!","v":{"$error":"#REF!"}},{"$f":"IF(A$1=0,0,#REF!)","v":{"$error":"#REF!"}}]
[null,null,null,{"$f":"#REF!","v":{"$error":"#REF!"}},{"$f":"IF(A$1=0,0,#REF!)","v":{"$error":"#REF!"}}]
[null,null,null,{"$f":"#REF!","v":{"$error":"#REF!"}},{"$f":"IF(A$1=0,0,#REF!)","v":{"$error":"#REF!"}}]
[null,null,null,{"$f":"#REF!","v":{"$error":"#REF!"}},{"$f":"IF(A$1=0,0,#REF!)","v":{"$error":"#REF!"}}]
[null,null,null,{"$f":"#REF!","v":{"$error":"#REF!"}},{"$f":"IF(A$1=0,0,#REF!)","v":{"$error":"#REF!"}}]
[null,null,null,{"$f":"#REF!","v":{"$error":"#REF!"}},{"$f":"IF(A$1=0,0,#REF!)","v":{"$error":"#REF!"}}]
[null,null,null,{"$f":"#REF!","v":{"$error":"#REF!"}},{"$f":"IF(A$1=0,0,#REF!)","v":{"$error":"#REF!"}}]
[null,null,null,{"$f":"#REF!","v":{"$error":"#REF!"}},{"$f":"IF(A$1=0,0,#REF!)","v":{"$error":"#REF!"}}]
[null,null,null,{"$f":"#REF!","v":{"$error":"#REF!"}},{"$f":"IF(A$1=0,0,#REF!)","v":{"$error":"#REF!"}}]
[null,null,null,{"$f":"#REF!","v":{"$error":"#REF!"}},{"$f":"IF(A$1=0,0,#REF!)","v":{"$error":"#REF!"}}]
[null,null,null,{"$f":"#REF!","v":{"$error":"#REF!"}},{"$f":"IF(A$1=0,0,#REF!)","v":{"$error":"#REF!"}}]
[null,null,null,{"$f":"#REF!","v":{"$error":"#REF!"}},{"$f":"IF(A$1=0,0,#REF!)","v":{"$error":"#REF!"}}]
[null,null,null,{"$f":"#REF!","v":{"$error":"#REF!"}},{"$f":"IF(A$1=0,0,#REF!)","v":{"$error":"#REF!"}}]
[null,null,null,{"$f":"#REF!","v":{"$error":"#REF!"}},{"$f":"IF(A$1=0,0,#REF!)","v":{"$error":"#REF!"}}]
[null,null,null,{"$f":"#REF!","v":{"$error":"#REF!"}},{"$f":"IF(A$1=0,0,#REF!)","v":{"$error":"#REF!"}}]
[null,null,null,{"$f":"#REF!","v":{"$error":"#REF!"}},{"$f":"IF(A$1=0,0,#REF!)","v":{"$error":"#REF!"}}]
[null,null,null,{"$f":"#REF!","v":{"$error":"#REF!"}},{"$f":"IF(A$1=0,0,#REF!)","v":{"$error":"#REF!"}}]
[null,null,null,{"$f":"#REF!","v":{"$error":"#REF!"}},{"$f":"IF(A$1=0,0,#REF!)","v":{"$error":"#REF!"}}]
[null,null,null,{"$f":"#REF!","v":{"$error":"#REF!"}},{"$f":"IF(A$1=0,0,#REF!)","v":{"$error":"#REF!"}}]
[null,null,null,{"$f":"#REF!","v":{"$error":"#REF!"}},{"$f":"IF(A$1=0,0,#REF!)","v":{"$error":"#REF!"}}]
[null,null,null,{"$f":"#REF!","v":{"$error":"#REF!"}},{"$f":"IF(A$1=0,0,#REF!)","v":{"$error":"#REF!"}}]
[null,null,null,{"$f":"#REF!","v":{"$error":"#REF!"}},{"$f":"IF(A$1=0,0,#REF!)","v":{"$error":"#REF!"}}]
[null,null,null,{"$f":"#REF!","v":{"$error":"#REF!"}},{"$f":"IF(A$1=0,0,#REF!)","v":{"$error":"#REF!"}}]
[null,null,null,"Dates",{"$f":"IF(A$1=0,0,#REF!)","v":{"$error":"#REF!"}}]
[null,null,null,{"$f":"#REF!","v":{"$error":"#REF!"}},{"$f":"IF(A$1=0,0,#REF!)","v":{"$error":"#REF!"}}]
[null,null,null,{"$f":"#REF!","v":{"$error":"#REF!"}},{"$f":"IF(A$1=0,0,#REF!)","v":{"$error":"#REF!"}}]
[null,null,null,{"$f":"#REF!","v":{"$error":"#REF!"}},{"$f":"IF(A$1=0,0,#REF!)","v":{"$error":"#REF!"}}]
[null,null,null,{"$f":"#REF!","v":{"$error":"#REF!"}},{"$f":"IF(A$1=0,0,#REF!)","v":{"$error":"#REF!"}}]
[null,null,null,{"$f":"#REF!","v":{"$error":"#REF!"}},{"$f":"IF(A$1=0,0,#REF!)","v":{"$error":"#REF!"}}]
[null,null,null,{"$f":"#REF!","v":{"$error":"#REF!"}},{"$f":"IF(A$1=0,0,#REF!)","v":{"$error":"#REF!"}}]
[null,null,null,{"$f":"#REF!","v":{"$error":"#REF!"}},{"$f":"IF(A$1=0,0,#REF!)","v":{"$error":"#REF!"}}]
[null,null,null,{"$f":"#REF!","v":{"$error":"#REF!"}},{"$f":"IF(A$1=0,0,#REF!)","v":{"$error":"#REF!"}}]
[null,null,null,{"$f":"#REF!","v":{"$error":"#REF!"}},{"$f":"IF(A$1=0,0,#REF!)","v":{"$error":"#REF!"}}]
[null,null,null,{"$f":"#REF!","v":{"$error":"#REF!"}},{"$f":"IF(A$1=0,0,#REF!)","v":{"$error":"#REF!"}}]
[null,null,null,{"$f":"#REF!","v":{"$error":"#REF!"}},{"$f":"IF(A$1=0,0,#REF!)","v":{"$error":"#REF!"}}]
[null,null,null,{"$f":"#REF!","v":{"$error":"#REF!"}},{"$f":"IF(A$1=0,0,#REF!)","v":{"$error":"#REF!"}}]
[null,null,null,{"$f":"#REF!","v":{"$error":"#REF!"}},{"$f":"IF(A$1=0,0,#REF!)","v":{"$error":"#REF!"}}]
[null,null,null,{"$f":"#REF!","v":{"$error":"#REF!"}},{"$f":"IF(A$1=0,0,#REF!)","v":{"$error":"#REF!"}}]
[null,null,null,{"$f":"#REF!","v":{"$error":"#REF!"}},{"$f":"IF(A$1=0,0,#REF!)","v":{"$error":"#REF!"}}]
[null,null,null,{"$f":"#REF!","v":{"$error":"#REF!"}},{"$f":"IF(A$1=0,0,#REF!)","v":{"$error":"#REF!"}}]
[null,null,null,{"$f":"#REF!","v":{"$error":"#REF!"}},{"$f":"IF(A$1=0,0,#REF!)","v":{"$error":"#REF!"}}]
[null,null,null,{"$f":"#REF!","v":{"$error":"#REF!"}},{"$f":"IF(A$1=0,0,#REF!)","v":{"$error":"#REF!"}}]
[null,null,null,{"$f":"#REF!","v":{"$error":"#REF!"}},{"$f":"IF(A$1=0,0,#REF!)","v":{"$error":"#REF!"}}]
[null,null,null,{"$f":"#REF!","v":{"$error":"#REF!"}},{"$f":"IF(A$1=0,0,#REF!)","v":{"$error":"#REF!"}}]
[null,null,null,{"$f":"#REF!","v":{"$error":"#REF!"}},{"$f":"IF(A$1=0,0,#REF!)","v":{"$error":"#REF!"}}]
[null,null,null,{"$f":"#REF!","v":{"$error":"#REF!"}},{"$f":"IF(A$1=0,0,#REF!)","v":{"$error":"#REF!"}}]
[null,null,null,{"$f":"#REF!","v":{"$error":"#REF!"}},{"$f":"IF(A$1=0,0,#REF!)","v":{"$error":"#REF!"}}]
[null,null,null,{"$f":"#REF!","v":{"$error":"#REF!"}},{"$f":"IF(A$1=0,0,#REF!)","v":{"$error":"#REF!"}}]
[null,null,null,{"$f":"#REF!","v":{"$error":"#REF!"}},{"$f":"IF(A$1=0,0,#REF!)","v":{"$error":"#REF!"}}]
[null,null,null,{"$f":"#REF!","v":{"$error":"#REF!"}},{"$f":"IF(A$1=0,0,#REF!)","v":{"$error":"#REF!"}}]
[null,null,null,{"$f":"#REF!","v":{"$error":"#REF!"}},{"$f":"IF(A$1=0,0,#REF!)","v":{"$error":"#REF!"}}]
[null,null,null,{"$f":"#REF!","v":{"$error":"#REF!"}},{"$f":"IF(A$1=0,0,#REF!)","v":{"$error":"#REF!"}}]
[null,null,null,{"$f":"#REF!","v":{"$error":"#REF!"}},{"$f":"IF(A$1=0,0,#REF!)","v":{"$error":"#REF!"}}]
[null,null,null,{"$f":"#REF!","v":{"$error":"#REF!"}},{"$f":"IF(A$1=0,0,#REF!)","v":{"$error":"#REF!"}}]
[null,null,null,{"$f":"#REF!","v":{"$error":"#REF!"}},{"$f":"IF(A$1=0,0,#REF!)","v":{"$error":"#REF!"}}]
[null,null,null,{"$f":"#REF!","v":{"$error":"#REF!"}},{"$f":"IF(A$1=0,0,#REF!)","v":{"$error":"#REF!"}}]
[null,null,null,{"$f":"#REF!","v":{"$error":"#REF!"}},{"$f":"IF(A$1=0,0,#REF!)","v":{"$error":"#REF!"}}]
[null,null,null,{"$f":"#REF!","v":{"$error":"#REF!"}},{"$f":"IF(A$1=0,0,#REF!)","v":{"$error":"#REF!"}}]
[null,null,null,{"$f":"#REF!","v":{"$error":"#REF!"}},{"$f":"IF(A$1=0,0,#REF!)","v":{"$error":"#REF!"}}]
[null,null,null,{"$f":"#REF!","v":{"$error":"#REF!"}},{"$f":"IF(A$1=0,0,#REF!)","v":{"$error":"#REF!"}}]
[null,null,null,{"$f":"#REF!","v":{"$error":"#REF!"}},{"$f":"IF(A$1=0,0,#REF!)","v":{"$error":"#REF!"}}]
[null,null,null,{"$f":"#REF!","v":{"$error":"#REF!"}},{"$f":"IF(A$1=0,0,#REF!)","v":{"$error":"#REF!"}}]
[null,null,null,{"$f":"#REF!","v":{"$error":"#REF!"}},{"$f":"IF(A$1=0,0,#REF!)","v":{"$error":"#REF!"}}]
[null,null,null,{"$f":"#REF!","v":{"$error":"#REF!"}},{"$f":"IF(A$1=0,0,#REF!)","v":{"$error":"#REF!"}}]
[null,null,null,{"$f":"#REF!","v":{"$error":"#REF!"}},{"$f":"IF(A$1=0,0,#REF!)","v":{"$error":"#REF!"}}]
[null,null,null,{"$f":"#REF!","v":{"$error":"#REF!"}},{"$f":"IF(A$1=0,0,#REF!)","v":{"$error":"#REF!"}}]
[null,null,null,{"$f":"#REF!","v":{"$error":"#REF!"}},{"$f":"IF(A$1=0,0,#REF!)","v":{"$error":"#REF!"}}]
[null,null,null,{"$f":"#REF!","v":{"$error":"#REF!"}},{"$f":"IF(A$1=0,0,#REF!)","v":{"$error":"#REF!"}}]
[null,null,null,{"$f":"#REF!","v":{"$error":"#REF!"}},{"$f":"IF(A$1=0,0,#REF!)","v":{"$error":"#REF!"}}]
[null,null,null,{"$f":"#REF!","v":{"$error":"#REF!"}},{"$f":"IF(A$1=0,0,#REF!)","v":{"$error":"#REF!"}}]
[null,null,null,{"$f":"#REF!","v":{"$error":"#REF!"}},{"$f":"IF(A$1=0,0,#REF!)","v":{"$error":"#REF!"}}]
[null,null,null,{"$f":"#REF!","v":{"$error":"#REF!"}},{"$f":"IF(A$1=0,0,#REF!)","v":{"$error":"#REF!"}}]
[null,null,null,{"$f":"#REF!","v":{"$error":"#REF!"}},{"$f":"IF(A$1=0,0,#REF!)","v":{"$error":"#REF!"}}]
[null,null,null,{"$f":"#REF!","v":{"$error":"#REF!"}},{"$f":"IF(A$1=0,0,#REF!)","v":{"$error":"#REF!"}}]
[null,null,null,{"$f":"#REF!","v":{"$error":"#REF!"}},{"$f":"IF(A$1=0,0,#REF!)","v":{"$error":"#REF!"}}]
[null,null,null,{"$f":"#REF!","v":{"$error":"#REF!"}},{"$f":"IF(A$1=0,0,#REF!)","v":{"$error":"#REF!"}}]
[null,null,null,{"$f":"#REF!","v":{"$error":"#REF!"}},{"$f":"IF(A$1=0,0,#REF!)","v":{"$error":"#REF!"}}]
[null,null,null,{"$f":"#REF!","v":{"$error":"#REF!"}},{"$f":"IF(A$1=0,0,#REF!)","v":{"$error":"#REF!"}}]
[null,null,null,{"$f":"#REF!","v":{"$error":"#REF!"}},{"$f":"IF(A$1=0,0,#REF!)","v":{"$error":"#REF!"}}]
[null,null,null,{"$f":"#REF!","v":{"$error":"#REF!"}},{"$f":"IF(A$1=0,0,#REF!)","v":{"$error":"#REF!"}}]
[null,null,null,{"$f":"#REF!","v":{"$error":"#REF!"}},{"$f":"IF(A$1=0,0,#REF!)","v":{"$error":"#REF!"}}]
[null,null,null,{"$f":"#REF!","v":{"$error":"#REF!"}},{"$f":"IF(A$1=0,0,#REF!)","v":{"$error":"#REF!"}}]
[null,null,null,{"$f":"#REF!","v":{"$error":"#REF!"}},{"$f":"IF(A$1=0,0,#REF!)","v":{"$error":"#REF!"}}]
[null,null,null,{"$f":"#REF!","v":{"$error":"#REF!"}},{"$f":"IF(A$1=0,0,#REF!)","v":{"$error":"#REF!"}}]
[null,null,null,{"$f":"#REF!","v":{"$error":"#REF!"}},{"$f":"IF(A$1=0,0,#REF!)","v":{"$error":"#REF!"}}]
[null,null,null,{"$f":"#REF!","v":{"$error":"#REF!"}},{"$f":"IF(A$1=0,0,#REF!)","v":{"$error":"#REF!"}}]
[null,null,null,{"$f":"#REF!","v":{"$error":"#REF!"}},{"$f":"IF(A$1=0,0,#REF!)","v":{"$error":"#REF!"}}]
[null,null,null,{"$f":"#REF!","v":{"$error":"#REF!"}},{"$f":"IF(A$1=0,0,#REF!)","v":{"$error":"#REF!"}}]
[null,null,null,{"$f":"#REF!","v":{"$error":"#REF!"}},{"$f":"IF(A$1=0,0,#REF!)","v":{"$error":"#REF!"}}]
[null,null,null,{"$f":"#REF!","v":{"$error":"#REF!"}},{"$f":"IF(A$1=0,0,#REF!)","v":{"$error":"#REF!"}}]
[null,null,null,{"$f":"#REF!","v":{"$error":"#REF!"}},{"$f":"IF(A$1=0,0,#REF!)","v":{"$error":"#REF!"}}]
[null,null,null,{"$f":"#REF!","v":{"$error":"#REF!"}},{"$f":"IF(A$1=0,0,#REF!)","v":{"$error":"#REF!"}}]
[null,null,null,{"$f":"#REF!","v":{"$error":"#REF!"}},{"$f":"IF(A$1=0,0,#REF!)","v":{"$error":"#REF!"}}]
[null,null,null,{"$f":"#REF!","v":{"$error":"#REF!"}},{"$f":"IF(A$1=0,0,#REF!)","v":{"$error":"#REF!"}}]
[null,null,null,{"$f":"#REF!","v":{"$error":"#REF!"}},{"$f":"IF(A$1=0,0,#REF!)","v":{"$error":"#REF!"}}]
[null,null,null,{"$f":"#REF!","v":{"$error":"#REF!"}},{"$f":"IF(A$1=0,0,#REF!)","v":{"$error":"#REF!"}}]
[null,null,null,{"$f":"#REF!","v":{"$error":"#REF!"}},{"$f":"IF(A$1=0,0,#REF!)","v":{"$error":"#REF!"}}]
[null,null,null,{"$f":"#REF!","v":{"$error":"#REF!"}},{"$f":"IF(A$1=0,0,#REF!)","v":{"$error":"#REF!"}}]
[null,null,null,{"$f":"#REF!","v":{"$error":"#REF!"}},{"$f":"IF(A$1=0,0,#REF!)","v":{"$error":"#REF!"}}]
[null,null,null,{"$f":"#REF!","v":{"$error":"#REF!"}},{"$f":"IF(A$1=0,0,#REF!)","v":{"$error":"#REF!"}}]
[null,null,null,{"$f":"#REF!","v":{"$error":"#REF!"}},{"$f":"IF(A$1=0,0,#REF!)","v":{"$error":"#REF!"}}]
[null,null,null,{"$f":"#REF!","v":{"$error":"#REF!"}},{"$f":"IF(A$1=0,0,#REF!)","v":{"$error":"#REF!"}}]
[null,null,null,{"$f":"#REF!","v":{"$error":"#REF!"}},{"$f":"IF(A$1=0,0,#REF!)","v":{"$error":"#REF!"}}]
[null,null,null,{"$f":"#REF!","v":{"$error":"#REF!"}},{"$f":"IF(A$1=0,0,#REF!)","v":{"$error":"#REF!"}}]
[null,null,null,{"$f":"#REF!","v":{"$error":"#REF!"}},{"$f":"IF(A$1=0,0,#REF!)","v":{"$error":"#REF!"}}]
[null,null,null,{"$f":"#REF!","v":{"$error":"#REF!"}},{"$f":"IF(A$1=0,0,#REF!)","v":{"$error":"#REF!"}}]
[null,null,null,{"$f":"#REF!","v":{"$error":"#REF!"}},{"$f":"IF(A$1=0,0,#REF!)","v":{"$error":"#REF!"}}]
[null,null,null,{"$f":"#REF!","v":{"$error":"#REF!"}},{"$f":"IF(A$1=0,0,#REF!)","v":{"$error":"#REF!"}}]
[null,null,null,{"$f":"#REF!","v":{"$error":"#REF!"}},{"$f":"IF(A$1=0,0,#REF!)","v":{"$error":"#REF!"}}]
[null,null,null,{"$f":"#REF!","v":{"$error":"#REF!"}},{"$f":"IF(A$1=0,0,#REF!)","v":{"$error":"#REF!"}}]
[null,null,null,{"$f":"#REF!","v":{"$error":"#REF!"}},{"$f":"IF(A$1=0,0,#REF!)","v":{"$error":"#REF!"}}]
[null,null,null,{"$f":"#REF!","v":{"$error":"#REF!"}},{"$f":"IF(A$1=0,0,#REF!)","v":{"$error":"#REF!"}}]
[null,null,null,{"$f":"#REF!","v":{"$error":"#REF!"}},{"$f":"IF(A$1=0,0,#REF!)","v":{"$error":"#REF!"}}]
[null,null,null,{"$f":"#REF!","v":{"$error":"#REF!"}},{"$f":"IF(A$1=0,0,#REF!)","v":{"$error":"#REF!"}}]
[null,null,null,{"$f":"#REF!","v":{"$error":"#REF!"}},{"$f":"IF(A$1=0,0,#REF!)","v":{"$error":"#REF!"}}]
[null,null,null,{"$f":"#REF!","v":{"$error":"#REF!"}},{"$f":"IF(A$1=0,0,#REF!)","v":{"$error":"#REF!"}}]
[null,null,null,{"$f":"#REF!","v":{"$error":"#REF!"}},{"$f":"IF(A$1=0,0,#REF!)","v":{"$error":"#REF!"}}]
[null,null,null,{"$f":"#REF!","v":{"$error":"#REF!"}},{"$f":"IF(A$1=0,0,#REF!)","v":{"$error":"#REF!"}}]
[null,null,null,{"$f":"#REF!","v":{"$error":"#REF!"}},{"$f":"IF(A$1=0,0,#REF!)","v":{"$error":"#REF!"}}]
[null,null,null,{"$f":"#REF!","v":{"$error":"#REF!"}},{"$f":"IF(A$1=0,0,#REF!)","v":{"$error":"#REF!"}}]
[null,null,null,{"$f":"#REF!","v":{"$error":"#REF!"}},{"$f":"IF(A$1=0,0,#REF!)","v":{"$error":"#REF!"}}]
[null,null,null,{"$f":"#REF!","v":{"$error":"#REF!"}},{"$f":"IF(A$1=0,0,#REF!)","v":{"$error":"#REF!"}}]
[null,null,null,{"$f":"#REF!","v":{"$error":"#REF!"}},{"$f":"IF(A$1=0,0,#REF!)","v":{"$error":"#REF!"}}]
[null,null,null,{"$f":"#REF!","v":{"$error":"#REF!"}},{"$f":"IF(A$1=0,0,#REF!)","v":{"$error":"#REF!"}}]
[null,null,null,{"$f":"#REF!","v":{"$error":"#REF!"}},{"$f":"IF(A$1=0,0,#REF!)","v":{"$error":"#REF!"}}]
[null,null,null,{"$f":"#REF!","v":{"$error":"#REF!"}},{"$f":"IF(A$1=0,0,#REF!)","v":{"$error":"#REF!"}}]
[null,null,null,{"$f":"#REF!","v":{"$error":"#REF!"}},{"$f":"IF(A$1=0,0,#REF!)","v":{"$error":"#REF!"}}]
[null,null,null,{"$f":"#REF!","v":{"$error":"#REF!"}},{"$f":"IF(A$1=0,0,#REF!)","v":{"$error":"#REF!"}}]
[null,null,null,{"$f":"#REF!","v":{"$error":"#REF!"}},{"$f":"IF(A$1=0,0,#REF!)","v":{"$error":"#REF!"}}]
[null,null,null,{"$f":"#REF!","v":{"$error":"#REF!"}},{"$f":"IF(A$1=0,0,#REF!)","v":{"$error":"#REF!"}}]
[null,null,null,{"$f":"#REF!","v":{"$error":"#REF!"}},{"$f":"IF(A$1=0,0,#REF!)","v":{"$error":"#REF!"}}]
[null,null,null,"Dates",{"$f":"IF(A$1=0,0,#REF!)","v":{"$error":"#REF!"}}]
[null,null,null,{"$f":"#REF!","v":{"$error":"#REF!"}},{"$f":"IF(A$1=0,0,#REF!)","v":{"$error":"#REF!"}},{"$f":"#REF!","v":{"$error":"#REF!"}}]
[null,null,null,{"$f":"#REF!","v":{"$error":"#REF!"}},{"$f":"IF(A$1=0,0,#REF!)","v":{"$error":"#REF!"}},{"$f":"#REF!","v":{"$error":"#REF!"}}]
[null,null,null,{"$f":"#REF!","v":{"$error":"#REF!"}},{"$f":"IF(A$1=0,0,#REF!)","v":{"$error":"#REF!"}},{"$f":"#REF!","v":{"$error":"#REF!"}}]
[null,null,null,{"$f":"#REF!","v":{"$error":"#REF!"}},{"$f":"IF(A$1=0,0,#REF!)","v":{"$error":"#REF!"}},{"$f":"#REF!","v":{"$error":"#REF!"}}]
[null,null,null,{"$f":"#REF!","v":{"$error":"#REF!"}},{"$f":"IF(A$1=0,0,#REF!)","v":{"$error":"#REF!"}},{"$f":"#REF!","v":{"$error":"#REF!"}}]
[null,null,null,{"$f":"#REF!","v":{"$error":"#REF!"}},{"$f":"IF(A$1=0,0,#REF!)","v":{"$error":"#REF!"}},{"$f":"#REF!","v":{"$error":"#REF!"}}]
[null,null,null,{"$f":"#REF!","v":{"$error":"#REF!"}},{"$f":"IF(A$1=0,0,#REF!)","v":{"$error":"#REF!"}},{"$f":"#REF!","v":{"$error":"#REF!"}}]
[null,null,null,{"$f":"#REF!","v":{"$error":"#REF!"}},{"$f":"IF(A$1=0,0,#REF!)","v":{"$error":"#REF!"}},{"$f":"#REF!","v":{"$error":"#REF!"}}]
[null,null,null,{"$f":"#REF!","v":{"$error":"#REF!"}},{"$f":"IF(A$1=0,0,#REF!)","v":{"$error":"#REF!"}},{"$f":"#REF!","v":{"$error":"#REF!"}}]
[null,null,null,{"$f":"#REF!","v":{"$error":"#REF!"}},{"$f":"IF(A$1=0,0,#REF!)","v":{"$error":"#REF!"}},{"$f":"#REF!","v":{"$error":"#REF!"}}]
[null,null,null,{"$f":"#REF!","v":{"$error":"#REF!"}},{"$f":"IF(A$1=0,0,#REF!)","v":{"$error":"#REF!"}},{"$f":"#REF!","v":{"$error":"#REF!"}}]
[null,null,null,{"$f":"#REF!","v":{"$error":"#REF!"}},{"$f":"IF(A$1=0,0,#REF!)","v":{"$error":"#REF!"}},{"$f":"#REF!","v":{"$error":"#REF!"}}]
[null,null,null,{"$f":"#REF!","v":{"$error":"#REF!"}},{"$f":"IF(A$1=0,0,#REF!)","v":{"$error":"#REF!"}},{"$f":"#REF!","v":{"$error":"#REF!"}}]
[null,null,null,{"$f":"#REF!","v":{"$error":"#REF!"}},{"$f":"IF(A$1=0,0,#REF!)","v":{"$error":"#REF!"}},{"$f":"#REF!","v":{"$error":"#REF!"}}]
[null,null,null,{"$f":"#REF!","v":{"$error":"#REF!"}},{"$f":"IF(A$1=0,0,#REF!)","v":{"$error":"#REF!"}},{"$f":"#REF!","v":{"$error":"#REF!"}}]
[null,null,null,{"$f":"#REF!","v":{"$error":"#REF!"}},{"$f":"IF(A$1=0,0,#REF!)","v":{"$error":"#REF!"}},{"$f":"#REF!","v":{"$error":"#REF!"}}]
[null,null,null,{"$f":"#REF!","v":{"$error":"#REF!"}},{"$f":"IF(A$1=0,0,#REF!)","v":{"$error":"#REF!"}},{"$f":"#REF!","v":{"$error":"#REF!"}}]
[null,null,null,{"$f":"#REF!","v":{"$error":"#REF!"}},{"$f":"IF(A$1=0,0,#REF!)","v":{"$error":"#REF!"}},{"$f":"#REF!","v":{"$error":"#REF!"}}]
[null,null,null,{"$f":"#REF!","v":{"$error":"#REF!"}},{"$f":"IF(A$1=0,0,#REF!)","v":{"$error":"#REF!"}},{"$f":"#REF!","v":{"$error":"#REF!"}}]
[null,null,null,{"$f":"#REF!","v":{"$error":"#REF!"}},{"$f":"IF(A$1=0,0,#REF!)","v":{"$error":"#REF!"}},{"$f":"#REF!","v":{"$error":"#REF!"}}]
[null,null,null,{"$f":"#REF!","v":{"$error":"#REF!"}},{"$f":"IF(A$1=0,0,#REF!)","v":{"$error":"#REF!"}},{"$f":"#REF!","v":{"$error":"#REF!"}}]
[null,null,null,{"$f":"#REF!","v":{"$error":"#REF!"}},{"$f":"IF(A$1=0,0,#REF!)","v":{"$error":"#REF!"}},{"$f":"#REF!","v":{"$error":"#REF!"}}]
[null,null,null,{"$f":"#REF!","v":{"$error":"#REF!"}},{"$f":"IF(A$1=0,0,#REF!)","v":{"$error":"#REF!"}},{"$f":"#REF!","v":{"$error":"#REF!"}}]
[null,null,null,{"$f":"#REF!","v":{"$error":"#REF!"}},{"$f":"IF(A$1=0,0,#REF!)","v":{"$error":"#REF!"}},{"$f":"#REF!","v":{"$error":"#REF!"}}]
[null,null,null,{"$f":"#REF!","v":{"$error":"#REF!"}},{"$f":"IF(A$1=0,0,#REF!)","v":{"$error":"#REF!"}},{"$f":"#REF!","v":{"$error":"#REF!"}}]
[null,null,null,{"$f":"#REF!","v":{"$error":"#REF!"}},{"$f":"IF(A$1=0,0,#REF!)","v":{"$error":"#REF!"}},{"$f":"#REF!","v":{"$error":"#REF!"}}]
[null,null,null,{"$f":"#REF!","v":{"$error":"#REF!"}},{"$f":"IF(A$1=0,0,#REF!)","v":{"$error":"#REF!"}},{"$f":"#REF!","v":{"$error":"#REF!"}}]
[null,null,null,{"$f":"#REF!","v":{"$error":"#REF!"}},{"$f":"IF(A$1=0,0,#REF!)","v":{"$error":"#REF!"}},{"$f":"#REF!","v":{"$error":"#REF!"}}]
[null,null,null,{"$f":"#REF!","v":{"$error":"#REF!"}},{"$f":"IF(A$1=0,0,#REF!)","v":{"$error":"#REF!"}},{"$f":"#REF!","v":{"$error":"#REF!"}}]
[null,null,null,{"$f":"#REF!","v":{"$error":"#REF!"}},{"$f":"IF(A$1=0,0,#REF!)","v":{"$error":"#REF!"}},{"$f":"#REF!","v":{"$error":"#REF!"}}]
[null,null,null,{"$f":"#REF!","v":{"$error":"#REF!"}},{"$f":"IF(A$1=0,0,#REF!)","v":{"$error":"#REF!"}},{"$f":"#REF!","v":{"$error":"#REF!"}}]
[null,null,null,{"$f":"#REF!","v":{"$error":"#REF!"}},{"$f":"IF(A$1=0,0,#REF!)","v":{"$error":"#REF!"}},{"$f":"#REF!","v":{"$error":"#REF!"}}]
[null,null,null,{"$f":"#REF!","v":{"$error":"#REF!"}},{"$f":"IF(A$1=0,0,#REF!)","v":{"$error":"#REF!"}},{"$f":"#REF!","v":{"$error":"#REF!"}}]
[null,null,null,{"$f":"#REF!","v":{"$error":"#REF!"}},{"$f":"IF(A$1=0,0,#REF!)","v":{"$error":"#REF!"}},{"$f":"#REF!","v":{"$error":"#REF!"}}]
[null,null,null,{"$f":"#REF!","v":{"$error":"#REF!"}},{"$f":"IF(A$1=0,0,#REF!)","v":{"$error":"#REF!"}},{"$f":"#REF!","v":{"$error":"#REF!"}}]
[null,null,null,{"$f":"#REF!","v":{"$error":"#REF!"}},{"$f":"IF(A$1=0,0,#REF!)","v":{"$error":"#REF!"}},{"$f":"#REF!","v":{"$error":"#REF!"}}]
[null,null,null,{"$f":"#REF!","v":{"$error":"#REF!"}},{"$f":"IF(A$1=0,0,#REF!)","v":{"$error":"#REF!"}},{"$f":"#REF!","v":{"$error":"#REF!"}}]
[null,null,null,{"$f":"#REF!","v":{"$error":"#REF!"}},{"$f":"IF(A$1=0,0,#REF!)","v":{"$error":"#REF!"}},{"$f":"#REF!","v":{"$error":"#REF!"}}]
[null,null,null,{"$f":"#REF!","v":{"$error":"#REF!"}},{"$f":"IF(A$1=0,0,#REF!)","v":{"$error":"#REF!"}},{"$f":"#REF!","v":{"$error":"#REF!"}}]
[null,null,null,{"$f":"#REF!","v":{"$error":"#REF!"}},{"$f":"IF(A$1=0,0,#REF!)","v":{"$error":"#REF!"}},{"$f":"#REF!","v":{"$error":"#REF!"}}]
[null,null,null,{"$f":"#REF!","v":{"$error":"#REF!"}},{"$f":"IF(A$1=0,0,#REF!)","v":{"$error":"#REF!"}},{"$f":"#REF!","v":{"$error":"#REF!"}}]
[null,null,null,{"$f":"#REF!","v":{"$error":"#REF!"}},{"$f":"IF(A$1=0,0,#REF!)","v":{"$error":"#REF!"}},{"$f":"#REF!","v":{"$error":"#REF!"}}]
[null,null,null,{"$f":"#REF!","v":{"$error":"#REF!"}},{"$f":"IF(A$1=0,0,#REF!)","v":{"$error":"#REF!"}},{"$f":"#REF!","v":{"$error":"#REF!"}}]
[null,null,null,{"$f":"#REF!","v":{"$error":"#REF!"}},{"$f":"IF(A$1=0,0,#REF!)","v":{"$error":"#REF!"}},{"$f":"#REF!","v":{"$error":"#REF!"}}]
[null,null,null,{"$f":"#REF!","v":{"$error":"#REF!"}},{"$f":"IF(A$1=0,0,#REF!)","v":{"$error":"#REF!"}},{"$f":"#REF!","v":{"$error":"#REF!"}}]
[null,null,null,{"$f":"#REF!","v":{"$error":"#REF!"}},{"$f":"IF(A$1=0,0,#REF!)","v":{"$error":"#REF!"}},{"$f":"#REF!","v":{"$error":"#REF!"}}]
[null,null,null,{"$f":"#REF!","v":{"$error":"#REF!"}},{"$f":"IF(A$1=0,0,#REF!)","v":{"$error":"#REF!"}},{"$f":"#REF!","v":{"$error":"#REF!"}}]
[null,null,null,{"$f":"#REF!","v":{"$error":"#REF!"}},{"$f":"IF(A$1=0,0,#REF!)","v":{"$error":"#REF!"}},{"$f":"#REF!","v":{"$error":"#REF!"}}]
[null,null,null,{"$f":"#REF!","v":{"$error":"#REF!"}},{"$f":"IF(A$1=0,0,#REF!)","v":{"$error":"#REF!"}},{"$f":"#REF!","v":{"$error":"#REF!"}}]
[null,null,null,{"$f":"#REF!","v":{"$error":"#REF!"}},{"$f":"IF(A$1=0,0,#REF!)","v":{"$error":"#REF!"}},{"$f":"#REF!","v":{"$error":"#REF!"}}]
[null,null,null,{"$f":"#REF!","v":{"$error":"#REF!"}},{"$f":"IF(A$1=0,0,#REF!)","v":{"$error":"#REF!"}},{"$f":"#REF!","v":{"$error":"#REF!"}}]
[null,null,null,{"$f":"#REF!","v":{"$error":"#REF!"}},{"$f":"IF(A$1=0,0,#REF!)","v":{"$error":"#REF!"}},{"$f":"#REF!","v":{"$error":"#REF!"}}]
[null,null,null,{"$f":"#REF!","v":{"$error":"#REF!"}},{"$f":"IF(A$1=0,0,#REF!)","v":{"$error":"#REF!"}}]
[null,null,null,{"$f":"#REF!","v":{"$error":"#REF!"}},{"$f":"IF(A$1=0,0,#REF!)","v":{"$error":"#REF!"}}]
[null,null,null,{"$f":"#REF!","v":{"$error":"#REF!"}},{"$f":"IF(A$1=0,0,#REF!)","v":{"$error":"#REF!"}}]
[null,null,null,{"$f":"#REF!","v":{"$error":"#REF!"}},{"$f":"IF(A$1=0,0,#REF!)","v":{"$error":"#REF!"}}]
[null,null,null,{"$f":"#REF!","v":{"$error":"#REF!"}},{"$f":"IF(A$1=0,0,#REF!)","v":{"$error":"#REF!"}}]
[null,null,null,{"$f":"#REF!","v":{"$error":"#REF!"}},{"$f":"IF(A$1=0,0,#REF!)","v":{"$error":"#REF!"}}]
[null,null,null,{"$f":"#REF!","v":{"$error":"#REF!"}},{"$f":"IF(A$1=0,0,#REF!)","v":{"$error":"#REF!"}}]
[null,null,null,{"$f":"#REF!","v":{"$error":"#REF!"}},{"$f":"IF(A$1=0,0,#REF!)","v":{"$error":"#REF!"}}]
[null,null,null,{"$f":"#REF!","v":{"$error":"#REF!"}},{"$f":"IF(A$1=0,0,#REF!)","v":{"$error":"#REF!"}}]
[null,null,null,{"$f":"#REF!","v":{"$error":"#REF!"}},{"$f":"IF(A$1=0,0,#REF!)","v":{"$error":"#REF!"}}]
[null,null,null,{"$f":"#REF!","v":{"$error":"#REF!"}},{"$f":"IF(A$1=0,0,#REF!)","v":{"$error":"#REF!"}}]
[null,null,null,{"$f":"#REF!","v":{"$error":"#REF!"}},{"$f":"IF(A$1=0,0,#REF!)","v":{"$error":"#REF!"}}]
[null,null,null,{"$f":"#REF!","v":{"$error":"#REF!"}},{"$f":"IF(A$1=0,0,#REF!)","v":{"$error":"#REF!"}}]
[null,null,null,{"$f":"#REF!","v":{"$error":"#REF!"}},{"$f":"IF(A$1=0,0,#REF!)","v":{"$error":"#REF!"}}]
[null,null,null,{"$f":"#REF!","v":{"$error":"#REF!"}},{"$f":"IF(A$1=0,0,#REF!)","v":{"$error":"#REF!"}}]
[null,null,null,{"$f":"#REF!","v":{"$error":"#REF!"}},{"$f":"IF(A$1=0,0,#REF!)","v":{"$error":"#REF!"}}]
[null,null,null,{"$f":"#REF!","v":{"$error":"#REF!"}},{"$f":"IF(A$1=0,0,#REF!)","v":{"$error":"#REF!"}}]
[null,null,null,{"$f":"#REF!","v":{"$error":"#REF!"}},{"$f":"IF(A$1=0,0,#REF!)","v":{"$error":"#REF!"}}]
[null,null,null,{"$f":"#REF!","v":{"$error":"#REF!"}},{"$f":"IF(A$1=0,0,#REF!)","v":{"$error":"#REF!"}}]
[null,null,null,{"$f":"#REF!","v":{"$error":"#REF!"}},{"$f":"IF(A$1=0,0,#REF!)","v":{"$error":"#REF!"}}]
[null,null,null,{"$f":"#REF!","v":{"$error":"#REF!"}},{"$f":"IF(A$1=0,0,#REF!)","v":{"$error":"#REF!"}}]
[null,null,null,{"$f":"#REF!","v":{"$error":"#REF!"}},{"$f":"IF(A$1=0,0,#REF!)","v":{"$error":"#REF!"}}]
[null,null,null,{"$f":"#REF!","v":{"$error":"#REF!"}},{"$f":"IF(A$1=0,0,#REF!)","v":{"$error":"#REF!"}}]
[null,null,null,{"$f":"#REF!","v":{"$error":"#REF!"}},{"$f":"IF(A$1=0,0,#REF!)","v":{"$error":"#REF!"}}]
[null,null,null,{"$f":"#REF!","v":{"$error":"#REF!"}},{"$f":"IF(A$1=0,0,#REF!)","v":{"$error":"#REF!"}}]
[null,null,null,{"$f":"#REF!","v":{"$error":"#REF!"}},{"$f":"IF(A$1=0,0,#REF!)","v":{"$error":"#REF!"}}]
[null,null,null,{"$f":"#REF!","v":{"$error":"#REF!"}},{"$f":"IF(A$1=0,0,#REF!)","v":{"$error":"#REF!"}}]
[null,null,null,{"$f":"#REF!","v":{"$error":"#REF!"}},{"$f":"IF(A$1=0,0,#REF!)","v":{"$error":"#REF!"}}]
[null,null,null,{"$f":"#REF!","v":{"$error":"#REF!"}},{"$f":"IF(A$1=0,0,#REF!)","v":{"$error":"#REF!"}}]
[null,null,null,{"$f":"#REF!","v":{"$error":"#REF!"}},{"$f":"IF(A$1=0,0,#REF!)","v":{"$error":"#REF!"}}]
[null,null,null,{"$f":"#REF!","v":{"$error":"#REF!"}},{"$f":"IF(A$1=0,0,#REF!)","v":{"$error":"#REF!"}}]
[null,null,null,{"$f":"#REF!","v":{"$error":"#REF!"}},{"$f":"IF(A$1=0,0,#REF!)","v":{"$error":"#REF!"}}]
[null,null,null,{"$f":"#REF!","v":{"$error":"#REF!"}},{"$f":"IF(A$1=0,0,#REF!)","v":{"$error":"#REF!"}}]
[null,null,null,{"$f":"#REF!","v":{"$error":"#REF!"}},{"$f":"IF(A$1=0,0,#REF!)","v":{"$error":"#REF!"}}]
[null,null,null,{"$f":"#REF!","v":{"$error":"#REF!"}},{"$f":"IF(A$1=0,0,#REF!)","v":{"$error":"#REF!"}}]
[null,null,null,{"$f":"#REF!","v":{"$error":"#REF!"}},{"$f":"IF(A$1=0,0,#REF!)","v":{"$error":"#REF!"}}]
[null,null,null,{"$f":"#REF!","v":{"$error":"#REF!"}},{"$f":"IF(A$1=0,0,#REF!)","v":{"$error":"#REF!"}}]
[null,null,null,{"$f":"#REF!","v":{"$error":"#REF!"}},{"$f":"IF(A$1=0,0,#REF!)","v":{"$error":"#REF!"}}]
[null,null,null,{"$f":"#REF!","v":{"$error":"#REF!"}},{"$f":"IF(A$1=0,0,#REF!)","v":{"$error":"#REF!"}}]
[null,null,null,{"$f":"#REF!","v":{"$error":"#REF!"}},{"$f":"IF(A$1=0,0,#REF!)","v":{"$error":"#REF!"}}]
[null,null,null,{"$f":"#REF!","v":{"$error":"#REF!"}},{"$f":"IF(A$1=0,0,#REF!)","v":{"$error":"#REF!"}}]
[null,null,null,{"$f":"#REF!","v":{"$error":"#REF!"}},{"$f":"IF(A$1=0,0,#REF!)","v":{"$error":"#REF!"}}]
[null,null,null,{"$f":"#REF!","v":{"$error":"#REF!"}},{"$f":"IF(A$1=0,0,#REF!)","v":{"$error":"#REF!"}}]
[null,null,null,{"$f":"#REF!","v":{"$error":"#REF!"}},{"$f":"IF(A$1=0,0,#REF!)","v":{"$error":"#REF!"}}]
[null,null,null,{"$f":"#REF!","v":{"$error":"#REF!"}},{"$f":"IF(A$1=0,0,#REF!)","v":{"$error":"#REF!"}}]
[null,null,null,{"$f":"#REF!","v":{"$error":"#REF!"}},{"$f":"IF(A$1=0,0,#REF!)","v":{"$error":"#REF!"}}]
[null,null,null,{"$f":"#REF!","v":{"$error":"#REF!"}},{"$f":"IF(A$1=0,0,#REF!)","v":{"$error":"#REF!"}}]
[null,null,null,{"$f":"#REF!","v":{"$error":"#REF!"}},{"$f":"IF(A$1=0,0,#REF!)","v":{"$error":"#REF!"}}]
[null,null,null,{"$f":"#REF!","v":{"$error":"#REF!"}},{"$f":"IF(A$1=0,0,#REF!)","v":{"$error":"#REF!"}}]
[null,null,null,{"$f":"#REF!","v":{"$error":"#REF!"}},{"$f":"IF(A$1=0,0,#REF!)","v":{"$error":"#REF!"}}]
[null,null,null,{"$f":"#REF!","v":{"$error":"#REF!"}},{"$f":"IF(A$1=0,0,#REF!)","v":{"$error":"#REF!"}}]
[null,null,null,{"$f":"#REF!","v":{"$error":"#REF!"}},{"$f":"IF(A$1=0,0,#REF!)","v":{"$error":"#REF!"}}]
[null,null,null,{"$f":"#REF!","v":{"$error":"#REF!"}},{"$f":"IF(A$1=0,0,#REF!)","v":{"$error":"#REF!"}}]
[null,null,null,{"$f":"#REF!","v":{"$error":"#REF!"}},{"$f":"IF(A$1=0,0,#REF!)","v":{"$error":"#REF!"}}]
[null,null,null,{"$f":"#REF!","v":{"$error":"#REF!"}},{"$f":"IF(A$1=0,0,#REF!)","v":{"$error":"#REF!"}}]
[null,null,null,{"$f":"#REF!","v":{"$error":"#REF!"}},{"$f":"IF(A$1=0,0,#REF!)","v":{"$error":"#REF!"}}]
[null,null,null,{"$f":"#REF!","v":{"$error":"#REF!"}},{"$f":"IF(A$1=0,0,#REF!)","v":{"$error":"#REF!"}}]
[null,null,null,{"$f":"#REF!","v":{"$error":"#REF!"}},{"$f":"IF(A$1=0,0,#REF!)","v":{"$error":"#REF!"}}]
[null,null,null,{"$f":"#REF!","v":{"$error":"#REF!"}},{"$f":"IF(A$1=0,0,#REF!)","v":{"$error":"#REF!"}}]
[null,null,null,{"$f":"#REF!","v":{"$error":"#REF!"}},{"$f":"IF(A$1=0,0,#REF!)","v":{"$error":"#REF!"}}]
[null,null,null,{"$f":"#REF!","v":{"$error":"#REF!"}},{"$f":"IF(A$1=0,0,#REF!)","v":{"$error":"#REF!"}}]
[null,null,null,{"$f":"#REF!","v":{"$error":"#REF!"}},{"$f":"IF(A$1=0,0,#REF!)","v":{"$error":"#REF!"}}]
[null,null,null,{"$f":"#REF!","v":{"$error":"#REF!"}},{"$f":"IF(A$1=0,0,#REF!)","v":{"$error":"#REF!"}}]
[null,null,null,{"$f":"#REF!","v":{"$error":"#REF!"}},{"$f":"IF(A$1=0,0,#REF!)","v":{"$error":"#REF!"}}]
[null,null,null,{"$f":"#REF!","v":{"$error":"#REF!"}},{"$f":"IF(A$1=0,0,#REF!)","v":{"$error":"#REF!"}}]
[null,null,null,{"$f":"#REF!","v":{"$error":"#REF!"}},{"$f":"IF(A$1=0,0,#REF!)","v":{"$error":"#REF!"}}]
[null,null,null,{"$f":"#REF!","v":{"$error":"#REF!"}},{"$f":"IF(A$1=0,0,#REF!)","v":{"$error":"#REF!"}}]
[null,null,null,{"$f":"#REF!","v":{"$error":"#REF!"}},{"$f":"IF(A$1=0,0,#REF!)","v":{"$error":"#REF!"}}]
[null,null,null,{"$f":"#REF!","v":{"$error":"#REF!"}},{"$f":"IF(A$1=0,0,#REF!)","v":{"$error":"#REF!"}}]
[null,null,null,{"$f":"#REF!","v":{"$error":"#REF!"}},{"$f":"IF(A$1=0,0,#REF!)","v":{"$error":"#REF!"}}]
[null,null,null,{"$f":"#REF!","v":{"$error":"#REF!"}},{"$f":"IF(A$1=0,0,#REF!)","v":{"$error":"#REF!"}}]
[null,null,null,{"$f":"#REF!","v":{"$error":"#REF!"}},{"$f":"IF(A$1=0,0,#REF!)","v":{"$error":"#REF!"}}]
[null,null,null,{"$f":"#REF!","v":{"$error":"#REF!"}},{"$f":"IF(A$1=0,0,#REF!)","v":{"$error":"#REF!"}}]
[null,null,null,{"$f":"#REF!","v":{"$error":"#REF!"}},{"$f":"IF(A$1=0,0,#REF!)","v":{"$error":"#REF!"}}]
[null,null,null,{"$f":"#REF!","v":{"$error":"#REF!"}},{"$f":"IF(A$1=0,0,#REF!)","v":{"$error":"#REF!"}}]
[null,null,null,{"$f":"#REF!","v":{"$error":"#REF!"}},{"$f":"IF(A$1=0,0,#REF!)","v":{"$error":"#REF!"}}]
[null,null,null,{"$f":"#REF!","v":{"$error":"#REF!"}},{"$f":"IF(A$1=0,0,#REF!)","v":{"$error":"#REF!"}}]
[null,null,null,{"$f":"#REF!","v":{"$error":"#REF!"}},{"$f":"IF(A$1=0,0,#REF!)","v":{"$error":"#REF!"}}]
[null,null,null,{"$f":"#REF!","v":{"$error":"#REF!"}},{"$f":"IF(A$1=0,0,#REF!)","v":{"$error":"#REF!"}}]
[null,null,null,{"$f":"#REF!","v":{"$error":"#REF!"}},{"$f":"IF(A$1=0,0,#REF!)","v":{"$error":"#REF!"}}]
[null,null,null,{"$f":"#REF!","v":{"$error":"#REF!"}},{"$f":"IF(A$1=0,0,#REF!)","v":{"$error":"#REF!"}}]
[null,null,null,{"$f":"#REF!","v":{"$error":"#REF!"}},{"$f":"IF(A$1=0,0,#REF!)","v":{"$error":"#REF!"}}]
[null,null,null,{"$f":"#REF!","v":{"$error":"#REF!"}},{"$f":"IF(A$1=0,0,#REF!)","v":{"$error":"#REF!"}}]
[null,null,null,{"$f":"#REF!","v":{"$error":"#REF!"}},{"$f":"IF(A$1=0,0,#REF!)","v":{"$error":"#REF!"}}]
[null,null,null,{"$f":"#REF!","v":{"$error":"#REF!"}},{"$f":"IF(A$1=0,0,#REF!)","v":{"$error":"#REF!"}}]
[null,null,null,{"$f":"#REF!","v":{"$error":"#REF!"}},{"$f":"IF(A$1=0,0,#REF!)","v":{"$error":"#REF!"}}]
[null,null,null,{"$f":"#REF!","v":{"$error":"#REF!"}},{"$f":"IF(A$1=0,0,#REF!)","v":{"$error":"#REF!"}}]
[null,null,null,{"$f":"#REF!","v":{"$error":"#REF!"}},{"$f":"IF(A$1=0,0,#REF!)","v":{"$error":"#REF!"}}]
[null,null,null,{"$f":"#REF!","v":{"$error":"#REF!"}},{"$f":"IF(A$1=0,0,#REF!)","v":{"$error":"#REF!"}}]
[null,null,null,{"$f":"#REF!","v":{"$error":"#REF!"}},{"$f":"IF(A$1=0,0,#REF!)","v":{"$error":"#REF!"}}]
[null,null,null,{"$f":"#REF!","v":{"$error":"#REF!"}},{"$f":"IF(A$1=0,0,#REF!)","v":{"$error":"#REF!"}}]
[null,null,null,{"$f":"#REF!","v":{"$error":"#REF!"}},{"$f":"IF(A$1=0,0,#REF!)","v":{"$error":"#REF!"}}]
[null,null,null,{"$f":"#REF!","v":{"$error":"#REF!"}},{"$f":"IF(A$1=0,0,#REF!)","v":{"$error":"#REF!"}}]
[null,null,null,{"$f":"#REF!","v":{"$error":"#REF!"}},{"$f":"IF(A$1=0,0,#REF!)","v":{"$error":"#REF!"}}]
[null,null,null,{"$f":"#REF!","v":{"$error":"#REF!"}},{"$f":"IF(A$1=0,0,#REF!)","v":{"$error":"#REF!"}}]
[null,null,null,{"$f":"#REF!","v":{"$error":"#REF!"}},{"$f":"IF(A$1=0,0,#REF!)","v":{"$error":"#REF!"}}]
[null,null,null,{"$f":"#REF!","v":{"$error":"#REF!"}},{"$f":"IF(A$1=0,0,#REF!)","v":{"$error":"#REF!"}}]
[null,null,null,{"$f":"#REF!","v":{"$error":"#REF!"}},{"$f":"IF(A$1=0,0,#REF!)","v":{"$error":"#REF!"}}]
[null,null,null,{"$f":"#REF!","v":{"$error":"#REF!"}},{"$f":"IF(A$1=0,0,#REF!)","v":{"$error":"#REF!"}}]
[null,null,null,{"$f":"#REF!","v":{"$error":"#REF!"}},{"$f":"IF(A$1=0,0,#REF!)","v":{"$error":"#REF!"}}]
[null,null,null,{"$f":"#REF!","v":{"$error":"#REF!"}},{"$f":"IF(A$1=0,0,#REF!)","v":{"$error":"#REF!"}}]
[null,null,null,{"$f":"#REF!","v":{"$error":"#REF!"}},{"$f":"IF(A$1=0,0,#REF!)","v":{"$error":"#REF!"}}]
[null,null,null,{"$f":"#REF!","v":{"$error":"#REF!"}},{"$f":"IF(A$1=0,0,#REF!)","v":{"$error":"#REF!"}}]
[null,null,null,{"$f":"#REF!","v":{"$error":"#REF!"}},{"$f":"IF(A$1=0,0,#REF!)","v":{"$error":"#REF!"}}]
[null,null,null,{"$f":"#REF!","v":{"$error":"#REF!"}},{"$f":"IF(A$1=0,0,#REF!)","v":{"$error":"#REF!"}}]
[null,null,null,{"$f":"#REF!","v":{"$error":"#REF!"}},{"$f":"IF(A$1=0,0,#REF!)","v":{"$error":"#REF!"}}]
[null,null,null,{"$f":"#REF!","v":{"$error":"#REF!"}},{"$f":"IF(A$1=0,0,#REF!)","v":{"$error":"#REF!"}}]
[null,null,null,{"$f":"#REF!","v":{"$error":"#REF!"}},{"$f":"IF(A$1=0,0,#REF!)","v":{"$error":"#REF!"}}]
[null,null,null,{"$f":"#REF!","v":{"$error":"#REF!"}},{"$f":"IF(A$1=0,0,#REF!)","v":{"$error":"#REF!"}}]
[null,null,null,{"$f":"#REF!","v":{"$error":"#REF!"}},{"$f":"IF(A$1=0,0,#REF!)","v":{"$error":"#REF!"}}]
[null,null,null,{"$f":"#REF!","v":{"$error":"#REF!"}},{"$f":"IF(A$1=0,0,#REF!)","v":{"$error":"#REF!"}}]
[null,null,null,{"$f":"#REF!","v":{"$error":"#REF!"}},{"$f":"IF(A$1=0,0,#REF!)","v":{"$error":"#REF!"}}]
[null,null,null,{"$f":"#REF!","v":{"$error":"#REF!"}},{"$f":"IF(A$1=0,0,#REF!)","v":{"$error":"#REF!"}}]
[null,null,null,{"$f":"#REF!","v":{"$error":"#REF!"}},{"$f":"IF(A$1=0,0,#REF!)","v":{"$error":"#REF!"}}]
[null,null,null,{"$f":"#REF!","v":{"$error":"#REF!"}},{"$f":"IF(A$1=0,0,#REF!)","v":{"$error":"#REF!"}}]
[null,null,null,{"$f":"#REF!","v":{"$error":"#REF!"}},{"$f":"IF(A$1=0,0,#REF!)","v":{"$error":"#REF!"}}]
[null,null,null,{"$f":"#REF!","v":{"$error":"#REF!"}},{"$f":"IF(A$1=0,0,#REF!)","v":{"$error":"#REF!"}}]
[null,null,null,{"$f":"#REF!","v":{"$error":"#REF!"}},{"$f":"IF(A$1=0,0,#REF!)","v":{"$error":"#REF!"}}]
[null,null,null,{"$f":"#REF!","v":{"$error":"#REF!"}},{"$f":"IF(A$1=0,0,#REF!)","v":{"$error":"#REF!"}}]
[null,null,null,{"$f":"#REF!","v":{"$error":"#REF!"}},{"$f":"IF(A$1=0,0,#REF!)","v":{"$error":"#REF!"}}]
[null,null,null,{"$f":"#REF!","v":{"$error":"#REF!"}},{"$f":"IF(A$1=0,0,#REF!)","v":{"$error":"#REF!"}}]
[null,null,null,{"$f":"#REF!","v":{"$error":"#REF!"}},{"$f":"IF(A$1=0,0,#REF!)","v":{"$error":"#REF!"}}]
[null,null,null,{"$f":"#REF!","v":{"$error":"#REF!"}},{"$f":"IF(A$1=0,0,#REF!)","v":{"$error":"#REF!"}}]
[null,null,null,{"$f":"#REF!","v":{"$error":"#REF!"}},{"$f":"IF(A$1=0,0,#REF!)","v":{"$error":"#REF!"}}]
[null,null,null,{"$f":"#REF!","v":{"$error":"#REF!"}},{"$f":"IF(A$1=0,0,#REF!)","v":{"$error":"#REF!"}}]
[null,null,null,{"$f":"#REF!","v":{"$error":"#REF!"}},{"$f":"IF(A$1=0,0,#REF!)","v":{"$error":"#REF!"}}]
[null,null,null,{"$f":"#REF!","v":{"$error":"#REF!"}},{"$f":"IF(A$1=0,0,#REF!)","v":{"$error":"#REF!"}}]
[null,null,null,{"$f":"#REF!","v":{"$error":"#REF!"}},{"$f":"IF(A$1=0,0,#REF!)","v":{"$error":"#REF!"}}]
[null,null,null,{"$f":"#REF!","v":{"$error":"#REF!"}},{"$f":"IF(A$1=0,0,#REF!)","v":{"$error":"#REF!"}}]
[null,null,null,{"$f":"#REF!","v":{"$error":"#REF!"}},{"$f":"IF(A$1=0,0,#REF!)","v":{"$error":"#REF!"}}]
[null,null,null,{"$f":"#REF!","v":{"$error":"#REF!"}},{"$f":"IF(A$1=0,0,#REF!)","v":{"$error":"#REF!"}}]
[null,null,null,{"$f":"#REF!","v":{"$error":"#REF!"}},{"$f":"IF(A$1=0,0,#REF!)","v":{"$error":"#REF!"}}]
[null,null,null,{"$f":"#REF!","v":{"$error":"#REF!"}},{"$f":"IF(A$1=0,0,#REF!)","v":{"$error":"#REF!"}}]
[null,null,null,{"$f":"#REF!","v":{"$error":"#REF!"}},{"$f":"IF(A$1=0,0,#REF!)","v":{"$error":"#REF!"}}]
[null,null,null,{"$f":"#REF!","v":{"$error":"#REF!"}},{"$f":"IF(A$1=0,0,#REF!)","v":{"$error":"#REF!"}}]
[null,null,null,{"$f":"#REF!","v":{"$error":"#REF!"}},{"$f":"IF(A$1=0,0,#REF!)","v":{"$error":"#REF!"}}]
[null,null,null,{"$f":"#REF!","v":{"$error":"#REF!"}},{"$f":"IF(A$1=0,0,#REF!)","v":{"$error":"#REF!"}}]
[null,null,null,{"$f":"#REF!","v":{"$error":"#REF!"}},{"$f":"IF(A$1=0,0,#REF!)","v":{"$error":"#REF!"}}]
[null,null,null,{"$f":"#REF!","v":{"$error":"#REF!"}},{"$f":"IF(A$1=0,0,#REF!)","v":{"$error":"#REF!"}}]
[null,null,null,{"$f":"#REF!","v":{"$error":"#REF!"}},{"$f":"IF(A$1=0,0,#REF!)","v":{"$error":"#REF!"}}]
[null,null,null,{"$f":"#REF!","v":{"$error":"#REF!"}},{"$f":"IF(A$1=0,0,#REF!)","v":{"$error":"#REF!"}}]
[null,null,null,{"$f":"#REF!","v":{"$error":"#REF!"}},{"$f":"IF(A$1=0,0,#REF!)","v":{"$error":"#REF!"}}]
[null,null,null,{"$f":"#REF!","v":{"$error":"#REF!"}},{"$f":"IF(A$1=0,0,#REF!)","v":{"$error":"#REF!"}}]
[null,null,null,{"$f":"#REF!","v":{"$error":"#REF!"}},{"$f":"IF(A$1=0,0,#REF!)","v":{"$error":"#REF!"}}]
[null,null,null,{"$f":"#REF!","v":{"$error":"#REF!"}},{"$f":"IF(A$1=0,0,#REF!)","v":{"$error":"#REF!"}}]
[null,null,null,{"$f":"#REF!","v":{"$error":"#REF!"}},{"$f":"IF(A$1=0,0,#REF!)","v":{"$error":"#REF!"}}]
[null,null,null,{"$f":"#REF!","v":{"$error":"#REF!"}},{"$f":"IF(A$1=0,0,#REF!)","v":{"$error":"#REF!"}}]
[null,null,null,{"$f":"#REF!","v":{"$error":"#REF!"}},{"$f":"IF(A$1=0,0,#REF!)","v":{"$error":"#REF!"}}]
[null,null,null,{"$f":"#REF!","v":{"$error":"#REF!"}},{"$f":"IF(A$1=0,0,#REF!)","v":{"$error":"#REF!"}}]
[null,null,null,{"$f":"#REF!","v":{"$error":"#REF!"}},{"$f":"IF(A$1=0,0,#REF!)","v":{"$error":"#REF!"}}]
[null,null,null,{"$f":"#REF!","v":{"$error":"#REF!"}},{"$f":"IF(A$1=0,0,#REF!)","v":{"$error":"#REF!"}}]
[null,null,null,{"$f":"#REF!","v":{"$error":"#REF!"}},{"$f":"IF(A$1=0,0,#REF!)","v":{"$error":"#REF!"}}]
[null,null,null,{"$f":"#REF!","v":{"$error":"#REF!"}},{"$f":"IF(A$1=0,0,#REF!)","v":{"$error":"#REF!"}}]
[null,null,null,{"$f":"#REF!","v":{"$error":"#REF!"}},{"$f":"IF(A$1=0,0,#REF!)","v":{"$error":"#REF!"}}]
[null,null,null,{"$f":"#REF!","v":{"$error":"#REF!"}},{"$f":"IF(A$1=0,0,#REF!)","v":{"$error":"#REF!"}}]
[null,null,null,{"$f":"#REF!","v":{"$error":"#REF!"}},{"$f":"IF(A$1=0,0,#REF!)","v":{"$error":"#REF!"}}]
[null,null,null,{"$f":"#REF!","v":{"$error":"#REF!"}},{"$f":"IF(A$1=0,0,#REF!)","v":{"$error":"#REF!"}}]
[null,null,null,{"$f":"#REF!","v":{"$error":"#REF!"}},{"$f":"IF(A$1=0,0,#REF!)","v":{"$error":"#REF!"}}]
[null,null,null,{"$f":"#REF!","v":{"$error":"#REF!"}},{"$f":"IF(A$1=0,0,#REF!)","v":{"$error":"#REF!"}}]
[null,null,null,{"$f":"#REF!","v":{"$error":"#REF!"}},{"$f":"IF(A$1=0,0,#REF!)","v":{"$error":"#REF!"}}]
[null,null,null,{"$f":"#REF!","v":{"$error":"#REF!"}},{"$f":"IF(A$1=0,0,#REF!)","v":{"$error":"#REF!"}}]
[null,null,null,{"$f":"#REF!","v":{"$error":"#REF!"}},{"$f":"IF(A$1=0,0,#REF!)","v":{"$error":"#REF!"}}]
[null,null,null,{"$f":"#REF!","v":{"$error":"#REF!"}},{"$f":"IF(A$1=0,0,#REF!)","v":{"$error":"#REF!"}}]
[null,null,null,{"$f":"#REF!","v":{"$error":"#REF!"}},{"$f":"IF(A$1=0,0,#REF!)","v":{"$error":"#REF!"}}]
[null,null,null,{"$f":"#REF!","v":{"$error":"#REF!"}},{"$f":"IF(A$1=0,0,#REF!)","v":{"$error":"#REF!"}}]
[null,null,null,{"$f":"#REF!","v":{"$error":"#REF!"}},{"$f":"IF(A$1=0,0,#REF!)","v":{"$error":"#REF!"}}]
[null,null,null,{"$f":"#REF!","v":{"$error":"#REF!"}},{"$f":"IF(A$1=0,0,#REF!)","v":{"$error":"#REF!"}}]
[null,null,null,{"$f":"#REF!","v":{"$error":"#REF!"}},{"$f":"IF(A$1=0,0,#REF!)","v":{"$error":"#REF!"}}]
[null,null,null,{"$f":"#REF!","v":{"$error":"#REF!"}},{"$f":"IF(A$1=0,0,#REF!)","v":{"$error":"#REF!"}}]
[null,null,null,{"$f":"#REF!","v":{"$error":"#REF!"}},{"$f":"IF(A$1=0,0,#REF!)","v":{"$error":"#REF!"}}]
[null,null,null,{"$f":"#REF!","v":{"$error":"#REF!"}},{"$f":"IF(A$1=0,0,#REF!)","v":{"$error":"#REF!"}}]
[null,null,null,{"$f":"#REF!","v":{"$error":"#REF!"}},{"$f":"IF(A$1=0,0,#REF!)","v":{"$error":"#REF!"}}]
[null,null,null,{"$f":"#REF!","v":{"$error":"#REF!"}},{"$f":"IF(A$1=0,0,#REF!)","v":{"$error":"#REF!"}}]
[null,null,null,{"$f":"#REF!","v":{"$error":"#REF!"}},{"$f":"IF(A$1=0,0,#REF!)","v":{"$error":"#REF!"}}]
[null,null,null,{"$f":"#REF!","v":{"$error":"#REF!"}},{"$f":"IF(A$1=0,0,#REF!)","v":{"$error":"#REF!"}}]
[null,null,null,{"$f":"#REF!","v":{"$error":"#REF!"}},{"$f":"IF(A$1=0,0,#REF!)","v":{"$error":"#REF!"}}]
[null,null,null,{"$f":"#REF!","v":{"$error":"#REF!"}},{"$f":"IF(A$1=0,0,#REF!)","v":{"$error":"#REF!"}}]
[null,null,null,{"$f":"#REF!","v":{"$error":"#REF!"}},{"$f":"IF(A$1=0,0,#REF!)","v":{"$error":"#REF!"}}]
[null,null,null,{"$f":"#REF!","v":{"$error":"#REF!"}},{"$f":"IF(A$1=0,0,#REF!)","v":{"$error":"#REF!"}}]
[null,null,null,{"$f":"#REF!","v":{"$error":"#REF!"}},{"$f":"IF(A$1=0,0,#REF!)","v":{"$error":"#REF!"}}]
[null,null,null,{"$f":"#REF!","v":{"$error":"#REF!"}},{"$f":"IF(A$1=0,0,#REF!)","v":{"$error":"#REF!"}}]
[null,null,null,{"$f":"#REF!","v":{"$error":"#REF!"}},{"$f":"IF(A$1=0,0,#REF!)","v":{"$error":"#REF!"}}]
[null,null,null,{"$f":"#REF!","v":{"$error":"#REF!"}},{"$f":"IF(A$1=0,0,#REF!)","v":{"$error":"#REF!"}}]
[null,null,null,{"$f":"#REF!","v":{"$error":"#REF!"}},{"$f":"IF(A$1=0,0,#REF!)","v":{"$error":"#REF!"}}]
[null,null,null,{"$f":"#REF!","v":{"$error":"#REF!"}},{"$f":"IF(A$1=0,0,#REF!)","v":{"$error":"#REF!"}}]
[null,null,null,{"$f":"#REF!","v":{"$error":"#REF!"}},{"$f":"IF(A$1=0,0,#REF!)","v":{"$error":"#REF!"}}]
[null,null,null,{"$f":"#REF!","v":{"$error":"#REF!"}},{"$f":"IF(A$1=0,0,#REF!)","v":{"$error":"#REF!"}}]
[null,null,null,{"$f":"#REF!","v":{"$error":"#REF!"}},{"$f":"IF(A$1=0,0,#REF!)","v":{"$error":"#REF!"}}]
[null,null,null,{"$f":"#REF!","v":{"$error":"#REF!"}},{"$f":"IF(A$1=0,0,#REF!)","v":{"$error":"#REF!"}}]
[null,null,null,{"$f":"#REF!","v":{"$error":"#REF!"}},{"$f":"IF(A$1=0,0,#REF!)","v":{"$error":"#REF!"}}]
[null,null,null,{"$f":"#REF!","v":{"$error":"#REF!"}},{"$f":"IF(A$1=0,0,#REF!)","v":{"$error":"#REF!"}}]
[null,null,null,{"$f":"#REF!","v":{"$error":"#REF!"}},{"$f":"IF(A$1=0,0,#REF!)","v":{"$error":"#REF!"}}]
[null,null,null,{"$f":"#REF!","v":{"$error":"#REF!"}},{"$f":"IF(A$1=0,0,#REF!)","v":{"$error":"#REF!"}}]
[null,null,null,{"$f":"#REF!","v":{"$error":"#REF!"}},{"$f":"IF(A$1=0,0,#REF!)","v":{"$error":"#REF!"}}]
[null,null,null,{"$f":"#REF!","v":{"$error":"#REF!"}},{"$f":"IF(A$1=0,0,#REF!)","v":{"$error":"#REF!"}}]
[null,null,null,{"$f":"#REF!","v":{"$error":"#REF!"}},{"$f":"IF(A$1=0,0,#REF!)","v":{"$error":"#REF!"}}]
[null,null,null,{"$f":"#REF!","v":{"$error":"#REF!"}},{"$f":"IF(A$1=0,0,#REF!)","v":{"$error":"#REF!"}}]
[null,null,null,{"$f":"#REF!","v":{"$error":"#REF!"}},{"$f":"IF(A$1=0,0,#REF!)","v":{"$error":"#REF!"}}]
[null,null,null,{"$f":"#REF!","v":{"$error":"#REF!"}},{"$f":"IF(A$1=0,0,#REF!)","v":{"$error":"#REF!"}}]
[null,null,null,{"$f":"#REF!","v":{"$error":"#REF!"}},{"$f":"IF(A$1=0,0,#REF!)","v":{"$error":"#REF!"}}]
[null,null,null,{"$f":"#REF!","v":{"$error":"#REF!"}},{"$f":"IF(A$1=0,0,#REF!)","v":{"$error":"#REF!"}}]
[null,null,null,{"$f":"#REF!","v":{"$error":"#REF!"}},{"$f":"IF(A$1=0,0,#REF!)","v":{"$error":"#REF!"}}]
[null,null,null,{"$f":"#REF!","v":{"$error":"#REF!"}},{"$f":"IF(A$1=0,0,#REF!)","v":{"$error":"#REF!"}}]
[null,null,null,{"$f":"#REF!","v":{"$error":"#REF!"}},{"$f":"IF(A$1=0,0,#REF!)","v":{"$error":"#REF!"}}]
[null,null,null,{"$f":"#REF!","v":{"$error":"#REF!"}},{"$f":"IF(A$1=0,0,#REF!)","v":{"$error":"#REF!"}}]
[null,null,null,{"$f":"#REF!","v":{"$error":"#REF!"}},{"$f":"IF(A$1=0,0,#REF!)","v":{"$error":"#REF!"}}]
[null,null,null,{"$f":"#REF!","v":{"$error":"#REF!"}},{"$f":"IF(A$1=0,0,#REF!)","v":{"$error":"#REF!"}}]
[null,null,null,{"$f":"#REF!","v":{"$error":"#REF!"}},{"$f":"IF(A$1=0,0,#REF!)","v":{"$error":"#REF!"}}]
[null,null,null,{"$f":"#REF!","v":{"$error":"#REF!"}},{"$f":"IF(A$1=0,0,#REF!)","v":{"$error":"#REF!"}}]
[null,null,null,{"$f":"#REF!","v":{"$error":"#REF!"}},{"$f":"IF(A$1=0,0,#REF!)","v":{"$error":"#REF!"}}]
[null,null,null,{"$f":"#REF!","v":{"$error":"#REF!"}},{"$f":"IF(A$1=0,0,#REF!)","v":{"$error":"#REF!"}}]
[null,null,null,{"$f":"#REF!","v":{"$error":"#REF!"}},{"$f":"IF(A$1=0,0,#REF!)","v":{"$error":"#REF!"}}]
[null,null,null,{"$f":"#REF!","v":{"$error":"#REF!"}},{"$f":"IF(A$1=0,0,#REF!)","v":{"$error":"#REF!"}}]
[null,null,null,{"$f":"#REF!","v":{"$error":"#REF!"}},{"$f":"IF(A$1=0,0,#REF!)","v":{"$error":"#REF!"}}]
[null,null,null,{"$f":"#REF!","v":{"$error":"#REF!"}},{"$f":"IF(A$1=0,0,#REF!)","v":{"$error":"#REF!"}}]
[null,null,null,{"$f":"#REF!","v":{"$error":"#REF!"}},{"$f":"IF(A$1=0,0,#REF!)","v":{"$error":"#REF!"}}]
[null,null,null,null,{"$f":"#REF!","v":{"$error":"#REF!"}}]

{"sheet":"PictureGraph","index":1,"n_rows":82,"n_cols":12,"rows_kept":82,"cut":false,"hidden":false,"merged":[[20,11,21,14]]}
[]
[]
[]
[]
[]
[]
[]
[]
[]
[]
[]
[]
[]
[]
[null,null,null,null,1]
[]
[]
[]
[]
[]
[null,null,null,null,null,null,null,null,null,null,null,"Info@LifeMath.com  (401) 941 2020"]
[]
[]
[]
[]
[]
[]
[]
[]
["Outgo",null,null,"Income"]
[300,null,{"$f":"'Current Events'!K31","v":"2017-11-20T17:01:47.040"},{"$f":"RANDBETWEEN(-A31,1000)","v":308}]
[350,null,{"$f":"C31+7","v":"2017-11-27T17:01:47.040"},{"$f":"RANDBETWEEN(-A32,1500)","v":-272}]
[480,null,{"$f":"C32+7","v":"2017-12-04T17:01:47.040"},636]
[240,null,"2017-12-11T17:01:47.040",1223]
[220,null,"2017-12-18T17:01:47.040",443]
[290,null,"2017-12-25T17:01:47.040",615]
[300,null,"2018-01-01T17:01:47.040",-168]
[350,null,"2018-01-08T17:01:47.040",39]
[-197,null,"2018-01-15T17:01:47.040",439]
[-240,null,"2018-01-22T17:01:47.040",477]
[220,null,"2018-01-29T17:01:47.040",1292]
[290,null,"2018-02-05T17:01:47.040",5]
[-745.33333333333303,null,"2018-02-12T17:01:47.040",1144]
[225.9047619047619,null,"2018-02-19T17:01:47.040",-140]
[206.47619047619091,null,"2018-02-26T17:01:47.040",-159]
[{"$f":"-1187.04761904761","v":-1187.0476190476099},null,"2018-03-05T17:01:47.040",1404]
[167.6190476190479,null,"2018-03-12T17:01:47.040",166]
[148.19047619047592,null,"2018-03-19T17:01:47.040",-72]
[-128.76190476190499,null,"2018-03-26T17:01:47.040",156]
[-109.333333333333,null,"2018-04-02T17:01:47.040",387]
[-182,null,"2018-04-09T17:01:47.040",630]
[500,null,"2018-04-16T17:01:47.040",418]
[550,null,"2018-04-23T17:01:47.040",1371]
[-680,null,"2018-04-30T17:01:47.040",1176]
[440,null,"2018-05-07T17:01:47.040",129]
[420,null,"2018-05-14T17:01:47.040",67]
[490,null,"2018-05-21T17:01:47.040",-455]
[500,null,"2018-05-28T17:01:47.040",40]
[550,null,"2018-06-04T17:01:47.040",-280]
[-776,null,"2018-06-11T17:01:47.040",1009]
[-18,null,"2018-06-18T17:01:47.040",694]
[420,null,"2018-06-25T17:01:47.040",168]
[490,null,"2018-07-02T17:01:47.040",57]
[445.33333333333292,null,"2018-07-09T17:01:47.040",-65]
[425.90476190476193,null,"2018-07-16T17:01:47.040",1117]
[406.47619047619094,null,"2018-07-23T17:01:47.040",1093]
[387.04761904761892,null,"2018-07-30T17:01:47.040",-209]
[367.61904761904793,null,"2018-08-06T17:01:47.040",474]
[348.19047619047592,null,"2018-08-13T17:01:47.040",1269]
[328.76190476190493,null,"2018-08-20T17:01:47.040",-309]
[309.33333333333292,null,"2018-08-27T17:01:47.040",795]
[289.90476190476198,null,"2018-09-03T17:01:47.040",-149]
[-137.52380952380906,null,"2018-09-10T17:01:47.040",535]
[-156.95238095238108,null,"2018-09-17T17:01:47.040",287]
[-176.38095238095195,null,"2018-09-24T17:01:47.040",656]
[-195.80952380952397,null,"2018-10-01T17:01:47.040",837]
[-215.23809523809496,null,"2018-10-08T17:01:47.040",1379]
[-234.66666666666595,null,"2018-10-15T17:01:47.040",924]
[-254.09523809523807,null,"2018-10-22T17:01:47.040",869]
[-273.52380952380895,null,"2018-10-29T17:01:47.040",864]
[-292.95238095238108,null,"2018-11-05T17:01:47.040",343]
[308.14,null,"2018-11-12T17:01:47.040",1350]