{"text_format":"1","workbook":"xlsx","n_sheets":15,"sheets":["Indtastning","Samlet BVC","RA","Risikoprofil","Belastende ugedage","Triggere","Cannabis","Amfetamin","Kokain","X1","Samlet Misbrug","Depot","PopUp variabler","Manualer","CC"],"not_rendered":{"charts":21,"images":39,"macros":1,"external_links":0,"defined_names":13,"comments":0,"pivot_tables":10},"unopened":[],"bounds":{"document_bytes":16777216,"sheet_cells":100000,"rows_first":2000,"rows_last":500,"rows_between":2000,"halvings":0,"cell_chars":16384,"cell_head_chars":4096},"cells_cut":0,"cells_raw":0,"read":"whole","date_system":"1900"}

{"sheet":"Indtastning","index":0,"n_rows":41,"n_cols":1954,"rows_kept":41,"cut":false,"hidden":false,"merged":[[1,0,1,2],[3,46,3,51],[3,52,3,57],[3,11,3,15],[3,3,3,10],[3,16,3,36],[3,40,3,45],[1,3,1,6]]}
[null,null,null,null,null,null,null,null,null,null,null,null,null,null,null,null,null,null,null,null,null,null,null,null,null,null,null,null,null,null,null,null,null,null,null,null,null,null,null,null,null,null,null,null,null,null,null,null,null,null,null,null,null,null,null,null,null,null,"Hjørnet i første celle","trækkes ned",null,null,"Også her",null,null,"Og her"]
["Patient: ",null,null,"Testpatient i perioden fra d. 13-11-2023 til 18-12-2023",null,null,null,null,"OS Risiko Manager 2",null,null,null,null,null,null,{"$f":"RA!$G$30","v":6},null,null,null,null,null,null,null,null,null,null,null,null,null,null,null,null,null,null,null,null,null,null,null,null,null,null,null,null,null,null,null,null,null,null,null,null,null,null,null,null,null,null,null,"                  ↓",null,null,"                  ↓",null,null,"                   ↓",null,null,null,null,null,null,null,null,null,null,null,null,null,null,null,null,null,null,null,null,null,null,null,null,null,null,null,null,null,null,null,null,null,null,null,null,null,null,null,null,null,null,null,null,null,null,null,null,null,null,null,null,null,null,null,null,null,null,null,null,null,null,null,null,null,null,null,null,null,null,null,null,null,null,null,null,null,null,null,null,null,null,null,null,null,null,null,null,null,null,null,null,null,null,null,null,null,null,null,null,null,null,null,null,null,null,null,null,null,null,null,null,null,null,null,null,null,null,null,null,null,null,null,null,null,null,null,null,null,null,null,null,null,null,null,null,null,null,null,null,null,null,null,null,null,null,null,null,null,null,null,null,null,null,null,null,null,null,null,null,null,null,null,null,null,null,null,null,null,null,null,null,null,null,null,null,null,null,null,null,null,null,null,null,null,null,null,null,null,null,null,null,null,null,null,null,null,null,null,null,null,null,null,null,null,null,null,null,null,null,null,null,null,null,null,null,null,null,null,null,null,null,null,null,null,null,null,null,null,null,null,null,null,null,null,null,null,null,null,null,null,null,null,null,null,null,null,null,null,null,null,null,null,null,null,null,null,null,null,null,null,null,null,null,null,null,null,null,null,null,null,null,null,null,null,null,null,null,null,null,null,null,null,null,null,null,null,null,null,null,null,null,null,null,null,null,null,null,null,null,null,null,null,null,null,null,null,null,null,null,null,null,null,null,null,null,null,null,null,null,null,null,null,null,null,null,null,null,null,null,null,null,null,null,null,null,null,null,null,null,null,null,null,null,null,null,null,null,null,null,null,null,null,null,null,null,null,null,null,null,null,null,null,null,null,null,null,null,null,null,null,null,null,null,null,null,null,null,null,null,null,null,null,null,null,null,null,null,null,null,null,null,null,null,null,null,null,null,null,null,null,null,null,null,null,null,null,null,null,null,null,null,null,null,null,null,null,null,null,null,null,null,null,null,null,null,null,null,null,null,null,null,null,null,null,null,null,null,null,null,null,null,null,null,null,null,null,null,null,null,null,null,null,null,null,null,null,null,null,null,null,null,null,null,null,null,null,null,null,null,null,null,null,null,null,null,null,null,null,null,null,null,null,null,null,null,null,null,null,null,null,null,null,null,null,null,null,null,null,null,null,null,null,null,null,null,null,null,null,null,null,null,null,null,null,null,null,null,null,null,null,null,null,null,null,null,null,null,null,null,null,null,null,null,null,null,null,null,null,null,null,null,null,null,null,null,null,null,null,null,null,null,null,null,null,null,null,null,null,null,null,null,null,null,null,null,null,null,null,null,null,null,null,null,null,null,null,null,null,null,null,null,null,null,null,null,null,null,null,null,null,null,null,null,null,null,null,null,null,null,null,null,null,null,null,null,null,null,null,null,null,null,null,null,null,null,null,null,null,null,null,null,null,null,null,null,null,null,null,null,null,null,null,null,null,null,null,null,null,null,null,null,null,null,null,null,null,null,null,null,null,null,null,null,null,null,null,null,null,null,null,null,null,null,null,null,null,null,null,null,null,null,null,null,null,null,null,null,null,null,null,null,null,null,null,null,null,null,null,null,null,null,null,null,null,null,null,null,null,null,null,null,null,null,null,null,null,null,null,null,null,null,null,null,null,null,null,null,null,null,null,null,null,null,null,null,null,null,null,null,null,null,null,null,null,null,null,null,null,null,null,null,null,null,null,null,null,null,null,null,null,null,null,null,null,null,null,null,null,null,null,null,null,null,null,null,null,null,null,null,null,null,null,null,null,null,null,null,null,null,null,null,null,null,null,null,null,null,null,null,null,null,null,null,null,null,null,null,null,null,null,null,null,null,null,null,null,null,null,null,null,null,null,null,null,null,null,null,null,null,null,null,null,null,null,null,null,null,null,null,null,null,null,null,null,null,null,null,null,null,null,null,null,null,null,null,null,null,null,null,null,null,null,null,null,null,null,null,null,null,null,null,null,null,null,null,null,null,null,null,null,null,null,null,null,null,null,null,null,null,null,null,null,null,null,null,null,null,null,null,null,null,null,null,null,null,null,null,null,null,null,null,null,null,null,null,null,null,null,null,null,null,null,null,null,null,null,null,null,null,null,null,null,null,null,null,null,null,null,null,null,null,null,null,null,null,null,null,null,null,null,null,null,null,null,null,null,null,null,null,null,null,null,null,null,null,null,null,null,null,null,null,null,null,null,null,null,null,null,null,null,null,null,null,null,null,null,null,null,null,null,null,null,null,null,null,null,null,null,null,null,null,null,null,null,null,null,null,null,null,null,null,null,null,null,null,null,null,null,null,null,null,null,null,null,null,null,null,null,null,null,null,null,null,null,null,null,null,null,null,null,null,null,null,null,null,null,null,null,null,null,null,null,null,null,null,null,null,null,null,null,null,null,null,null,null,null,null,null,null,null,null,null,null,null,null,null,null,null,null,null,null,null,null,null,null,null,null,null,null,null,null,null,null,null,null,null,null,null,null,null,null,null,null,null,null,null,null,null,null,null,null,null,null,null,null,null,null,null,null,null,null,null,null,null,null,null,null,null,null,null,null,null,null,null,null,null,null,null,null,null,null,null,null,null,null,null,null,null,null,null,null,null,null,null,null,null,null,null,null,null,null,null,null,null,null,null,null,null,null,null,null,null,null,null,null,null,null,null,null,null,null,null,null,null,null,null,null,null,null,null,null,null,null,null,null,null,null,null,null,null,null,null,null,null,null,null,null,null,null,null,null,null,null,null,null,null,null,null,null,null,null,null,null,null,null,null,null,null,null,null,null,null,null,null,null,null,null,null,null,null,null,null,null,null,null,null,null,null,null,null,null,null,null,null,null,null,null,null,null,null,null,null,null,null,null,null,null,null,null,null,null,null,null,null,null,null,null,null,null,null,null,null,null,null,null,null,null,null,null,null,null,null,null,null,null,null,null,null,null,null,null,null,null,null,null,null,null,null,null,null,null,null,null,null,null,null,null,null,null,null,null,null,null,null,null,null,null,null,null,null,null,null,null,null,null,null,null,null,null,null,null,null,null,null,null,null,null,null,null,null,null,null,null,null,null,null,null,null,null,null,null,null,null,null,null,null,null,null,null,null,null,null,null,null,null,null,null,null,null,null,null,null,null,null,null,null,null,null,null,null,null,null,null,null,null,null,null,null,null,null,null,null,null,null,null,null,null,null,null,null,null,null,null,null,null,null,null,null,null,null,null,null,null,null,null,null,null,null,null,null,null,null,null,null,null,null,null,null,null,null,null,null,null,null,null,null,null,null,null,null,null,null,null,null,null,null,null,null,null,null,null,null,null,null,null,null,null,null,null,null,null,null,null,null,null,null,null,null,null,null,null,null,null,null,null,null,null,null,null,null,null,null,null,null,null,null,null,null,null,null,null,null,null,null,null,null,null,null,null,null,null,null,null,null,null,null,null,null,null,null,null,null,null,null,null,null,null,null,null,null,null,null,null,null,null,null,null,null,null,null,null,null,null,null,null,null,null,null,null,null,null,null,null,null,null,null,null,null,null,null,null,null,null,null,null,null,null,null,null,null,null,null,null,null,null,null,null,null,null,null,null,null,null,null,null,null,null,null,null,null,null,null,null,null,null,null,null,null,null,null,null,null,null,null,null,null,null,null,null,null,null,null,null,null,null,null,null,null,null,null,null,null,null,null,null,null,null,null,null,null,null,null,null,null,null,null,null,null,null,null,null,null,null,null,null,null,null,null,null,null,null,null,null,null,null,null,null,null,null,null,null,null,null,null,null,null,null,null,null,null,null,null,null,null,null,null,null,null,null,null,null,null,null,null,null,null,null,null,null,null,null,null,null,null,null,null,null,null,null,null,null,null,null,null,null,null,null,null,null,null,null,null,null,null,null,null,null,null,null,null,null,null,null,null,null,null,null,null,null,null,null,null,null,null,null,null,null,null,null,null,null,null,null,null,null,null,null,null,null,null,null,null,null,null,null,null,null,null,null,null,null,null,null,null,null,null,null,null,null,null,null,null,null,null,null,null,null,null,null,null,null,null,null,null,null,null,null,null,null,null,null,null,null,null,null,null,null,null,null,null,null,null,null,null,null,null,null,null,null,null,null,null,null,null,null,null,null,null,null,null,null,null,null,null,null,null,null,null,null,null,null,null,null,null,null,null,null,null,null,null,null,null,null,null,null,null,null,null,null,null,null,null,null,null,null,null,null,null,null,null,null,null,null,null,null,null,null,null,null,null,null,null,null,null,null,null,null,null,null,null,null,null,null,null,null,null,null,null,null,null,null,null,null,null,null,null,"#I/T"]
[null,null,null,null,null,null,null,null,null,null,{"$f":"MAX(J:J)","v":4},null,null,null,{"$f":"MAX(L:N)","v":2},"MAX 15",null,null,null,null,null,null,null,null,null,null,null,null,"Cannabis Pos Neg",null,null,null,"Depot administreret",null,null,null,null,null,null,null,"Den videre del af fanebladet er forbundet med databehandling"]
[null,"Dag for prøve",null,"BVC Score",null,null,null,null,null,null,null,"SOAS-R",null,null,null,null,"Urinprøvesvar",null,null,null,null,null,null,null,null,null,null,null,null,null,null,null,null,null,null,null,null,null,null,null,"BVC Dag",null,null,null,null,null,"BVC Aften",null,null,null,null,null,"BVC Nat"]
["Dato","Uge","ugedag","BVC dag","Dagvagt","BVC aften","Aftenvagt","BVC nat","Nattevagt","BVC Højeste","BVC Sum","SOAS dag","SOAS aften","SOAS nat","SOAS Sum","SOAS Højeste","Cannabis","CanPos","CanNeg","CanIkke","Amfetamin","AmfPos","AmfNeg","AmfIkke","Kokain","KokPos","KokNeg","KokIkke","X1","X1Pos","X1Neg","X1Ikke","   X2 (ikke aflagt ignoreres)","X2Pos","X2Neg","X2Ikke","Manualer","ManPos","ManNeg","ManIkke","BvcDagFor","BvcDagIrr","BvcDagStoj","BvcDagFys","BvcDagVer","BvcDagAng","BvcAftFor","BvcAftIrr","BvcAftStoj","BvcAftFys","BvcAftVer","BvcAftAng","BvcNatFor","BvcNatIrr","BvcNatStoj","BvcNatFys","BvcNatVer","BvcNatAng",null,"BvcDagSum","BvcDagSit>2","BvcDagSit<3","BvcAftenSum","BvcAftenSit>2","BvcAftenSit<3","BvcNatSum","BvcNatSit>2","BvcNatSit<3",null,null,null,"BvcDagSit(1-2) i alt",{"$f":"SUM(BJ:BJ)","v":2}]
["2023-11-13",{"$f":"WEEKNUM(A6,21)","v":46},{"$f":"PROPER(TEXT(A6, \"DDDD\"))","v":"Mandag"},null,null,null,null,null,null,{"$f":"MAX(D6,F6,H6)","v":0},{"$f":"SUM(D6,F6,H6)","v":0},null,null,null,{"$f":"SUM(L6:N6)","v":0},{"$f":"MAX(L6,M6,N6)","v":0},null,{"$error":"#N/A"},{"$f":"IF(Q6=\"Negativ\",1.2,-2)","v":-2},{"$f":"IF(Q6=\"Ikke Aflagt\",2.8,-2)","v":-2},null,{"$f":"IF(U6=\"Positiv\",1,-2)","v":-2},{"$f":"IF(U6=\"Negativ\",-1,-2)","v":-2},{"$f":"IF(U6=\"Ikke Aflagt\",0,-2)","v":-2},null,{"$f":"IF(Y6=\"Positiv\",1,-2)","v":-2},{"$f":"IF(Y6=\"Negativ\",-1,-2)","v":-2},{"$f":"IF(Y6=\"Ikke Aflagt\",0,-2)","v":-2},null,{"$f":"IF(AC6=\"Positiv\",1,-2)","v":-2},{"$f":"IF(AC6=\"Negativ\",-1,-2)","v":-2},{"$f":"IF(AC6=\"Ikke Aflagt\",0,-2)","v":-2},null,{"$f":"IF(AG6=\"Positiv\",1,-2)","v":-2},{"$f":"IF(AG6=\"Negativ\",-1,-2)","v":-2},{"$f":"IF(AG6=\"Ikke Aflagt\",0,-2)","v":-2},null,{"$f":"IF(AK6=\"Positiv\",1,-2)","v":-2},{"$f":"IF(AK6=\"Negativ\",-1,-2)","v":-2},{"$f":"IF(AK6=\"Ikke Aflagt\",0,-2)","v":-2},null,null,null,null,null,null,null,null,null,null,null,null,null,null,null,null,null,null,null,{"$f":"SUM(AO6,AP6,AQ6,AR6,AS6,AT6)","v":0},{"$f":"IF(BH6>2,1,0)","v":0},{"$f":"IF(BH6=0,0,IF((BH6)>2,0,1))","v":0},{"$f":"SUM(AU6,AV6,AW6,AX6,AY6,AZ6,)","v":0},{"$f":"IF(BK6>2,1,0)","v":0},{"$f":"IF(BK6=0,0,IF((BK6)>2,0,1))","v":0},{"$f":"SUM(BA6,BB6,BC6,BD6,BE6,BF6)","v":0},{"$f":"IF(BN6>2,1,0)","v":0},{"$f":"IF(BN6=0,0,IF((BN6)>2,0,1))","v":0},null,null,null,"BvcDagSit(3-6) i alt",{"$f":"SUM(BI:BI)","v":2}]
["2023-11-14",{"$f":"WEEKNUM(A7,21)","v":46},{"$f":"PROPER(TEXT(A7, \"DDDD\"))","v":"Tirsdag"},2,"Psykotisk",null,null,null,null,{"$f":"MAX(D7,F7,H7)","v":2},{"$f":"SUM(D7,F7,H7)","v":2},null,null,null,{"$f":"SUM(L7:N7)","v":0},{"$f":"MAX(L7,M7,N7)","v":0},"Negativ",0,{"$f":"IF(Q7=\"Negativ\",1.2,-2)","v":1.2},{"$f":"IF(Q7=\"Ikke Aflagt\",2.8,-2)","v":-2},null,{"$f":"IF(U7=\"Positiv\",1,-2)","v":-2},{"$f":"IF(U7=\"Negativ\",-1,-2)","v":-2},{"$f":"IF(U7=\"Ikke Aflagt\",0,-2)","v":-2},null,{"$f":"IF(Y7=\"Positiv\",1,-2)","v":-2},{"$f":"IF(Y7=\"Negativ\",-1,-2)","v":-2},{"$f":"IF(Y7=\"Ikke Aflagt\",0,-2)","v":-2},null,{"$f":"IF(AC7=\"Positiv\",1,-2)","v":-2},{"$f":"IF(AC7=\"Negativ\",-1,-2)","v":-2},{"$f":"IF(AC7=\"Ikke Aflagt\",0,-2)","v":-2},null,{"$f":"IF(AG7=\"Positiv\",1,-2)","v":-2},{"$f":"IF(AG7=\"Negativ\",-1,-2)","v":-2},{"$f":"IF(AG7=\"Ikke Aflagt\",0,-2)","v":-2},null,{"$f":"IF(AK7=\"Positiv\",1,-2)","v":-2},{"$f":"IF(AK7=\"Negativ\",-1,-2)","v":-2},{"$f":"IF(AK7=\"Ikke Aflagt\",0,-2)","v":-2},1,1,0,0,0,0,null,null,null,null,null,null,null,null,null,null,null,null,null,{"$f":"SUM(AO7,AP7,AQ7,AR7,AS7,AT7)","v":2},{"$f":"IF(BH7>2,1,0)","v":0},{"$f":"IF(BH7=0,0,IF((BH7)>2,0,1))","v":1},{"$f":"SUM(AU7,AV7,AW7,AX7,AY7,AZ7,)","v":0},{"$f":"IF(BK7>2,1,0)","v":0},{"$f":"IF(BK7=0,0,IF((BK7)>2,0,1))","v":0},{"$f":"SUM(BA7,BB7,BC7,BD7,BE7,BF7)","v":0},{"$f":"IF(BN7>2,1,0)","v":0},{"$f":"IF(BN7=0,0,IF((BN7)>2,0,1))","v":0}]
["2023-11-15",46,"Onsdag",null,null,1,"Korrigering af adfærd",null,null,1,1,null,null,null,0,0,null,{"$error":"#N/A"},-2,-2,null,-2,-2,-2,null,-2,-2,-2,null,-2,-2,-2,"Positiv",1,-2,-2,null,-2,-2,-2,null,null,null,null,null,null,0,1,0,0,0,0,null,null,null,null,null,null,null,0,0,0,1,0,1,0,0,0,null,null,null,"BvcAftenSit(1-2) i alt",{"$f":"SUM(BM:BM)","v":3}]
["2023-11-16",46,"Torsdag",null,null,null,null,null,null,0,0,null,null,null,0,0,null,{"$error":"#N/A"},-2,-2,null,-2,-2,-2,null,-2,-2,-2,null,-2,-2,-2,null,-2,-2,-2,null,-2,-2,-2,null,null,null,null,null,null,null,null,null,null,null,null,null,null,null,null,null,null,null,0,0,0,0,0,0,0,0,0,null,null,null,"BvcAftenSit(3-6) i alt",{"$f":"SUM(BL:BL)","v":0}]
["2023-11-17",46,"Fredag",null,null,null,null,null,null,0,0,null,null,null,0,0,null,{"$error":"#N/A"},-2,-2,null,-2,-2,-2,null,-2,-2,-2,null,-2,-2,-2,null,-2,-2,-2,null,-2,-2,-2,null,null,null,null,null,null,null,null,null,null,null,null,null,null,null,null,null,null,null,0,0,0,0,0,0,0,0,0]
["2023-11-18",46,"Lørdag",3,"Psykotisk",null,null,null,null,3,3,1,null,null,1,1,null,{"$error":"#N/A"},-2,-2,null,-2,-2,-2,null,-2,-2,-2,null,-2,-2,-2,null,-2,-2,-2,null,-2,-2,-2,1,1,0,1,0,0,null,null,null,null,null,null,null,null,null,null,null,null,null,3,1,0,0,0,0,0,0,0,null,null,null,"BvcNatSit(1-2) i alt",{"$f":"SUM(BP:BP)","v":0}]
["2023-11-19",46,"Søndag",null,null,null,null,null,null,0,0,null,null,null,0,0,null,{"$error":"#N/A"},-2,-2,null,-2,-2,-2,null,-2,-2,-2,null,-2,-2,-2,null,-2,-2,-2,null,-2,-2,-2,null,null,null,null,null,null,null,null,null,null,null,null,null,null,null,null,null,null,null,0,0,0,0,0,0,0,0,0,null,null,null,"BvcNatSit(3-6) i alt",{"$f":"SUM(BO:BO)","v":0}]
["2023-11-20",47,"Mandag",null,null,null,null,null,null,0,0,null,null,null,0,0,null,{"$error":"#N/A"},-2,-2,null,-2,-2,-2,null,-2,-2,-2,null,-2,-2,-2,null,-2,-2,-2,null,-2,-2,-2,null,null,null,null,null,null,null,null,null,null,null,null,null,null,null,null,null,null,null,0,0,0,0,0,0,0,0,0]
["2023-11-21",47,"Tirsdag",null,null,null,null,null,null,0,0,null,null,null,0,0,"Positiv",11,-2,-2,null,-2,-2,-2,null,-2,-2,-2,"Positiv",1,-2,-2,null,-2,-2,-2,null,-2,-2,-2,null,null,null,null,null,null,null,null,null,null,null,null,null,null,null,null,null,null,null,0,0,0,0,0,0,0,0,0]
["2023-11-22",47,"Onsdag",null,null,null,null,null,null,0,0,null,null,null,0,0,null,{"$error":"#N/A"},-2,-2,null,-2,-2,-2,null,-2,-2,-2,null,-2,-2,-2,null,-2,-2,-2,null,-2,-2,-2,null,null,null,null,null,null,null,null,null,null,null,null,null,null,null,null,null,null,null,0,0,0,0,0,0,0,0,0,null,null,null,"BVC episoder i perioden",{"$f":"SUM(BU5:BU12)","v":7}]
["2023-11-23",47,"Torsdag",null,null,null,null,null,null,0,0,null,null,null,0,0,null,{"$error":"#N/A"},-2,-2,null,-2,-2,-2,null,-2,-2,-2,null,-2,-2,-2,null,-2,-2,-2,null,-2,-2,-2,null,null,null,null,null,null,null,null,null,null,null,null,null,null,null,null,null,null,null,0,0,0,0,0,0,0,0,0]
["2023-11-24",47,"Fredag",null,null,null,null,null,null,0,0,null,null,null,0,0,null,{"$error":"#N/A"},-2,-2,null,-2,-2,-2,null,-2,-2,-2,null,-2,-2,-2,null,-2,-2,-2,null,-2,-2,-2,null,null,null,null,null,null,null,null,null,null,null,null,null,null,null,null,null,null,null,0,0,0,0,0,0,0,0,0,null,null,null,"BVC 3 eller derover",{"$f":"SUM((BU6),(BU9),(BU12))","v":2}]
["2023-11-25",47,"Lørdag",null,null,1,"Medpatient",null,null,1,1,null,null,null,0,0,null,{"$error":"#N/A"},-2,-2,null,-2,-2,-2,null,-2,-2,-2,null,-2,-2,-2,null,-2,-2,-2,null,-2,-2,-2,null,null,null,null,null,null,0,1,0,0,0,0,null,null,null,null,null,null,null,0,0,0,1,0,1,0,0,0,null,null,null,null,null,null,null,null,null,null,null,null,null,null,null,null,null,null,null,null,null,null,null,null,null,null,null,null,null,null,null,null,null,null,null,null,null,null,null,null,null,null,null,null,null,null,null,null,null,null,null,null,null,null,null,null,null,null,null,null,null,null,null,null,null,null,null,null,null,null,null,null,null,null,null,null,null,null,null,null,null,null,null,null,null,null,null,null,null,null,null,null,null,null,null,null,null,null,null,null,null,null,null,null,null,null,null,null,null,null,null,null,null,null,null,null,null,null,null,null,null,null,null,null,null,null,null,null,null,null,null,null,null,null,null,null,null,null,null,null,null,null,null,null,null,null,null,null,null,null,null,null,null,null,null,null,null,null,null,null,null,null,null,null,null,null,null,null,null,null,null,null,null,null,null,null,null,null,null,null,null,null,null,null,null,null,null,null,null,null,null,null,null,null,null,null,null,null,null,null,null,null,null,null,null,null,null,null,null,null,null,null,null,null,null,null,null,null,null,null,null,null,null,null,null,null,null,null,null,null,null,null,null,null,null,null,null,null,null,null,null,null,null,null,null,null,null,null,null,null,null,null,null,null,null,null,null,null,null,null,null,null,null,null,null,null,null,null,"#I/T"]
["2023-11-26",47,"Søndag",null,null,null,null,null,null,0,0,null,null,null,0,0,null,{"$error":"#N/A"},-2,-2,null,-2,-2,-2,null,-2,-2,-2,null,-2,-2,-2,null,-2,-2,-2,null,-2,-2,-2,null,null,null,null,null,null,null,null,null,null,null,null,null,null,null,null,null,null,null,0,0,0,0,0,0,0,0,0,null,null,null,"BVC 1-2 hændelser",{"$f":"SUM((BU5),(BU8),(BU11))","v":5}]
["2023-11-27",48,"Mandag",null,null,null,null,null,null,0,0,null,null,null,0,0,null,{"$error":"#N/A"},-2,-2,null,-2,-2,-2,null,-2,-2,-2,null,-2,-2,-2,null,-2,-2,-2,null,-2,-2,-2,null,null,null,null,null,null,null,null,null,null,null,null,null,null,null,null,null,null,null,0,0,0,0,0,0,0,0,0]
["2023-11-28",48,"Tirsdag",2,"Rammerne",null,null,null,null,2,2,null,null,null,0,0,"Positiv",6,-2,-2,null,-2,-2,-2,null,-2,-2,-2,"Positiv",1,-2,-2,null,-2,-2,-2,null,-2,-2,-2,0,1,0,0,0,1,null,null,null,null,null,null,null,null,null,null,null,null,null,2,0,1,0,0,0,0,0,0]
["2023-11-29",48,"Onsdag",null,null,null,null,null,null,0,0,null,null,null,0,0,null,{"$error":"#N/A"},-2,-2,null,-2,-2,-2,null,-2,-2,-2,null,-2,-2,-2,"Positiv",1,-2,-2,null,-2,-2,-2,null,null,null,null,null,null,null,null,null,null,null,null,null,null,null,null,null,null,null,0,0,0,0,0,0,0,0,0]
["2023-11-30",48,"Torsdag",null,null,null,null,null,null,0,0,null,null,null,0,0,null,{"$error":"#N/A"},-2,-2,null,-2,-2,-2,null,-2,-2,-2,null,-2,-2,-2,null,-2,-2,-2,null,-2,-2,-2,null,null,null,null,null,null,null,null,null,null,null,null,null,null,null,null,null,null,null,0,0,0,0,0,0,0,0,0]
["2023-12-01",48,"Fredag",null,null,null,null,null,null,0,0,null,null,null,0,0,null,{"$error":"#N/A"},-2,-2,null,-2,-2,-2,null,-2,-2,-2,null,-2,-2,-2,null,-2,-2,-2,null,-2,-2,-2,null,null,null,null,null,null,null,null,null,null,null,null,null,null,null,null,null,null,null,0,0,0,0,0,0,0,0,0]
["2023-12-02",48,"Lørdag",null,null,null,null,null,null,0,0,null,null,null,0,0,null,{"$error":"#N/A"},-2,-2,null,-2,-2,-2,null,-2,-2,-2,null,-2,-2,-2,null,-2,-2,-2,null,-2,-2,-2,null,null,null,null,null,null,null,null,null,null,null,null,null,null,null,null,null,null,null,0,0,0,0,0,0,0,0,0]
["2023-12-03",48,"Søndag",null,null,null,null,null,null,0,0,null,null,null,0,0,null,{"$error":"#N/A"},-2,-2,null,-2,-2,-2,null,-2,-2,-2,null,-2,-2,-2,null,-2,-2,-2,null,-2,-2,-2,null,null,null,null,null,null,null,null,null,null,null,null,null,null,null,null,null,null,null,0,0,0,0,0,0,0,0,0]
["2023-12-04",49,"Mandag",null,null,null,null,null,null,0,0,null,null,null,0,0,null,{"$error":"#N/A"},-2,-2,null,-2,-2,-2,null,-2,-2,-2,null,-2,-2,-2,null,-2,-2,-2,null,-2,-2,-2,null,null,null,null,null,null,null,null,null,null,null,null,null,null,null,null,null,null,null,0,0,0,0,0,0,0,0,0]
["2023-12-05",49,"Tirsdag",null,null,1,"Psykotisk",null,null,1,1,null,null,null,0,0,"Positiv",9,-2,-2,null,-2,-2,-2,null,-2,-2,-2,"Positiv",1,-2,-2,null,-2,-2,-2,null,-2,-2,-2,null,null,null,null,null,null,1,0,0,0,0,0,null,null,null,null,null,null,null,0,0,0,1,0,1,0,0,0]
["2023-12-06",49,"Onsdag",null,null,null,null,null,null,0,0,null,null,null,0,0,null,{"$error":"#N/A"},-2,-2,null,-2,-2,-2,null,-2,-2,-2,null,-2,-2,-2,null,-2,-2,-2,null,-2,-2,-2,null,null,null,null,null,null,null,null,null,null,null,null,null,null,null,null,null,null,null,0,0,0,0,0,0,0,0,0]
["2023-12-07",49,"Torsdag",4,"Rammerne",null,null,null,null,4,4,2,null,null,2,2,null,{"$error":"#N/A"},-2,-2,null,-2,-2,-2,null,-2,-2,-2,null,-2,-2,-2,null,-2,-2,-2,null,-2,-2,-2,0,1,1,1,1,0,null,null,null,null,null,null,null,null,null,null,null,null,null,4,1,0,0,0,0,0,0,0]
["2023-12-08",49,"Fredag",null,null,null,null,null,null,0,0,null,null,null,0,0,null,{"$error":"#N/A"},-2,-2,null,-2,-2,-2,null,-2,-2,-2,null,-2,-2,-2,null,-2,-2,-2,null,-2,-2,-2,null,null,null,null,null,null,null,null,null,null,null,null,null,null,null,null,null,null,null,0,0,0,0,0,0,0,0,0]
["2023-12-09",49,"Lørdag",null,null,null,null,null,null,0,0,null,null,null,0,0,null,{"$error":"#N/A"},-2,-2,null,-2,-2,-2,null,-2,-2,-2,null,-2,-2,-2,null,-2,-2,-2,null,-2,-2,-2,null,null,null,null,null,null,null,null,null,null,null,null,null,null,null,null,null,null,null,0,0,0,0,0,0,0,0,0]
["2023-12-10",49,"Søndag",null,null,null,null,null,null,0,0,null,null,null,0,0,null,{"$error":"#N/A"},-2,-2,null,-2,-2,-2,null,-2,-2,-2,null,-2,-2,-2,null,-2,-2,-2,null,-2,-2,-2,null,null,null,null,null,null,null,null,null,null,null,null,null,null,null,null,null,null,null,0,0,0,0,0,0,0,0,0]
["2023-12-11",50,"Mandag",null,null,null,null,null,null,0,0,null,null,null,0,0,null,{"$error":"#N/A"},-2,-2,null,-2,-2,-2,null,-2,-2,-2,null,-2,-2,-2,null,-2,-2,-2,null,-2,-2,-2,null,null,null,null,null,null,null,null,null,null,null,null,null,null,null,null,null,null,null,0,0,0,0,0,0,0,0,0]
["2023-12-12",50,"Tirsdag",null,null,null,null,null,null,0,0,null,null,null,0,0,"Negativ",0,1.2,-2,"Positiv",1,-2,-2,null,-2,-2,-2,"Negativ",-2,-1,-2,null,-2,-2,-2,null,-2,-2,-2,null,null,null,null,null,null,null,null,null,null,null,null,null,null,null,null,null,null,null,0,0,0,0,0,0,0,0,0]
["2023-12-13",50,"Onsdag",null,null,null,null,null,null,0,0,null,null,null,0,0,null,{"$error":"#N/A"},-2,-2,null,-2,-2,-2,null,-2,-2,-2,null,-2,-2,-2,"Positiv",1,-2,-2,null,-2,-2,-2,null,null,null,null,null,null,null,null,null,null,null,null,null,null,null,null,null,null,null,0,0,0,0,0,0,0,0,0]
["2023-12-14",50,"Torsdag",null,null,null,null,null,null,0,0,null,null,null,0,0,null,{"$error":"#N/A"},-2,-2,null,-2,-2,-2,null,-2,-2,-2,null,-2,-2,-2,null,-2,-2,-2,null,-2,-2,-2,null,null,null,null,null,null,null,null,null,null,null,null,null,null,null,null,null,null,null,0,0,0,0,0,0,0,0,0]
["2023-12-15",50,"Fredag",null,null,null,null,null,null,0,0,null,null,null,0,0,null,{"$error":"#N/A"},-2,-2,null,-2,-2,-2,null,-2,-2,-2,null,-2,-2,-2,null,-2,-2,-2,null,-2,-2,-2,null,null,null,null,null,null,null,null,null,null,null,null,null,null,null,null,null,null,null,0,0,0,0,0,0,0,0,0]
["2023-12-16",50,"Lørdag",null,null,null,null,null,null,0,0,null,null,null,0,0,null,{"$error":"#N/A"},-2,-2,null,-2,-2,-2,null,-2,-2,-2,null,-2,-2,-2,null,-2,-2,-2,null,-2,-2,-2,null,null,null,null,null,null,null,null,null,null,null,null,null,null,null,null,null,null,null,0,0,0,0,0,0,0,0,0]
["2023-12-17",50,"Søndag",null,null,null,null,null,null,0,0,null,null,null,0,0,null,{"$error":"#N/A"},-2,-2,null,-2,-2,-2,null,-2,-2,-2,null,-2,-2,-2,null,-2,-2,-2,null,-2,-2,-2,null,null,null,null,null,null,null,null,null,null,null,null,null,null,null,null,null,null,null,0,0,0,0,0,0,0,0,0]
["2023-12-18",51,"Mandag",null,null,null,null,null,null,0,0,null,null,null,0,0,null,{"$error":"#N/A"},-2,-2,null,-2,-2,-2,null,-2,-2,-2,null,-2,-2,-2,null,-2,-2,-2,null,-2,-2,-2,null,null,null,null,null,null,null,null,null,null,null,null,null,null,null,null,null,null,null,0,0,0,0,0,0,0,0,0]

{"sheet":"Samlet BVC","index":1,"n_rows":10,"n_cols":4,"rows_kept":10,"cut":false,"hidden":false,"merged":[[2,1,2,3]]}
[]
[]
[null,"BVC Scoren fordeler sig således"]
[]
[null,"Forvirret",null,{"$f":"SUM(Indtastning!AO6:AO41)+SUM(Indtastning!AU6:AU41)+SUM(Indtastning!BA6:BA41)","v":3}]
[null,"Irritabilitet",null,{"$f":"SUM(Indtastning!AP6:AP41)+SUM(Indtastning!AV6:AV41)+SUM(Indtastning!BB6:BB41)","v":6}]
[null,"Støjende adfærd",null,{"$f":"SUM(Indtastning!AQ6:AQ41)+SUM(Indtastning!AW6:AW41)+SUM(Indtastning!BC6:BC41)","v":1}]
[null,"Verbale trusler",null,{"$f":"SUM(Indtastning!AR6:AR41)+SUM(Indtastning!AX6:AX41)+SUM(Indtastning!BD6:BD41)","v":2}]
[null,"Fysiske trusler",null,{"$f":"SUM(Indtastning!AS6:AS41)+SUM(Indtastning!AY6:AY41)+SUM(Indtastning!BE6:BE41)","v":1}]
[null,"Angreb på ting eller genstande",null,{"$f":"SUM(Indtastning!AT6:AT41)+SUM(Indtastning!AZ6:AZ41)+SUM(Indtastning!BF6:BF41)","v":1}]

{"sheet":"RA","index":2,"n_rows":30,"n_cols":18,"rows_kept":30,"cut":false,"hidden":false,"merged":[[1,1,1,3]]}
[]
[null,"Automatiserede data",null,null,null,"Risiko Algoritme (RA)","Risikofaktorer","Manuel input",null,"  Beskrivelse af risikofaktorer i almindelig sprog",null,null,null,null,null,"RA",{"$f":"G30","v":6},"ud af max 15"]
[null,"BVC episoder i alt",null,{"$f":"Indtastning!$BU$15","v":7},null,null,null,null,null,null,null,null,null,null,null,null,null,"Skærmbillede af dette felt"]
[null,"Forvirret",null,{"$f":"'Samlet BVC'!D5","v":3},null,null,"  Til næste gang….",null,null,null,null,null,null,null,null,"Bekymringstallet"]
[null,"Irritabilitet",null,{"$f":"'Samlet BVC'!D6","v":6},null,null,null,null,null,null,null,null,null,null,null,null,{"$f":"Q2","v":6}]
[null,"Støjende adfærd",null,{"$f":"'Samlet BVC'!D7","v":1},null,null,null,null,null,null,null,null,null,null,null,null,"Max 15"]
[null,"Verbale trusler",null,{"$f":"'Samlet BVC'!D8","v":2}]
[null,"Fysiske trusler",null,{"$f":"'Samlet BVC'!D9","v":1}]
[null,"Angreb på ting eller genstande",null,{"$f":"'Samlet BVC'!D10","v":1}]
[null,"BVC-tegn i alt",null,{"$f":"SUM(D4:D9)","v":14},null,"Antal BVC divideret med antal uger >2 =  +0,5",{"$f":"IF((D3/I10)>2,0.5,0)","v":0},"Uger i perioden",5,"Mange BVC"]
[null,null,null,{"$f":"SUM(D7:D8)","v":3},null,"SUM verbale+fysiske trusler/antal uger >0 = + 1",{"$f":"IF((D11-I10)>0,1,0)","v":0},null,null,"Ugentlige trusler"]
[null,null,null,null,{"$f":"Indtastning!K3","v":4},"BVC>2 tilstede = +1",{"$f":"IF(E12>2,1,0)","v":1},null,null,"Høje BVC-scorer"]
[null,null,null,null,null,"SOAS-R Maksimum (stiger +1 for hver alvorsgrad)",{"$f":"Indtastning!O3","v":2},null,null,"Alvorsgrad af aggression"]
[null,null,null,null,null,"Ikke-aflagte urinprøver >1 = +1",{"$f":"'Samlet Misbrug'!$BV$2","v":0},null,null,"Mindst 2 urinprøver ikke aflagt"]
[null,null,null,null,null,"Tilbagefald i rusmidler (enkeltstående +0,5 - >1=+2)",{"$f":"'Samlet Misbrug'!$BV$5","v":2},null,null,"Misbrug"]
[null,null,null,null,null,"Antal rusmidler >1 = +1",{"$f":"'Samlet Misbrug'!$BV$3","v":1},null,null,"Blandingsmisbrug"]
[null,null,null,null,null,"Personrettede triggere > 50 % af totale Irritabel = +1",{"$f":"IF(D25=0,0,IF((D5/D25)<2,1,0))","v":0},null,null,"Irritabel især mod personale el. medpatienter"]
[null,null,null,null,null,"SOAS-R stigende siden seneste opgørelse = +0,5",{"$f":"IF(I18=FALSE,0, 0.5)","v":0},{"$f":"IF(I18=FALSE,\"Sæt kryds\", \"Ja\")","v":"Sæt kryds"},false]
[null,null,null,null,null,"Flere BVC-hændelser indenfor enkelte vagtlag = +1",{"$f":"IF(I19=FALSE,0, 1)","v":0},{"$f":"IF(I19=FALSE,\"Sæt kryds\", \"Ja\")","v":"Sæt kryds"},false]
[]
[]
[]
[null,"Trigger \"Irritation på Personale\"",null,{"$f":"Triggere!I10","v":0}]
[null,"Trigger \"Medpatienter\"",null,{"$f":"Triggere!I12","v":1}]
[null,"Trigger i alt som er personrettede",null,{"$f":"SUM(D23,D24)","v":1}]
[]
[]
[]
[]
[null,null,null,null,null,"Sammentælling af faktorer",{"$f":"SUM(G10:G28)","v":6}]

{"sheet":"Risikoprofil","index":3,"n_rows":86,"n_cols":49,"rows_kept":86,"cut":false,"hidden":false,"merged":[]}
[]
["Rækkenavne","Sum af BVC dag","Sum af BVC aften","Sum af BVC nat","Sum af SOAS dag","Sum af SOAS aften","Sum af SOAS nat",{"$f":"Indtastning!$D$2 & \" - Risikoprofil\"","v":"Testpatient i perioden fra d. 13-11-2023 til 18-12-2023 - Risikoprofil"}]
[46]
["Mandag",null,null,null,null,null,null,null,null,"I alt",null,"Dag","Aften","Nat",null,null,"I alt",null,"SOAS Dag","SOAS Aften","SOAS Nat",null,"Score","BVC","SOAS",null,null,"BVC Dag","BVC Aften","BVC Nat","SOAS Dag","SOAS Aften","SOAS Nat"]
["Tirsdag",2,null,null,null,null,null,null,"BVC 1",{"$f":"COUNTIF(B:D,\"=1\")","v":3},"BVC 1",{"$f":"COUNTIF(B:B,\"=1\")","v":0},{"$f":"COUNTIF(C:C,\"=1\")","v":3},{"$f":"COUNTIF(D:D,\"=1\")","v":0},null,"SOAS 1",{"$f":"COUNTIF(E:G,\"=1\")","v":1},"SOAS 1",{"$f":"COUNTIF(E:E,\"=1\")","v":1},{"$f":"COUNTIF(F:F,\"=1\")","v":0},{"$f":"COUNTIF(G:G,\"=1\")","v":0},null,1,{"$f":"J5","v":3},{"$f":"Q5","v":1},null,"BVC og SOAS 1",{"$f":"L5","v":0},3,0,{"$f":"S5","v":1},0,0]
["Onsdag",null,1,null,null,null,null,null,"BVC 2",{"$f":"COUNTIF(B:D,\"=2\")","v":2},"BVC 2",{"$f":"COUNTIF(B:B,\"=2\")","v":2},{"$f":"COUNTIF(C:C,\"=2\")","v":0},{"$f":"COUNTIF(D:D,\"=2\")","v":0},null,"SOAS 2",{"$f":"COUNTIF(E:G,\"=2\")","v":1},"SOAS 2",{"$f":"COUNTIF(E:E,\"=2\")","v":1},{"$f":"COUNTIF(F:F,\"=2\")","v":0},{"$f":"COUNTIF(G:G,\"=2\")","v":0},null,2,2,1,null,"BVC og SOAS 2",2,0,0,1,0,0]
["Torsdag",null,null,null,null,null,null,null,"BVC 3",{"$f":"COUNTIF(B:D,\"=3\")","v":1},"BVC 3",{"$f":"COUNTIF(B:B,\"=3\")","v":1},{"$f":"COUNTIF(C:C,\"=3\")","v":0},{"$f":"COUNTIF(D:D,\"=3\")","v":0},null,"SOAS 3",{"$f":"COUNTIF(E:G,\"=3\")","v":0},"SOAS 3",{"$f":"COUNTIF(E:E,\"=3\")","v":0},{"$f":"COUNTIF(F:F,\"=3\")","v":0},{"$f":"COUNTIF(G:G,\"=3\")","v":0},null,3,1,0,null,"BVC og SOAS 3",1,0,0,0,0,0]
["Fredag",null,null,null,null,null,null,null,"BVC 4",{"$f":"COUNTIF(B:D,\"=4\")","v":1},"BVC 4",{"$f":"COUNTIF(B:B,\"=4\")","v":1},{"$f":"COUNTIF(C:C,\"=4\")","v":0},{"$f":"COUNTIF(D:D,\"=4\")","v":0},null,"SOAS 4",{"$f":"COUNTIF(E:G,\"=4\")","v":0},"SOAS 4",{"$f":"COUNTIF(E:E,\"=4\")","v":0},{"$f":"COUNTIF(F:F,\"=4\")","v":0},{"$f":"COUNTIF(G:G,\"=4\")","v":0},null,4,1,0,null,"BVC og SOAS 4",1,0,0,0,0,0]
["Lørdag",3,null,null,1,null,null,null,"BVC 5",{"$f":"COUNTIF(B:D,\"=5\")","v":0},"BVC 5",{"$f":"COUNTIF(B:B,\"=5\")","v":0},{"$f":"COUNTIF(C:C,\"=5\")","v":0},{"$f":"COUNTIF(D:D,\"=5\")","v":0},null,"SOAS 5",{"$f":"COUNTIF(E:G,\"=5\")","v":0},"SOAS 5",{"$f":"COUNTIF(E:E,\"=5\")","v":0},{"$f":"COUNTIF(F:F,\"=5\")","v":0},{"$f":"COUNTIF(G:G,\"=5\")","v":0},null,5,0,0,null,"BVC og SOAS 5",0,0,0,0,0,0]
["Søndag",null,null,null,null,null,null,null,"BVC 6",{"$f":"COUNTIF(B:D,\"=6\")","v":0},"BVC 6",{"$f":"COUNTIF(B:B,\"=6\")","v":0},{"$f":"COUNTIF(C:C,\"=6\")","v":0},{"$f":"COUNTIF(D:D,\"=6\")","v":0},null,"SOAS 6",{"$f":"COUNTIF(E:G,\"=6\")","v":0},"SOAS 6",{"$f":"COUNTIF(E:E,\"=6\")","v":0},{"$f":"COUNTIF(F:F,\"=6\")","v":0},{"$f":"COUNTIF(G:G,\"=6\")","v":0},null,6,0,0,null,"BVC og SOAS 6",0,0,0,0,0,0]
[47]
["Mandag"]
["Tirsdag",null,null,null,null,null,null,null,null,null,null,null,null,null,null,null,null,null,null,null,null,null,null,null,null,null,null,null,null,null,null,null,null,null,null,null,null,null,null,null,null,null,null,null,null,null,"Rækkenavne","Højeste BVC","Højeste SOAS"]
["Onsdag",null,null,null,null,null,null,null,null,null,null,null,null,null,null,null,null,null,null,null,null,null,null,null,null,null,null,null,null,null,null,null,null,null,null,null,null,null,null,null,null,null,null,null,null,null,"2023-11-13",0,0]
["Torsdag",null,null,null,null,null,null,null,null,null,null,null,null,null,null,null,null,null,null,null,null,null,null,null,null,null,null,null,null,null,null,null,null,null,null,null,null,null,null,null,null,null,null,null,null,null,"Mandag",0,0]
["Fredag",null,null,null,null,null,null,null,null,null,null,null,null,null,null,null,null,null,null,null,null,null,null,null,null,null,null,null,null,null,null,null,null,null,null,null,null,null,null,null,null,null,null,null,null,null,"2023-11-14",2,0]
["Lørdag",null,1,null,null,null,null,null,null,null,null,null,null,null,null,null,null,null,null,null,null,null,null,null,null,null,null,null,null,null,null,null,null,null,null,null,null,null,null,null,null,null,null,null,null,null,"Tirsdag",2,0]
["Søndag",null,null,null,null,null,null,null,null,null,null,null,null,null,null,null,null,null,null,null,null,null,null,null,null,null,null,null,null,null,null,null,null,null,null,null,null,null,null,null,null,null,null,null,null,null,"2023-11-15",1,0]
[48,null,null,null,null,null,null,null,null,null,null,null,null,null,null,null,null,null,null,null,null,null,null,null,null,null,null,null,null,null,null,null,null,null,null,null,null,null,null,null,null,null,null,null,null,null,"Onsdag",1,0]
["Mandag",null,null,null,null,null,null,null,null,null,null,null,null,null,null,null,null,null,null,null,null,null,null,null,null,null,null,null,null,null,null,null,null,null,null,null,null,null,null,null,null,null,null,null,null,null,"2023-11-16",0,0]
["Tirsdag",2,null,null,null,null,null,null,null,null,null,null,null,null,null,null,null,null,null,null,null,null,null,null,null,null,null,null,null,null,null,null,null,null,null,null,null,null,null,null,null,null,null,null,null,null,"Torsdag",0,0]
["Onsdag",null,null,null,null,null,null,null,null,null,null,null,null,null,null,null,null,null,null,null,null,null,null,null,null,null,null,null,null,null,null,null,null,null,null,null,null,null,null,null,null,null,null,null,null,null,"2023-11-17",0,0]
["Torsdag",null,null,null,null,null,null,null,null,null,null,null,null,null,null,null,null,null,null,null,null,null,null,null,null,null,null,null,null,null,null,null,null,null,null,null,null,null,null,null,null,null,null,null,null,null,"Fredag",0,0]
["Fredag",null,null,null,null,null,null,null,null,null,null,null,null,null,null,null,null,null,null,null,null,null,null,null,null,null,null,null,null,null,null,null,null,null,null,null,null,null,null,null,null,null,null,null,null,null,"2023-11-18",3,1]
["Lørdag",null,null,null,null,null,null,null,null,null,null,null,null,null,null,null,null,null,null,null,null,null,null,null,null,null,null,null,null,null,null,null,null,null,null,null,null,null,null,null,null,null,null,null,null,null,"Lørdag",3,1]
["Søndag",null,null,null,null,null,null,null,null,null,null,null,null,null,null,null,null,null,null,null,null,null,null,null,null,null,null,null,null,null,null,null,null,null,null,null,null,null,null,null,null,null,null,null,null,null,"2023-11-19",0,0]
[49,null,null,null,null,null,null,null,null,null,null,null,null,null,null,null,null,null,null,null,null,null,null,null,null,null,null,null,null,null,null,null,null,null,null,null,null,null,null,null,null,null,null,null,null,null,"Søndag",0,0]
["Mandag",null,null,null,null,null,null,null,null,null,null,null,null,null,null,null,null,null,null,null,null,null,null,null,null,null,null,null,null,null,null,null,null,null,null,null,null,null,null,null,null,null,null,null,null,null,"2023-11-20",0,0]
["Tirsdag",null,1,null,null,null,null,null,null,null,null,null,null,null,null,null,null,null,null,null,null,null,null,null,null,null,null,null,null,null,null,null,null,null,null,null,null,null,null,null,null,null,null,null,null,null,"Mandag",0,0]
["Onsdag",null,null,null,null,null,null,null,null,null,null,null,null,null,null,null,null,null,null,null,null,null,null,null,null,null,null,null,null,null,null,null,null,null,null,null,null,null,null,null,null,null,null,null,null,null,"2023-11-21",0,0]
["Torsdag",4,null,null,2,null,null,null,null,null,null,null,null,null,null,null,null,null,null,null,null,null,null,null,null,null,null,null,null,null,null,null,null,null,null,null,null,null,null,null,null,null,null,null,null,null,"Tirsdag",0,0]
["Fredag",null,null,null,null,null,null,null,null,null,null,null,null,null,null,null,null,null,null,null,null,null,null,null,null,null,null,null,null,null,null,null,null,null,null,null,null,null,null,null,null,null,null,null,null,null,"2023-11-22",0,0]
["Lørdag",null,null,null,null,null,null,null,null,null,null,null,null,null,null,null,null,null,null,null,null,null,null,null,null,null,null,null,null,null,null,null,null,null,null,null,null,null,null,null,null,null,null,null,null,null,"Onsdag",0,0]
["Søndag",null,null,null,null,null,null,null,null,null,null,null,null,null,null,null,null,null,null,null,null,null,null,null,null,null,null,null,null,null,null,null,null,null,null,null,null,null,null,null,null,null,null,null,null,null,"2023-11-23",0,0]
[50,null,null,null,null,null,null,null,null,null,null,null,null,null,null,null,null,null,null,null,null,null,null,null,null,null,null,null,null,null,null,null,null,null,null,null,null,null,null,null,null,null,null,null,null,null,"Torsdag",0,0]
["Mandag",null,null,null,null,null,null,null,null,null,null,null,null,null,null,null,null,null,null,null,null,null,null,null,null,null,null,null,null,null,null,null,null,null,null,null,null,null,null,null,null,null,null,null,null,null,"2023-11-24",0,0]
["Tirsdag",null,null,null,null,null,null,null,null,null,null,null,null,null,null,null,null,null,null,null,null,null,null,null,null,null,null,null,null,null,null,null,null,null,null,null,null,null,null,null,null,null,null,null,null,null,"Fredag",0,0]
["Onsdag",null,null,null,null,null,null,null,null,null,null,null,null,null,null,null,null,null,null,null,null,null,null,null,null,null,null,null,null,null,null,null,null,null,null,null,null,null,null,null,null,null,null,null,null,null,"2023-11-25",1,0]
["Torsdag",null,null,null,null,null,null,null,null,null,null,null,null,null,null,null,null,null,null,null,null,null,null,null,null,null,null,null,null,null,null,null,null,null,null,null,null,null,null,null,null,null,null,null,null,null,"Lørdag",1,0]
["Fredag",null,null,null,null,null,null,null,null,null,null,null,null,null,null,null,null,null,null,null,null,null,null,null,null,null,null,null,null,null,null,null,null,null,null,null,null,null,null,null,null,null,null,null,null,null,"2023-11-26",0,0]
["Lørdag",null,null,null,null,null,null,null,null,null,null,null,null,null,null,null,null,null,null,null,null,null,null,null,null,null,null,null,null,null,null,null,null,null,null,null,null,null,null,null,null,null,null,null,null,null,"Søndag",0,0]
["Søndag",null,null,null,null,null,null,null,null,null,null,null,null,null,null,null,null,null,null,null,null,null,null,null,null,null,null,null,null,null,null,null,null,null,null,null,null,null,null,null,null,null,null,null,null,null,"2023-11-27",0,0]
[51,null,null,null,null,null,null,null,null,null,null,null,null,null,null,null,null,null,null,null,null,null,null,null,null,null,null,null,null,null,null,null,null,null,null,null,null,null,null,null,null,null,null,null,null,null,"Mandag",0,0]
["Mandag",null,null,null,null,null,null,null,null,null,null,null,null,null,null,null,null,null,null,null,null,null,null,null,null,null,null,null,null,null,null,null,null,null,null,null,null,null,null,null,null,null,null,null,null,null,"2023-11-28",2,0]
[null,null,null,null,null,null,null,null,null,null,null,null,null,null,null,null,null,null,null,null,null,null,null,null,null,null,null,null,null,null,null,null,null,null,null,null,null,null,null,null,null,null,null,null,null,null,"Tirsdag",2,0]
[null,null,null,null,null,null,null,null,null,null,null,null,null,null,null,null,null,null,null,null,null,null,null,null,null,null,null,null,null,null,null,null,null,null,null,null,null,null,null,null,null,null,null,null,null,null,"2023-11-29",0,0]
[null,null,null,null,null,null,null,null,null,null,null,null,null,null,null,null,null,null,null,null,null,null,null,null,null,null,null,null,null,null,null,null,null,null,null,null,null,null,null,null,null,null,null,null,null,null,"Onsdag",0,0]
[null,null,null,null,null,null,null,null,null,null,null,null,null,null,null,null,null,null,null,null,null,null,null,null,null,null,null,null,null,null,null,null,null,null,null,null,null,null,null,null,null,null,null,null,null,null,"2023-11-30",0,0]
[null,null,null,null,null,null,null,null,null,null,null,null,null,null,null,null,null,null,null,null,null,null,null,null,null,null,null,null,null,null,null,null,null,null,null,null,null,null,null,null,null,null,null,null,null,null,"Torsdag",0,0]
[null,null,null,null,null,null,null,null,null,null,null,null,null,null,null,null,null,null,null,null,null,null,null,null,null,null,null,null,null,null,null,null,null,null,null,null,null,null,null,null,null,null,null,null,null,null,"2023-12-01",0,0]
[null,null,null,null,null,null,null,null,null,null,null,null,null,null,null,null,null,null,null,null,null,null,null,null,null,null,null,null,null,null,null,null,null,null,null,null,null,null,null,null,null,null,null,null,null,null,"Fredag",0,0]
[null,null,null,null,null,null,null,null,null,null,null,null,null,null,null,null,null,null,null,null,null,null,null,null,null,null,null,null,null,null,null,null,null,null,null,null,null,null,null,null,null,null,null,null,null,null,"2023-12-02",0,0]
[null,null,null,null,null,null,null,null,null,null,null,null,null,null,null,null,null,null,null,null,null,null,null,null,null,null,null,null,null,null,null,null,null,null,null,null,null,null,null,null,null,null,null,null,null,null,"Lørdag",0,0]
[null,null,null,null,null,null,null,null,null,null,null,null,null,null,null,null,null,null,null,null,null,null,null,null,null,null,null,null,null,null,null,null,null,null,null,null,null,null,null,null,null,null,null,null,null,null,"2023-12-03",0,0]
[null,null,null,null,null,null,null,null,null,null,null,null,null,null,null,null,null,null,null,null,null,null,null,null,null,null,null,null,null,null,null,null,null,null,null,null,null,null,null,null,null,null,null,null,null,null,"Søndag",0,0]
[null,null,null,null,null,null,null,null,null,null,null,null,null,null,null,null,null,null,null,null,null,null,null,null,null,null,null,null,null,null,null,null,null,null,null,null,null,null,null,null,null,null,null,null,null,null,"2023-12-04",0,0]
[null,null,null,null,null,null,null,null,null,null,null,null,null,null,null,null,null,null,null,null,null,null,null,null,null,null,null,null,null,null,null,null,null,null,null,null,null,null,null,null,null,null,null,null,null,null,"Mandag",0,0]
[null,null,null,null,null,null,null,null,null,null,null,null,null,null,null,null,null,null,null,null,null,null,null,null,null,null,null,null,null,null,null,null,null,null,null,null,null,null,null,null,null,null,null,null,null,null,"2023-12-05",1,0]
[null,null,null,null,null,null,null,null,null,null,null,null,null,null,null,null,null,null,null,null,null,null,null,null,null,null,null,null,null,null,null,null,null,null,null,null,null,null,null,null,null,null,null,null,null,null,"Tirsdag",1,0]
[null,null,null,null,null,null,null,null,null,null,null,null,null,null,null,null,null,null,null,null,null,null,null,null,null,null,null,null,null,null,null,null,null,null,null,null,null,null,null,null,null,null,null,null,null,null,"2023-12-06",0,0]
[null,null,null,null,null,null,null,null,null,null,null,null,null,null,null,null,null,null,null,null,null,null,null,null,null,null,null,null,null,null,null,null,null,null,null,null,null,null,null,null,null,null,null,null,null,null,"Onsdag",0,0]
[null,null,null,null,null,null,null,null,null,null,null,null,null,null,null,null,null,null,null,null,null,null,null,null,null,null,null,null,null,null,null,null,null,null,null,null,null,null,null,null,null,null,null,null,null,null,"2023-12-07",4,2]
[null,null,null,null,null,null,null,null,null,null,null,null,null,null,null,null,null,null,null,null,null,null,null,null,null,null,null,null,null,null,null,null,null,null,null,null,null,null,null,null,null,null,null,null,null,null,"Torsdag",4,2]
[null,null,null,null,null,null,null,null,null,null,null,null,null,null,null,null,null,null,null,null,null,null,null,null,null,null,null,null,null,null,null,null,null,null,null,null,null,null,null,null,null,null,null,null,null,null,"2023-12-08",0,0]
[null,null,null,null,null,null,null,null,null,null,null,null,null,null,null,null,null,null,null,null,null,null,null,null,null,null,null,null,null,null,null,null,null,null,null,null,null,null,null,null,null,null,null,null,null,null,"Fredag",0,0]
[null,null,null,null,null,null,null,null,null,null,null,null,null,null,null,null,null,null,null,null,null,null,null,null,null,null,null,null,null,null,null,null,null,null,null,null,null,null,null,null,null,null,null,null,null,null,"2023-12-09",0,0]
[null,null,null,null,null,null,null,null,null,null,null,null,null,null,null,null,null,null,null,null,null,null,null,null,null,null,null,null,null,null,null,null,null,null,null,null,null,null,null,null,null,null,null,null,null,null,"Lørdag",0,0]
[null,null,null,null,null,null,null,null,null,null,null,null,null,null,null,null,null,null,null,null,null,null,null,null,null,null,null,null,null,null,null,null,null,null,null,null,null,null,null,null,null,null,null,null,null,null,"2023-12-10",0,0]
[null,null,null,null,null,null,null,null,null,null,null,null,null,null,null,null,null,null,null,null,null,null,null,null,null,null,null,null,null,null,null,null,null,null,null,null,null,null,null,null,null,null,null,null,null,null,"Søndag",0,0]
[null,null,null,null,null,null,null,null,null,null,null,null,null,null,null,null,null,null,null,null,null,null,null,null,null,null,null,null,null,null,null,null,null,null,null,null,null,null,null,null,null,null,null,null,null,null,"2023-12-11",0,0]
[null,null,null,null,null,null,null,null,null,null,null,null,null,null,null,null,null,null,null,null,null,null,null,null,null,null,null,null,null,null,null,null,null,null,null,null,null,null,null,null,null,null,null,null,null,null,"Mandag",0,0]
[null,null,null,null,null,null,null,null,null,null,null,null,null,null,null,null,null,null,null,null,null,null,null,null,null,null,null,null,null,null,null,null,null,null,null,null,null,null,null,null,null,null,null,null,null,null,"2023-12-12",0,0]
[null,null,null,null,null,null,null,null,null,null,null,null,null,null,null,null,null,null,null,null,null,null,null,null,null,null,null,null,null,null,null,null,null,null,null,null,null,null,null,null,null,null,null,null,null,null,"Tirsdag",0,0]
[null,null,null,null,null,null,null,null,null,null,null,null,null,null,null,null,null,null,null,null,null,null,null,null,null,null,null,null,null,null,null,null,null,null,null,null,null,null,null,null,null,null,null,null,null,null,"2023-12-13",0,0]
[null,null,null,null,null,null,null,null,null,null,null,null,null,null,null,null,null,null,null,null,null,null,null,null,null,null,null,null,null,null,null,null,null,null,null,null,null,null,null,null,null,null,null,null,null,null,"Onsdag",0,0]
[null,null,null,null,null,null,null,null,null,null,null,null,null,null,null,null,null,null,null,null,null,null,null,null,null,null,null,null,null,null,null,null,null,null,null,null,null,null,null,null,null,null,null,null,null,null,"2023-12-14",0,0]
[null,null,null,null,null,null,null,null,null,null,null,null,null,null,null,null,null,null,null,null,null,null,null,null,null,null,null,null,null,null,null,null,null,null,null,null,null,null,null,null,null,null,null,null,null,null,"Torsdag",0,0]
[null,null,null,null,null,null,null,null,null,null,null,null,null,null,null,null,null,null,null,null,null,null,null,null,null,null,null,null,null,null,null,null,null,null,null,null,null,null,null,null,null,null,null,null,null,null,"2023-12-15",0,0]
[null,null,null,null,null,null,null,null,null,null,null,null,null,null,null,null,null,null,null,null,null,null,null,null,null,null,null,null,null,null,null,null,null,null,null,null,null,null,null,null,null,null,null,null,null,null,"Fredag",0,0]
[null,null,null,null,null,null,null,null,null,null,null,null,null,null,null,null,null,null,null,null,null,null,null,null,null,null,null,null,null,null,null,null,null,null,null,null,null,null,null,null,null,null,null,null,null,null,"2023-12-16",0,0]
[null,null,null,null,null,null,null,null,null,null,null,null,null,null,null,null,null,null,null,null,null,null,null,null,null,null,null,null,null,null,null,null,null,null,null,null,null,null,null,null,null,null,null,null,null,null,"Lørdag",0,0]
[null,null,null,null,null,null,null,null,null,null,null,null,null,null,null,null,null,null,null,null,null,null,null,null,null,null,null,null,null,null,null,null,null,null,null,null,null,null,null,null,null,null,null,null,null,null,"2023-12-17",0,0]
[null,null,null,null,null,null,null,null,null,null,null,null,null,null,null,null,null,null,null,null,null,null,null,null,null,null,null,null,null,null,null,null,null,null,null,null,null,null,null,null,null,null,null,null,null,null,"Søndag",0,0]
[null,null,null,null,null,null,null,null,null,null,null,null,null,null,null,null,null,null,null,null,null,null,null,null,null,null,null,null,null,null,null,null,null,null,null,null,null,null,null,null,null,null,null,null,null,null,"2023-12-18",0,0]
[null,null,null,null,null,null,null,null,null,null,null,null,null,null,null,null,null,null,null,null,null,null,null,null,null,null,null,null,null,null,null,null,null,null,null,null,null,null,null,null,null,null,null,null,null,null,"Mandag",0,0]
[null,null,null,null,null,null,null,null,null,null,null,null,null,null,null,null,null,null,null,null,null,null,null,null,null,null,null,null,null,null,null,null,null,null,null,null,null,null,null,null,null,null,null,null,null,null,"Hovedtotal",14,3]

{"sheet":"Belastende ugedage","index":4,"n_rows":43,"n_cols":15,"rows_kept":43,"cut":false,"hidden":false,"merged":[]}
["Rækkenavne","Sum af BVC dag","Sum af BVC aften","Sum af BVC nat"]
[46,null,null,null,null,null,null,{"$f":"Indtastning!$D$2 & \" - Belastende ugedage\"","v":"Testpatient i perioden fra d. 13-11-2023 til 18-12-2023 - Belastende ugedage"}]
["Mandag"]
["Tirsdag",2,null,null,null,null,null,null,null,"Dag","Aften","Nat","Samlet"]
["Onsdag",null,1,null,null,null,null,null,"Mandag",{"$f":"SUMPRODUCT(-- (A:A = I5),-- (B:B > 0))","v":0},{"$f":"SUMPRODUCT(-- (A:A = I5),-- (C:C > 0))","v":0},{"$f":"SUMPRODUCT(-- (A:A = I5),-- (D:D > 0))","v":0},{"$f":"SUM(J5:L5)","v":0},"Mandag",{"$f":"M5","v":0}]
["Torsdag",null,null,null,null,null,null,null,"Tirsdag",2,1,0,{"$f":"SUM(J6:L6)","v":3},"Tirsdag",3]
["Fredag",null,null,null,null,null,null,null,"Onsdag",0,1,0,1,"Onsdag",1]
["Lørdag",3,null,null,null,null,null,null,"Torsdag",1,0,0,1,"Torsdag",1]
["Søndag",null,null,null,null,null,null,null,"Fredag",0,0,0,0,"Fredag",0]
[47,null,null,null,null,null,null,null,"Lørdag",1,1,0,2,"Lørdag",2]
["Mandag",null,null,null,null,null,null,null,"Søndag",0,0,0,0,"Søndag",0]
["Tirsdag"]
["Onsdag"]
["Torsdag"]
["Fredag"]
["Lørdag",null,1]
["Søndag"]
[48]
["Mandag"]
["Tirsdag",2]
["Onsdag"]
["Torsdag"]
["Fredag"]
["Lørdag"]
["Søndag"]
[49]
["Mandag"]
["Tirsdag",null,1]
["Onsdag"]
["Torsdag",4]
["Fredag"]
["Lørdag"]
["Søndag"]
[50]
["Mandag"]
["Tirsdag"]
["Onsdag"]
["Torsdag"]
["Fredag"]
["Lørdag"]
["Søndag"]
[51]
["Mandag"]

{"sheet":"Triggere","index":5,"n_rows":25,"n_cols":9,"rows_kept":25,"cut":false,"hidden":false,"merged":[]}
["  Husk  triggere skal ændres i alle 3 vagtlag",null,null,{"$f":"Indtastning!$D$2 & \" - Triggere\"","v":"Testpatient i perioden fra d. 13-11-2023 til 18-12-2023 - Triggere"}]
[]
["Triggere dag","Antal",null,"Triggere aften","Antal",null,"Triggere nat","Antal","I alt"]
["Psykotisk",2,null,"Psykotisk",1,null,"Psykotisk",0,{"$f":"SUM(B4,E4,H4)","v":3}]
["Medicin ",null,null,"Medicin ",null,null,"Medicin ",0,{"$f":"SUM(B5,E5,H5)","v":0}]
["Behovsudsættelse",null,null,"Behovsudsættelse",null,null,"Behovsudsættelse",0,0]
["korrigering af adfærd",null,null,"korrigering af adfærd",1,null,"korrigering af adfærd",0,1]
["Rammerne",2,null,"Rammerne",null,null,"Rammerne",0,2]
["Behandling",null,null,"Behandling",null,null,"Behandling",0,0]
["Irritabilitet på personalet",null,null,"Irritabilitet på personalet",null,null,"Irritabilitet på personalet",0,0]
["Udgang",null,null,"Udgang",null,null,"Udgang",0,0]
["Medpatient",null,null,"Medpatient",1,null,"Medpatient",0,1]
["Økonomi",null,null,"Økonomi",null,null,"Økonomi",0,0]
["Udefrakommende faktorer",null,null,"Udefrakommende faktorer",null,null,"Udefrakommende faktorer",0,0]
["Personaleudløst",null,null,"Personaleudløst",null,null,"Personaleudløst",0,0]
["Patientens ejendele",null,null,"Patientens ejendele",null,null,"Patientens ejendele",0,0]
["Somatisk",null,null,"Somatisk",null,null,"Somatisk",0,0]
["Vækning/søvn",null,null,"Vækning/søvn",null,null,"Vækning/søvn",0,0]
["Indlæggelse/udskrivelse",null,null,"Indlæggelse/udskrivelse",null,null,"Indlæggelse/udskrivelse",0,0]
["Årsager kan ikke bestemmes",null,null,"Årsager kan ikke bestemmes",null,null,"Årsager kan ikke bestemmes",0,0]
[]
[]
[null,null,null,null," "]
[null,null,null,"Indtast fra dato","13-11-2023"]
[null,null,null,"Indtast til dato","18-12-2023"]

{"sheet":"Cannabis","index":6,"n_rows":74,"n_cols":8,"rows_kept":74,"cut":false,"hidden":false,"merged":[]}
[]
["Rækkenavne","BVC","SOAS-R","Positiv","Negativ","Ikke Aflagt",null,{"$f":"Indtastning!$D$2 & \" - Cannabis i forhold til BVC og SOAS-R\"","v":"Testpatient i perioden fra d. 13-11-2023 til 18-12-2023 - Cannabis i forhold til BVC og SOAS-R"}]
["2023-11-13"]
["Mandag",0,0,{"$error":"#N/A"},-2,-2]
["2023-11-14"]
["Tirsdag",2,0,0,1.2,-2]
["2023-11-15"]
["Onsdag",1,0,{"$error":"#N/A"},-2,-2]
["2023-11-16"]
["Torsdag",0,0,{"$error":"#N/A"},-2,-2]
["2023-11-17"]
["Fredag",0,0,{"$error":"#N/A"},-2,-2]
["2023-11-18"]
["Lørdag",3,1,{"$error":"#N/A"},-2,-2]
["2023-11-19"]
["Søndag",0,0,{"$error":"#N/A"},-2,-2]
["2023-11-20"]
["Mandag",0,0,{"$error":"#N/A"},-2,-2]
["2023-11-21"]
["Tirsdag",0,0,11,-2,-2]
["2023-11-22"]
["Onsdag",0,0,{"$error":"#N/A"},-2,-2]
["2023-11-23"]
["Torsdag",0,0,{"$error":"#N/A"},-2,-2]
["2023-11-24"]
["Fredag",0,0,{"$error":"#N/A"},-2,-2]
["2023-11-25"]
["Lørdag",1,0,{"$error":"#N/A"},-2,-2]
["2023-11-26"]
["Søndag",0,0,{"$error":"#N/A"},-2,-2]
["2023-11-27"]
["Mandag",0,0,{"$error":"#N/A"},-2,-2]
["2023-11-28"]
["Tirsdag",2,0,6,-2,-2]
["2023-11-29"]
["Onsdag",0,0,{"$error":"#N/A"},-2,-2]
["2023-11-30"]
["Torsdag",0,0,{"$error":"#N/A"},-2,-2]
["2023-12-01"]
["Fredag",0,0,{"$error":"#N/A"},-2,-2]
["2023-12-02"]
["Lørdag",0,0,{"$error":"#N/A"},-2,-2]
["2023-12-03"]
["Søndag",0,0,{"$error":"#N/A"},-2,-2]
["2023-12-04"]
["Mandag",0,0,{"$error":"#N/A"},-2,-2]
["2023-12-05"]
["Tirsdag",1,0,9,-2,-2]
["2023-12-06"]
["Onsdag",0,0,{"$error":"#N/A"},-2,-2]
["2023-12-07"]
["Torsdag",4,2,{"$error":"#N/A"},-2,-2]
["2023-12-08"]
["Fredag",0,0,{"$error":"#N/A"},-2,-2]
["2023-12-09"]
["Lørdag",0,0,{"$error":"#N/A"},-2,-2]
["2023-12-10"]
["Søndag",0,0,{"$error":"#N/A"},-2,-2]
["2023-12-11"]
["Mandag",0,0,{"$error":"#N/A"},-2,-2]
["2023-12-12"]
["Tirsdag",0,0,0,1.2,-2]
["2023-12-13"]
["Onsdag",0,0,{"$error":"#N/A"},-2,-2]
["2023-12-14"]
["Torsdag",0,0,{"$error":"#N/A"},-2,-2]
["2023-12-15"]
["Fredag",0,0,{"$error":"#N/A"},-2,-2]
["2023-12-16"]
["Lørdag",0,0,{"$error":"#N/A"},-2,-2]
["2023-12-17"]
["Søndag",0,0,{"$error":"#N/A"},-2,-2]
["2023-12-18"]
["Mandag",0,0,{"$error":"#N/A"},-2,-2]

{"sheet":"Amfetamin","index":7,"n_rows":74,"n_cols":14,"rows_kept":74,"cut":false,"hidden":false,"merged":[]}
["Rækkenavne","BVC","SOAS","Positiv","Ikke Afgivet","Negativ"]
["2023-11-13",null,null,null,null,null,null,null,null,null,null,null,null,{"$f":"Indtastning!$D$2 & \" - Amfetamin i forhold til BVC og SOAS\"","v":"Testpatient i perioden fra d. 13-11-2023 til 18-12-2023 - Amfetamin i forhold til BVC og SOAS"}]
["Mandag",0,0,-2,-2,-2]
["2023-11-14"]
["Tirsdag",2,0,-2,-2,-2]
["2023-11-15"]
["Onsdag",1,0,-2,-2,-2]
["2023-11-16"]
["Torsdag",0,0,-2,-2,-2]
["2023-11-17"]
["Fredag",0,0,-2,-2,-2]
["2023-11-18"]
["Lørdag",3,1,-2,-2,-2]
["2023-11-19"]
["Søndag",0,0,-2,-2,-2]
["2023-11-20"]
["Mandag",0,0,-2,-2,-2]
["2023-11-21"]
["Tirsdag",0,0,-2,-2,-2]
["2023-11-22"]
["Onsdag",0,0,-2,-2,-2]
["2023-11-23"]
["Torsdag",0,0,-2,-2,-2]
["2023-11-24"]
["Fredag",0,0,-2,-2,-2]
["2023-11-25"]
["Lørdag",1,0,-2,-2,-2]
["2023-11-26"]
["Søndag",0,0,-2,-2,-2]
["2023-11-27"]
["Mandag",0,0,-2,-2,-2]
["2023-11-28"]
["Tirsdag",2,0,-2,-2,-2]
["2023-11-29"]
["Onsdag",0,0,-2,-2,-2]
["2023-11-30"]
["Torsdag",0,0,-2,-2,-2]
["2023-12-01"]
["Fredag",0,0,-2,-2,-2]
["2023-12-02"]
["Lørdag",0,0,-2,-2,-2]
["2023-12-03"]
["Søndag",0,0,-2,-2,-2]
["2023-12-04"]
["Mandag",0,0,-2,-2,-2]
["2023-12-05"]
["Tirsdag",1,0,-2,-2,-2]
["2023-12-06"]
["Onsdag",0,0,-2,-2,-2]
["2023-12-07"]
["Torsdag",4,2,-2,-2,-2]
["2023-12-08"]
["Fredag",0,0,-2,-2,-2]
["2023-12-09"]
["Lørdag",0,0,-2,-2,-2]
["2023-12-10"]
["Søndag",0,0,-2,-2,-2]
["2023-12-11"]
["Mandag",0,0,-2,-2,-2]
["2023-12-12"]
["Tirsdag",0,0,1,-2,-2]
["2023-12-13"]
["Onsdag",0,0,-2,-2,-2]
["2023-12-14"]
["Torsdag",0,0,-2,-2,-2]
["2023-12-15"]
["Fredag",0,0,-2,-2,-2]
["2023-12-16"]
["Lørdag",0,0,-2,-2,-2]
["2023-12-17"]
["Søndag",0,0,-2,-2,-2]
["2023-12-18"]
["Mandag",0,0,-2,-2,-2]
["Hovedtotal",14,3,-69,-72,-72]

{"sheet":"Kokain","index":8,"n_rows":74,"n_cols":9,"rows_kept":74,"cut":false,"hidden":false,"merged":[]}
[]
["Rækkenavne","BVC","SOAS-R","Positiv","Negativ","Ikke taget",null,null,{"$f":"Indtastning!$D$2 & \" - Kokain i forhold til BVC og SOAS\"","v":"Testpatient i perioden fra d. 13-11-2023 til 18-12-2023 - Kokain i forhold til BVC og SOAS"}]
["2023-11-13"]
["Mandag",0,0,-2,-2,-2]
["2023-11-14"]
["Tirsdag",2,0,-2,-2,-2]
["2023-11-15"]
["Onsdag",1,0,-2,-2,-2]
["2023-11-16"]
["Torsdag",0,0,-2,-2,-2]
["2023-11-17"]
["Fredag",0,0,-2,-2,-2]
["2023-11-18"]
["Lørdag",3,1,-2,-2,-2]
["2023-11-19"]
["Søndag",0,0,-2,-2,-2]
["2023-11-20"]
["Mandag",0,0,-2,-2,-2]
["2023-11-21"]
["Tirsdag",0,0,-2,-2,-2]
["2023-11-22"]
["Onsdag",0,0,-2,-2,-2]
["2023-11-23"]
["Torsdag",0,0,-2,-2,-2]
["2023-11-24"]
["Fredag",0,0,-2,-2,-2]
["2023-11-25"]
["Lørdag",1,0,-2,-2,-2]
["2023-11-26"]
["Søndag",0,0,-2,-2,-2]
["2023-11-27"]
["Mandag",0,0,-2,-2,-2]
["2023-11-28"]
["Tirsdag",2,0,-2,-2,-2]
["2023-11-29"]
["Onsdag",0,0,-2,-2,-2]
["2023-11-30"]
["Torsdag",0,0,-2,-2,-2]
["2023-12-01"]
["Fredag",0,0,-2,-2,-2]
["2023-12-02"]
["Lørdag",0,0,-2,-2,-2]
["2023-12-03"]
["Søndag",0,0,-2,-2,-2]
["2023-12-04"]
["Mandag",0,0,-2,-2,-2]
["2023-12-05"]
["Tirsdag",1,0,-2,-2,-2]
["2023-12-06"]
["Onsdag",0,0,-2,-2,-2]
["2023-12-07"]
["Torsdag",4,2,-2,-2,-2]
["2023-12-08"]
["Fredag",0,0,-2,-2,-2]
["2023-12-09"]
["Lørdag",0,0,-2,-2,-2]
["2023-12-10"]
["Søndag",0,0,-2,-2,-2]
["2023-12-11"]
["Mandag",0,0,-2,-2,-2]
["2023-12-12"]
["Tirsdag",0,0,-2,-2,-2]
["2023-12-13"]
["Onsdag",0,0,-2,-2,-2]
["2023-12-14"]
["Torsdag",0,0,-2,-2,-2]
["2023-12-15"]
["Fredag",0,0,-2,-2,-2]
["2023-12-16"]
["Lørdag",0,0,-2,-2,-2]
["2023-12-17"]
["Søndag",0,0,-2,-2,-2]
["2023-12-18"]
["Mandag",0,0,-2,-2,-2]

{"sheet":"X1","index":9,"n_rows":111,"n_cols":11,"rows_kept":111,"cut":false,"hidden":false,"merged":[]}
[]
[null,null,null,null,null,null,null,null,null,{"$f":"Indtastning!$D$2 & \" - X1 i forhold til BVC og SOAS\"","v":"Testpatient i perioden fra d. 13-11-2023 til 18-12-2023 - X1 i forhold til BVC og SOAS"}]
[]
[]
[]
[]
[]
[]
[]
[]
[]
[]
[]
[]
[]
[]
[]
[]
[]
[]
[]
[]
[]
[]
[]
[]
[]
[]
[]
[]
[]
[]
[]
[]
[]
[]
[]
[null,null,null,null,null,"Rækkenavne","BVC","SOAS","Positiv","Negativ","Ikke Afgivet"]
[null,null,null,null,null,"2023-11-13"]
[null,null,null,null,null,"Mandag",0,0,-2,-2,-2]
[null,null,null,null,null,"2023-11-14"]
[null,null,null,null,null,"Tirsdag",2,0,-2,-2,-2]
[null,null,null,null,null,"2023-11-15"]
[null,null,null,null,null,"Onsdag",1,0,-2,-2,-2]
[null,null,null,null,null,"2023-11-16"]
[null,null,null,null,null,"Torsdag",0,0,-2,-2,-2]
[null,null,null,null,null,"2023-11-17"]
[null,null,null,null,null,"Fredag",0,0,-2,-2,-2]
[null,null,null,null,null,"2023-11-18"]
[null,null,null,null,null,"Lørdag",3,1,-2,-2,-2]
[null,null,null,null,null,"2023-11-19"]
[null,null,null,null,null,"Søndag",0,0,-2,-2,-2]
[null,null,null,null,null,"2023-11-20"]
[null,null,null,null,null,"Mandag",0,0,-2,-2,-2]
[null,null,null,null,null,"2023-11-21"]
[null,null,null,null,null,"Tirsdag",0,0,1,-2,-2]
[null,null,null,null,null,"2023-11-22"]
[null,null,null,null,null,"Onsdag",0,0,-2,-2,-2]
[null,null,null,null,null,"2023-11-23"]
[null,null,null,null,null,"Torsdag",0,0,-2,-2,-2]
[null,null,null,null,null,"2023-11-24"]
[null,null,null,null,null,"Fredag",0,0,-2,-2,-2]
[null,null,null,null,null,"2023-11-25"]
[null,null,null,null,null,"Lørdag",1,0,-2,-2,-2]
[null,null,null,null,null,"2023-11-26"]
[null,null,null,null,null,"Søndag",0,0,-2,-2,-2]
[null,null,null,null,null,"2023-11-27"]
[null,null,null,null,null,"Mandag",0,0,-2,-2,-2]
[null,null,null,null,null,"2023-11-28"]
[null,null,null,null,null,"Tirsdag",2,0,1,-2,-2]
[null,null,null,null,null,"2023-11-29"]
[null,null,null,null,null,"Onsdag",0,0,-2,-2,-2]
[null,null,null,null,null,"2023-11-30"]
[null,null,null,null,null,"Torsdag",0,0,-2,-2,-2]
[null,null,null,null,null,"2023-12-01"]
[null,null,null,null,null,"Fredag",0,0,-2,-2,-2]
[null,null,null,null,null,"2023-12-02"]
[null,null,null,null,null,"Lørdag",0,0,-2,-2,-2]
[null,null,null,null,null,"2023-12-03"]
[null,null,null,null,null,"Søndag",0,0,-2,-2,-2]
[null,null,null,null,null,"2023-12-04"]
[null,null,null,null,null,"Mandag",0,0,-2,-2,-2]
[null,null,null,null,null,"2023-12-05"]
[null,null,null,null,null,"Tirsdag",1,0,1,-2,-2]
[null,null,null,null,null,"2023-12-06"]
[null,null,null,null,null,"Onsdag",0,0,-2,-2,-2]
[null,null,null,null,null,"2023-12-07"]
[null,null,null,null,null,"Torsdag",4,2,-2,-2,-2]
[null,null,null,null,null,"2023-12-08"]
[null,null,null,null,null,"Fredag",0,0,-2,-2,-2]
[null,null,null,null,null,"2023-12-09"]
[null,null,null,null,null,"Lørdag",0,0,-2,-2,-2]
[null,null,null,null,null,"2023-12-10"]
[null,null,null,null,null,"Søndag",0,0,-2,-2,-2]
[null,null,null,null,null,"2023-12-11"]
[null,null,null,null,null,"Mandag",0,0,-2,-2,-2]
[null,null,null,null,null,"2023-12-12"]
[null,null,null,null,null,"Tirsdag",0,0,-2,-1,-2]
[null,null,null,null,null,"2023-12-13"]
[null,null,null,null,null,"Onsdag",0,0,-2,-2,-2]
[null,null,null,null,null,"2023-12-14"]
[null,null,null,null,null,"Torsdag",0,0,-2,-2,-2]
[null,null,null,null,null,"2023-12-15"]
[null,null,null,null,null,"Fredag",0,0,-2,-2,-2]
[null,null,null,null,null,"2023-12-16"]
[null,null,null,null,null,"Lørdag",0,0,-2,-2,-2]
[null,null,null,null,null,"2023-12-17"]
[null,null,null,null,null,"Søndag",0,0,-2,-2,-2]
[null,null,null,null,null,"2023-12-18"]
[null,null,null,null,null,"Mandag",0,0,-2,-2,-2]
[null,null,null,null,null,"Hovedtotal",14,3,-63,-71,-72]

{"sheet":"Samlet Misbrug","index":10,"n_rows":999,"n_cols":74,"rows_kept":999,"cut":false,"hidden":false,"merged":[]}
["Rækkenavne","Sum af BVC Højeste","Sum af SOAS Højeste","Sum af AmfPos","Sum af AmfNeg","Sum af AmfIkke","Sum af KokPos","Sum af KokNeg","Sum af KokIkke","Sum af X1Pos","Sum af X1Neg","Sum af X1Ikke","Sum af X2Pos","Sum af X2Neg","Sum af X2Ikke",null,null,null,null,null,null,null,null,null,null,null,null,null,null,null,null,null,null,null,null,null,null,null,null,null,null,null,"Antal Ikke Aflagt urinprøver",{"$f":"IF(Indtastning!Y:Y=\"Ikke Aflagt\",1,\"\")","v":""},{"$f":"SUM(AR:AR)","v":0},"Amfetamin",{"$f":"IF(Indtastning!U:U=\"Positiv\",1,\"\")","v":""},{"$f":"SUM(AU:AU)","v":1},{"$f":"IF(SUM(AV:AV)>0,1,0)","v":1},"Kokain",{"$f":"IF(Indtastning!Y:Y=\"Positiv\",1,\"\")","v":""},{"$f":"SUM(AY:AY)","v":0},{"$f":"IF(SUM(AZ:AZ)>0,1,0)","v":0},"Rusmiddel X1",{"$f":"IF(Indtastning!AC:AC=\"Positiv\",1,\"\")","v":""},{"$f":"SUM(BC:BC)","v":3},{"$f":"IF(SUM(BD:BD)>0,1,0)","v":1},null,null,null,null,"Blandingsmisbrug",{"$f":"IF(SUM(AV:AV)>0,1,0)","v":1},{"$f":"IF(SUM(AZ:AZ)>0,1,0)","v":0},{"$f":"IF(SUM(BD:BD)>0,1,0)","v":1},null,"Positive urinprøver i alt",{"$f":"SUM(AV1)+(AZ1)+(BD1)","v":4},{"$f":"SUM(AW1)+(BA1)+(BE1)","v":2},null,null,"Opmærksomhed ","Antal","RA faktor"]
["2023-11-13",null,null,null,null,null,null,null,null,null,null,null,null,null,null,null,null,null,null,null,null,null,null,null,null,null,{"$f":"[0]!PatientNavn & \" - Samlet misbrug i forhold til BVC og SOAS\"","v":"Testpatient i perioden fra d. 13-11-2023 til 18-12-2023 - Samlet misbrug i forhold til BVC og SOAS"},null,null,null,null,null,null,null,null,null,null,null,null,null,null,null,null,{"$f":"IF(Indtastning!Y:Y=\"Ikke Aflagt\",1,\"\")","v":""},null,null,{"$f":"IF(Indtastning!U:U=\"Positiv\",1,\"\")","v":""},null,null,null,{"$f":"IF(Indtastning!Y:Y=\"Positiv\",1,\"\")","v":""},null,null,null,{"$f":"IF(Indtastning!AC:AC=\"Positiv\",1,\"\")","v":""},null,null,null,null,null,null,null,null,null,null,null,null,null,null,null,null,"Flere ikke-aflagte urinprøver ",{"$f":"AS1","v":0},{"$f":"IF(BU2>1,1,0)","v":0}]
["Mandag",0,0,-2,-2,-2,-2,-2,-2,-2,-2,-2,-2,-2,-2,{"$f":"SUM(J3:O3)","v":-12},{"$f":"IF(SUM(J3:O3)>-10,1,0)","v":0},null,null,null,null,null,null,null,null,null,null,null,null,null,null,null,null,null,null,null,null,null,null,null,null,null,null,{"$f":"IF(Indtastning!Y:Y=\"Ikke Aflagt\",1,\"\")","v":""},null,null,{"$f":"IF(Indtastning!U:U=\"Positiv\",1,\"\")","v":""},null,null,null,{"$f":"IF(Indtastning!Y:Y=\"Positiv\",1,\"\")","v":""},null,null,null,{"$f":"IF(Indtastning!AC:AC=\"Positiv\",1,\"\")","v":""},null,null,null,null,null,null,null,null,null,null,null,null,null,null,null,null,"Flere rusmidler i perioden",{"$f":"(SUM(BK1:BM1))","v":2},{"$f":"IF(SUM(BK1:BN1)>1,1,0)","v":1}]
["2023-11-14",null,null,null,null,null,null,null,null,null,null,null,null,null,null,{"$f":"SUM(J4:O4)","v":0},{"$f":"IF(SUM(J4:O4)>-10,1,0)","v":1},null,null,null,null,null,null,null,null,null,null,null,null,null,null,null,null,null,null,null,null,null,null,null,null,null,null,{"$f":"IF(Indtastning!Y:Y=\"Ikke Aflagt\",1,\"\")","v":""},null,null,{"$f":"IF(Indtastning!U:U=\"Positiv\",1,\"\")","v":""},null,null,null,{"$f":"IF(Indtastning!Y:Y=\"Positiv\",1,\"\")","v":""},null,null,null,{"$f":"IF(Indtastning!AC:AC=\"Positiv\",1,\"\")","v":""}]
["Tirsdag",2,0,-2,-2,-2,-2,-2,-2,-2,-2,-2,-2,-2,-2,{"$f":"SUM(J5:O5)","v":-12},{"$f":"IF(SUM(J5:O5)>-10,1,0)","v":0},null,null,null,null,null,null,null,null,null,null,null,null,null,null,null,null,null,null,null,null,null,null,null,null,null,null,{"$f":"IF(Indtastning!Y:Y=\"Ikke Aflagt\",1,\"\")","v":""},null,null,{"$f":"IF(Indtastning!U:U=\"Positiv\",1,\"\")","v":""},null,null,null,{"$f":"IF(Indtastning!Y:Y=\"Positiv\",1,\"\")","v":""},null,null,null,{"$f":"IF(Indtastning!AC:AC=\"Positiv\",1,\"\")","v":""},null,null,null,null,null,null,null,null,null,null,null,null,null,null,"         Tilbagefald i perioden",null,null,{"$f":"BP1","v":4},{"$f":"IF(BP1>1,2,IF(BP1>0,0.5,0))","v":2}]
["2023-11-15",null,null,null,null,null,null,null,null,null,null,null,null,null,null,{"$f":"SUM(J6:O6)","v":0},1,null,null,null,null,null,null,null,null,null,null,null,null,null,null,null,null,null,null,null,null,null,null,null,null,null,null,{"$f":"IF(Indtastning!Y:Y=\"Ikke Aflagt\",1,\"\")","v":""},null,null,{"$f":"IF(Indtastning!U:U=\"Positiv\",1,\"\")","v":""},null,null,null,{"$f":"IF(Indtastning!Y:Y=\"Positiv\",1,\"\")","v":""},null,null,null,{"$f":"IF(Indtastning!AC:AC=\"Positiv\",1,\"\")","v":""}]
["Onsdag",1,0,-2,-2,-2,-2,-2,-2,-2,-2,-2,1,-2,-2,-9,1,null,null,null,null,null,null,null,null,null,null,null,null,null,null,null,null,null,null,null,null,null,null,null,null,null,null,{"$f":"IF(Indtastning!Y:Y=\"Ikke Aflagt\",1,\"\")","v":""},null,null,{"$f":"IF(Indtastning!U:U=\"Positiv\",1,\"\")","v":""},null,null,null,{"$f":"IF(Indtastning!Y:Y=\"Positiv\",1,\"\")","v":""},null,null,null,{"$f":"IF(Indtastning!AC:AC=\"Positiv\",1,\"\")","v":""}]
["2023-11-16",null,null,null,null,null,null,null,null,null,null,null,null,null,null,0,1,null,null,null,null,null,null,null,null,null,null,null,null,null,null,null,null,null,null,null,null,null,null,null,null,null,null,{"$f":"IF(Indtastning!Y:Y=\"Ikke Aflagt\",1,\"\")","v":""},null,null,{"$f":"IF(Indtastning!U:U=\"Positiv\",1,\"\")","v":""},null,null,null,{"$f":"IF(Indtastning!Y:Y=\"Positiv\",1,\"\")","v":""},null,null,null,{"$f":"IF(Indtastning!AC:AC=\"Positiv\",1,\"\")","v":""}]
["Torsdag",0,0,-2,-2,-2,-2,-2,-2,-2,-2,-2,-2,-2,-2,-12,0,null,null,null,null,null,null,null,null,null,null,null,null,null,null,null,null,null,null,null,null,null,null,null,null,null,null,{"$f":"IF(Indtastning!Y:Y=\"Ikke Aflagt\",1,\"\")","v":""},null,null,{"$f":"IF(Indtastning!U:U=\"Positiv\",1,\"\")","v":""},null,null,null,{"$f":"IF(Indtastning!Y:Y=\"Positiv\",1,\"\")","v":""},null,null,null,{"$f":"IF(Indtastning!AC:AC=\"Positiv\",1,\"\")","v":""}]
["2023-11-17",null,null,null,null,null,null,null,null,null,null,null,null,null,null,null,null,null,null,null,null,null,null,null,null,null,null,null,null,null,null,null,null,null,null,null,null,null,null,null,null,null,null,{"$f":"IF(Indtastning!Y:Y=\"Ikke Aflagt\",1,\"\")","v":""},null,null,{"$f":"IF(Indtastning!U:U=\"Positiv\",1,\"\")","v":""},null,null,null,{"$f":"IF(Indtastning!Y:Y=\"Positiv\",1,\"\")","v":""},null,null,null,{"$f":"IF(Indtastning!AC:AC=\"Positiv\",1,\"\")","v":""}]
["Fredag",0,0,-2,-2,-2,-2,-2,-2,-2,-2,-2,-2,-2,-2,null,null,null,null,null,null,null,null,null,null,null,null,null,null,null,null,null,null,null,null,null,null,null,null,null,null,null,null,{"$f":"IF(Indtastning!Y:Y=\"Ikke Aflagt\",1,\"\")","v":""},null,null,{"$f":"IF(Indtastning!U:U=\"Positiv\",1,\"\")","v":""},null,null,null,{"$f":"IF(Indtastning!Y:Y=\"Positiv\",1,\"\")","v":""},null,null,null,{"$f":"IF(Indtastning!AC:AC=\"Positiv\",1,\"\")","v":""}]
["2023-11-18",null,null,null,null,null,null,null,null,null,null,null,null,null,null,null,null,null,null,null,null,null,null,null,null,null,null,null,null,null,null,null,null,null,null,null,null,null,null,null,null,null,null,{"$f":"IF(Indtastning!Y:Y=\"Ikke Aflagt\",1,\"\")","v":""},null,null,{"$f":"IF(Indtastning!U:U=\"Positiv\",1,\"\")","v":""},null,null,null,{"$f":"IF(Indtastning!Y:Y=\"Positiv\",1,\"\")","v":""},null,null,null,{"$f":"IF(Indtastning!AC:AC=\"Positiv\",1,\"\")","v":""}]
["Lørdag",3,1,-2,-2,-2,-2,-2,-2,-2,-2,-2,-2,-2,-2,null,null,null,null,null,null,null,null,null,null,null,null,null,null,null,null,null,null,null,null,null,null,null,null,null,null,null,null,{"$f":"IF(Indtastning!Y:Y=\"Ikke Aflagt\",1,\"\")","v":""},null,null,{"$f":"IF(Indtastning!U:U=\"Positiv\",1,\"\")","v":""},null,null,null,{"$f":"IF(Indtastning!Y:Y=\"Positiv\",1,\"\")","v":""},null,null,null,{"$f":"IF(Indtastning!AC:AC=\"Positiv\",1,\"\")","v":""}]
["2023-11-19",null,null,null,null,null,null,null,null,null,null,null,null,null,null,null,null,null,null,null,null,null,null,null,null,null,null,null,null,null,null,null,null,null,null,null,null,null,null,null,null,null,null,{"$f":"IF(Indtastning!Y:Y=\"Ikke Aflagt\",1,\"\")","v":""},null,null,{"$f":"IF(Indtastning!U:U=\"Positiv\",1,\"\")","v":""},null,null,null,{"$f":"IF(Indtastning!Y:Y=\"Positiv\",1,\"\")","v":""},null,null,null,{"$f":"IF(Indtastning!AC:AC=\"Positiv\",1,\"\")","v":1}]
["Søndag",0,0,-2,-2,-2,-2,-2,-2,-2,-2,-2,-2,-2,-2,null,null,null,null,null,null,null,null,null,null,null,null,null,null,null,null,null,null,null,null,null,null,null,null,null,null,null,null,{"$f":"IF(Indtastning!Y:Y=\"Ikke Aflagt\",1,\"\")","v":""},null,null,{"$f":"IF(Indtastning!U:U=\"Positiv\",1,\"\")","v":""},null,null,null,{"$f":"IF(Indtastning!Y:Y=\"Positiv\",1,\"\")","v":""},null,null,null,{"$f":"IF(Indtastning!AC:AC=\"Positiv\",1,\"\")","v":""}]
["2023-11-20",null,null,null,null,null,null,null,null,null,null,null,null,null,null,null,null,null,null,null,null,null,null,null,null,null,null,null,null,null,null,null,null,null,null,null,null,null,null,null,null,null,null,{"$f":"IF(Indtastning!Y:Y=\"Ikke Aflagt\",1,\"\")","v":""},null,null,{"$f":"IF(Indtastning!U:U=\"Positiv\",1,\"\")","v":""},null,null,null,{"$f":"IF(Indtastning!Y:Y=\"Positiv\",1,\"\")","v":""},null,null,null,{"$f":"IF(Indtastning!AC:AC=\"Positiv\",1,\"\")","v":""}]
["Mandag",0,0,-2,-2,-2,-2,-2,-2,-2,-2,-2,-2,-2,-2,null,null,null,null,null,null,null,null,null,null,null,null,null,null,null,null,null,null,null,null,null,null,null,null,null,null,null,null,{"$f":"IF(Indtastning!Y:Y=\"Ikke Aflagt\",1,\"\")","v":""},null,null,{"$f":"IF(Indtastning!U:U=\"Positiv\",1,\"\")","v":""},null,null,null,{"$f":"IF(Indtastning!Y:Y=\"Positiv\",1,\"\")","v":""},null,null,null,{"$f":"IF(Indtastning!AC:AC=\"Positiv\",1,\"\")","v":""}]
["2023-11-21",null,null,null,null,null,null,null,null,null,null,null,null,null,null,null,null,null,null,null,null,null,null,null,null,null,null,null,null,null,null,null,null,null,null,null,null,null,null,null,null,null,null,{"$f":"IF(Indtastning!Y:Y=\"Ikke Aflagt\",1,\"\")","v":""},null,null,{"$f":"IF(Indtastning!U:U=\"Positiv\",1,\"\")","v":""},null,null,null,{"$f":"IF(Indtastning!Y:Y=\"Positiv\",1,\"\")","v":""},null,null,null,{"$f":"IF(Indtastning!AC:AC=\"Positiv\",1,\"\")","v":""}]
["Tirsdag",0,0,-2,-2,-2,-2,-2,-2,1,-2,-2,-2,-2,-2,null,null,null,null,null,null,null,null,null,null,null,null,null,null,null,null,null,null,null,null,null,null,null,null,null,null,null,null,{"$f":"IF(Indtastning!Y:Y=\"Ikke Aflagt\",1,\"\")","v":""},null,null,{"$f":"IF(Indtastning!U:U=\"Positiv\",1,\"\")","v":""},null,null,null,{"$f":"IF(Indtastning!Y:Y=\"Positiv\",1,\"\")","v":""},null,null,null,{"$f":"IF(Indtastning!AC:AC=\"Positiv\",1,\"\")","v":""}]
["2023-11-22",null,null,null,null,null,null,null,null,null,null,null,null,null,null,null,null,null,null,null,null,null,null,null,null,null,null,null,null,null,null,null,null,null,null,null,null,null,null,null,null,null,null,{"$f":"IF(Indtastning!Y:Y=\"Ikke Aflagt\",1,\"\")","v":""},null,null,{"$f":"IF(Indtastning!U:U=\"Positiv\",1,\"\")","v":""},null,null,null,{"$f":"IF(Indtastning!Y:Y=\"Positiv\",1,\"\")","v":""},null,null,null,{"$f":"IF(Indtastning!AC:AC=\"Positiv\",1,\"\")","v":""}]
["Onsdag",0,0,-2,-2,-2,-2,-2,-2,-2,-2,-2,-2,-2,-2,null,null,null,null,null,null,null,null,null,null,null,null,null,null,null,null,null,null,null,null,null,null,null,null,null,null,null,null,{"$f":"IF(Indtastning!Y:Y=\"Ikke Aflagt\",1,\"\")","v":""},null,null,{"$f":"IF(Indtastning!U:U=\"Positiv\",1,\"\")","v":""},null,null,null,{"$f":"IF(Indtastning!Y:Y=\"Positiv\",1,\"\")","v":""},null,null,null,{"$f":"IF(Indtastning!AC:AC=\"Positiv\",1,\"\")","v":1}]
["2023-11-23",null,null,null,null,null,null,null,null,null,null,null,null,null,null,null,null,null,null,null,null,null,null,null,null,null,null,null,null,null,null,null,null,null,null,null,null,null,null,null,null,null,null,{"$f":"IF(Indtastning!Y:Y=\"Ikke Aflagt\",1,\"\")","v":""},null,null,{"$f":"IF(Indtastning!U:U=\"Positiv\",1,\"\")","v":""},null,null,null,{"$f":"IF(Indtastning!Y:Y=\"Positiv\",1,\"\")","v":""},null,null,null,{"$f":"IF(Indtastning!AC:AC=\"Positiv\",1,\"\")","v":""}]
["Torsdag",0,0,-2,-2,-2,-2,-2,-2,-2,-2,-2,-2,-2,-2,null,null,null,null,null,null,null,null,null,null,null,null,null,null,null,null,null,null,null,null,null,null,null,null,null,null,null,null,{"$f":"IF(Indtastning!Y:Y=\"Ikke Aflagt\",1,\"\")","v":""},null,null,{"$f":"IF(Indtastning!U:U=\"Positiv\",1,\"\")","v":""},null,null,null,{"$f":"IF(Indtastning!Y:Y=\"Positiv\",1,\"\")","v":""},null,null,null,{"$f":"IF(Indtastning!AC:AC=\"Positiv\",1,\"\")","v":""}]
["2023-11-24",null,null,null,null,null,null,null,null,null,null,null,null,null,null,null,null,null,null,null,null,null,null,null,null,null,null,null,null,null,null,null,null,null,null,null,null,null,null,null,null,null,null,{"$f":"IF(Indtastning!Y:Y=\"Ikke Aflagt\",1,\"\")","v":""},null,null,{"$f":"IF(Indtastning!U:U=\"Positiv\",1,\"\")","v":""},null,null,null,{"$f":"IF(Indtastning!Y:Y=\"Positiv\",1,\"\")","v":""},null,null,null,{"$f":"IF(Indtastning!AC:AC=\"Positiv\",1,\"\")","v":""}]
["Fredag",0,0,-2,-2,-2,-2,-2,-2,-2,-2,-2,-2,-2,-2,null,null,null,null,null,null,null,null,null,null,null,null,null,null,null,null,null,null,null,null,null,null,null,null,null,null,null,null,{"$f":"IF(Indtastning!Y:Y=\"Ikke Aflagt\",1,\"\")","v":""},null,null,{"$f":"IF(Indtastning!U:U=\"Positiv\",1,\"\")","v":""},null,null,null,{"$f":"IF(Indtastning!Y:Y=\"Positiv\",1,\"\")","v":""},null,null,null,{"$f":"IF(Indtastning!AC:AC=\"Positiv\",1,\"\")","v":""}]
["2023-11-25",null,null,null,null,null,null,null,null,null,null,null,null,null,null,null,null,null,null,null,null,null,null,null,null,null,null,null,null,null,null,null,null,null,null,null,null,null,null,null,null,null,null,{"$f":"IF(Indtastning!Y:Y=\"Ikke Aflagt\",1,\"\")","v":""},null,null,{"$f":"IF(Indtastning!U:U=\"Positiv\",1,\"\")","v":""},null,null,null,{"$f":"IF(Indtastning!Y:Y=\"Positiv\",1,\"\")","v":""},null,null,null,{"$f":"IF(Indtastning!AC:AC=\"Positiv\",1,\"\")","v":""}]
["Lørdag",1,0,-2,-2,-2,-2,-2,-2,-2,-2,-2,-2,-2,-2,null,null,null,null,null,null,null,null,null,null,null,null,null,null,null,null,null,null,null,null,null,null,null,null,null,null,null,null,{"$f":"IF(Indtastning!Y:Y=\"Ikke Aflagt\",1,\"\")","v":""},null,null,{"$f":"IF(Indtastning!U:U=\"Positiv\",1,\"\")","v":""},null,null,null,{"$f":"IF(Indtastning!Y:Y=\"Positiv\",1,\"\")","v":""},null,null,null,{"$f":"IF(Indtastning!AC:AC=\"Positiv\",1,\"\")","v":""}]
["2023-11-26",null,null,null,null,null,null,null,null,null,null,null,null,null,null,null,null,null,null,null,null,null,null,null,null,null,null,null,null,null,null,null,null,null,null,null,null,null,null,null,null,null,null,{"$f":"IF(Indtastning!Y:Y=\"Ikke Aflagt\",1,\"\")","v":""},null,null,{"$f":"IF(Indtastning!U:U=\"Positiv\",1,\"\")","v":""},null,null,null,{"$f":"IF(Indtastning!Y:Y=\"Positiv\",1,\"\")","v":""},null,null,null,{"$f":"IF(Indtastning!AC:AC=\"Positiv\",1,\"\")","v":1}]
["Søndag",0,0,-2,-2,-2,-2,-2,-2,-2,-2,-2,-2,-2,-2,null,null,null,null,null,null,null,null,null,null,null,null,null,null,null,null,null,null,null,null,null,null,null,null,null,null,null,null,{"$f":"IF(Indtastning!Y:Y=\"Ikke Aflagt\",1,\"\")","v":""},null,null,{"$f":"IF(Indtastning!U:U=\"Positiv\",1,\"\")","v":""},null,null,null,{"$f":"IF(Indtastning!Y:Y=\"Positiv\",1,\"\")","v":""},null,null,null,{"$f":"IF(Indtastning!AC:AC=\"Positiv\",1,\"\")","v":""}]
["2023-11-27",null,null,null,null,null,null,null,null,null,null,null,null,null,null,null,null,null,null,null,null,null,null,null,null,null,null,null,null,null,null,null,null,null,null,null,null,null,null,null,null,null,null,{"$f":"IF(Indtastning!Y:Y=\"Ikke Aflagt\",1,\"\")","v":""},null,null,{"$f":"IF(Indtastning!U:U=\"Positiv\",1,\"\")","v":""},null,null,null,{"$f":"IF(Indtastning!Y:Y=\"Positiv\",1,\"\")","v":""},null,null,null,{"$f":"IF(Indtastning!AC:AC=\"Positiv\",1,\"\")","v":""}]
["Mandag",0,0,-2,-2,-2,-2,-2,-2,-2,-2,-2,-2,-2,-2,null,null,null,null,null,null,null,null,null,null,null,null,null,null,null,null,null,null,null,null,null,null,null,null,null,null,null,null,{"$f":"IF(Indtastning!Y:Y=\"Ikke Aflagt\",1,\"\")","v":""},null,null,{"$f":"IF(Indtastning!U:U=\"Positiv\",1,\"\")","v":""},null,null,null,{"$f":"IF(Indtastning!Y:Y=\"Positiv\",1,\"\")","v":""},null,null,null,{"$f":"IF(Indtastning!AC:AC=\"Positiv\",1,\"\")","v":""}]
["2023-11-28",null,null,null,null,null,null,null,null,null,null,null,null,null,null,null,null,null,null,null,null,null,null,null,null,null,null,null,null,null,null,null,null,null,null,null,null,null,null,null,null,null,null,{"$f":"IF(Indtastning!Y:Y=\"Ikke Aflagt\",1,\"\")","v":""},null,null,{"$f":"IF(Indtastning!U:U=\"Positiv\",1,\"\")","v":""},null,null,null,{"$f":"IF(Indtastning!Y:Y=\"Positiv\",1,\"\")","v":""},null,null,null,{"$f":"IF(Indtastning!AC:AC=\"Positiv\",1,\"\")","v":""}]
["Tirsdag",2,0,-2,-2,-2,-2,-2,-2,1,-2,-2,-2,-2,-2,null,null,null,null,null,null,null,null,null,null,null,null,null,null,null,null,null,null,null,null,null,null,null,null,null,null,null,null,{"$f":"IF(Indtastning!Y:Y=\"Ikke Aflagt\",1,\"\")","v":""},null,null,{"$f":"IF(Indtastning!U:U=\"Positiv\",1,\"\")","v":""},null,null,null,{"$f":"IF(Indtastning!Y:Y=\"Positiv\",1,\"\")","v":""},null,null,null,{"$f":"IF(Indtastning!AC:AC=\"Positiv\",1,\"\")","v":""}]
["2023-11-29",null,null,null,null,null,null,null,null,null,null,null,null,null,null,null,null,null,null,null,null,null,null,null,null,null,null,null,null,null,null,null,null,null,null,null,null,null,null,null,null,null,null,{"$f":"IF(Indtastning!Y:Y=\"Ikke Aflagt\",1,\"\")","v":""},null,null,{"$f":"IF(Indtastning!U:U=\"Positiv\",1,\"\")","v":""},null,null,null,{"$f":"IF(Indtastning!Y:Y=\"Positiv\",1,\"\")","v":""},null,null,null,{"$f":"IF(Indtastning!AC:AC=\"Positiv\",1,\"\")","v":""}]
["Onsdag",0,0,-2,-2,-2,-2,-2,-2,-2,-2,-2,1,-2,-2,null,null,null,null,null,null,null,null,null,null,null,null,null,null,null,null,null,null,null,null,null,null,null,null,null,null,null,null,{"$f":"IF(Indtastning!Y:Y=\"Ikke Aflagt\",1,\"\")","v":""},null,null,{"$f":"IF(Indtastning!U:U=\"Positiv\",1,\"\")","v":1},null,null,null,{"$f":"IF(Indtastning!Y:Y=\"Positiv\",1,\"\")","v":""},null,null,null,{"$f":"IF(Indtastning!AC:AC=\"Positiv\",1,\"\")","v":""}]
["2023-11-30",null,null,null,null,null,null,null,null,null,null,null,null,null,null,null,null,null,null,null,null,null,null,null,null,null,null,null,null,null,null,null,null,null,null,null,null,null,null,null,null,null,null,{"$f":"IF(Indtastning!Y:Y=\"Ikke Aflagt\",1,\"\")","v":""},null,null,{"$f":"IF(Indtastning!U:U=\"Positiv\",1,\"\")","v":""},null,null,null,{"$f":"IF(Indtastning!Y:Y=\"Positiv\",1,\"\")","v":""},null,null,null,{"$f":"IF(Indtastning!AC:AC=\"Positiv\",1,\"\")","v":""}]
["Torsdag",0,0,-2,-2,-2,-2,-2,-2,-2,-2,-2,-2,-2,-2,null,null,null,null,null,null,null,null,null,null,null,null,null,null,null,null,null,null,null,null,null,null,null,null,null,null,null,null,{"$f":"IF(Indtastning!Y:Y=\"Ikke Aflagt\",1,\"\")","v":""},null,null,{"$f":"IF(Indtastning!U:U=\"Positiv\",1,\"\")","v":""},null,null,null,{"$f":"IF(Indtastning!Y:Y=\"Positiv\",1,\"\")","v":""},null,null,null,{"$f":"IF(Indtastning!AC:AC=\"Positiv\",1,\"\")","v":""}]
["2023-12-01",null,null,null,null,null,null,null,null,null,null,null,null,null,null,null,null,null,null,null,null,null,null,null,null,null,null,null,null,null,null,null,null,null,null,null,null,null,null,null,null,null,null,{"$f":"IF(Indtastning!Y:Y=\"Ikke Aflagt\",1,\"\")","v":""},null,null,{"$f":"IF(Indtastning!U:U=\"Positiv\",1,\"\")","v":""},null,null,null,{"$f":"IF(Indtastning!Y:Y=\"Positiv\",1,\"\")","v":""},null,null,null,{"$f":"IF(Indtastning!AC:AC=\"Positiv\",1,\"\")","v":""}]
["Fredag",0,0,-2,-2,-2,-2,-2,-2,-2,-2,-2,-2,-2,-2,null,null,null,null,null,null,null,null,null,null,null,null,null,null,null,null,null,null,null,null,null,null,null,null,null,null,null,null,{"$f":"IF(Indtastning!Y:Y=\"Ikke Aflagt\",1,\"\")","v":""},null,null,{"$f":"IF(Indtastning!U:U=\"Positiv\",1,\"\")","v":""},null,null,null,{"$f":"IF(Indtastning!Y:Y=\"Positiv\",1,\"\")","v":""},null,null,null,{"$f":"IF(Indtastning!AC:AC=\"Positiv\",1,\"\")","v":""}]
["2023-12-02",null,null,null,null,null,null,null,null,null,null,null,null,null,null,null,null,null,null,null,null,null,null,null,null,null,null,null,null,null,null,null,null,null,null,null,null,null,null,null,null,null,null,{"$f":"IF(Indtastning!Y:Y=\"Ikke Aflagt\",1,\"\")","v":""},null,null,{"$f":"IF(Indtastning!U:U=\"Positiv\",1,\"\")","v":""},null,null,null,{"$f":"IF(Indtastning!Y:Y=\"Positiv\",1,\"\")","v":""},null,null,null,{"$f":"IF(Indtastning!AC:AC=\"Positiv\",1,\"\")","v":""}]
["Lørdag",0,0,-2,-2,-2,-2,-2,-2,-2,-2,-2,-2,-2,-2,null,null,null,null,null,null,null,null,null,null,null,null,null,null,null,null,null,null,null,null,null,null,null,null,null,null,null,null,{"$f":"IF(Indtastning!Y:Y=\"Ikke Aflagt\",1,\"\")","v":""},null,null,{"$f":"IF(Indtastning!U:U=\"Positiv\",1,\"\")","v":""},null,null,null,{"$f":"IF(Indtastning!Y:Y=\"Positiv\",1,\"\")","v":""},null,null,null,{"$f":"IF(Indtastning!AC:AC=\"Positiv\",1,\"\")","v":""}]
["2023-12-03",null,null,null,null,null,null,null,null,null,null,null,null,null,null,null,null,null,null,null,null,null,null,null,null,null,null,null,null,null,null,null,null,null,null,null,null,null,null,null,null,null,null,{"$f":"IF(Indtastning!Y:Y=\"Ikke Aflagt\",1,\"\")","v":""},null,null,{"$f":"IF(Indtastning!U:U=\"Positiv\",1,\"\")","v":""},null,null,null,{"$f":"IF(Indtastning!Y:Y=\"Positiv\",1,\"\")","v":""},null,null,null,{"$f":"IF(Indtastning!AC:AC=\"Positiv\",1,\"\")","v":""}]
["Søndag",0,0,-2,-2,-2,-2,-2,-2,-2,-2,-2,-2,-2,-2,null,null,null,null,null,null,null,null,null,null,null,null,null,null,null,null,null,null,null,null,null,null,null,null,null,null,null,null,{"$f":"IF(Indtastning!Y:Y=\"Ikke Aflagt\",1,\"\")","v":""},null,null,{"$f":"IF(Indtastning!U:U=\"Positiv\",1,\"\")","v":""},null,null,null,{"$f":"IF(Indtastning!Y:Y=\"Positiv\",1,\"\")","v":""},null,null,null,{"$f":"IF(Indtastning!AC:AC=\"Positiv\",1,\"\")","v":""}]
["2023-12-04",null,null,null,null,null,null,null,null,null,null,null,null,null,null,null,null,null,null,null,null,null,null,null,null,null,null,null,null,null,null,null,null,null,null,null,null,null,null,null,null,null,null,{"$f":"IF(Indtastning!Y:Y=\"Ikke Aflagt\",1,\"\")","v":""},null,null,{"$f":"IF(Indtastning!U:U=\"Positiv\",1,\"\")","v":""},null,null,null,{"$f":"IF(Indtastning!Y:Y=\"Positiv\",1,\"\")","v":""},null,null,null,{"$f":"IF(Indtastning!AC:AC=\"Positiv\",1,\"\")","v":""}]
["Mandag",0,0,-2,-2,-2,-2,-2,-2,-2,-2,-2,-2,-2,-2,null,null,null,null,null,null,null,null,null,null,null,null,null,null,null,null,null,null,null,null,null,null,null,null,null,null,null,null,{"$f":"IF(Indtastning!Y:Y=\"Ikke Aflagt\",1,\"\")","v":""},null,null,{"$f":"IF(Indtastning!U:U=\"Positiv\",1,\"\")","v":""},null,null,null,{"$f":"IF(Indtastning!Y:Y=\"Positiv\",1,\"\")","v":""},null,null,null,{"$f":"IF(Indtastning!AC:AC=\"Positiv\",1,\"\")","v":""}]
["2023-12-05",null,null,null,null,null,null,null,null,null,null,null,null,null,null,null,null,null,null,null,null,null,null,null,null,null,null,null,null,null,null,null,null,null,null,null,null,null,null,null,null,null,null,{"$f":"IF(Indtastning!Y:Y=\"Ikke Aflagt\",1,\"\")","v":""},null,null,{"$f":"IF(Indtastning!U:U=\"Positiv\",1,\"\")","v":""},null,null,null,{"$f":"IF(Indtastning!Y:Y=\"Positiv\",1,\"\")","v":""},null,null,null,{"$f":"IF(Indtastning!AC:AC=\"Positiv\",1,\"\")","v":""}]
["Tirsdag",1,0,-2,-2,-2,-2,-2,-2,1,-2,-2,-2,-2,-2,null,null,null,null,null,null,null,null,null,null,null,null,null,null,null,null,null,null,null,null,null,null,null,null,null,null,null,null,{"$f":"IF(Indtastning!Y:Y=\"Ikke Aflagt\",1,\"\")","v":""},null,null,{"$f":"IF(Indtastning!U:U=\"Positiv\",1,\"\")","v":""},null,null,null,{"$f":"IF(Indtastning!Y:Y=\"Positiv\",1,\"\")","v":""},null,null,null,{"$f":"IF(Indtastning!AC:AC=\"Positiv\",1,\"\")","v":""}]
["2023-12-06",null,null,null,null,null,null,null,null,null,null,null,null,null,null,null,null,null,null,null,null,null,null,null,null,null,null,null,null,null,null,null,null,null,null,null,null,null,null,null,null,null,null,{"$f":"IF(Indtastning!Y:Y=\"Ikke Aflagt\",1,\"\")","v":""},null,null,{"$f":"IF(Indtastning!U:U=\"Positiv\",1,\"\")","v":""},null,null,null,{"$f":"IF(Indtastning!Y:Y=\"Positiv\",1,\"\")","v":""},null,null,null,{"$f":"IF(Indtastning!AC:AC=\"Positiv\",1,\"\")","v":""}]
["Onsdag",0,0,-2,-2,-2,-2,-2,-2,-2,-2,-2,-2,-2,-2,null,null,null,null,null,null,null,null,null,null,null,null,null,null,null,null,null,null,null,null,null,null,null,null,null,null,null,null,{"$f":"IF(Indtastning!Y:Y=\"Ikke Aflagt\",1,\"\")","v":""},null,null,{"$f":"IF(Indtastning!U:U=\"Positiv\",1,\"\")","v":""},null,null,null,{"$f":"IF(Indtastning!Y:Y=\"Positiv\",1,\"\")","v":""},null,null,null,{"$f":"IF(Indtastning!AC:AC=\"Positiv\",1,\"\")","v":""}]
["2023-12-07",null,null,null,null,null,null,null,null,null,null,null,null,null,null,null,null,null,null,null,null,null,null,null,null,null,null,null,null,null,null,null,null,null,null,null,null,null,null,null,null,null,null,{"$f":"IF(Indtastning!Y:Y=\"Ikke Aflagt\",1,\"\")","v":""},null,null,{"$f":"IF(Indtastning!U:U=\"Positiv\",1,\"\")","v":""},null,null,null,{"$f":"IF(Indtastning!Y:Y=\"Positiv\",1,\"\")","v":""},null,null,null,{"$f":"IF(Indtastning!AC:AC=\"Positiv\",1,\"\")","v":""}]
["Torsdag",4,2,-2,-2,-2,-2,-2,-2,-2,-2,-2,-2,-2,-2,null,null,null,null,null,null,null,null,null,null,null,null,null,null,null,null,null,null,null,null,null,null,null,null,null,null,null,null,{"$f":"IF(Indtastning!Y:Y=\"Ikke Aflagt\",1,\"\")","v":""},null,null,{"$f":"IF(Indtastning!U:U=\"Positiv\",1,\"\")","v":""},null,null,null,{"$f":"IF(Indtastning!Y:Y=\"Positiv\",1,\"\")","v":""},null,null,null,{"$f":"IF(Indtastning!AC:AC=\"Positiv\",1,\"\")","v":""}]
["2023-12-08",null,null,null,null,null,null,null,null,null,null,null,null,null,null,null,null,null,null,null,null,null,null,null,null,null,null,null,null,null,null,null,null,null,null,null,null,null,null,null,null,null,null,{"$f":"IF(Indtastning!Y:Y=\"Ikke Aflagt\",1,\"\")","v":""},null,null,{"$f":"IF(Indtastning!U:U=\"Positiv\",1,\"\")","v":""},null,null,null,{"$f":"IF(Indtastning!Y:Y=\"Positiv\",1,\"\")","v":""},null,null,null,{"$f":"IF(Indtastning!AC:AC=\"Positiv\",1,\"\")","v":""}]
["Fredag",0,0,-2,-2,-2,-2,-2,-2,-2,-2,-2,-2,-2,-2,null,null,null,null,null,null,null,null,null,null,null,null,null,null,null,null,null,null,null,null,null,null,null,null,null,null,null,null,{"$f":"IF(Indtastning!Y:Y=\"Ikke Aflagt\",1,\"\")","v":""},null,null,{"$f":"IF(Indtastning!U:U=\"Positiv\",1,\"\")","v":""},null,null,null,{"$f":"IF(Indtastning!Y:Y=\"Positiv\",1,\"\")","v":""},null,null,null,{"$f":"IF(Indtastning!AC:AC=\"Positiv\",1,\"\")","v":""}]
["2023-12-09",null,null,null,null,null,null,null,null,null,null,null,null,null,null,null,null,null,null,null,null,null,null,null,null,null,null,null,null,null,null,null,null,null,null,null,null,null,null,null,null,null,null,{"$f":"IF(Indtastning!Y:Y=\"Ikke Aflagt\",1,\"\")","v":""},null,null,{"$f":"IF(Indtastning!U:U=\"Positiv\",1,\"\")","v":""},null,null,null,{"$f":"IF(Indtastning!Y:Y=\"Positiv\",1,\"\")","v":""},null,null,null,{"$f":"IF(Indtastning!AC:AC=\"Positiv\",1,\"\")","v":""}]
["Lørdag",0,0,-2,-2,-2,-2,-2,-2,-2,-2,-2,-2,-2,-2,null,null,null,null,null,null,null,null,null,null,null,null,null,null,null,null,null,null,null,null,null,null,null,null,null,null,null,null,{"$f":"IF(Indtastning!Y:Y=\"Ikke Aflagt\",1,\"\")","v":""},null,null,{"$f":"IF(Indtastning!U:U=\"Positiv\",1,\"\")","v":""},null,null,null,{"$f":"IF(Indtastning!Y:Y=\"Positiv\",1,\"\")","v":""},null,null,null,{"$f":"IF(Indtastning!AC:AC=\"Positiv\",1,\"\")","v":""}]
["2023-12-10",null,null,null,null,null,null,null,null,null,null,null,null,null,null,null,null,null,null,null,null,null,null,null,null,null,null,null,null,null,null,null,null,null,null,null,null,null,null,null,null,null,null,{"$f":"IF(Indtastning!Y:Y=\"Ikke Aflagt\",1,\"\")","v":""},null,null,{"$f":"IF(Indtastning!U:U=\"Positiv\",1,\"\")","v":""},null,null,null,{"$f":"IF(Indtastning!Y:Y=\"Positiv\",1,\"\")","v":""},null,null,null,{"$f":"IF(Indtastning!AC:AC=\"Positiv\",1,\"\")","v":""}]
["Søndag",0,0,-2,-2,-2,-2,-2,-2,-2,-2,-2,-2,-2,-2,null,null,null,null,null,null,null,null,null,null,null,null,null,null,null,null,null,null,null,null,null,null,null,null,null,null,null,null,{"$f":"IF(Indtastning!Y:Y=\"Ikke Aflagt\",1,\"\")","v":""},null,null,{"$f":"IF(Indtastning!U:U=\"Positiv\",1,\"\")","v":""},null,null,null,{"$f":"IF(Indtastning!Y:Y=\"Positiv\",1,\"\")","v":""},null,null,null,{"$f":"IF(Indtastning!AC:AC=\"Positiv\",1,\"\")","v":""}]
["2023-12-11",null,null,null,null,null,null,null,null,null,null,null,null,null,null,null,null,null,null,null,null,null,null,null,null,null,null,null,null,null,null,null,null,null,null,null,null,null,null,null,null,null,null,{"$f":"IF(Indtastning!Y:Y=\"Ikke Aflagt\",1,\"\")","v":""},null,null,{"$f":"IF(Indtastning!U:U=\"Positiv\",1,\"\")","v":""},null,null,null,{"$f":"IF(Indtastning!Y:Y=\"Positiv\",1,\"\")","v":""},null,null,null,{"$f":"IF(Indtastning!AC:AC=\"Positiv\",1,\"\")","v":""}]
["Mandag",0,0,-2,-2,-2,-2,-2,-2,-2,-2,-2,-2,-2,-2,null,null,null,null,null,null,null,null,null,null,null,null,null,null,null,null,null,null,null,null,null,null,null,null,null,null,null,null,{"$f":"IF(Indtastning!Y:Y=\"Ikke Aflagt\",1,\"\")","v":""},null,null,{"$f":"IF(Indtastning!U:U=\"Positiv\",1,\"\")","v":""},null,null,null,{"$f":"IF(Indtastning!Y:Y=\"Positiv\",1,\"\")","v":""},null,null,null,{"$f":"IF(Indtastning!AC:AC=\"Positiv\",1,\"\")","v":""}]
["2023-12-12",null,null,null,null,null,null,null,null,null,null,null,null,null,null,null,null,null,null,null,null,null,null,null,null,null,null,null,null,null,null,null,null,null,null,null,null,null,null,null,null,null,null,{"$f":"IF(Indtastning!Y:Y=\"Ikke Aflagt\",1,\"\")","v":""},null,null,{"$f":"IF(Indtastning!U:U=\"Positiv\",1,\"\")","v":""},null,null,null,{"$f":"IF(Indtastning!Y:Y=\"Positiv\",1,\"\")","v":""},null,null,null,{"$f":"IF(Indtastning!AC:AC=\"Positiv\",1,\"\")","v":""}]
["Tirsdag",0,0,1,-2,-2,-2,-2,-2,-2,-1,-2,-2,-2,-2,null,null,null,null,null,null,null,null,null,null,null,null,null,null,null,null,null,null,null,null,null,null,null,null,null,null,null,null,{"$f":"IF(Indtastning!Y:Y=\"Ikke Aflagt\",1,\"\")","v":""},null,null,{"$f":"IF(Indtastning!U:U=\"Positiv\",1,\"\")","v":""},null,null,null,{"$f":"IF(Indtastning!Y:Y=\"Positiv\",1,\"\")","v":""},null,null,null,{"$f":"IF(Indtastning!AC:AC=\"Positiv\",1,\"\")","v":""}]
["2023-12-13",null,null,null,null,null,null,null,null,null,null,null,null,null,null,null,null,null,null,null,null,null,null,null,null,null,null,null,null,null,null,null,null,null,null,null,null,null,null,null,null,null,null,{"$f":"IF(Indtastning!Y:Y=\"Ikke Aflagt\",1,\"\")","v":""},null,null,{"$f":"IF(Indtastning!U:U=\"Positiv\",1,\"\")","v":""},null,null,null,{"$f":"IF(Indtastning!Y:Y=\"Positiv\",1,\"\")","v":""},null,null,null,{"$f":"IF(Indtastning!AC:AC=\"Positiv\",1,\"\")","v":""}]
["Onsdag",0,0,-2,-2,-2,-2,-2,-2,-2,-2,-2,1,-2,-2,null,null,null,null,null,null,null,null,null,null,null,null,null,null,null,null,null,null,null,null,null,null,null,null,null,null,null,null,{"$f":"IF(Indtastning!Y:Y=\"Ikke Aflagt\",1,\"\")","v":""},null,null,{"$f":"IF(Indtastning!U:U=\"Positiv\",1,\"\")","v":""},null,null,null,{"$f":"IF(Indtastning!Y:Y=\"Positiv\",1,\"\")","v":""},null,null,null,{"$f":"IF(Indtastning!AC:AC=\"Positiv\",1,\"\")","v":""}]
["2023-12-14",null,null,null,null,null,null,null,null,null,null,null,null,null,null,null,null,null,null,null,null,null,null,null,null,null,null,null,null,null,null,null,null,null,null,null,null,null,null,null,null,null,null,{"$f":"IF(Indtastning!Y:Y=\"Ikke Aflagt\",1,\"\")","v":""},null,null,{"$f":"IF(Indtastning!U:U=\"Positiv\",1,\"\")","v":""},null,null,null,{"$f":"IF(Indtastning!Y:Y=\"Positiv\",1,\"\")","v":""},null,null,null,{"$f":"IF(Indtastning!AC:AC=\"Positiv\",1,\"\")","v":""}]
["Torsdag",0,0,-2,-2,-2,-2,-2,-2,-2,-2,-2,-2,-2,-2,null,null,null,null,null,null,null,null,null,null,null,null,null,null,null,null,null,null,null,null,null,null,null,null,null,null,null,null,{"$f":"IF(Indtastning!Y:Y=\"Ikke Aflagt\",1,\"\")","v":""},null,null,{"$f":"IF(Indtastning!U:U=\"Positiv\",1,\"\")","v":""},null,null,null,{"$f":"IF(Indtastning!Y:Y=\"Positiv\",1,\"\")","v":""},null,null,null,{"$f":"IF(Indtastning!AC:AC=\"Positiv\",1,\"\")","v":""}]
["2023-12-15",null,null,null,null,null,null,null,null,null,null,null,null,null,null,null,null,null,null,null,null,null,null,null,null,null,null,null,null,null,null,null,null,null,null,null,null,null,null,null,null,null,null,{"$f":"IF(Indtastning!Y:Y=\"Ikke Aflagt\",1,\"\")","v":""},null,null,{"$f":"IF(Indtastning!U:U=\"Positiv\",1,\"\")","v":""},null,null,null,{"$f":"IF(Indtastning!Y:Y=\"Positiv\",1,\"\")","v":""},null,null,null,{"$f":"IF(Indtastning!AC:AC=\"Positiv\",1,\"\")","v":""}]
["Fredag",0,0,-2,-2,-2,-2,-2,-2,-2,-2,-2,-2,-2,-2,null,null,null,null,null,null,null,null,null,null,null,null,null,null,null,null,null,null,null,null,null,null,null,null,null,null,null,null,{"$f":"IF(Indtastning!Y:Y=\"Ikke Aflagt\",1,\"\")","v":""},null,null,{"$f":"IF(Indtastning!U:U=\"Positiv\",1,\"\")","v":""},null,null,null,{"$f":"IF(Indtastning!Y:Y=\"Positiv\",1,\"\")","v":""},null,null,null,{"$f":"IF(Indtastning!AC:AC=\"Positiv\",1,\"\")","v":""}]
["2023-12-16",null,null,null,null,null,null,null,null,null,null,null,null,null,null,null,null,null,null,null,null,null,null,null,null,null,null,null,null,null,null,null,null,null,null,null,null,null,null,null,null,null,null,{"$f":"IF(Indtastning!Y:Y=\"Ikke Aflagt\",1,\"\")","v":""},null,null,{"$f":"IF(Indtastning!U:U=\"Positiv\",1,\"\")","v":""},null,null,null,{"$f":"IF(Indtastning!Y:Y=\"Positiv\",1,\"\")","v":""},null,null,null,{"$f":"IF(Indtastning!AC:AC=\"Positiv\",1,\"\")","v":""}]
["Lørdag",0,0,-2,-2,-2,-2,-2,-2,-2,-2,-2,-2,-2,-2,null,null,null,null,null,null,null,null,null,null,null,null,null,null,null,null,null,null,null,null,null,null,null,null,null,null,null,null,{"$f":"IF(Indtastning!Y:Y=\"Ikke Aflagt\",1,\"\")","v":""},null,null,{"$f":"IF(Indtastning!U:U=\"Positiv\",1,\"\")","v":""},null,null,null,{"$f":"IF(Indtastning!Y:Y=\"Positiv\",1,\"\")","v":""},null,null,null,{"$f":"IF(Indtastning!AC:AC=\"Positiv\",1,\"\")","v":""}]
["2023-12-17",null,null,null,null,null,null,null,null,null,null,null,null,null,null,null,null,null,null,null,null,null,null,null,null,null,null,null,null,null,null,null,null,null,null,null,null,null,null,null,null,null,null,{"$f":"IF(Indtastning!Y:Y=\"Ikke Aflagt\",1,\"\")","v":""},null,null,{"$f":"IF(Indtastning!U:U=\"Positiv\",1,\"\")","v":""},null,null,null,{"$f":"IF(Indtastning!Y:Y=\"Positiv\",1,\"\")","v":""},null,null,null,{"$f":"IF(Indtastning!AC:AC=\"Positiv\",1,\"\")","v":""}]
["Søndag",0,0,-2,-2,-2,-2,-2,-2,-2,-2,-2,-2,-2,-2,null,null,null,null,null,null,null,null,null,null,null,null,null,null,null,null,null,null,null,null,null,null,null,null,null,null,null,null,{"$f":"IF(Indtastning!Y:Y=\"Ikke Aflagt\",1,\"\")","v":""},null,null,{"$f":"IF(Indtastning!U:U=\"Positiv\",1,\"\")","v":""},null,null,null,{"$f":"IF(Indtastning!Y:Y=\"Positiv\",1,\"\")","v":""},null,null,null,{"$f":"IF(Indtastning!AC:AC=\"Positiv\",1,\"\")","v":""}]
["2023-12-18",null,null,null,null,null,null,null,null,null,null,null,null,null,null,null,null,null,null,null,null,null,null,null,null,null,null,null,null,null,null,null,null,null,null,null,null,null,null,null,null,null,null,{"$f":"IF(Indtastning!Y:Y=\"Ikke Aflagt\",1,\"\")","v":""},null,null,{"$f":"IF(Indtastning!U:U=\"Positiv\",1,\"\")","v":""},null,null,null,{"$f":"IF(Indtastning!Y:Y=\"Positiv\",1,\"\")","v":""},null,null,null,{"$f":"IF(Indtastning!AC:AC=\"Positiv\",1,\"\")","v":""}]
["Mandag",0,0,-2,-2,-2,-2,-2,-2,-2,-2,-2,-2,-2,-2,null,null,null,null,null,null,null,null,null,null,null,null,null,null,null,null,null,null,null,null,null,null,null,null,null,null,null,null,{"$f":"IF(Indtastning!Y:Y=\"Ikke Aflagt\",1,\"\")","v":""},null,null,{"$f":"IF(Indtastning!U:U=\"Positiv\",1,\"\")","v":""},null,null,null,{"$f":"IF(Indtastning!Y:Y=\"Positiv\",1,\"\")","v":""},null,null,null,{"$f":"IF(Indtastning!AC:AC=\"Positiv\",1,\"\")","v":""}]
["Hovedtotal",14,3,-69,-72,-72,-72,-72,-72,-63,-71,-72,-63,-72,-72,null,null,null,null,null,null,null,null,null,null,null,null,null,null,null,null,null,null,null,null,null,null,null,null,null,null,null,null,{"$f":"IF(Indtastning!Y:Y=\"Ikke Aflagt\",1,\"\")","v":""},null,null,{"$f":"IF(Indtastning!U:U=\"Positiv\",1,\"\")","v":""},null,null,null,{"$f":"IF(Indtastning!Y:Y=\"Positiv\",1,\"\")","v":""},null,null,null,{"$f":"IF(Indtastning!AC:AC=\"Positiv\",1,\"\")","v":""}]
[null,null,null,null,null,null,null,null,null,null,null,null,null,null,null,null,null,null,null,null,null,null,null,null,null,null,null,null,null,null,null,null,null,null,null,null,null,null,null,null,null,null,null,{"$f":"IF(Indtastning!Y:Y=\"Ikke Aflagt\",1,\"\")","v":""},null,null,{"$f":"IF(Indtastning!U:U=\"Positiv\",1,\"\")","v":""},null,null,null,{"$f":"IF(Indtastning!Y:Y=\"Positiv\",1,\"\")","v":""},null,null,null,{"$f":"IF(Indtastning!AC:AC=\"Positiv\",1,\"\")","v":""}]
[null,null,null,null,null,null,null,null,null,null,null,null,null,null,null,null,null,null,null,null,null,null,null,null,null,null,null,null,null,null,null,null,null,null,null,null,null,null,null,null,null,null,null,{"$f":"IF(Indtastning!Y:Y=\"Ikke Aflagt\",1,\"\")","v":""},null,null,{"$f":"IF(Indtastning!U:U=\"Positiv\",1,\"\")","v":""},null,null,null,{"$f":"IF(Indtastning!Y:Y=\"Positiv\",1,\"\")","v":""},null,null,null,{"$f":"IF(Indtastning!AC:AC=\"Positiv\",1,\"\")","v":""}]
[null,null,null,null,null,null,null,null,null,null,null,null,null,null,null,null,null,null,null,null,null,null,null,null,null,null,null,null,null,null,null,null,null,null,null,null,null,null,null,null,null,null,null,{"$f":"IF(Indtastning!Y:Y=\"Ikke Aflagt\",1,\"\")","v":""},null,null,{"$f":"IF(Indtastning!U:U=\"Positiv\",1,\"\")","v":""},null,null,null,{"$f":"IF(Indtastning!Y:Y=\"Positiv\",1,\"\")","v":""},null,null,null,{"$f":"IF(Indtastning!AC:AC=\"Positiv\",1,\"\")","v":""}]
[null,null,null,null,null,null,null,null,null,null,null,null,null,null,null,null,null,null,null,null,null,null,null,null,null,null,null,null,null,null,null,null,null,null,null,null,null,null,null,null,null,null,null,{"$f":"IF(Indtastning!Y:Y=\"Ikke Aflagt\",1,\"\")","v":""},null,null,{"$f":"IF(Indtastning!U:U=\"Positiv\",1,\"\")","v":""},null,null,null,{"$f":"IF(Indtastning!Y:Y=\"Positiv\",1,\"\")","v":""},null,null,null,{"$f":"IF(Indtastning!AC:AC=\"Positiv\",1,\"\")","v":""}]
[null,null,null,null,null,null,null,null,null,null,null,null,null,null,null,null,null,null,null,null,null,null,null,null,null,null,null,null,null,null,null,null,null,null,null,null,null,null,null,null,null,null,null,{"$f":"IF(Indtastning!Y:Y=\"Ikke Aflagt\",1,\"\")","v":""},null,null,{"$f":"IF(Indtastning!U:U=\"Positiv\",1,\"\")","v":""},null,null,null,{"$f":"IF(Indtastning!Y:Y=\"Positiv\",1,\"\")","v":""},null,null,null,{"$f":"IF(Indtastning!AC:AC=\"Positiv\",1,\"\")","v":""}]
[null,null,null,null,null,null,null,null,null,null,null,null,null,null,null,null,null,null,null,null,null,null,null,null,null,null,null,null,null,null,null,null,null,null,null,null,null,null,null,null,null,null,null,{"$f":"IF(Indtastning!Y:Y=\"Ikke Aflagt\",1,\"\")","v":""},null,null,{"$f":"IF(Indtastning!U:U=\"Positiv\",1,\"\")","v":""},null,null,null,{"$f":"IF(Indtastning!Y:Y=\"Positiv\",1,\"\")","v":""},null,null,null,{"$f":"IF(Indtastning!AC:AC=\"Positiv\",1,\"\")","v":""}]
[null,null,null,null,null,null,null,null,null,null,null,null,null,null,null,null,null,null,null,null,null,null,null,null,null,null,null,null,null,null,null,null,null,null,null,null,null,null,null,null,null,null,null,{"$f":"IF(Indtastning!Y:Y=\"Ikke Aflagt\",1,\"\")","v":""},null,null,{"$f":"IF(Indtastning!U:U=\"Positiv\",1,\"\")","v":""},null,null,null,{"$f":"IF(Indtastning!Y:Y=\"Positiv\",1,\"\")","v":""},null,null,null,{"$f":"IF(Indtastning!AC:AC=\"Positiv\",1,\"\")","v":""}]
[null,null,null,null,null,null,null,null,null,null,null,null,null,null,null,null,null,null,null,null,null,null,null,null,null,null,null,null,null,null,null,null,null,null,null,null,null,null,null,null,null,null,null,{"$f":"IF(Indtastning!Y:Y=\"Ikke Aflagt\",1,\"\")","v":""},null,null,{"$f":"IF(Indtastning!U:U=\"Positiv\",1,\"\")","v":""},null,null,null,{"$f":"IF(Indtastning!Y:Y=\"Positiv\",1,\"\")","v":""},null,null,null,{"$f":"IF(Indtastning!AC:AC=\"Positiv\",1,\"\")","v":""}]
[null,null,null,null,null,null,null,null,null,null,null,null,null,null,null,null,null,null,null,null,null,null,null,null,null,null,null,null,null,null,null,null,null,null,null,null,null,null,null,null,null,null,null,{"$f":"IF(Indtastning!Y:Y=\"Ikke Aflagt\",1,\"\")","v":""},null,null,{"$f":"IF(Indtastning!U:U=\"Positiv\",1,\"\")","v":""},null,null,null,{"$f":"IF(Indtastning!Y:Y=\"Positiv\",1,\"\")","v":""},null,null,null,{"$f":"IF(Indtastning!AC:AC=\"Positiv\",1,\"\")","v":""}]
[null,null,null,null,null,null,null,null,null,null,null,null,null,null,null,null,null,null,null,null,null,null,null,null,null,null,null,null,null,null,null,null,null,null,null,null,null,null,null,null,null,null,null,{"$f":"IF(Indtastning!Y:Y=\"Ikke Aflagt\",1,\"\")","v":""},null,null,{"$f":"IF(Indtastning!U:U=\"Positiv\",1,\"\")","v":""},null,null,null,{"$f":"IF(Indtastning!Y:Y=\"Positiv\",1,\"\")","v":""},null,null,null,{"$f":"IF(Indtastning!AC:AC=\"Positiv\",1,\"\")","v":""}]
[null,null,null,null,null,null,null,null,null,null,null,null,null,null,null,null,null,null,null,null,null,null,null,null,null,null,null,null,null,null,null,null,null,null,null,null,null,null,null,null,null,null,null,{"$f":"IF(Indtastning!Y:Y=\"Ikke Aflagt\",1,\"\")","v":""},null,null,{"$f":"IF(Indtastning!U:U=\"Positiv\",1,\"\")","v":""},null,null,null,{"$f":"IF(Indtastning!Y:Y=\"Positiv\",1,\"\")","v":""},null,null,null,{"$f":"IF(Indtastning!AC:AC=\"Positiv\",1,\"\")","v":""}]
[null,null,null,null,null,null,null,null,null,null,null,null,null,null,null,null,null,null,null,null,null,null,null,null,null,null,null,null,null,null,null,null,null,null,null,null,null,null,null,null,null,null,null,{"$f":"IF(Indtastning!Y:Y=\"Ikke Aflagt\",1,\"\")","v":""},null,null,{"$f":"IF(Indtastning!U:U=\"Positiv\",1,\"\")","v":""},null,null,null,{"$f":"IF(Indtastning!Y:Y=\"Positiv\",1,\"\")","v":""},null,null,null,{"$f":"IF(Indtastning!AC:AC=\"Positiv\",1,\"\")","v":""}]
[null,null,null,null,null,null,null,null,null,null,null,null,null,null,null,null,null,null,null,null,null,null,null,null,null,null,null,null,null,null,null,null,null,null,null,null,null,null,null,null,null,null,null,{"$f":"IF(Indtastning!Y:Y=\"Ikke Aflagt\",1,\"\")","v":""},null,null,{"$f":"IF(Indtastning!U:U=\"Positiv\",1,\"\")","v":""},null,null,null,{"$f":"IF(Indtastning!Y:Y=\"Positiv\",1,\"\")","v":""},null,null,null,{"$f":"IF(Indtastning!AC:AC=\"Positiv\",1,\"\")","v":""}]
[null,null,null,null,null,null,null,null,null,null,null,null,null,null,null,null,null,null,null,null,null,null,null,null,null,null,null,null,null,null,null,null,null,null,null,null,null,null,null,null,null,null,null,{"$f":"IF(Indtastning!Y:Y=\"Ikke Aflagt\",1,\"\")","v":""},null,null,{"$f":"IF(Indtastning!U:U=\"Positiv\",1,\"\")","v":""},null,null,null,{"$f":"IF(Indtastning!Y:Y=\"Positiv\",1,\"\")","v":""},null,null,null,{"$f":"IF(Indtastning!AC:AC=\"Positiv\",1,\"\")","v":""}]
[null,null,null,null,null,null,null,null,null,null,null,null,null,null,null,null,null,null,null,null,null,null,null,null,null,null,null,null,null,null,null,null,null,null,null,null,null,null,null,null,null,null,null,{"$f":"IF(Indtastning!Y:Y=\"Ikke Aflagt\",1,\"\")","v":""},null,null,{"$f":"IF(Indtastning!U:U=\"Positiv\",1,\"\")","v":""},null,null,null,{"$f":"IF(Indtastning!Y:Y=\"Positiv\",1,\"\")","v":""},null,null,null,{"$f":"IF(Indtastning!AC:AC=\"Positiv\",1,\"\")","v":""}]
[null,null,null,null,null,null,null,null,null,null,null,null,null,null,null,null,null,null,null,null,null,null,null,null,null,null,null,null,null,null,null,null,null,null,null,null,null,null,null,null,null,null,null,{"$f":"IF(Indtastning!Y:Y=\"Ikke Aflagt\",1,\"\")","v":""},null,null,{"$f":"IF(Indtastning!U:U=\"Positiv\",1,\"\")","v":""},null,null,null,{"$f":"IF(Indtastning!Y:Y=\"Positiv\",1,\"\")","v":""},null,null,null,{"$f":"IF(Indtastning!AC:AC=\"Positiv\",1,\"\")","v":""}]
[null,null,null,null,null,null,null,null,null,null,null,null,null,null,null,null,null,null,null,null,null,null,null,null,null,null,null,null,null,null,null,null,null,null,null,null,null,null,null,null,null,null,null,{"$f":"IF(Indtastning!Y:Y=\"Ikke Aflagt\",1,\"\")","v":""},null,null,{"$f":"IF(Indtastning!U:U=\"Positiv\",1,\"\")","v":""},null,null,null,{"$f":"IF(Indtastning!Y:Y=\"Positiv\",1,\"\")","v":""},null,null,null,{"$f":"IF(Indtastning!AC:AC=\"Positiv\",1,\"\")","v":""}]
[null,null,null,null,null,null,null,null,null,null,null,null,null,null,null,null,null,null,null,null,null,null,null,null,null,null,null,null,null,null,null,null,null,null,null,null,null,null,null,null,null,null,null,{"$f":"IF(Indtastning!Y:Y=\"Ikke Aflagt\",1,\"\")","v":""},null,null,{"$f":"IF(Indtastning!U:U=\"Positiv\",1,\"\")","v":""},null,null,null,{"$f":"IF(Indtastning!Y:Y=\"Positiv\",1,\"\")","v":""},null,null,null,{"$f":"IF(Indtastning!AC:AC=\"Positiv\",1,\"\")","v":""}]
[null,null,null,null,null,null,null,null,null,null,null,null,null,null,null,null,null,null,null,null,null,null,null,null,null,null,null,null,null,null,null,null,null,null,null,null,null,null,null,null,null,null,null,{"$f":"IF(Indtastning!Y:Y=\"Ikke Aflagt\",1,\"\")","v":""},null,null,{"$f":"IF(Indtastning!U:U=\"Positiv\",1,\"\")","v":""},null,null,null,{"$f":"IF(Indtastning!Y:Y=\"Positiv\",1,\"\")","v":""},null,null,null,{"$f":"IF(Indtastning!AC:AC=\"Positiv\",1,\"\")","v":""}]
[null,null,null,null,null,null,null,null,null,null,null,null,null,null,null,null,null,null,null,null,null,null,null,null,null,null,null,null,null,null,null,null,null,null,null,null,null,null,null,null,null,null,null,{"$f":"IF(Indtastning!Y:Y=\"Ikke Aflagt\",1,\"\")","v":""},null,null,{"$f":"IF(Indtastning!U:U=\"Positiv\",1,\"\")","v":""},null,null,null,{"$f":"IF(Indtastning!Y:Y=\"Positiv\",1,\"\")","v":""},null,null,null,{"$f":"IF(Indtastning!AC:AC=\"Positiv\",1,\"\")","v":""}]
[null,null,null,null,null,null,null,null,null,null,null,null,null,null,null,null,null,null,null,null,null,null,null,null,null,null,null,null,null,null,null,null,null,null,null,null,null,null,null,null,null,null,null,{"$f":"IF(Indtastning!Y:Y=\"Ikke Aflagt\",1,\"\")","v":""},null,null,{"$f":"IF(Indtastning!U:U=\"Positiv\",1,\"\")","v":""},null,null,null,{"$f":"IF(Indtastning!Y:Y=\"Positiv\",1,\"\")","v":""},null,null,null,{"$f":"IF(Indtastning!AC:AC=\"Positiv\",1,\"\")","v":""}]
[null,null,null,null,null,null,null,null,null,null,null,null,null,null,null,null,null,null,null,null,null,null,null,null,null,null,null,null,null,null,null,null,null,null,null,null,null,null,null,null,null,null,null,{"$f":"IF(Indtastning!Y:Y=\"Ikke Aflagt\",1,\"\")","v":""},null,null,{"$f":"IF(Indtastning!U:U=\"Positiv\",1,\"\")","v":""},null,null,null,{"$f":"IF(Indtastning!Y:Y=\"Positiv\",1,\"\")","v":""},null,null,null,{"$f":"IF(Indtastning!AC:AC=\"Positiv\",1,\"\")","v":""}]
[null,null,null,null,null,null,null,null,null,null,null,null,null,null,null,null,null,null,null,null,null,null,null,null,null,null,null,null,null,null,null,null,null,null,null,null,null,null,null,null,null,null,null,{"$f":"IF(Indtastning!Y:Y=\"Ikke Aflagt\",1,\"\")","v":""},null,null,{"$f":"IF(Indtastning!U:U=\"Positiv\",1,\"\")","v":""},null,null,null,{"$f":"IF(Indtastning!Y:Y=\"Positiv\",1,\"\")","v":""},null,null,null,{"$f":"IF(Indtastning!AC:AC=\"Positiv\",1,\"\")","v":""}]
[null,null,null,null,null,null,null,null,null,null,null,null,null,null,null,null,null,null,null,null,null,null,null,null,null,null,null,null,null,null,null,null,null,null,null,null,null,null,null,null,null,null,null,{"$f":"IF(Indtastning!Y:Y=\"Ikke Aflagt\",1,\"\")","v":""},null,null,{"$f":"IF(Indtastning!U:U=\"Positiv\",1,\"\")","v":""},null,null,null,{"$f":"IF(Indtastning!Y:Y=\"Positiv\",1,\"\")","v":""},null,null,null,{"$f":"IF(Indtastning!AC:AC=\"Positiv\",1,\"\")","v":""}]
[null,null,null,null,null,null,null,null,null,null,null,null,null,null,null,null,null,null,null,null,null,null,null,null,null,null,null,null,null,null,null,null,null,null,null,null,null,null,null,null,null,null,null,{"$f":"IF(Indtastning!Y:Y=\"Ikke Aflagt\",1,\"\")","v":""},null,null,{"$f":"IF(Indtastning!U:U=\"Positiv\",1,\"\")","v":""},null,null,null,{"$f":"IF(Indtastning!Y:Y=\"Positiv\",1,\"\")","v":""},null,null,null,{"$f":"IF(Indtastning!AC:AC=\"Positiv\",1,\"\")","v":""}]
[null,null,null,null,null,null,null,null,null,null,null,null,null,null,null,null,null,null,null,null,null,null,null,null,null,null,null,null,null,null,null,null,null,null,null,null,null,null,null,null,null,null,null,{"$f":"IF(Indtastning!Y:Y=\"Ikke Aflagt\",1,\"\")","v":""},null,null,{"$f":"IF(Indtastning!U:U=\"Positiv\",1,\"\")","v":""},null,null,null,{"$f":"IF(Indtastning!Y:Y=\"Positiv\",1,\"\")","v":""},null,null,null,{"$f":"IF(Indtastning!AC:AC=\"Positiv\",1,\"\")","v":""}]
[null,null,null,null,null,null,null,null,null,null,null,null,null,null,null,null,null,null,null,null,null,null,null,null,null,null,null,null,null,null,null,null,null,null,null,null,null,null,null,null,null,null,null,{"$f":"IF(Indtastning!Y:Y=\"Ikke Aflagt\",1,\"\")","v":""},null,null,{"$f":"IF(Indtastning!U:U=\"Positiv\",1,\"\")","v":""},null,null,null,{"$f":"IF(Indtastning!Y:Y=\"Positiv\",1,\"\")","v":""},null,null,null,{"$f":"IF(Indtastning!AC:AC=\"Positiv\",1,\"\")","v":""}]
[null,null,null,null,null,null,null,null,null,null,null,null,null,null,null,null,null,null,null,null,null,null,null,null,null,null,null,null,null,null,null,null,null,null,null,null,null,null,null,null,null,null,null,{"$f":"IF(Indtastning!Y:Y=\"Ikke Aflagt\",1,\"\")","v":""},null,null,{"$f":"IF(Indtastning!U:U=\"Positiv\",1,\"\")","v":""},null,null,null,{"$f":"IF(Indtastning!Y:Y=\"Positiv\",1,\"\")","v":""},null,null,null,{"$f":"IF(Indtastning!AC:AC=\"Positiv\",1,\"\")","v":""}]
[null,null,null,null,null,null,null,null,null,null,null,null,null,null,null,null,null,null,null,null,null,null,null,null,null,null,null,null,null,null,null,null,null,null,null,null,null,null,null,null,null,null,null,{"$f":"IF(Indtastning!Y:Y=\"Ikke Aflagt\",1,\"\")","v":""},null,null,{"$f":"IF(Indtastning!U:U=\"Positiv\",1,\"\")","v":""},null,null,null,{"$f":"IF(Indtastning!Y:Y=\"Positiv\",1,\"\")","v":""},null,null,null,{"$f":"IF(Indtastning!AC:AC=\"Positiv\",1,\"\")","v":""}]
[null,null,null,null,null,null,null,null,null,null,null,null,null,null,null,null,null,null,null,null,null,null,null,null,null,null,null,null,null,null,null,null,null,null,null,null,null,null,null,null,null,null,null,{"$f":"IF(Indtastning!Y:Y=\"Ikke Aflagt\",1,\"\")","v":""},null,null,{"$f":"IF(Indtastning!U:U=\"Positiv\",1,\"\")","v":""},null,null,null,{"$f":"IF(Indtastning!Y:Y=\"Positiv\",1,\"\")","v":""},null,null,null,{"$f":"IF(Indtastning!AC:AC=\"Positiv\",1,\"\")","v":""}]
[null,null,null,null,null,null,null,null,null,null,null,null,null,null,null,null,null,null,null,null,null,null,null,null,null,null,null,null,null,null,null,null,null,null,null,null,null,null,null,null,null,null,null,{"$f":"IF(Indtastning!Y:Y=\"Ikke Aflagt\",1,\"\")","v":""},null,null,{"$f":"IF(Indtastning!U:U=\"Positiv\",1,\"\")","v":""},null,null,null,{"$f":"IF(Indtastning!Y:Y=\"Positiv\",1,\"\")","v":""},null,null,null,{"$f":"IF(Indtastning!AC:AC=\"Positiv\",1,\"\")","v":""}]
[null,null,null,null,null,null,null,null,null,null,null,null,null,null,null,null,null,null,null,null,null,null,null,null,null,null,null,null,null,null,null,null,null,null,null,null,null,null,null,null,null,null,null,{"$f":"IF(Indtastning!Y:Y=\"Ikke Aflagt\",1,\"\")","v":""},null,null,{"$f":"IF(Indtastning!U:U=\"Positiv\",1,\"\")","v":""},null,null,null,{"$f":"IF(Indtastning!Y:Y=\"Positiv\",1,\"\")","v":""},null,null,null,{"$f":"IF(Indtastning!AC:AC=\"Positiv\",1,\"\")","v":""}]
[null,null,null,null,null,null,null,null,null,null,null,null,null,null,null,null,null,null,null,null,null,null,null,null,null,null,null,null,null,null,null,null,null,null,null,null,null,null,null,null,null,null,null,{"$f":"IF(Indtastning!Y:Y=\"Ikke Aflagt\",1,\"\")","v":""},null,null,{"$f":"IF(Indtastning!U:U=\"Positiv\",1,\"\")","v":""},null,null,null,{"$f":"IF(Indtastning!Y:Y=\"Positiv\",1,\"\")","v":""},null,null,null,{"$f":"IF(Indtastning!AC:AC=\"Positiv\",1,\"\")","v":""}]
[null,null,null,null,null,null,null,null,null,null,null,null,null,null,null,null,null,null,null,null,null,null,null,null,null,null,null,null,null,null,null,null,null,null,null,null,null,null,null,null,null,null,null,{"$f":"IF(Indtastning!Y:Y=\"Ikke Aflagt\",1,\"\")","v":""},null,null,{"$f":"IF(Indtastning!U:U=\"Positiv\",1,\"\")","v":""},null,null,null,{"$f":"IF(Indtastning!Y:Y=\"Positiv\",1,\"\")","v":""},null,null,null,{"$f":"IF(Indtastning!AC:AC=\"Positiv\",1,\"\")","v":""}]
[null,null,null,null,null,null,null,null,null,null,null,null,null,null,null,null,null,null,null,null,null,null,null,null,null,null,null,null,null,null,null,null,null,null,null,null,null,null,null,null,null,null,null,{"$f":"IF(Indtastning!Y:Y=\"Ikke Aflagt\",1,\"\")","v":""},null,null,{"$f":"IF(Indtastning!U:U=\"Positiv\",1,\"\")","v":""},null,null,null,{"$f":"IF(Indtastning!Y:Y=\"Positiv\",1,\"\")","v":""},null,null,null,{"$f":"IF(Indtastning!AC:AC=\"Positiv\",1,\"\")","v":""}]
[null,null,null,null,null,null,null,null,null,null,null,null,null,null,null,null,null,null,null,null,null,null,null,null,null,null,null,null,null,null,null,null,null,null,null,null,null,null,null,null,null,null,null,{"$f":"IF(Indtastning!Y:Y=\"Ikke Aflagt\",1,\"\")","v":""},null,null,{"$f":"IF(Indtastning!U:U=\"Positiv\",1,\"\")","v":""},null,null,null,{"$f":"IF(Indtastning!Y:Y=\"Positiv\",1,\"\")","v":""},null,null,null,{"$f":"IF(Indtastning!AC:AC=\"Positiv\",1,\"\")","v":""}]
[null,null,null,null,null,null,null,null,null,null,null,null,null,null,null,null,null,null,null,null,null,null,null,null,null,null,null,null,null,null,null,null,null,null,null,null,null,null,null,null,null,null,null,{"$f":"IF(Indtastning!Y:Y=\"Ikke Aflagt\",1,\"\")","v":""},null,null,{"$f":"IF(Indtastning!U:U=\"Positiv\",1,\"\")","v":""},null,null,null,{"$f":"IF(Indtastning!Y:Y=\"Positiv\",1,\"\")","v":""},null,null,null,{"$f":"IF(Indtastning!AC:AC=\"Positiv\",1,\"\")","v":""}]
[null,null,null,null,null,null,null,null,null,null,null,null,null,null,null,null,null,null,null,null,null,null,null,null,null,null,null,null,null,null,null,null,null,null,null,null,null,null,null,null,null,null,null,{"$f":"IF(Indtastning!Y:Y=\"Ikke Aflagt\",1,\"\")","v":""},null,null,{"$f":"IF(Indtastning!U:U=\"Positiv\",1,\"\")","v":""},null,null,null,{"$f":"IF(Indtastning!Y:Y=\"Positiv\",1,\"\")","v":""},null,null,null,{"$f":"IF(Indtastning!AC:AC=\"Positiv\",1,\"\")","v":""}]
[null,null,null,null,null,null,null,null,null,null,null,null,null,null,null,null,null,null,null,null,null,null,null,null,null,null,null,null,null,null,null,null,null,null,null,null,null,null,null,null,null,null,null,{"$f":"IF(Indtastning!Y:Y=\"Ikke Aflagt\",1,\"\")","v":""},null,null,{"$f":"IF(Indtastning!U:U=\"Positiv\",1,\"\")","v":""},null,null,null,{"$f":"IF(Indtastning!Y:Y=\"Positiv\",1,\"\")","v":""},null,null,null,{"$f":"IF(Indtastning!AC:AC=\"Positiv\",1,\"\")","v":""}]
[null,null,null,null,null,null,null,null,null,null,null,null,null,null,null,null,null,null,null,null,null,null,null,null,null,null,null,null,null,null,null,null,null,null,null,null,null,null,null,null,null,null,null,{"$f":"IF(Indtastning!Y:Y=\"Ikke Aflagt\",1,\"\")","v":""},null,null,{"$f":"IF(Indtastning!U:U=\"Positiv\",1,\"\")","v":""},null,null,null,{"$f":"IF(Indtastning!Y:Y=\"Positiv\",1,\"\")","v":""},null,null,null,{"$f":"IF(Indtastning!AC:AC=\"Positiv\",1,\"\")","v":""}]
[null,null,null,null,null,null,null,null,null,null,null,null,null,null,null,null,null,null,null,null,null,null,null,null,null,null,null,null,null,null,null,null,null,null,null,null,null,null,null,null,null,null,null,{"$f":"IF(Indtastning!Y:Y=\"Ikke Aflagt\",1,\"\")","v":""},null,null,{"$f":"IF(Indtastning!U:U=\"Positiv\",1,\"\")","v":""},null,null,null,{"$f":"IF(Indtastning!Y:Y=\"Positiv\",1,\"\")","v":""},null,null,null,{"$f":"IF(Indtastning!AC:AC=\"Positiv\",1,\"\")","v":""}]
[null,null,null,null,null,null,null,null,null,null,null,null,null,null,null,null,null,null,null,null,null,null,null,null,null,null,null,null,null,null,null,null,null,null,null,null,null,null,null,null,null,null,null,{"$f":"IF(Indtastning!Y:Y=\"Ikke Aflagt\",1,\"\")","v":""},null,null,{"$f":"IF(Indtastning!U:U=\"Positiv\",1,\"\")","v":""},null,null,null,{"$f":"IF(Indtastning!Y:Y=\"Positiv\",1,\"\")","v":""},null,null,null,{"$f":"IF(Indtastning!AC:AC=\"Positiv\",1,\"\")","v":""}]
[null,null,null,null,null,null,null,null,null,null,null,null,null,null,null,null,null,null,null,null,null,null,null,null,null,null,null,null,null,null,null,null,null,null,null,null,null,null,null,null,null,null,null,{"$f":"IF(Indtastning!Y:Y=\"Ikke Aflagt\",1,\"\")","v":""},null,null,{"$f":"IF(Indtastning!U:U=\"Positiv\",1,\"\")","v":""},null,null,null,{"$f":"IF(Indtastning!Y:Y=\"Positiv\",1,\"\")","v":""},null,null,null,{"$f":"IF(Indtastning!AC:AC=\"Positiv\",1,\"\")","v":""}]
[null,null,null,null,null,null,null,null,null,null,null,null,null,null,null,null,null,null,null,null,null,null,null,null,null,null,null,null,null,null,null,null,null,null,null,null,null,null,null,null,null,null,null,{"$f":"IF(Indtastning!Y:Y=\"Ikke Aflagt\",1,\"\")","v":""},null,null,{"$f":"IF(Indtastning!U:U=\"Positiv\",1,\"\")","v":""},null,null,null,{"$f":"IF(Indtastning!Y:Y=\"Positiv\",1,\"\")","v":""},null,null,null,{"$f":"IF(Indtastning!AC:AC=\"Positiv\",1,\"\")","v":""}]
[null,null,null,null,null,null,null,null,null,null,null,null,null,null,null,null,null,null,null,null,null,null,null,null,null,null,null,null,null,null,null,null,null,null,null,null,null,null,null,null,null,null,null,{"$f":"IF(Indtastning!Y:Y=\"Ikke Aflagt\",1,\"\")","v":""},null,null,{"$f":"IF(Indtastning!U:U=\"Positiv\",1,\"\")","v":""},null,null,null,{"$f":"IF(Indtastning!Y:Y=\"Positiv\",1,\"\")","v":""},null,null,null,{"$f":"IF(Indtastning!AC:AC=\"Positiv\",1,\"\")","v":""}]
[null,null,null,null,null,null,null,null,null,null,null,null,null,null,null,null,null,null,null,null,null,null,null,null,null,null,null,null,null,null,null,null,null,null,null,null,null,null,null,null,null,null,null,{"$f":"IF(Indtastning!Y:Y=\"Ikke Aflagt\",1,\"\")","v":""},null,null,{"$f":"IF(Indtastning!U:U=\"Positiv\",1,\"\")","v":""},null,null,null,{"$f":"IF(Indtastning!Y:Y=\"Positiv\",1,\"\")","v":""},null,null,null,{"$f":"IF(Indtastning!AC:AC=\"Positiv\",1,\"\")","v":""}]
[null,null,null,null,null,null,null,null,null,null,null,null,null,null,null,null,null,null,null,null,null,null,null,null,null,null,null,null,null,null,null,null,null,null,null,null,null,null,null,null,null,null,null,{"$f":"IF(Indtastning!Y:Y=\"Ikke Aflagt\",1,\"\")","v":""},null,null,{"$f":"IF(Indtastning!U:U=\"Positiv\",1,\"\")","v":""},null,null,null,{"$f":"IF(Indtastning!Y:Y=\"Positiv\",1,\"\")","v":""},null,null,null,{"$f":"IF(Indtastning!AC:AC=\"Positiv\",1,\"\")","v":""}]
[null,null,null,null,null,null,null,null,null,null,null,null,null,null,null,null,null,null,null,null,null,null,null,null,null,null,null,null,null,null,null,null,null,null,null,null,null,null,null,null,null,null,null,{"$f":"IF(Indtastning!Y:Y=\"Ikke Aflagt\",1,\"\")","v":""},null,null,{"$f":"IF(Indtastning!U:U=\"Positiv\",1,\"\")","v":""},null,null,null,{"$f":"IF(Indtastning!Y:Y=\"Positiv\",1,\"\")","v":""},null,null,null,{"$f":"IF(Indtastning!AC:AC=\"Positiv\",1,\"\")","v":""}]
[null,null,null,null,null,null,null,null,null,null,null,null,null,null,null,null,null,null,null,null,null,null,null,null,null,null,null,null,null,null,null,null,null,null,null,null,null,null,null,null,null,null,null,{"$f":"IF(Indtastning!Y:Y=\"Ikke Aflagt\",1,\"\")","v":""},null,null,{"$f":"IF(Indtastning!U:U=\"Positiv\",1,\"\")","v":""},null,null,null,{"$f":"IF(Indtastning!Y:Y=\"Positiv\",1,\"\")","v":""},null,null,null,{"$f":"IF(Indtastning!AC:AC=\"Positiv\",1,\"\")","v":""}]
[null,null,null,null,null,null,null,null,null,null,null,null,null,null,null,null,null,null,null,null,null,null,null,null,null,null,null,null,null,null,null,null,null,null,null,null,null,null,null,null,null,null,null,{"$f":"IF(Indtastning!Y:Y=\"Ikke Aflagt\",1,\"\")","v":""},null,null,{"$f":"IF(Indtastning!U:U=\"Positiv\",1,\"\")","v":""},null,null,null,{"$f":"IF(Indtastning!Y:Y=\"Positiv\",1,\"\")","v":""},null,null,null,{"$f":"IF(Indtastning!AC:AC=\"Positiv\",1,\"\")","v":""}]
[null,null,null,null,null,null,null,null,null,null,null,null,null,null,null,null,null,null,null,null,null,null,null,null,null,null,null,null,null,null,null,null,null,null,null,null,null,null,null,null,null,null,null,{"$f":"IF(Indtastning!Y:Y=\"Ikke Aflagt\",1,\"\")","v":""},null,null,{"$f":"IF(Indtastning!U:U=\"Positiv\",1,\"\")","v":""},null,null,null,{"$f":"IF(Indtastning!Y:Y=\"Positiv\",1,\"\")","v":""},null,null,null,{"$f":"IF(Indtastning!AC:AC=\"Positiv\",1,\"\")","v":""}]
[null,null,null,null,null,null,null,null,null,null,null,null,null,null,null,null,null,null,null,null,null,null,null,null,null,null,null,null,null,null,null,null,null,null,null,null,null,null,null,null,null,null,null,{"$f":"IF(Indtastning!Y:Y=\"Ikke Aflagt\",1,\"\")","v":""},null,null,{"$f":"IF(Indtastning!U:U=\"Positiv\",1,\"\")","v":""},null,null,null,{"$f":"IF(Indtastning!Y:Y=\"Positiv\",1,\"\")","v":""},null,null,null,{"$f":"IF(Indtastning!AC:AC=\"Positiv\",1,\"\")","v":""}]
[null,null,null,null,null,null,null,null,null,null,null,null,null,null,null,null,null,null,null,null,null,null,null,null,null,null,null,null,null,null,null,null,null,null,null,null,null,null,null,null,null,null,null,{"$f":"IF(Indtastning!Y:Y=\"Ikke Aflagt\",1,\"\")","v":""},null,null,{"$f":"IF(Indtastning!U:U=\"Positiv\",1,\"\")","v":""},null,null,null,{"$f":"IF(Indtastning!Y:Y=\"Positiv\",1,\"\")","v":""},null,null,null,{"$f":"IF(Indtastning!AC:AC=\"Positiv\",1,\"\")","v":""}]
[null,null,null,null,null,null,null,null,null,null,null,null,null,null,null,null,null,null,null,null,null,null,null,null,null,null,null,null,null,null,null,null,null,null,null,null,null,null,null,null,null,null,null,{"$f":"IF(Indtastning!Y:Y=\"Ikke Aflagt\",1,\"\")","v":""},null,null,{"$f":"IF(Indtastning!U:U=\"Positiv\",1,\"\")","v":""},null,null,null,{"$f":"IF(Indtastning!Y:Y=\"Positiv\",1,\"\")","v":""},null,null,null,{"$f":"IF(Indtastning!AC:AC=\"Positiv\",1,\"\")","v":""}]
[null,null,null,null,null,null,null,null,null,null,null,null,null,null,null,null,null,null,null,null,null,null,null,null,null,null,null,null,null,null,null,null,null,null,null,null,null,null,null,null,null,null,null,{"$f":"IF(Indtastning!Y:Y=\"Ikke Aflagt\",1,\"\")","v":""},null,null,{"$f":"IF(Indtastning!U:U=\"Positiv\",1,\"\")","v":""},null,null,null,{"$f":"IF(Indtastning!Y:Y=\"Positiv\",1,\"\")","v":""},null,null,null,{"$f":"IF(Indtastning!AC:AC=\"Positiv\",1,\"\")","v":""}]
[null,null,null,null,null,null,null,null,null,null,null,null,null,null,null,null,null,null,null,null,null,null,null,null,null,null,null,null,null,null,null,null,null,null,null,null,null,null,null,null,null,null,null,{"$f":"IF(Indtastning!Y:Y=\"Ikke Aflagt\",1,\"\")","v":""},null,null,{"$f":"IF(Indtastning!U:U=\"Positiv\",1,\"\")","v":""},null,null,null,{"$f":"IF(Indtastning!Y:Y=\"Positiv\",1,\"\")","v":""},null,null,null,{"$f":"IF(Indtastning!AC:AC=\"Positiv\",1,\"\")","v":""}]
[null,null,null,null,null,null,null,null,null,null,null,null,null,null,null,null,null,null,null,null,null,null,null,null,null,null,null,null,null,null,null,null,null,null,null,null,null,null,null,null,null,null,null,{"$f":"IF(Indtastning!Y:Y=\"Ikke Aflagt\",1,\"\")","v":""},null,null,{"$f":"IF(Indtastning!U:U=\"Positiv\",1,\"\")","v":""},null,null,null,{"$f":"IF(Indtastning!Y:Y=\"Positiv\",1,\"\")","v":""},null,null,null,{"$f":"IF(Indtastning!AC:AC=\"Positiv\",1,\"\")","v":""}]
[null,null,null,null,null,null,null,null,null,null,null,null,null,null,null,null,null,null,null,null,null,null,null,null,null,null,null,null,null,null,null,null,null,null,null,null,null,null,null,null,null,null,null,{"$f":"IF(Indtastning!Y:Y=\"Ikke Aflagt\",1,\"\")","v":""},null,null,{"$f":"IF(Indtastning!U:U=\"Positiv\",1,\"\")","v":""},null,null,null,{"$f":"IF(Indtastning!Y:Y=\"Positiv\",1,\"\")","v":""},null,null,null,{"$f":"IF(Indtastning!AC:AC=\"Positiv\",1,\"\")","v":""}]
[null,null,null,null,null,null,null,null,null,null,null,null,null,null,null,null,null,null,null,null,null,null,null,null,null,null,null,null,null,null,null,null,null,null,null,null,null,null,null,null,null,null,null,{"$f":"IF(Indtastning!Y:Y=\"Ikke Aflagt\",1,\"\")","v":""},null,null,{"$f":"IF(Indtastning!U:U=\"Positiv\",1,\"\")","v":""},null,null,null,{"$f":"IF(Indtastning!Y:Y=\"Positiv\",1,\"\")","v":""},null,null,null,{"$f":"IF(Indtastning!AC:AC=\"Positiv\",1,\"\")","v":""}]
[null,null,null,null,null,null,null,null,null,null,null,null,null,null,null,null,null,null,null,null,null,null,null,null,null,null,null,null,null,null,null,null,null,null,null,null,null,null,null,null,null,null,null,{"$f":"IF(Indtastning!Y:Y=\"Ikke Aflagt\",1,\"\")","v":""},null,null,{"$f":"IF(Indtastning!U:U=\"Positiv\",1,\"\")","v":""},null,null,null,{"$f":"IF(Indtastning!Y:Y=\"Positiv\",1,\"\")","v":""},null,null,null,{"$f":"IF(Indtastning!AC:AC=\"Positiv\",1,\"\")","v":""}]
[null,null,null,null,null,null,null,null,null,null,null,null,null,null,null,null,null,null,null,null,null,null,null,null,null,null,null,null,null,null,null,null,null,null,null,null,null,null,null,null,null,null,null,{"$f":"IF(Indtastning!Y:Y=\"Ikke Aflagt\",1,\"\")","v":""},null,null,{"$f":"IF(Indtastning!U:U=\"Positiv\",1,\"\")","v":""},null,null,null,{"$f":"IF(Indtastning!Y:Y=\"Positiv\",1,\"\")","v":""},null,null,null,{"$f":"IF(Indtastning!AC:AC=\"Positiv\",1,\"\")","v":""}]
[null,null,null,null,null,null,null,null,null,null,null,null,null,null,null,null,null,null,null,null,null,null,null,null,null,null,null,null,null,null,null,null,null,null,null,null,null,null,null,null,null,null,null,{"$f":"IF(Indtastning!Y:Y=\"Ikke Aflagt\",1,\"\")","v":""},null,null,{"$f":"IF(Indtastning!U:U=\"Positiv\",1,\"\")","v":""},null,null,null,{"$f":"IF(Indtastning!Y:Y=\"Positiv\",1,\"\")","v":""},null,null,null,{"$f":"IF(Indtastning!AC:AC=\"Positiv\",1,\"\")","v":""}]
[null,null,null,null,null,null,null,null,null,null,null,null,null,null,null,null,null,null,null,null,null,null,null,null,null,null,null,null,null,null,null,null,null,null,null,null,null,null,null,null,null,null,null,{"$f":"IF(Indtastning!Y:Y=\"Ikke Aflagt\",1,\"\")","v":""},null,null,{"$f":"IF(Indtastning!U:U=\"Positiv\",1,\"\")","v":""},null,null,null,{"$f":"IF(Indtastning!Y:Y=\"Positiv\",1,\"\")","v":""},null,null,null,{"$f":"IF(Indtastning!AC:AC=\"Positiv\",1,\"\")","v":""}]
[null,null,null,null,null,null,null,null,null,null,null,null,null,null,null,null,null,null,null,null,null,null,null,null,null,null,null,null,null,null,null,null,null,null,null,null,null,null,null,null,null,null,null,{"$f":"IF(Indtastning!Y:Y=\"Ikke Aflagt\",1,\"\")","v":""},null,null,{"$f":"IF(Indtastning!U:U=\"Positiv\",1,\"\")","v":""},null,null,null,{"$f":"IF(Indtastning!Y:Y=\"Positiv\",1,\"\")","v":""},null,null,null,{"$f":"IF(Indtastning!AC:AC=\"Positiv\",1,\"\")","v":""}]
[null,null,null,null,null,null,null,null,null,null,null,null,null,null,null,null,null,null,null,null,null,null,null,null,null,null,null,null,null,null,null,null,null,null,null,null,null,null,null,null,null,null,null,{"$f":"IF(Indtastning!Y:Y=\"Ikke Aflagt\",1,\"\")","v":""},null,null,{"$f":"IF(Indtastning!U:U=\"Positiv\",1,\"\")","v":""},null,null,null,{"$f":"IF(Indtastning!Y:Y=\"Positiv\",1,\"\")","v":""},null,null,null,{"$f":"IF(Indtastning!AC:AC=\"Positiv\",1,\"\")","v":""}]
[null,null,null,null,null,null,null,null,null,null,null,null,null,null,null,null,null,null,null,null,null,null,null,null,null,null,null,null,null,null,null,null,null,null,null,null,null,null,null,null,null,null,null,{"$f":"IF(Indtastning!Y:Y=\"Ikke Aflagt\",1,\"\")","v":""},null,null,{"$f":"IF(Indtastning!U:U=\"Positiv\",1,\"\")","v":""},null,null,null,{"$f":"IF(Indtastning!Y:Y=\"Positiv\",1,\"\")","v":""},null,null,null,{"$f":"IF(Indtastning!AC:AC=\"Positiv\",1,\"\")","v":""}]
[null,null,null,null,null,null,null,null,null,null,null,null,null,null,null,null,null,null,null,null,null,null,null,null,null,null,null,null,null,null,null,null,null,null,null,null,null,null,null,null,null,null,null,{"$f":"IF(Indtastning!Y:Y=\"Ikke Aflagt\",1,\"\")","v":""},null,null,{"$f":"IF(Indtastning!U:U=\"Positiv\",1,\"\")","v":""},null,null,null,{"$f":"IF(Indtastning!Y:Y=\"Positiv\",1,\"\")","v":""},null,null,null,{"$f":"IF(Indtastning!AC:AC=\"Positiv\",1,\"\")","v":""}]
[null,null,null,null,null,null,null,null,null,null,null,null,null,null,null,null,null,null,null,null,null,null,null,null,null,null,null,null,null,null,null,null,null,null,null,null,null,null,null,null,null,null,null,{"$f":"IF(Indtastning!Y:Y=\"Ikke Aflagt\",1,\"\")","v":""},null,null,{"$f":"IF(Indtastning!U:U=\"Positiv\",1,\"\")","v":""},null,null,null,{"$f":"IF(Indtastning!Y:Y=\"Positiv\",1,\"\")","v":""},null,null,null,{"$f":"IF(Indtastning!AC:AC=\"Positiv\",1,\"\")","v":""}]
[null,null,null,null,null,null,null,null,null,null,null,null,null,null,null,null,null,null,null,null,null,null,null,null,null,null,null,null,null,null,null,null,null,null,null,null,null,null,null,null,null,null,null,{"$f":"IF(Indtastning!Y:Y=\"Ikke Aflagt\",1,\"\")","v":""},null,null,{"$f":"IF(Indtastning!U:U=\"Positiv\",1,\"\")","v":""},null,null,null,{"$f":"IF(Indtastning!Y:Y=\"Positiv\",1,\"\")","v":""},null,null,null,{"$f":"IF(Indtastning!AC:AC=\"Positiv\",1,\"\")","v":""}]
[null,null,null,null,null,null,null,null,null,null,null,null,null,null,null,null,null,null,null,null,null,null,null,null,null,null,null,null,null,null,null,null,null,null,null,null,null,null,null,null,null,null,null,{"$f":"IF(Indtastning!Y:Y=\"Ikke Aflagt\",1,\"\")","v":""},null,null,{"$f":"IF(Indtastning!U:U=\"Positiv\",1,\"\")","v":""},null,null,null,{"$f":"IF(Indtastning!Y:Y=\"Positiv\",1,\"\")","v":""},null,null,null,{"$f":"IF(Indtastning!AC:AC=\"Positiv\",1,\"\")","v":""}]
[null,null,null,null,null,null,null,null,null,null,null,null,null,null,null,null,null,null,null,null,null,null,null,null,null,null,null,null,null,null,null,null,null,null,null,null,null,null,null,null,null,null,null,{"$f":"IF(Indtastning!Y:Y=\"Ikke Aflagt\",1,\"\")","v":""},null,null,{"$f":"IF(Indtastning!U:U=\"Positiv\",1,\"\")","v":""},null,null,null,{"$f":"IF(Indtastning!Y:Y=\"Positiv\",1,\"\")","v":""},null,null,null,{"$f":"IF(Indtastning!AC:AC=\"Positiv\",1,\"\")","v":""}]
[null,null,null,null,null,null,null,null,null,null,null,null,null,null,null,null,null,null,null,null,null,null,null,null,null,null,null,null,null,null,null,null,null,null,null,null,null,null,null,null,null,null,null,{"$f":"IF(Indtastning!Y:Y=\"Ikke Aflagt\",1,\"\")","v":""},null,null,{"$f":"IF(Indtastning!U:U=\"Positiv\",1,\"\")","v":""},null,null,null,{"$f":"IF(Indtastning!Y:Y=\"Positiv\",1,\"\")","v":""},null,null,null,{"$f":"IF(Indtastning!AC:AC=\"Positiv\",1,\"\")","v":""}]
[null,null,null,null,null,null,null,null,null,null,null,null,null,null,null,null,null,null,null,null,null,null,null,null,null,null,null,null,null,null,null,null,null,null,null,null,null,null,null,null,null,null,null,{"$f":"IF(Indtastning!Y:Y=\"Ikke Aflagt\",1,\"\")","v":""},null,null,{"$f":"IF(Indtastning!U:U=\"Positiv\",1,\"\")","v":""},null,null,null,{"$f":"IF(Indtastning!Y:Y=\"Positiv\",1,\"\")","v":""},null,null,null,{"$f":"IF(Indtastning!AC:AC=\"Positiv\",1,\"\")","v":""}]
[null,null,null,null,null,null,null,null,null,null,null,null,null,null,null,null,null,null,null,null,null,null,null,null,null,null,null,null,null,null,null,null,null,null,null,null,null,null,null,null,null,null,null,{"$f":"IF(Indtastning!Y:Y=\"Ikke Aflagt\",1,\"\")","v":""},null,null,{"$f":"IF(Indtastning!U:U=\"Positiv\",1,\"\")","v":""},null,null,null,{"$f":"IF(Indtastning!Y:Y=\"Positiv\",1,\"\")","v":""},null,null,null,{"$f":"IF(Indtastning!AC:AC=\"Positiv\",1,\"\")","v":""}]
[null,null,null,null,null,null,null,null,null,null,null,null,null,null,null,null,null,null,null,null,null,null,null,null,null,null,null,null,null,null,null,null,null,null,null,null,null,null,null,null,null,null,null,{"$f":"IF(Indtastning!Y:Y=\"Ikke Aflagt\",1,\"\")","v":""},null,null,{"$f":"IF(Indtastning!U:U=\"Positiv\",1,\"\")","v":""},null,null,null,{"$f":"IF(Indtastning!Y:Y=\"Positiv\",1,\"\")","v":""},null,null,null,{"$f":"IF(Indtastning!AC:AC=\"Positiv\",1,\"\")","v":""}]
[null,null,null,null,null,null,null,null,null,null,null,null,null,null,null,null,null,null,null,null,null,null,null,null,null,null,null,null,null,null,null,null,null,null,null,null,null,null,null,null,null,null,null,{"$f":"IF(Indtastning!Y:Y=\"Ikke Aflagt\",1,\"\")","v":""},null,null,{"$f":"IF(Indtastning!U:U=\"Positiv\",1,\"\")","v":""},null,null,null,{"$f":"IF(Indtastning!Y:Y=\"Positiv\",1,\"\")","v":""},null,null,null,{"$f":"IF(Indtastning!AC:AC=\"Positiv\",1,\"\")","v":""}]
[null,null,null,null,null,null,null,null,null,null,null,null,null,null,null,null,null,null,null,null,null,null,null,null,null,null,null,null,null,null,null,null,null,null,null,null,null,null,null,null,null,null,null,{"$f":"IF(Indtastning!Y:Y=\"Ikke Aflagt\",1,\"\")","v":""},null,null,{"$f":"IF(Indtastning!U:U=\"Positiv\",1,\"\")","v":""},null,null,null,{"$f":"IF(Indtastning!Y:Y=\"Positiv\",1,\"\")","v":""},null,null,null,{"$f":"IF(Indtastning!AC:AC=\"Positiv\",1,\"\")","v":""}]
[null,null,null,null,null,null,null,null,null,null,null,null,null,null,null,null,null,null,null,null,null,null,null,null,null,null,null,null,null,null,null,null,null,null,null,null,null,null,null,null,null,null,null,{"$f":"IF(Indtastning!Y:Y=\"Ikke Aflagt\",1,\"\")","v":""},null,null,{"$f":"IF(Indtastning!U:U=\"Positiv\",1,\"\")","v":""},null,null,null,{"$f":"IF(Indtastning!Y:Y=\"Positiv\",1,\"\")","v":""},null,null,null,{"$f":"IF(Indtastning!AC:AC=\"Positiv\",1,\"\")","v":""}]
[null,null,null,null,null,null,null,null,null,null,null,null,null,null,null,null,null,null,null,null,null,null,null,null,null,null,null,null,null,null,null,null,null,null,null,null,null,null,null,null,null,null,null,{"$f":"IF(Indtastning!Y:Y=\"Ikke Aflagt\",1,\"\")","v":""},null,null,{"$f":"IF(Indtastning!U:U=\"Positiv\",1,\"\")","v":""},null,null,null,{"$f":"IF(Indtastning!Y:Y=\"Positiv\",1,\"\")","v":""},null,null,null,{"$f":"IF(Indtastning!AC:AC=\"Positiv\",1,\"\")","v":""}]
[null,null,null,null,null,null,null,null,null,null,null,null,null,null,null,null,null,null,null,null,null,null,null,null,null,null,null,null,null,null,null,null,null,null,null,null,null,null,null,null,null,null,null,{"$f":"IF(Indtastning!Y:Y=\"Ikke Aflagt\",1,\"\")","v":""},null,null,{"$f":"IF(Indtastning!U:U=\"Positiv\",1,\"\")","v":""},null,null,null,{"$f":"IF(Indtastning!Y:Y=\"Positiv\",1,\"\")","v":""},null,null,null,{"$f":"IF(Indtastning!AC:AC=\"Positiv\",1,\"\")","v":""}]
[null,null,null,null,null,null,null,null,null,null,null,null,null,null,null,null,null,null,null,null,null,null,null,null,null,null,null,null,null,null,null,null,null,null,null,null,null,null,null,null,null,null,null,{"$f":"IF(Indtastning!Y:Y=\"Ikke Aflagt\",1,\"\")","v":""},null,null,{"$f":"IF(Indtastning!U:U=\"Positiv\",1,\"\")","v":""},null,null,null,{"$f":"IF(Indtastning!Y:Y=\"Positiv\",1,\"\")","v":""},null,null,null,{"$f":"IF(Indtastning!AC:AC=\"Positiv\",1,\"\")","v":""}]
[null,null,null,null,null,null,null,null,null,null,null,null,null,null,null,null,null,null,null,null,null,null,null,null,null,null,null,null,null,null,null,null,null,null,null,null,null,null,null,null,null,null,null,{"$f":"IF(Indtastning!Y:Y=\"Ikke Aflagt\",1,\"\")","v":""},null,null,{"$f":"IF(Indtastning!U:U=\"Positiv\",1,\"\")","v":""},null,null,null,{"$f":"IF(Indtastning!Y:Y=\"Positiv\",1,\"\")","v":""},null,null,null,{"$f":"IF(Indtastning!AC:AC=\"Positiv\",1,\"\")","v":""}]
[null,null,null,null,null,null,null,null,null,null,null,null,null,null,null,null,null,null,null,null,null,null,null,null,null,null,null,null,null,null,null,null,null,null,null,null,null,null,null,null,null,null,null,{"$f":"IF(Indtastning!Y:Y=\"Ikke Aflagt\",1,\"\")","v":""},null,null,{"$f":"IF(Indtastning!U:U=\"Positiv\",1,\"\")","v":""},null,null,null,{"$f":"IF(Indtastning!Y:Y=\"Positiv\",1,\"\")","v":""},null,null,null,{"$f":"IF(Indtastning!AC:AC=\"Positiv\",1,\"\")","v":""}]
[null,null,null,null,null,null,null,null,null,null,null,null,null,null,null,null,null,null,null,null,null,null,null,null,null,null,null,null,null,null,null,null,null,null,null,null,null,null,null,null,null,null,null,{"$f":"IF(Indtastning!Y:Y=\"Ikke Aflagt\",1,\"\")","v":""},null,null,{"$f":"IF(Indtastning!U:U=\"Positiv\",1,\"\")","v":""},null,null,null,{"$f":"IF(Indtastning!Y:Y=\"Positiv\",1,\"\")","v":""},null,null,null,{"$f":"IF(Indtastning!AC:AC=\"Positiv\",1,\"\")","v":""}]
[null,null,null,null,null,null,null,null,null,null,null,null,null,null,null,null,null,null,null,null,null,null,null,null,null,null,null,null,null,null,null,null,null,null,null,null,null,null,null,null,null,null,null,{"$f":"IF(Indtastning!Y:Y=\"Ikke Aflagt\",1,\"\")","v":""},null,null,{"$f":"IF(Indtastning!U:U=\"Positiv\",1,\"\")","v":""},null,null,null,{"$f":"IF(Indtastning!Y:Y=\"Positiv\",1,\"\")","v":""},null,null,null,{"$f":"IF(Indtastning!AC:AC=\"Positiv\",1,\"\")","v":""}]
[null,null,null,null,null,null,null,null,null,null,null,null,null,null,null,null,null,null,null,null,null,null,null,null,null,null,null,null,null,null,null,null,null,null,null,null,null,null,null,null,null,null,null,{"$f":"IF(Indtastning!Y:Y=\"Ikke Aflagt\",1,\"\")","v":""},null,null,{"$f":"IF(Indtastning!U:U=\"Positiv\",1,\"\")","v":""},null,null,null,{"$f":"IF(Indtastning!Y:Y=\"Positiv\",1,\"\")","v":""},null,null,null,{"$f":"IF(Indtastning!AC:AC=\"Positiv\",1,\"\")","v":""}]
[null,null,null,null,null,null,null,null,null,null,null,null,null,null,null,null,null,null,null,null,null,null,null,null,null,null,null,null,null,null,null,null,null,null,null,null,null,null,null,null,null,null,null,{"$f":"IF(Indtastning!Y:Y=\"Ikke Aflagt\",1,\"\")","v":""},null,null,{"$f":"IF(Indtastning!U:U=\"Positiv\",1,\"\")","v":""},null,null,null,{"$f":"IF(Indtastning!Y:Y=\"Positiv\",1,\"\")","v":""},null,null,null,{"$f":"IF(Indtastning!AC:AC=\"Positiv\",1,\"\")","v":""}]
[null,null,null,null,null,null,null,null,null,null,null,null,null,null,null,null,null,null,null,null,null,null,null,null,null,null,null,null,null,null,null,null,null,null,null,null,null,null,null,null,null,null,null,{"$f":"IF(Indtastning!Y:Y=\"Ikke Aflagt\",1,\"\")","v":""},null,null,{"$f":"IF(Indtastning!U:U=\"Positiv\",1,\"\")","v":""},null,null,null,{"$f":"IF(Indtastning!Y:Y=\"Positiv\",1,\"\")","v":""},null,null,null,{"$f":"IF(Indtastning!AC:AC=\"Positiv\",1,\"\")","v":""}]
[null,null,null,null,null,null,null,null,null,null,null,null,null,null,null,null,null,null,null,null,null,null,null,null,null,null,null,null,null,null,null,null,null,null,null,null,null,null,null,null,null,null,null,{"$f":"IF(Indtastning!Y:Y=\"Ikke Aflagt\",1,\"\")","v":""},null,null,{"$f":"IF(Indtastning!U:U=\"Positiv\",1,\"\")","v":""},null,null,null,{"$f":"IF(Indtastning!Y:Y=\"Positiv\",1,\"\")","v":""},null,null,null,{"$f":"IF(Indtastning!AC:AC=\"Positiv\",1,\"\")","v":""}]
[null,null,null,null,null,null,null,null,null,null,null,null,null,null,null,null,null,null,null,null,null,null,null,null,null,null,null,null,null,null,null,null,null,null,null,null,null,null,null,null,null,null,null,{"$f":"IF(Indtastning!Y:Y=\"Ikke Aflagt\",1,\"\")","v":""},null,null,{"$f":"IF(Indtastning!U:U=\"Positiv\",1,\"\")","v":""},null,null,null,{"$f":"IF(Indtastning!Y:Y=\"Positiv\",1,\"\")","v":""},null,null,null,{"$f":"IF(Indtastning!AC:AC=\"Positiv\",1,\"\")","v":""}]
[null,null,null,null,null,null,null,null,null,null,null,null,null,null,null,null,null,null,null,null,null,null,null,null,null,null,null,null,null,null,null,null,null,null,null,null,null,null,null,null,null,null,null,{"$f":"IF(Indtastning!Y:Y=\"Ikke Aflagt\",1,\"\")","v":""},null,null,{"$f":"IF(Indtastning!U:U=\"Positiv\",1,\"\")","v":""},null,null,null,{"$f":"IF(Indtastning!Y:Y=\"Positiv\",1,\"\")","v":""},null,null,null,{"$f":"IF(Indtastning!AC:AC=\"Positiv\",1,\"\")","v":""}]
[null,null,null,null,null,null,null,null,null,null,null,null,null,null,null,null,null,null,null,null,null,null,null,null,null,null,null,null,null,null,null,null,null,null,null,null,null,null,null,null,null,null,null,{"$f":"IF(Indtastning!Y:Y=\"Ikke Aflagt\",1,\"\")","v":""},null,null,{"$f":"IF(Indtastning!U:U=\"Positiv\",1,\"\")","v":""},null,null,null,{"$f":"IF(Indtastning!Y:Y=\"Positiv\",1,\"\")","v":""},null,null,null,{"$f":"IF(Indtastning!AC:AC=\"Positiv\",1,\"\")","v":""}]
[null,null,null,null,null,null,null,null,null,null,null,null,null,null,null,null,null,null,null,null,null,null,null,null,null,null,null,null,null,null,null,null,null,null,null,null,null,null,null,null,null,null,null,{"$f":"IF(Indtastning!Y:Y=\"Ikke Aflagt\",1,\"\")","v":""},null,null,{"$f":"IF(Indtastning!U:U=\"Positiv\",1,\"\")","v":""},null,null,null,{"$f":"IF(Indtastning!Y:Y=\"Positiv\",1,\"\")","v":""},null,null,null,{"$f":"IF(Indtastning!AC:AC=\"Positiv\",1,\"\")","v":""}]
[null,null,null,null,null,null,null,null,null,null,null,null,null,null,null,null,null,null,null,null,null,null,null,null,null,null,null,null,null,null,null,null,null,null,null,null,null,null,null,null,null,null,null,{"$f":"IF(Indtastning!Y:Y=\"Ikke Aflagt\",1,\"\")","v":""},null,null,{"$f":"IF(Indtastning!U:U=\"Positiv\",1,\"\")","v":""},null,null,null,{"$f":"IF(Indtastning!Y:Y=\"Positiv\",1,\"\")","v":""},null,null,null,{"$f":"IF(Indtastning!AC:AC=\"Positiv\",1,\"\")","v":""}]
[null,null,null,null,null,null,null,null,null,null,null,null,null,null,null,null,null,null,null,null,null,null,null,null,null,null,null,null,null,null,null,null,null,null,null,null,null,null,null,null,null,null,null,{"$f":"IF(Indtastning!Y:Y=\"Ikke Aflagt\",1,\"\")","v":""},null,null,{"$f":"IF(Indtastning!U:U=\"Positiv\",1,\"\")","v":""},null,null,null,{"$f":"IF(Indtastning!Y:Y=\"Positiv\",1,\"\")","v":""},null,null,null,{"$f":"IF(Indtastning!AC:AC=\"Positiv\",1,\"\")","v":""}]
[null,null,null,null,null,null,null,null,null,null,null,null,null,null,null,null,null,null,null,null,null,null,null,null,null,null,null,null,null,null,null,null,null,null,null,null,null,null,null,null,null,null,null,{"$f":"IF(Indtastning!Y:Y=\"Ikke Aflagt\",1,\"\")","v":""},null,null,{"$f":"IF(Indtastning!U:U=\"Positiv\",1,\"\")","v":""},null,null,null,{"$f":"IF(Indtastning!Y:Y=\"Positiv\",1,\"\")","v":""},null,null,null,{"$f":"IF(Indtastning!AC:AC=\"Positiv\",1,\"\")","v":""}]
[null,null,null,null,null,null,null,null,null,null,null,null,null,null,null,null,null,null,null,null,null,null,null,null,null,null,null,null,null,null,null,null,null,null,null,null,null,null,null,null,null,null,null,{"$f":"IF(Indtastning!Y:Y=\"Ikke Aflagt\",1,\"\")","v":""},null,null,{"$f":"IF(Indtastning!U:U=\"Positiv\",1,\"\")","v":""},null,null,null,{"$f":"IF(Indtastning!Y:Y=\"Positiv\",1,\"\")","v":""},null,null,null,{"$f":"IF(Indtastning!AC:AC=\"Positiv\",1,\"\")","v":""}]
[null,null,null,null,null,null,null,null,null,null,null,null,null,null,null,null,null,null,null,null,null,null,null,null,null,null,null,null,null,null,null,null,null,null,null,null,null,null,null,null,null,null,null,{"$f":"IF(Indtastning!Y:Y=\"Ikke Aflagt\",1,\"\")","v":""},null,null,{"$f":"IF(Indtastning!U:U=\"Positiv\",1,\"\")","v":""},null,null,null,{"$f":"IF(Indtastning!Y:Y=\"Positiv\",1,\"\")","v":""},null,null,null,{"$f":"IF(Indtastning!AC:AC=\"Positiv\",1,\"\")","v":""}]
[null,null,null,null,null,null,null,null,null,null,null,null,null,null,null,null,null,null,null,null,null,null,null,null,null,null,null,null,null,null,null,null,null,null,null,null,null,null,null,null,null,null,null,{"$f":"IF(Indtastning!Y:Y=\"Ikke Aflagt\",1,\"\")","v":""},null,null,{"$f":"IF(Indtastning!U:U=\"Positiv\",1,\"\")","v":""},null,null,null,{"$f":"IF(Indtastning!Y:Y=\"Positiv\",1,\"\")","v":""},null,null,null,{"$f":"IF(Indtastning!AC:AC=\"Positiv\",1,\"\")","v":""}]
[null,null,null,null,null,null,null,null,null,null,null,null,null,null,null,null,null,null,null,null,null,null,null,null,null,null,null,null,null,null,null,null,null,null,null,null,null,null,null,null,null,null,null,{"$f":"IF(Indtastning!Y:Y=\"Ikke Aflagt\",1,\"\")","v":""},null,null,{"$f":"IF(Indtastning!U:U=\"Positiv\",1,\"\")","v":""},null,null,null,{"$f":"IF(Indtastning!Y:Y=\"Positiv\",1,\"\")","v":""},null,null,null,{"$f":"IF(Indtastning!AC:AC=\"Positiv\",1,\"\")","v":""}]
[null,null,null,null,null,null,null,null,null,null,null,null,null,null,null,null,null,null,null,null,null,null,null,null,null,null,null,null,null,null,null,null,null,null,null,null,null,null,null,null,null,null,null,{"$f":"IF(Indtastning!Y:Y=\"Ikke Aflagt\",1,\"\")","v":""},null,null,{"$f":"IF(Indtastning!U:U=\"Positiv\",1,\"\")","v":""},null,null,null,{"$f":"IF(Indtastning!Y:Y=\"Positiv\",1,\"\")","v":""},null,null,null,{"$f":"IF(Indtastning!AC:AC=\"Positiv\",1,\"\")","v":""}]
[null,null,null,null,null,null,null,null,null,null,null,null,null,null,null,null,null,null,null,null,null,null,null,null,null,null,null,null,null,null,null,null,null,null,null,null,null,null,null,null,null,null,null,{"$f":"IF(Indtastning!Y:Y=\"Ikke Aflagt\",1,\"\")","v":""},null,null,{"$f":"IF(Indtastning!U:U=\"Positiv\",1,\"\")","v":""},null,null,null,{"$f":"IF(Indtastning!Y:Y=\"Positiv\",1,\"\")","v":""},null,null,null,{"$f":"IF(Indtastning!AC:AC=\"Positiv\",1,\"\")","v":""}]
[null,null,null,null,null,null,null,null,null,null,null,null,null,null,null,null,null,null,null,null,null,null,null,null,null,null,null,null,null,null,null,null,null,null,null,null,null,null,null,null,null,null,null,{"$f":"IF(Indtastning!Y:Y=\"Ikke Aflagt\",1,\"\")","v":""},null,null,{"$f":"IF(Indtastning!U:U=\"Positiv\",1,\"\")","v":""},null,null,null,{"$f":"IF(Indtastning!Y:Y=\"Positiv\",1,\"\")","v":""},null,null,null,{"$f":"IF(Indtastning!AC:AC=\"Positiv\",1,\"\")","v":""}]
[null,null,null,null,null,null,null,null,null,null,null,null,null,null,null,null,null,null,null,null,null,null,null,null,null,null,null,null,null,null,null,null,null,null,null,null,null,null,null,null,null,null,null,{"$f":"IF(Indtastning!Y:Y=\"Ikke Aflagt\",1,\"\")","v":""},null,null,{"$f":"IF(Indtastning!U:U=\"Positiv\",1,\"\")","v":""},null,null,null,{"$f":"IF(Indtastning!Y:Y=\"Positiv\",1,\"\")","v":""},null,null,null,{"$f":"IF(Indtastning!AC:AC=\"Positiv\",1,\"\")","v":""}]
[null,null,null,null,null,null,null,null,null,null,null,null,null,null,null,null,null,null,null,null,null,null,null,null,null,null,null,null,null,null,null,null,null,null,null,null,null,null,null,null,null,null,null,{"$f":"IF(Indtastning!Y:Y=\"Ikke Aflagt\",1,\"\")","v":""},null,null,{"$f":"IF(Indtastning!U:U=\"Positiv\",1,\"\")","v":""},null,null,null,{"$f":"IF(Indtastning!Y:Y=\"Positiv\",1,\"\")","v":""},null,null,null,{"$f":"IF(Indtastning!AC:AC=\"Positiv\",1,\"\")","v":""}]
[null,null,null,null,null,null,null,null,null,null,null,null,null,null,null,null,null,null,null,null,null,null,null,null,null,null,null,null,null,null,null,null,null,null,null,null,null,null,null,null,null,null,null,{"$f":"IF(Indtastning!Y:Y=\"Ikke Aflagt\",1,\"\")","v":""},null,null,{"$f":"IF(Indtastning!U:U=\"Positiv\",1,\"\")","v":""},null,null,null,{"$f":"IF(Indtastning!Y:Y=\"Positiv\",1,\"\")","v":""},null,null,null,{"$f":"IF(Indtastning!AC:AC=\"Positiv\",1,\"\")","v":""}]
[null,null,null,null,null,null,null,null,null,null,null,null,null,null,null,null,null,null,null,null,null,null,null,null,null,null,null,null,null,null,null,null,null,null,null,null,null,null,null,null,null,null,null,{"$f":"IF(Indtastning!Y:Y=\"Ikke Aflagt\",1,\"\")","v":""},null,null,{"$f":"IF(Indtastning!U:U=\"Positiv\",1,\"\")","v":""},null,null,null,{"$f":"IF(Indtastning!Y:Y=\"Positiv\",1,\"\")","v":""},null,null,null,{"$f":"IF(Indtastning!AC:AC=\"Positiv\",1,\"\")","v":""}]
[null,null,null,null,null,null,null,null,null,null,null,null,null,null,null,null,null,null,null,null,null,null,null,null,null,null,null,null,null,null,null,null,null,null,null,null,null,null,null,null,null,null,null,{"$f":"IF(Indtastning!Y:Y=\"Ikke Aflagt\",1,\"\")","v":""},null,null,{"$f":"IF(Indtastning!U:U=\"Positiv\",1,\"\")","v":""},null,null,null,{"$f":"IF(Indtastning!Y:Y=\"Positiv\",1,\"\")","v":""},null,null,null,{"$f":"IF(Indtastning!AC:AC=\"Positiv\",1,\"\")","v":""}]
[null,null,null,null,null,null,null,null,null,null,null,null,null,null,null,null,null,null,null,null,null,null,null,null,null,null,null,null,null,null,null,null,null,null,null,null,null,null,null,null,null,null,null,{"$f":"IF(Indtastning!Y:Y=\"Ikke Aflagt\",1,\"\")","v":""},null,null,{"$f":"IF(Indtastning!U:U=\"Positiv\",1,\"\")","v":""},null,null,null,{"$f":"IF(Indtastning!Y:Y=\"Positiv\",1,\"\")","v":""},null,null,null,{"$f":"IF(Indtastning!AC:AC=\"Positiv\",1,\"\")","v":""}]
[null,null,null,null,null,null,null,null,null,null,null,null,null,null,null,null,null,null,null,null,null,null,null,null,null,null,null,null,null,null,null,null,null,null,null,null,null,null,null,null,null,null,null,{"$f":"IF(Indtastning!Y:Y=\"Ikke Aflagt\",1,\"\")","v":""},null,null,{"$f":"IF(Indtastning!U:U=\"Positiv\",1,\"\")","v":""},null,null,null,{"$f":"IF(Indtastning!Y:Y=\"Positiv\",1,\"\")","v":""},null,null,null,{"$f":"IF(Indtastning!AC:AC=\"Positiv\",1,\"\")","v":""}]
[null,null,null,null,null,null,null,null,null,null,null,null,null,null,null,null,null,null,null,null,null,null,null,null,null,null,null,null,null,null,null,null,null,null,null,null,null,null,null,null,null,null,null,{"$f":"IF(Indtastning!Y:Y=\"Ikke Aflagt\",1,\"\")","v":""},null,null,{"$f":"IF(Indtastning!U:U=\"Positiv\",1,\"\")","v":""},null,null,null,{"$f":"IF(Indtastning!Y:Y=\"Positiv\",1,\"\")","v":""},null,null,null,{"$f":"IF(Indtastning!AC:AC=\"Positiv\",1,\"\")","v":""}]
[null,null,null,null,null,null,null,null,null,null,null,null,null,null,null,null,null,null,null,null,null,null,null,null,null,null,null,null,null,null,null,null,null,null,null,null,null,null,null,null,null,null,null,{"$f":"IF(Indtastning!Y:Y=\"Ikke Aflagt\",1,\"\")","v":""},null,null,{"$f":"IF(Indtastning!U:U=\"Positiv\",1,\"\")","v":""},null,null,null,{"$f":"IF(Indtastning!Y:Y=\"Positiv\",1,\"\")","v":""},null,null,null,{"$f":"IF(Indtastning!AC:AC=\"Positiv\",1,\"\")","v":""}]
[null,null,null,null,null,null,null,null,null,null,null,null,null,null,null,null,null,null,null,null,null,null,null,null,null,null,null,null,null,null,null,null,null,null,null,null,null,null,null,null,null,null,null,{"$f":"IF(Indtastning!Y:Y=\"Ikke Aflagt\",1,\"\")","v":""},null,null,{"$f":"IF(Indtastning!U:U=\"Positiv\",1,\"\")","v":""},null,null,null,{"$f":"IF(Indtastning!Y:Y=\"Positiv\",1,\"\")","v":""},null,null,null,{"$f":"IF(Indtastning!AC:AC=\"Positiv\",1,\"\")","v":""}]
[null,null,null,null,null,null,null,null,null,null,null,null,null,null,null,null,null,null,null,null,null,null,null,null,null,null,null,null,null,null,null,null,null,null,null,null,null,null,null,null,null,null,null,{"$f":"IF(Indtastning!Y:Y=\"Ikke Aflagt\",1,\"\")","v":""},null,null,{"$f":"IF(Indtastning!U:U=\"Positiv\",1,\"\")","v":""},null,null,null,{"$f":"IF(Indtastning!Y:Y=\"Positiv\",1,\"\")","v":""},null,null,null,{"$f":"IF(Indtastning!AC:AC=\"Positiv\",1,\"\")","v":""}]
[null,null,null,null,null,null,null,null,null,null,null,null,null,null,null,null,null,null,null,null,null,null,null,null,null,null,null,null,null,null,null,null,null,null,null,null,null,null,null,null,null,null,null,{"$f":"IF(Indtastning!Y:Y=\"Ikke Aflagt\",1,\"\")","v":""},null,null,{"$f":"IF(Indtastning!U:U=\"Positiv\",1,\"\")","v":""},null,null,null,{"$f":"IF(Indtastning!Y:Y=\"Positiv\",1,\"\")","v":""},null,null,null,{"$f":"IF(Indtastning!AC:AC=\"Positiv\",1,\"\")","v":""}]
[null,null,null,null,null,null,null,null,null,null,null,null,null,null,null,null,null,null,null,null,null,null,null,null,null,null,null,null,null,null,null,null,null,null,null,null,null,null,null,null,null,null,null,{"$f":"IF(Indtastning!Y:Y=\"Ikke Aflagt\",1,\"\")","v":""},null,null,{"$f":"IF(Indtastning!U:U=\"Positiv\",1,\"\")","v":""},null,null,null,{"$f":"IF(Indtastning!Y:Y=\"Positiv\",1,\"\")","v":""},null,null,null,{"$f":"IF(Indtastning!AC:AC=\"Positiv\",1,\"\")","v":""}]
[null,null,null,null,null,null,null,null,null,null,null,null,null,null,null,null,null,null,null,null,null,null,null,null,null,null,null,null,null,null,null,null,null,null,null,null,null,null,null,null,null,null,null,{"$f":"IF(Indtastning!Y:Y=\"Ikke Aflagt\",1,\"\")","v":""},null,null,{"$f":"IF(Indtastning!U:U=\"Positiv\",1,\"\")","v":""},null,null,null,{"$f":"IF(Indtastning!Y:Y=\"Positiv\",1,\"\")","v":""},null,null,null,{"$f":"IF(Indtastning!AC:AC=\"Positiv\",1,\"\")","v":""}]
[null,null,null,null,null,null,null,null,null,null,null,null,null,null,null,null,null,null,null,null,null,null,null,null,null,null,null,null,null,null,null,null,null,null,null,null,null,null,null,null,null,null,null,{"$f":"IF(Indtastning!Y:Y=\"Ikke Aflagt\",1,\"\")","v":""},null,null,{"$f":"IF(Indtastning!U:U=\"Positiv\",1,\"\")","v":""},null,null,null,{"$f":"IF(Indtastning!Y:Y=\"Positiv\",1,\"\")","v":""},null,null,null,{"$f":"IF(Indtastning!AC:AC=\"Positiv\",1,\"\")","v":""}]
[null,null,null,null,null,null,null,null,null,null,null,null,null,null,null,null,null,null,null,null,null,null,null,null,null,null,null,null,null,null,null,null,null,null,null,null,null,null,null,null,null,null,null,{"$f":"IF(Indtastning!Y:Y=\"Ikke Aflagt\",1,\"\")","v":""},null,null,{"$f":"IF(Indtastning!U:U=\"Positiv\",1,\"\")","v":""},null,null,null,{"$f":"IF(Indtastning!Y:Y=\"Positiv\",1,\"\")","v":""},null,null,null,{"$f":"IF(Indtastning!AC:AC=\"Positiv\",1,\"\")","v":""}]
[null,null,null,null,null,null,null,null,null,null,null,null,null,null,null,null,null,null,null,null,null,null,null,null,null,null,null,null,null,null,null,null,null,null,null,null,null,null,null,null,null,null,null,{"$f":"IF(Indtastning!Y:Y=\"Ikke Aflagt\",1,\"\")","v":""},null,null,{"$f":"IF(Indtastning!U:U=\"Positiv\",1,\"\")","v":""},null,null,null,{"$f":"IF(Indtastning!Y:Y=\"Positiv\",1,\"\")","v":""},null,null,null,{"$f":"IF(Indtastning!AC:AC=\"Positiv\",1,\"\")","v":""}]
[null,null,null,null,null,null,null,null,null,null,null,null,null,null,null,null,null,null,null,null,null,null,null,null,null,null,null,null,null,null,null,null,null,null,null,null,null,null,null,null,null,null,null,{"$f":"IF(Indtastning!Y:Y=\"Ikke Aflagt\",1,\"\")","v":""},null,null,{"$f":"IF(Indtastning!U:U=\"Positiv\",1,\"\")","v":""},null,null,null,{"$f":"IF(Indtastning!Y:Y=\"Positiv\",1,\"\")","v":""},null,null,null,{"$f":"IF(Indtastning!AC:AC=\"Positiv\",1,\"\")","v":""}]
[null,null,null,null,null,null,null,null,null,null,null,null,null,null,null,null,null,null,null,null,null,null,null,null,null,null,null,null,null,null,null,null,null,null,null,null,null,null,null,null,null,null,null,{"$f":"IF(Indtastning!Y:Y=\"Ikke Aflagt\",1,\"\")","v":""},null,null,{"$f":"IF(Indtastning!U:U=\"Positiv\",1,\"\")","v":""},null,null,null,{"$f":"IF(Indtastning!Y:Y=\"Positiv\",1,\"\")","v":""},null,null,null,{"$f":"IF(Indtastning!AC:AC=\"Positiv\",1,\"\")","v":""}]
[null,null,null,null,null,null,null,null,null,null,null,null,null,null,null,null,null,null,null,null,null,null,null,null,null,null,null,null,null,null,null,null,null,null,null,null,null,null,null,null,null,null,null,{"$f":"IF(Indtastning!Y:Y=\"Ikke Aflagt\",1,\"\")","v":""},null,null,{"$f":"IF(Indtastning!U:U=\"Positiv\",1,\"\")","v":""},null,null,null,{"$f":"IF(Indtastning!Y:Y=\"Positiv\",1,\"\")","v":""},null,null,null,{"$f":"IF(Indtastning!AC:AC=\"Positiv\",1,\"\")","v":""}]
[null,null,null,null,null,null,null,null,null,null,null,null,null,null,null,null,null,null,null,null,null,null,null,null,null,null,null,null,null,null,null,null,null,null,null,null,null,null,null,null,null,null,null,{"$f":"IF(Indtastning!Y:Y=\"Ikke Aflagt\",1,\"\")","v":""},null,null,{"$f":"IF(Indtastning!U:U=\"Positiv\",1,\"\")","v":""},null,null,null,{"$f":"IF(Indtastning!Y:Y=\"Positiv\",1,\"\")","v":""},null,null,null,{"$f":"IF(Indtastning!AC:AC=\"Positiv\",1,\"\")","v":""}]
[null,null,null,null,null,null,null,null,null,null,null,null,null,null,null,null,null,null,null,null,null,null,null,null,null,null,null,null,null,null,null,null,null,null,null,null,null,null,null,null,null,null,null,{"$f":"IF(Indtastning!Y:Y=\"Ikke Aflagt\",1,\"\")","v":""},null,null,{"$f":"IF(Indtastning!U:U=\"Positiv\",1,\"\")","v":""},null,null,null,{"$f":"IF(Indtastning!Y:Y=\"Positiv\",1,\"\")","v":""},null,null,null,{"$f":"IF(Indtastning!AC:AC=\"Positiv\",1,\"\")","v":""}]
[null,null,null,null,null,null,null,null,null,null,null,null,null,null,null,null,null,null,null,null,null,null,null,null,null,null,null,null,null,null,null,null,null,null,null,null,null,null,null,null,null,null,null,{"$f":"IF(Indtastning!Y:Y=\"Ikke Aflagt\",1,\"\")","v":""},null,null,{"$f":"IF(Indtastning!U:U=\"Positiv\",1,\"\")","v":""},null,null,null,{"$f":"IF(Indtastning!Y:Y=\"Positiv\",1,\"\")","v":""},null,null,null,{"$f":"IF(Indtastning!AC:AC=\"Positiv\",1,\"\")","v":""}]
[null,null,null,null,null,null,null,null,null,null,null,null,null,null,null,null,null,null,null,null,null,null,null,null,null,null,null,null,null,null,null,null,null,null,null,null,null,null,null,null,null,null,null,{"$f":"IF(Indtastning!Y:Y=\"Ikke Aflagt\",1,\"\")","v":""},null,null,{"$f":"IF(Indtastning!U:U=\"Positiv\",1,\"\")","v":""},null,null,null,{"$f":"IF(Indtastning!Y:Y=\"Positiv\",1,\"\")","v":""},null,null,null,{"$f":"IF(Indtastning!AC:AC=\"Positiv\",1,\"\")","v":""}]
[null,null,null,null,null,null,null,null,null,null,null,null,null,null,null,null,null,null,null,null,null,null,null,null,null,null,null,null,null,null,null,null,null,null,null,null,null,null,null,null,null,null,null,{"$f":"IF(Indtastning!Y:Y=\"Ikke Aflagt\",1,\"\")","v":""},null,null,{"$f":"IF(Indtastning!U:U=\"Positiv\",1,\"\")","v":""},null,null,null,{"$f":"IF(Indtastning!Y:Y=\"Positiv\",1,\"\")","v":""},null,null,null,{"$f":"IF(Indtastning!AC:AC=\"Positiv\",1,\"\")","v":""}]
[null,null,null,null,null,null,null,null,null,null,null,null,null,null,null,null,null,null,null,null,null,null,null,null,null,null,null,null,null,null,null,null,null,null,null,null,null,null,null,null,null,null,null,{"$f":"IF(Indtastning!Y:Y=\"Ikke Aflagt\",1,\"\")","v":""},null,null,{"$f":"IF(Indtastning!U:U=\"Positiv\",1,\"\")","v":""},null,null,null,{"$f":"IF(Indtastning!Y:Y=\"Positiv\",1,\"\")","v":""},null,null,null,{"$f":"IF(Indtastning!AC:AC=\"Positiv\",1,\"\")","v":""}]
[null,null,null,null,null,null,null,null,null,null,null,null,null,null,null,null,null,null,null,null,null,null,null,null,null,null,null,null,null,null,null,null,null,null,null,null,null,null,null,null,null,null,null,{"$f":"IF(Indtastning!Y:Y=\"Ikke Aflagt\",1,\"\")","v":""},null,null,{"$f":"IF(Indtastning!U:U=\"Positiv\",1,\"\")","v":""},null,null,null,{"$f":"IF(Indtastning!Y:Y=\"Positiv\",1,\"\")","v":""},null,null,null,{"$f":"IF(Indtastning!AC:AC=\"Positiv\",1,\"\")","v":""}]
[null,null,null,null,null,null,null,null,null,null,null,null,null,null,null,null,null,null,null,null,null,null,null,null,null,null,null,null,null,null,null,null,null,null,null,null,null,null,null,null,null,null,null,{"$f":"IF(Indtastning!Y:Y=\"Ikke Aflagt\",1,\"\")","v":""},null,null,{"$f":"IF(Indtastning!U:U=\"Positiv\",1,\"\")","v":""},null,null,null,{"$f":"IF(Indtastning!Y:Y=\"Positiv\",1,\"\")","v":""},null,null,null,{"$f":"IF(Indtastning!AC:AC=\"Positiv\",1,\"\")","v":""}]
[null,null,null,null,null,null,null,null,null,null,null,null,null,null,null,null,null,null,null,null,null,null,null,null,null,null,null,null,null,null,null,null,null,null,null,null,null,null,null,null,null,null,null,{"$f":"IF(Indtastning!Y:Y=\"Ikke Aflagt\",1,\"\")","v":""},null,null,{"$f":"IF(Indtastning!U:U=\"Positiv\",1,\"\")","v":""},null,null,null,{"$f":"IF(Indtastning!Y:Y=\"Positiv\",1,\"\")","v":""},null,null,null,{"$f":"IF(Indtastning!AC:AC=\"Positiv\",1,\"\")","v":""}]
[null,null,null,null,null,null,null,null,null,null,null,null,null,null,null,null,null,null,null,null,null,null,null,null,null,null,null,null,null,null,null,null,null,null,null,null,null,null,null,null,null,null,null,{"$f":"IF(Indtastning!Y:Y=\"Ikke Aflagt\",1,\"\")","v":""},null,null,{"$f":"IF(Indtastning!U:U=\"Positiv\",1,\"\")","v":""},null,null,null,{"$f":"IF(Indtastning!Y:Y=\"Positiv\",1,\"\")","v":""},null,null,null,{"$f":"IF(Indtastning!AC:AC=\"Positiv\",1,\"\")","v":""}]
[null,null,null,null,null,null,null,null,null,null,null,null,null,null,null,null,null,null,null,null,null,null,null,null,null,null,null,null,null,null,null,null,null,null,null,null,null,null,null,null,null,null,null,{"$f":"IF(Indtastning!Y:Y=\"Ikke Aflagt\",1,\"\")","v":""},null,null,{"$f":"IF(Indtastning!U:U=\"Positiv\",1,\"\")","v":""},null,null,null,{"$f":"IF(Indtastning!Y:Y=\"Positiv\",1,\"\")","v":""},null,null,null,{"$f":"IF(Indtastning!AC:AC=\"Positiv\",1,\"\")","v":""}]
[null,null,null,null,null,null,null,null,null,null,null,null,null,null,null,null,null,null,null,null,null,null,null,null,null,null,null,null,null,null,null,null,null,null,null,null,null,null,null,null,null,null,null,{"$f":"IF(Indtastning!Y:Y=\"Ikke Aflagt\",1,\"\")","v":""},null,null,{"$f":"IF(Indtastning!U:U=\"Positiv\",1,\"\")","v":""},null,null,null,{"$f":"IF(Indtastning!Y:Y=\"Positiv\",1,\"\")","v":""},null,null,null,{"$f":"IF(Indtastning!AC:AC=\"Positiv\",1,\"\")","v":""}]
[null,null,null,null,null,null,null,null,null,null,null,null,null,null,null,null,null,null,null,null,null,null,null,null,null,null,null,null,null,null,null,null,null,null,null,null,null,null,null,null,null,null,null,{"$f":"IF(Indtastning!Y:Y=\"Ikke Aflagt\",1,\"\")","v":""},null,null,{"$f":"IF(Indtastning!U:U=\"Positiv\",1,\"\")","v":""},null,null,null,{"$f":"IF(Indtastning!Y:Y=\"Positiv\",1,\"\")","v":""},null,null,null,{"$f":"IF(Indtastning!AC:AC=\"Positiv\",1,\"\")","v":""}]
[null,null,null,null,null,null,null,null,null,null,null,null,null,null,null,null,null,null,null,null,null,null,null,null,null,null,null,null,null,null,null,null,null,null,null,null,null,null,null,null,null,null,null,{"$f":"IF(Indtastning!Y:Y=\"Ikke Aflagt\",1,\"\")","v":""},null,null,{"$f":"IF(Indtastning!U:U=\"Positiv\",1,\"\")","v":""},null,null,null,{"$f":"IF(Indtastning!Y:Y=\"Positiv\",1,\"\")","v":""},null,null,null,{"$f":"IF(Indtastning!AC:AC=\"Positiv\",1,\"\")","v":""}]
[null,null,null,null,null,null,null,null,null,null,null,null,null,null,null,null,null,null,null,null,null,null,null,null,null,null,null,null,null,null,null,null,null,null,null,null,null,null,null,null,null,null,null,{"$f":"IF(Indtastning!Y:Y=\"Ikke Aflagt\",1,\"\")","v":""},null,null,{"$f":"IF(Indtastning!U:U=\"Positiv\",1,\"\")","v":""},null,null,null,{"$f":"IF(Indtastning!Y:Y=\"Positiv\",1,\"\")","v":""},null,null,null,{"$f":"IF(Indtastning!AC:AC=\"Positiv\",1,\"\")","v":""}]
[null,null,null,null,null,null,null,null,null,null,null,null,null,null,null,null,null,null,null,null,null,null,null,null,null,null,null,null,null,null,null,null,null,null,null,null,null,null,null,null,null,null,null,{"$f":"IF(Indtastning!Y:Y=\"Ikke Aflagt\",1,\"\")","v":""},null,null,{"$f":"IF(Indtastning!U:U=\"Positiv\",1,\"\")","v":""},null,null,null,{"$f":"IF(Indtastning!Y:Y=\"Positiv\",1,\"\")","v":""},null,null,null,{"$f":"IF(Indtastning!AC:AC=\"Positiv\",1,\"\")","v":""}]
[null,null,null,null,null,null,null,null,null,null,null,null,null,null,null,null,null,null,null,null,null,null,null,null,null,null,null,null,null,null,null,null,null,null,null,null,null,null,null,null,null,null,null,{"$f":"IF(Indtastning!Y:Y=\"Ikke Aflagt\",1,\"\")","v":""},null,null,{"$f":"IF(Indtastning!U:U=\"Positiv\",1,\"\")","v":""},null,null,null,{"$f":"IF(Indtastning!Y:Y=\"Positiv\",1,\"\")","v":""},null,null,null,{"$f":"IF(Indtastning!AC:AC=\"Positiv\",1,\"\")","v":""}]
[null,null,null,null,null,null,null,null,null,null,null,null,null,null,null,null,null,null,null,null,null,null,null,null,null,null,null,null,null,null,null,null,null,null,null,null,null,null,null,null,null,null,null,{"$f":"IF(Indtastning!Y:Y=\"Ikke Aflagt\",1,\"\")","v":""},null,null,{"$f":"IF(Indtastning!U:U=\"Positiv\",1,\"\")","v":""},null,null,null,{"$f":"IF(Indtastning!Y:Y=\"Positiv\",1,\"\")","v":""},null,null,null,{"$f":"IF(Indtastning!AC:AC=\"Positiv\",1,\"\")","v":""}]
[null,null,null,null,null,null,null,null,null,null,null,null,null,null,null,null,null,null,null,null,null,null,null,null,null,null,null,null,null,null,null,null,null,null,null,null,null,null,null,null,null,null,null,{"$f":"IF(Indtastning!Y:Y=\"Ikke Aflagt\",1,\"\")","v":""},null,null,{"$f":"IF(Indtastning!U:U=\"Positiv\",1,\"\")","v":""},null,null,null,{"$f":"IF(Indtastning!Y:Y=\"Positiv\",1,\"\")","v":""},null,null,null,{"$f":"IF(Indtastning!AC:AC=\"Positiv\",1,\"\")","v":""}]
[null,null,null,null,null,null,null,null,null,null,null,null,null,null,null,null,null,null,null,null,null,null,null,null,null,null,null,null,null,null,null,null,null,null,null,null,null,null,null,null,null,null,null,{"$f":"IF(Indtastning!Y:Y=\"Ikke Aflagt\",1,\"\")","v":""},null,null,{"$f":"IF(Indtastning!U:U=\"Positiv\",1,\"\")","v":""},null,null,null,{"$f":"IF(Indtastning!Y:Y=\"Positiv\",1,\"\")","v":""},null,null,null,{"$f":"IF(Indtastning!AC:AC=\"Positiv\",1,\"\")","v":""}]
[null,null,null,null,null,null,null,null,null,null,null,null,null,null,null,null,null,null,null,null,null,null,null,null,null,null,null,null,null,null,null,null,null,null,null,null,null,null,null,null,null,null,null,{"$f":"IF(Indtastning!Y:Y=\"Ikke Aflagt\",1,\"\")","v":""},null,null,{"$f":"IF(Indtastning!U:U=\"Positiv\",1,\"\")","v":""},null,null,null,{"$f":"IF(Indtastning!Y:Y=\"Positiv\",1,\"\")","v":""},null,null,null,{"$f":"IF(Indtastning!AC:AC=\"Positiv\",1,\"\")","v":""}]
[null,null,null,null,null,null,null,null,null,null,null,null,null,null,null,null,null,null,null,null,null,null,null,null,null,null,null,null,null,null,null,null,null,null,null,null,null,null,null,null,null,null,null,{"$f":"IF(Indtastning!Y:Y=\"Ikke Aflagt\",1,\"\")","v":""},null,null,{"$f":"IF(Indtastning!U:U=\"Positiv\",1,\"\")","v":""},null,null,null,{"$f":"IF(Indtastning!Y:Y=\"Positiv\",1,\"\")","v":""},null,null,null,{"$f":"IF(Indtastning!AC:AC=\"Positiv\",1,\"\")","v":""}]
[null,null,null,null,null,null,null,null,null,null,null,null,null,null,null,null,null,null,null,null,null,null,null,null,null,null,null,null,null,null,null,null,null,null,null,null,null,null,null,null,null,null,null,{"$f":"IF(Indtastning!Y:Y=\"Ikke Aflagt\",1,\"\")","v":""},null,null,{"$f":"IF(Indtastning!U:U=\"Positiv\",1,\"\")","v":""},null,null,null,{"$f":"IF(Indtastning!Y:Y=\"Positiv\",1,\"\")","v":""},null,null,null,{"$f":"IF(Indtastning!AC:AC=\"Positiv\",1,\"\")","v":""}]
[null,null,null,null,null,null,null,null,null,null,null,null,null,null,null,null,null,null,null,null,null,null,null,null,null,null,null,null,null,null,null,null,null,null,null,null,null,null,null,null,null,null,null,{"$f":"IF(Indtastning!Y:Y=\"Ikke Aflagt\",1,\"\")","v":""},null,null,{"$f":"IF(Indtastning!U:U=\"Positiv\",1,\"\")","v":""},null,null,null,{"$f":"IF(Indtastning!Y:Y=\"Positiv\",1,\"\")","v":""},null,null,null,{"$f":"IF(Indtastning!AC:AC=\"Positiv\",1,\"\")","v":""}]
[null,null,null,null,null,null,null,null,null,null,null,null,null,null,null,null,null,null,null,null,null,null,null,null,null,null,null,null,null,null,null,null,null,null,null,null,null,null,null,null,null,null,null,{"$f":"IF(Indtastning!Y:Y=\"Ikke Aflagt\",1,\"\")","v":""},null,null,{"$f":"IF(Indtastning!U:U=\"Positiv\",1,\"\")","v":""},null,null,null,{"$f":"IF(Indtastning!Y:Y=\"Positiv\",1,\"\")","v":""},null,null,null,{"$f":"IF(Indtastning!AC:AC=\"Positiv\",1,\"\")","v":""}]
[null,null,null,null,null,null,null,null,null,null,null,null,null,null,null,null,null,null,null,null,null,null,null,null,null,null,null,null,null,null,null,null,null,null,null,null,null,null,null,null,null,null,null,{"$f":"IF(Indtastning!Y:Y=\"Ikke Aflagt\",1,\"\")","v":""},null,null,{"$f":"IF(Indtastning!U:U=\"Positiv\",1,\"\")","v":""},null,null,null,{"$f":"IF(Indtastning!Y:Y=\"Positiv\",1,\"\")","v":""},null,null,null,{"$f":"IF(Indtastning!AC:AC=\"Positiv\",1,\"\")","v":""}]
[null,null,null,null,null,null,null,null,null,null,null,null,null,null,null,null,null,null,null,null,null,null,null,null,null,null,null,null,null,null,null,null,null,null,null,null,null,null,null,null,null,null,null,{"$f":"IF(Indtastning!Y:Y=\"Ikke Aflagt\",1,\"\")","v":""},null,null,{"$f":"IF(Indtastning!U:U=\"Positiv\",1,\"\")","v":""},null,null,null,{"$f":"IF(Indtastning!Y:Y=\"Positiv\",1,\"\")","v":""},null,null,null,{"$f":"IF(Indtastning!AC:AC=\"Positiv\",1,\"\")","v":""}]
[null,null,null,null,null,null,null,null,null,null,null,null,null,null,null,null,null,null,null,null,null,null,null,null,null,null,null,null,null,null,null,null,null,null,null,null,null,null,null,null,null,null,null,{"$f":"IF(Indtastning!Y:Y=\"Ikke Aflagt\",1,\"\")","v":""},null,null,{"$f":"IF(Indtastning!U:U=\"Positiv\",1,\"\")","v":""},null,null,null,{"$f":"IF(Indtastning!Y:Y=\"Positiv\",1,\"\")","v":""},null,null,null,{"$f":"IF(Indtastning!AC:AC=\"Positiv\",1,\"\")","v":""}]
[null,null,null,null,null,null,null,null,null,null,null,null,null,null,null,null,null,null,null,null,null,null,null,null,null,null,null,null,null,null,null,null,null,null,null,null,null,null,null,null,null,null,null,{"$f":"IF(Indtastning!Y:Y=\"Ikke Aflagt\",1,\"\")","v":""},null,null,{"$f":"IF(Indtastning!U:U=\"Positiv\",1,\"\")","v":""},null,null,null,{"$f":"IF(Indtastning!Y:Y=\"Positiv\",1,\"\")","v":""},null,null,null,{"$f":"IF(Indtastning!AC:AC=\"Positiv\",1,\"\")","v":""}]
[null,null,null,null,null,null,null,null,null,null,null,null,null,null,null,null,null,null,null,null,null,null,null,null,null,null,null,null,null,null,null,null,null,null,null,null,null,null,null,null,null,null,null,{"$f":"IF(Indtastning!Y:Y=\"Ikke Aflagt\",1,\"\")","v":""},null,null,{"$f":"IF(Indtastning!U:U=\"Positiv\",1,\"\")","v":""},null,null,null,{"$f":"IF(Indtastning!Y:Y=\"Positiv\",1,\"\")","v":""},null,null,null,{"$f":"IF(Indtastning!AC:AC=\"Positiv\",1,\"\")","v":""}]
[null,null,null,null,null,null,null,null,null,null,null,null,null,null,null,null,null,null,null,null,null,null,null,null,null,null,null,null,null,null,null,null,null,null,null,null,null,null,null,null,null,null,null,{"$f":"IF(Indtastning!Y:Y=\"Ikke Aflagt\",1,\"\")","v":""},null,null,{"$f":"IF(Indtastning!U:U=\"Positiv\",1,\"\")","v":""},null,null,null,{"$f":"IF(Indtastning!Y:Y=\"Positiv\",1,\"\")","v":""},null,null,null,{"$f":"IF(Indtastning!AC:AC=\"Positiv\",1,\"\")","v":""}]
[null,null,null,null,null,null,null,null,null,null,null,null,null,null,null,null,null,null,null,null,null,null,null,null,null,null,null,null,null,null,null,null,null,null,null,null,null,null,null,null,null,null,null,{"$f":"IF(Indtastning!Y:Y=\"Ikke Aflagt\",1,\"\")","v":""},null,null,{"$f":"IF(Indtastning!U:U=\"Positiv\",1,\"\")","v":""},null,null,null,{"$f":"IF(Indtastning!Y:Y=\"Positiv\",1,\"\")","v":""},null,null,null,{"$f":"IF(Indtastning!AC:AC=\"Positiv\",1,\"\")","v":""}]
[null,null,null,null,null,null,null,null,null,null,null,null,null,null,null,null,null,null,null,null,null,null,null,null,null,null,null,null,null,null,null,null,null,null,null,null,null,null,null,null,null,null,null,{"$f":"IF(Indtastning!Y:Y=\"Ikke Aflagt\",1,\"\")","v":""},null,null,{"$f":"IF(Indtastning!U:U=\"Positiv\",1,\"\")","v":""},null,null,null,{"$f":"IF(Indtastning!Y:Y=\"Positiv\",1,\"\")","v":""},null,null,null,{"$f":"IF(Indtastning!AC:AC=\"Positiv\",1,\"\")","v":""}]
[null,null,null,null,null,null,null,null,null,null,null,null,null,null,null,null,null,null,null,null,null,null,null,null,null,null,null,null,null,null,null,null,null,null,null,null,null,null,null,null,null,null,null,{"$f":"IF(Indtastning!Y:Y=\"Ikke Aflagt\",1,\"\")","v":""},null,null,{"$f":"IF(Indtastning!U:U=\"Positiv\",1,\"\")","v":""},null,null,null,{"$f":"IF(Indtastning!Y:Y=\"Positiv\",1,\"\")","v":""},null,null,null,{"$f":"IF(Indtastning!AC:AC=\"Positiv\",1,\"\")","v":""}]
[null,null,null,null,null,null,null,null,null,null,null,null,null,null,null,null,null,null,null,null,null,null,null,null,null,null,null,null,null,null,null,null,null,null,null,null,null,null,null,null,null,null,null,{"$f":"IF(Indtastning!Y:Y=\"Ikke Aflagt\",1,\"\")","v":""},null,null,{"$f":"IF(Indtastning!U:U=\"Positiv\",1,\"\")","v":""},null,null,null,{"$f":"IF(Indtastning!Y:Y=\"Positiv\",1,\"\")","v":""},null,null,null,{"$f":"IF(Indtastning!AC:AC=\"Positiv\",1,\"\")","v":""}]
[null,null,null,null,null,null,null,null,null,null,null,null,null,null,null,null,null,null,null,null,null,null,null,null,null,null,null,null,null,null,null,null,null,null,null,null,null,null,null,null,null,null,null,{"$f":"IF(Indtastning!Y:Y=\"Ikke Aflagt\",1,\"\")","v":""},null,null,{"$f":"IF(Indtastning!U:U=\"Positiv\",1,\"\")","v":""},null,null,null,{"$f":"IF(Indtastning!Y:Y=\"Positiv\",1,\"\")","v":""},null,null,null,{"$f":"IF(Indtastning!AC:AC=\"Positiv\",1,\"\")","v":""}]
[null,null,null,null,null,null,null,null,null,null,null,null,null,null,null,null,null,null,null,null,null,null,null,null,null,null,null,null,null,null,null,null,null,null,null,null,null,null,null,null,null,null,null,{"$f":"IF(Indtastning!Y:Y=\"Ikke Aflagt\",1,\"\")","v":""},null,null,{"$f":"IF(Indtastning!U:U=\"Positiv\",1,\"\")","v":""},null,null,null,{"$f":"IF(Indtastning!Y:Y=\"Positiv\",1,\"\")","v":""},null,null,null,{"$f":"IF(Indtastning!AC:AC=\"Positiv\",1,\"\")","v":""}]
[null,null,null,null,null,null,null,null,null,null,null,null,null,null,null,null,null,null,null,null,null,null,null,null,null,null,null,null,null,null,null,null,null,null,null,null,null,null,null,null,null,null,null,{"$f":"IF(Indtastning!Y:Y=\"Ikke Aflagt\",1,\"\")","v":""},null,null,{"$f":"IF(Indtastning!U:U=\"Positiv\",1,\"\")","v":""},null,null,null,{"$f":"IF(Indtastning!Y:Y=\"Positiv\",1,\"\")","v":""},null,null,null,{"$f":"IF(Indtastning!AC:AC=\"Positiv\",1,\"\")","v":""}]
[null,null,null,null,null,null,null,null,null,null,null,null,null,null,null,null,null,null,null,null,null,null,null,null,null,null,null,null,null,null,null,null,null,null,null,null,null,null,null,null,null,null,null,{"$f":"IF(Indtastning!Y:Y=\"Ikke Aflagt\",1,\"\")","v":""},null,null,{"$f":"IF(Indtastning!U:U=\"Positiv\",1,\"\")","v":""},null,null,null,{"$f":"IF(Indtastning!Y:Y=\"Positiv\",1,\"\")","v":""},null,null,null,{"$f":"IF(Indtastning!AC:AC=\"Positiv\",1,\"\")","v":""}]
[null,null,null,null,null,null,null,null,null,null,null,null,null,null,null,null,null,null,null,null,null,null,null,null,null,null,null,null,null,null,null,null,null,null,null,null,null,null,null,null,null,null,null,{"$f":"IF(Indtastning!Y:Y=\"Ikke Aflagt\",1,\"\")","v":""},null,null,{"$f":"IF(Indtastning!U:U=\"Positiv\",1,\"\")","v":""},null,null,null,{"$f":"IF(Indtastning!Y:Y=\"Positiv\",1,\"\")","v":""},null,null,null,{"$f":"IF(Indtastning!AC:AC=\"Positiv\",1,\"\")","v":""}]
[null,null,null,null,null,null,null,null,null,null,null,null,null,null,null,null,null,null,null,null,null,null,null,null,null,null,null,null,null,null,null,null,null,null,null,null,null,null,null,null,null,null,null,{"$f":"IF(Indtastning!Y:Y=\"Ikke Aflagt\",1,\"\")","v":""},null,null,{"$f":"IF(Indtastning!U:U=\"Positiv\",1,\"\")","v":""},null,null,null,{"$f":"IF(Indtastning!Y:Y=\"Positiv\",1,\"\")","v":""},null,null,null,{"$f":"IF(Indtastning!AC:AC=\"Positiv\",1,\"\")","v":""}]
[null,null,null,null,null,null,null,null,null,null,null,null,null,null,null,null,null,null,null,null,null,null,null,null,null,null,null,null,null,null,null,null,null,null,null,null,null,null,null,null,null,null,null,{"$f":"IF(Indtastning!Y:Y=\"Ikke Aflagt\",1,\"\")","v":""},null,null,{"$f":"IF(Indtastning!U:U=\"Positiv\",1,\"\")","v":""},null,null,null,{"$f":"IF(Indtastning!Y:Y=\"Positiv\",1,\"\")","v":""},null,null,null,{"$f":"IF(Indtastning!AC:AC=\"Positiv\",1,\"\")","v":""}]
[null,null,null,null,null,null,null,null,null,null,null,null,null,null,null,null,null,null,null,null,null,null,null,null,null,null,null,null,null,null,null,null,null,null,null,null,null,null,null,null,null,null,null,{"$f":"IF(Indtastning!Y:Y=\"Ikke Aflagt\",1,\"\")","v":""},null,null,{"$f":"IF(Indtastning!U:U=\"Positiv\",1,\"\")","v":""},null,null,null,{"$f":"IF(Indtastning!Y:Y=\"Positiv\",1,\"\")","v":""},null,null,null,{"$f":"IF(Indtastning!AC:AC=\"Positiv\",1,\"\")","v":""}]
[null,null,null,null,null,null,null,null,null,null,null,null,null,null,null,null,null,null,null,null,null,null,null,null,null,null,null,null,null,null,null,null,null,null,null,null,null,null,null,null,null,null,null,{"$f":"IF(Indtastning!Y:Y=\"Ikke Aflagt\",1,\"\")","v":""},null,null,{"$f":"IF(Indtastning!U:U=\"Positiv\",1,\"\")","v":""},null,null,null,{"$f":"IF(Indtastning!Y:Y=\"Positiv\",1,\"\")","v":""},null,null,null,{"$f":"IF(Indtastning!AC:AC=\"Positiv\",1,\"\")","v":""}]
[null,null,null,null,null,null,null,null,null,null,null,null,null,null,null,null,null,null,null,null,null,null,null,null,null,null,null,null,null,null,null,null,null,null,null,null,null,null,null,null,null,null,null,{"$f":"IF(Indtastning!Y:Y=\"Ikke Aflagt\",1,\"\")","v":""},null,null,{"$f":"IF(Indtastning!U:U=\"Positiv\",1,\"\")","v":""},null,null,null,{"$f":"IF(Indtastning!Y:Y=\"Positiv\",1,\"\")","v":""},null,null,null,{"$f":"IF(Indtastning!AC:AC=\"Positiv\",1,\"\")","v":""}]
[null,null,null,null,null,null,null,null,null,null,null,null,null,null,null,null,null,null,null,null,null,null,null,null,null,null,null,null,null,null,null,null,null,null,null,null,null,null,null,null,null,null,null,{"$f":"IF(Indtastning!Y:Y=\"Ikke Aflagt\",1,\"\")","v":""},null,null,{"$f":"IF(Indtastning!U:U=\"Positiv\",1,\"\")","v":""},null,null,null,{"$f":"IF(Indtastning!Y:Y=\"Positiv\",1,\"\")","v":""},null,null,null,{"$f":"IF(Indtastning!AC:AC=\"Positiv\",1,\"\")","v":""}]
[null,null,null,null,null,null,null,null,null,null,null,null,null,null,null,null,null,null,null,null,null,null,null,null,null,null,null,null,null,null,null,null,null,null,null,null,null,null,null,null,null,null,null,{"$f":"IF(Indtastning!Y:Y=\"Ikke Aflagt\",1,\"\")","v":""},null,null,{"$f":"IF(Indtastning!U:U=\"Positiv\",1,\"\")","v":""},null,null,null,{"$f":"IF(Indtastning!Y:Y=\"Positiv\",1,\"\")","v":""},null,null,null,{"$f":"IF(Indtastning!AC:AC=\"Positiv\",1,\"\")","v":""}]
[null,null,null,null,null,null,null,null,null,null,null,null,null,null,null,null,null,null,null,null,null,null,null,null,null,null,null,null,null,null,null,null,null,null,null,null,null,null,null,null,null,null,null,{"$f":"IF(Indtastning!Y:Y=\"Ikke Aflagt\",1,\"\")","v":""},null,null,{"$f":"IF(Indtastning!U:U=\"Positiv\",1,\"\")","v":""},null,null,null,{"$f":"IF(Indtastning!Y:Y=\"Positiv\",1,\"\")","v":""},null,null,null,{"$f":"IF(Indtastning!AC:AC=\"Positiv\",1,\"\")","v":""}]
[null,null,null,null,null,null,null,null,null,null,null,null,null,null,null,null,null,null,null,null,null,null,null,null,null,null,null,null,null,null,null,null,null,null,null,null,null,null,null,null,null,null,null,{"$f":"IF(Indtastning!Y:Y=\"Ikke Aflagt\",1,\"\")","v":""},null,null,{"$f":"IF(Indtastning!U:U=\"Positiv\",1,\"\")","v":""},null,null,null,{"$f":"IF(Indtastning!Y:Y=\"Positiv\",1,\"\")","v":""},null,null,null,{"$f":"IF(Indtastning!AC:AC=\"Positiv\",1,\"\")","v":""}]
[null,null,null,null,null,null,null,null,null,null,null,null,null,null,null,null,null,null,null,null,null,null,null,null,null,null,null,null,null,null,null,null,null,null,null,null,null,null,null,null,null,null,null,{"$f":"IF(Indtastning!Y:Y=\"Ikke Aflagt\",1,\"\")","v":""},null,null,{"$f":"IF(Indtastning!U:U=\"Positiv\",1,\"\")","v":""},null,null,null,{"$f":"IF(Indtastning!Y:Y=\"Positiv\",1,\"\")","v":""},null,null,null,{"$f":"IF(Indtastning!AC:AC=\"Positiv\",1,\"\")","v":""}]
[null,null,null,null,null,null,null,null,null,null,null,null,null,null,null,null,null,null,null,null,null,null,null,null,null,null,null,null,null,null,null,null,null,null,null,null,null,null,null,null,null,null,null,{"$f":"IF(Indtastning!Y:Y=\"Ikke Aflagt\",1,\"\")","v":""},null,null,{"$f":"IF(Indtastning!U:U=\"Positiv\",1,\"\")","v":""},null,null,null,{"$f":"IF(Indtastning!Y:Y=\"Positiv\",1,\"\")","v":""},null,null,null,{"$f":"IF(Indtastning!AC:AC=\"Positiv\",1,\"\")","v":""}]
[null,null,null,null,null,null,null,null,null,null,null,null,null,null,null,null,null,null,null,null,null,null,null,null,null,null,null,null,null,null,null,null,null,null,null,null,null,null,null,null,null,null,null,{"$f":"IF(Indtastning!Y:Y=\"Ikke Aflagt\",1,\"\")","v":""},null,null,{"$f":"IF(Indtastning!U:U=\"Positiv\",1,\"\")","v":""},null,null,null,{"$f":"IF(Indtastning!Y:Y=\"Positiv\",1,\"\")","v":""},null,null,null,{"$f":"IF(Indtastning!AC:AC=\"Positiv\",1,\"\")","v":""}]
[null,null,null,null,null,null,null,null,null,null,null,null,null,null,null,null,null,null,null,null,null,null,null,null,null,null,null,null,null,null,null,null,null,null,null,null,null,null,null,null,null,null,null,{"$f":"IF(Indtastning!Y:Y=\"Ikke Aflagt\",1,\"\")","v":""},null,null,{"$f":"IF(Indtastning!U:U=\"Positiv\",1,\"\")","v":""},null,null,null,{"$f":"IF(Indtastning!Y:Y=\"Positiv\",1,\"\")","v":""},null,null,null,{"$f":"IF(Indtastning!AC:AC=\"Positiv\",1,\"\")","v":""}]
[null,null,null,null,null,null,null,null,null,null,null,null,null,null,null,null,null,null,null,null,null,null,null,null,null,null,null,null,null,null,null,null,null,null,null,null,null,null,null,null,null,null,null,{"$f":"IF(Indtastning!Y:Y=\"Ikke Aflagt\",1,\"\")","v":""},null,null,{"$f":"IF(Indtastning!U:U=\"Positiv\",1,\"\")","v":""},null,null,null,{"$f":"IF(Indtastning!Y:Y=\"Positiv\",1,\"\")","v":""},null,null,null,{"$f":"IF(Indtastning!AC:AC=\"Positiv\",1,\"\")","v":""}]
[null,null,null,null,null,null,null,null,null,null,null,null,null,null,null,null,null,null,null,null,null,null,null,null,null,null,null,null,null,null,null,null,null,null,null,null,null,null,null,null,null,null,null,{"$f":"IF(Indtastning!Y:Y=\"Ikke Aflagt\",1,\"\")","v":""},null,null,{"$f":"IF(Indtastning!U:U=\"Positiv\",1,\"\")","v":""},null,null,null,{"$f":"IF(Indtastning!Y:Y=\"Positiv\",1,\"\")","v":""},null,null,null,{"$f":"IF(Indtastning!AC:AC=\"Positiv\",1,\"\")","v":""}]
[null,null,null,null,null,null,null,null,null,null,null,null,null,null,null,null,null,null,null,null,null,null,null,null,null,null,null,null,null,null,null,null,null,null,null,null,null,null,null,null,null,null,null,{"$f":"IF(Indtastning!Y:Y=\"Ikke Aflagt\",1,\"\")","v":""},null,null,{"$f":"IF(Indtastning!U:U=\"Positiv\",1,\"\")","v":""},null,null,null,{"$f":"IF(Indtastning!Y:Y=\"Positiv\",1,\"\")","v":""},null,null,null,{"$f":"IF(Indtastning!AC:AC=\"Positiv\",1,\"\")","v":""}]
[null,null,null,null,null,null,null,null,null,null,null,null,null,null,null,null,null,null,null,null,null,null,null,null,null,null,null,null,null,null,null,null,null,null,null,null,null,null,null,null,null,null,null,{"$f":"IF(Indtastning!Y:Y=\"Ikke Aflagt\",1,\"\")","v":""},null,null,{"$f":"IF(Indtastning!U:U=\"Positiv\",1,\"\")","v":""},null,null,null,{"$f":"IF(Indtastning!Y:Y=\"Positiv\",1,\"\")","v":""},null,null,null,{"$f":"IF(Indtastning!AC:AC=\"Positiv\",1,\"\")","v":""}]
[null,null,null,null,null,null,null,null,null,null,null,null,null,null,null,null,null,null,null,null,null,null,null,null,null,null,null,null,null,null,null,null,null,null,null,null,null,null,null,null,null,null,null,{"$f":"IF(Indtastning!Y:Y=\"Ikke Aflagt\",1,\"\")","v":""},null,null,{"$f":"IF(Indtastning!U:U=\"Positiv\",1,\"\")","v":""},null,null,null,{"$f":"IF(Indtastning!Y:Y=\"Positiv\",1,\"\")","v":""},null,null,null,{"$f":"IF(Indtastning!AC:AC=\"Positiv\",1,\"\")","v":""}]
[null,null,null,null,null,null,null,null,null,null,null,null,null,null,null,null,null,null,null,null,null,null,null,null,null,null,null,null,null,null,null,null,null,null,null,null,null,null,null,null,null,null,null,{"$f":"IF(Indtastning!Y:Y=\"Ikke Aflagt\",1,\"\")","v":""},null,null,{"$f":"IF(Indtastning!U:U=\"Positiv\",1,\"\")","v":""},null,null,null,{"$f":"IF(Indtastning!Y:Y=\"Positiv\",1,\"\")","v":""},null,null,null,{"$f":"IF(Indtastning!AC:AC=\"Positiv\",1,\"\")","v":""}]
[null,null,null,null,null,null,null,null,null,null,null,null,null,null,null,null,null,null,null,null,null,null,null,null,null,null,null,null,null,null,null,null,null,null,null,null,null,null,null,null,null,null,null,{"$f":"IF(Indtastning!Y:Y=\"Ikke Aflagt\",1,\"\")","v":""},null,null,{"$f":"IF(Indtastning!U:U=\"Positiv\",1,\"\")","v":""},null,null,null,{"$f":"IF(Indtastning!Y:Y=\"Positiv\",1,\"\")","v":""},null,null,null,{"$f":"IF(Indtastning!AC:AC=\"Positiv\",1,\"\")","v":""}]
[null,null,null,null,null,null,null,null,null,null,null,null,null,null,null,null,null,null,null,null,null,null,null,null,null,null,null,null,null,null,null,null,null,null,null,null,null,null,null,null,null,null,null,{"$f":"IF(Indtastning!Y:Y=\"Ikke Aflagt\",1,\"\")","v":""},null,null,{"$f":"IF(Indtastning!U:U=\"Positiv\",1,\"\")","v":""},null,null,null,{"$f":"IF(Indtastning!Y:Y=\"Positiv\",1,\"\")","v":""},null,null,null,{"$f":"IF(Indtastning!AC:AC=\"Positiv\",1,\"\")","v":""}]
[null,null,null,null,null,null,null,null,null,null,null,null,null,null,null,null,null,null,null,null,null,null,null,null,null,null,null,null,null,null,null,null,null,null,null,null,null,null,null,null,null,null,null,{"$f":"IF(Indtastning!Y:Y=\"Ikke Aflagt\",1,\"\")","v":""},null,null,{"$f":"IF(Indtastning!U:U=\"Positiv\",1,\"\")","v":""},null,null,null,{"$f":"IF(Indtastning!Y:Y=\"Positiv\",1,\"\")","v":""},null,null,null,{"$f":"IF(Indtastning!AC:AC=\"Positiv\",1,\"\")","v":""}]
[null,null,null,null,null,null,null,null,null,null,null,null,null,null,null,null,null,null,null,null,null,null,null,null,null,null,null,null,null,null,null,null,null,null,null,null,null,null,null,null,null,null,null,{"$f":"IF(Indtastning!Y:Y=\"Ikke Aflagt\",1,\"\")","v":""},null,null,{"$f":"IF(Indtastning!U:U=\"Positiv\",1,\"\")","v":""},null,null,null,{"$f":"IF(Indtastning!Y:Y=\"Positiv\",1,\"\")","v":""},null,null,null,{"$f":"IF(Indtastning!AC:AC=\"Positiv\",1,\"\")","v":""}]
[null,null,null,null,null,null,null,null,null,null,null,null,null,null,null,null,null,null,null,null,null,null,null,null,null,null,null,null,null,null,null,null,null,null,null,null,null,null,null,null,null,null,null,{"$f":"IF(Indtastning!Y:Y=\"Ikke Aflagt\",1,\"\")","v":""},null,null,{"$f":"IF(Indtastning!U:U=\"Positiv\",1,\"\")","v":""},null,null,null,{"$f":"IF(Indtastning!Y:Y=\"Positiv\",1,\"\")","v":""},null,null,null,{"$f":"IF(Indtastning!AC:AC=\"Positiv\",1,\"\")","v":""}]
[null,null,null,null,null,null,null,null,null,null,null,null,null,null,null,null,null,null,null,null,null,null,null,null,null,null,null,null,null,null,null,null,null,null,null,null,null,null,null,null,null,null,null,{"$f":"IF(Indtastning!Y:Y=\"Ikke Aflagt\",1,\"\")","v":""},null,null,{"$f":"IF(Indtastning!U:U=\"Positiv\",1,\"\")","v":""},null,null,null,{"$f":"IF(Indtastning!Y:Y=\"Positiv\",1,\"\")","v":""},null,null,null,{"$f":"IF(Indtastning!AC:AC=\"Positiv\",1,\"\")","v":""}]
[null,null,null,null,null,null,null,null,null,null,null,null,null,null,null,null,null,null,null,null,null,null,null,null,null,null,null,null,null,null,null,null,null,null,null,null,null,null,null,null,null,null,null,{"$f":"IF(Indtastning!Y:Y=\"Ikke Aflagt\",1,\"\")","v":""},null,null,{"$f":"IF(Indtastning!U:U=\"Positiv\",1,\"\")","v":""},null,null,null,{"$f":"IF(Indtastning!Y:Y=\"Positiv\",1,\"\")","v":""},null,null,null,{"$f":"IF(Indtastning!AC:AC=\"Positiv\",1,\"\")","v":""}]
[null,null,null,null,null,null,null,null,null,null,null,null,null,null,null,null,null,null,null,null,null,null,null,null,null,null,null,null,null,null,null,null,null,null,null,null,null,null,null,null,null,null,null,{"$f":"IF(Indtastning!Y:Y=\"Ikke Aflagt\",1,\"\")","v":""},null,null,{"$f":"IF(Indtastning!U:U=\"Positiv\",1,\"\")","v":""},null,null,null,{"$f":"IF(Indtastning!Y:Y=\"Positiv\",1,\"\")","v":""},null,null,null,{"$f":"IF(Indtastning!AC:AC=\"Positiv\",1,\"\")","v":""}]
[null,null,null,null,null,null,null,null,null,null,null,null,null,null,null,null,null,null,null,null,null,null,null,null,null,null,null,null,null,null,null,null,null,null,null,null,null,null,null,null,null,null,null,{"$f":"IF(Indtastning!Y:Y=\"Ikke Aflagt\",1,\"\")","v":""},null,null,{"$f":"IF(Indtastning!U:U=\"Positiv\",1,\"\")","v":""},null,null,null,{"$f":"IF(Indtastning!Y:Y=\"Positiv\",1,\"\")","v":""},null,null,null,{"$f":"IF(Indtastning!AC:AC=\"Positiv\",1,\"\")","v":""}]
[null,null,null,null,null,null,null,null,null,null,null,null,null,null,null,null,null,null,null,null,null,null,null,null,null,null,null,null,null,null,null,null,null,null,null,null,null,null,null,null,null,null,null,{"$f":"IF(Indtastning!Y:Y=\"Ikke Aflagt\",1,\"\")","v":""},null,null,{"$f":"IF(Indtastning!U:U=\"Positiv\",1,\"\")","v":""},null,null,null,{"$f":"IF(Indtastning!Y:Y=\"Positiv\",1,\"\")","v":""},null,null,null,{"$f":"IF(Indtastning!AC:AC=\"Positiv\",1,\"\")","v":""}]
[null,null,null,null,null,null,null,null,null,null,null,null,null,null,null,null,null,null,null,null,null,null,null,null,null,null,null,null,null,null,null,null,null,null,null,null,null,null,null,null,null,null,null,{"$f":"IF(Indtastning!Y:Y=\"Ikke Aflagt\",1,\"\")","v":""},null,null,{"$f":"IF(Indtastning!U:U=\"Positiv\",1,\"\")","v":""},null,null,null,{"$f":"IF(Indtastning!Y:Y=\"Positiv\",1,\"\")","v":""},null,null,null,{"$f":"IF(Indtastning!AC:AC=\"Positiv\",1,\"\")","v":""}]
[null,null,null,null,null,null,null,null,null,null,null,null,null,null,null,null,null,null,null,null,null,null,null,null,null,null,null,null,null,null,null,null,null,null,null,null,null,null,null,null,null,null,null,{"$f":"IF(Indtastning!Y:Y=\"Ikke Aflagt\",1,\"\")","v":""},null,null,{"$f":"IF(Indtastning!U:U=\"Positiv\",1,\"\")","v":""},null,null,null,{"$f":"IF(Indtastning!Y:Y=\"Positiv\",1,\"\")","v":""},null,null,null,{"$f":"IF(Indtastning!AC:AC=\"Positiv\",1,\"\")","v":""}]
[null,null,null,null,null,null,null,null,null,null,null,null,null,null,null,null,null,null,null,null,null,null,null,null,null,null,null,null,null,null,null,null,null,null,null,null,null,null,null,null,null,null,null,{"$f":"IF(Indtastning!Y:Y=\"Ikke Aflagt\",1,\"\")","v":""},null,null,{"$f":"IF(Indtastning!U:U=\"Positiv\",1,\"\")","v":""},null,null,null,{"$f":"IF(Indtastning!Y:Y=\"Positiv\",1,\"\")","v":""},null,null,null,{"$f":"IF(Indtastning!AC:AC=\"Positiv\",1,\"\")","v":""}]
[null,null,null,null,null,null,null,null,null,null,null,null,null,null,null,null,null,null,null,null,null,null,null,null,null,null,null,null,null,null,null,null,null,null,null,null,null,null,null,null,null,null,null,{"$f":"IF(Indtastning!Y:Y=\"Ikke Aflagt\",1,\"\")","v":""},null,null,{"$f":"IF(Indtastning!U:U=\"Positiv\",1,\"\")","v":""},null,null,null,{"$f":"IF(Indtastning!Y:Y=\"Positiv\",1,\"\")","v":""},null,null,null,{"$f":"IF(Indtastning!AC:AC=\"Positiv\",1,\"\")","v":""}]
[null,null,null,null,null,null,null,null,null,null,null,null,null,null,null,null,null,null,null,null,null,null,null,null,null,null,null,null,null,null,null,null,null,null,null,null,null,null,null,null,null,null,null,{"$f":"IF(Indtastning!Y:Y=\"Ikke Aflagt\",1,\"\")","v":""},null,null,{"$f":"IF(Indtastning!U:U=\"Positiv\",1,\"\")","v":""},null,null,null,{"$f":"IF(Indtastning!Y:Y=\"Positiv\",1,\"\")","v":""},null,null,null,{"$f":"IF(Indtastning!AC:AC=\"Positiv\",1,\"\")","v":""}]
[null,null,null,null,null,null,null,null,null,null,null,null,null,null,null,null,null,null,null,null,null,null,null,null,null,null,null,null,null,null,null,null,null,null,null,null,null,null,null,null,null,null,null,{"$f":"IF(Indtastning!Y:Y=\"Ikke Aflagt\",1,\"\")","v":""},null,null,{"$f":"IF(Indtastning!U:U=\"Positiv\",1,\"\")","v":""},null,null,null,{"$f":"IF(Indtastning!Y:Y=\"Positiv\",1,\"\")","v":""},null,null,null,{"$f":"IF(Indtastning!AC:AC=\"Positiv\",1,\"\")","v":""}]
[null,null,null,null,null,null,null,null,null,null,null,null,null,null,null,null,null,null,null,null,null,null,null,null,null,null,null,null,null,null,null,null,null,null,null,null,null,null,null,null,null,null,null,{"$f":"IF(Indtastning!Y:Y=\"Ikke Aflagt\",1,\"\")","v":""},null,null,{"$f":"IF(Indtastning!U:U=\"Positiv\",1,\"\")","v":""},null,null,null,{"$f":"IF(Indtastning!Y:Y=\"Positiv\",1,\"\")","v":""},null,null,null,{"$f":"IF(Indtastning!AC:AC=\"Positiv\",1,\"\")","v":""}]
[null,null,null,null,null,null,null,null,null,null,null,null,null,null,null,null,null,null,null,null,null,null,null,null,null,null,null,null,null,null,null,null,null,null,null,null,null,null,null,null,null,null,null,{"$f":"IF(Indtastning!Y:Y=\"Ikke Aflagt\",1,\"\")","v":""},null,null,{"$f":"IF(Indtastning!U:U=\"Positiv\",1,\"\")","v":""},null,null,null,{"$f":"IF(Indtastning!Y:Y=\"Positiv\",1,\"\")","v":""},null,null,null,{"$f":"IF(Indtastning!AC:AC=\"Positiv\",1,\"\")","v":""}]
[null,null,null,null,null,null,null,null,null,null,null,null,null,null,null,null,null,null,null,null,null,null,null,null,null,null,null,null,null,null,null,null,null,null,null,null,null,null,null,null,null,null,null,{"$f":"IF(Indtastning!Y:Y=\"Ikke Aflagt\",1,\"\")","v":""},null,null,{"$f":"IF(Indtastning!U:U=\"Positiv\",1,\"\")","v":""},null,null,null,{"$f":"IF(Indtastning!Y:Y=\"Positiv\",1,\"\")","v":""},null,null,null,{"$f":"IF(Indtastning!AC:AC=\"Positiv\",1,\"\")","v":""}]
[null,null,null,null,null,null,null,null,null,null,null,null,null,null,null,null,null,null,null,null,null,null,null,null,null,null,null,null,null,null,null,null,null,null,null,null,null,null,null,null,null,null,null,{"$f":"IF(Indtastning!Y:Y=\"Ikke Aflagt\",1,\"\")","v":""},null,null,{"$f":"IF(Indtastning!U:U=\"Positiv\",1,\"\")","v":""},null,null,null,{"$f":"IF(Indtastning!Y:Y=\"Positiv\",1,\"\")","v":""},null,null,null,{"$f":"IF(Indtastning!AC:AC=\"Positiv\",1,\"\")","v":""}]
[null,null,null,null,null,null,null,null,null,null,null,null,null,null,null,null,null,null,null,null,null,null,null,null,null,null,null,null,null,null,null,null,null,null,null,null,null,null,null,null,null,null,null,{"$f":"IF(Indtastning!Y:Y=\"Ikke Aflagt\",1,\"\")","v":""},null,null,{"$f":"IF(Indtastning!U:U=\"Positiv\",1,\"\")","v":""},null,null,null,{"$f":"IF(Indtastning!Y:Y=\"Positiv\",1,\"\")","v":""},null,null,null,{"$f":"IF(Indtastning!AC:AC=\"Positiv\",1,\"\")","v":""}]
[null,null,null,null,null,null,null,null,null,null,null,null,null,null,null,null,null,null,null,null,null,null,null,null,null,null,null,null,null,null,null,null,null,null,null,null,null,null,null,null,null,null,null,{"$f":"IF(Indtastning!Y:Y=\"Ikke Aflagt\",1,\"\")","v":""},null,null,{"$f":"IF(Indtastning!U:U=\"Positiv\",1,\"\")","v":""},null,null,null,{"$f":"IF(Indtastning!Y:Y=\"Positiv\",1,\"\")","v":""},null,null,null,{"$f":"IF(Indtastning!AC:AC=\"Positiv\",1,\"\")","v":""}]
[null,null,null,null,null,null,null,null,null,null,null,null,null,null,null,null,null,null,null,null,null,null,null,null,null,null,null,null,null,null,null,null,null,null,null,null,null,null,null,null,null,null,null,{"$f":"IF(Indtastning!Y:Y=\"Ikke Aflagt\",1,\"\")","v":""},null,null,{"$f":"IF(Indtastning!U:U=\"Positiv\",1,\"\")","v":""},null,null,null,{"$f":"IF(Indtastning!Y:Y=\"Positiv\",1,\"\")","v":""},null,null,null,{"$f":"IF(Indtastning!AC:AC=\"Positiv\",1,\"\")","v":""}]
[null,null,null,null,null,null,null,null,null,null,null,null,null,null,null,null,null,null,null,null,null,null,null,null,null,null,null,null,null,null,null,null,null,null,null,null,null,null,null,null,null,null,null,{"$f":"IF(Indtastning!Y:Y=\"Ikke Aflagt\",1,\"\")","v":""},null,null,{"$f":"IF(Indtastning!U:U=\"Positiv\",1,\"\")","v":""},null,null,null,{"$f":"IF(Indtastning!Y:Y=\"Positiv\",1,\"\")","v":""},null,null,null,{"$f":"IF(Indtastning!AC:AC=\"Positiv\",1,\"\")","v":""}]
[null,null,null,null,null,null,null,null,null,null,null,null,null,null,null,null,null,null,null,null,null,null,null,null,null,null,null,null,null,null,null,null,null,null,null,null,null,null,null,null,null,null,null,{"$f":"IF(Indtastning!Y:Y=\"Ikke Aflagt\",1,\"\")","v":""},null,null,{"$f":"IF(Indtastning!U:U=\"Positiv\",1,\"\")","v":""},null,null,null,{"$f":"IF(Indtastning!Y:Y=\"Positiv\",1,\"\")","v":""},null,null,null,{"$f":"IF(Indtastning!AC:AC=\"Positiv\",1,\"\")","v":""}]
[null,null,null,null,null,null,null,null,null,null,null,null,null,null,null,null,null,null,null,null,null,null,null,null,null,null,null,null,null,null,null,null,null,null,null,null,null,null,null,null,null,null,null,{"$f":"IF(Indtastning!Y:Y=\"Ikke Aflagt\",1,\"\")","v":""},null,null,{"$f":"IF(Indtastning!U:U=\"Positiv\",1,\"\")","v":""},null,null,null,{"$f":"IF(Indtastning!Y:Y=\"Positiv\",1,\"\")","v":""},null,null,null,{"$f":"IF(Indtastning!AC:AC=\"Positiv\",1,\"\")","v":""}]
[null,null,null,null,null,null,null,null,null,null,null,null,null,null,null,null,null,null,null,null,null,null,null,null,null,null,null,null,null,null,null,null,null,null,null,null,null,null,null,null,null,null,null,{"$f":"IF(Indtastning!Y:Y=\"Ikke Aflagt\",1,\"\")","v":""},null,null,{"$f":"IF(Indtastning!U:U=\"Positiv\",1,\"\")","v":""},null,null,null,{"$f":"IF(Indtastning!Y:Y=\"Positiv\",1,\"\")","v":""},null,null,null,{"$f":"IF(Indtastning!AC:AC=\"Positiv\",1,\"\")","v":""}]
[null,null,null,null,null,null,null,null,null,null,null,null,null,null,null,null,null,null,null,null,null,null,null,null,null,null,null,null,null,null,null,null,null,null,null,null,null,null,null,null,null,null,null,{"$f":"IF(Indtastning!Y:Y=\"Ikke Aflagt\",1,\"\")","v":""},null,null,{"$f":"IF(Indtastning!U:U=\"Positiv\",1,\"\")","v":""},null,null,null,{"$f":"IF(Indtastning!Y:Y=\"Positiv\",1,\"\")","v":""},null,null,null,{"$f":"IF(Indtastning!AC:AC=\"Positiv\",1,\"\")","v":""}]
[null,null,null,null,null,null,null,null,null,null,null,null,null,null,null,null,null,null,null,null,null,null,null,null,null,null,null,null,null,null,null,null,null,null,null,null,null,null,null,null,null,null,null,{"$f":"IF(Indtastning!Y:Y=\"Ikke Aflagt\",1,\"\")","v":""},null,null,{"$f":"IF(Indtastning!U:U=\"Positiv\",1,\"\")","v":""},null,null,null,{"$f":"IF(Indtastning!Y:Y=\"Positiv\",1,\"\")","v":""},null,null,null,{"$f":"IF(Indtastning!AC:AC=\"Positiv\",1,\"\")","v":""}]
[null,null,null,null,null,null,null,null,null,null,null,null,null,null,null,null,null,null,null,null,null,null,null,null,null,null,null,null,null,null,null,null,null,null,null,null,null,null,null,null,null,null,null,{"$f":"IF(Indtastning!Y:Y=\"Ikke Aflagt\",1,\"\")","v":""},null,null,{"$f":"IF(Indtastning!U:U=\"Positiv\",1,\"\")","v":""},null,null,null,{"$f":"IF(Indtastning!Y:Y=\"Positiv\",1,\"\")","v":""},null,null,null,{"$f":"IF(Indtastning!AC:AC=\"Positiv\",1,\"\")","v":""}]
[null,null,null,null,null,null,null,null,null,null,null,null,null,null,null,null,null,null,null,null,null,null,null,null,null,null,null,null,null,null,null,null,null,null,null,null,null,null,null,null,null,null,null,{"$f":"IF(Indtastning!Y:Y=\"Ikke Aflagt\",1,\"\")","v":""},null,null,{"$f":"IF(Indtastning!U:U=\"Positiv\",1,\"\")","v":""},null,null,null,{"$f":"IF(Indtastning!Y:Y=\"Positiv\",1,\"\")","v":""},null,null,null,{"$f":"IF(Indtastning!AC:AC=\"Positiv\",1,\"\")","v":""}]
[null,null,null,null,null,null,null,null,null,null,null,null,null,null,null,null,null,null,null,null,null,null,null,null,null,null,null,null,null,null,null,null,null,null,null,null,null,null,null,null,null,null,null,{"$f":"IF(Indtastning!Y:Y=\"Ikke Aflagt\",1,\"\")","v":""},null,null,{"$f":"IF(Indtastning!U:U=\"Positiv\",1,\"\")","v":""},null,null,null,{"$f":"IF(Indtastning!Y:Y=\"Positiv\",1,\"\")","v":""},null,null,null,{"$f":"IF(Indtastning!AC:AC=\"Positiv\",1,\"\")","v":""}]
[null,null,null,null,null,null,null,null,null,null,null,null,null,null,null,null,null,null,null,null,null,null,null,null,null,null,null,null,null,null,null,null,null,null,null,null,null,null,null,null,null,null,null,{"$f":"IF(Indtastning!Y:Y=\"Ikke Aflagt\",1,\"\")","v":""},null,null,{"$f":"IF(Indtastning!U:U=\"Positiv\",1,\"\")","v":""},null,null,null,{"$f":"IF(Indtastning!Y:Y=\"Positiv\",1,\"\")","v":""},null,null,null,{"$f":"IF(Indtastning!AC:AC=\"Positiv\",1,\"\")","v":""}]
[null,null,null,null,null,null,null,null,null,null,null,null,null,null,null,null,null,null,null,null,null,null,null,null,null,null,null,null,null,null,null,null,null,null,null,null,null,null,null,null,null,null,null,{"$f":"IF(Indtastning!Y:Y=\"Ikke Aflagt\",1,\"\")","v":""},null,null,{"$f":"IF(Indtastning!U:U=\"Positiv\",1,\"\")","v":""},null,null,null,{"$f":"IF(Indtastning!Y:Y=\"Positiv\",1,\"\")","v":""},null,null,null,{"$f":"IF(Indtastning!AC:AC=\"Positiv\",1,\"\")","v":""}]
[null,null,null,null,null,null,null,null,null,null,null,null,null,null,null,null,null,null,null,null,null,null,null,null,null,null,null,null,null,null,null,null,null,null,null,null,null,null,null,null,null,null,null,{"$f":"IF(Indtastning!Y:Y=\"Ikke Aflagt\",1,\"\")","v":""},null,null,{"$f":"IF(Indtastning!U:U=\"Positiv\",1,\"\")","v":""},null,null,null,{"$f":"IF(Indtastning!Y:Y=\"Positiv\",1,\"\")","v":""},null,null,null,{"$f":"IF(Indtastning!AC:AC=\"Positiv\",1,\"\")","v":""}]
[null,null,null,null,null,null,null,null,null,null,null,null,null,null,null,null,null,null,null,null,null,null,null,null,null,null,null,null,null,null,null,null,null,null,null,null,null,null,null,null,null,null,null,{"$f":"IF(Indtastning!Y:Y=\"Ikke Aflagt\",1,\"\")","v":""},null,null,{"$f":"IF(Indtastning!U:U=\"Positiv\",1,\"\")","v":""},null,null,null,{"$f":"IF(Indtastning!Y:Y=\"Positiv\",1,\"\")","v":""},null,null,null,{"$f":"IF(Indtastning!AC:AC=\"Positiv\",1,\"\")","v":""}]
[null,null,null,null,null,null,null,null,null,null,null,null,null,null,null,null,null,null,null,null,null,null,null,null,null,null,null,null,null,null,null,null,null,null,null,null,null,null,null,null,null,null,null,{"$f":"IF(Indtastning!Y:Y=\"Ikke Aflagt\",1,\"\")","v":""},null,null,{"$f":"IF(Indtastning!U:U=\"Positiv\",1,\"\")","v":""},null,null,null,{"$f":"IF(Indtastning!Y:Y=\"Positiv\",1,\"\")","v":""},null,null,null,{"$f":"IF(Indtastning!AC:AC=\"Positiv\",1,\"\")","v":""}]
[null,null,null,null,null,null,null,null,null,null,null,null,null,null,null,null,null,null,null,null,null,null,null,null,null,null,null,null,null,null,null,null,null,null,null,null,null,null,null,null,null,null,null,{"$f":"IF(Indtastning!Y:Y=\"Ikke Aflagt\",1,\"\")","v":""},null,null,{"$f":"IF(Indtastning!U:U=\"Positiv\",1,\"\")","v":""},null,null,null,{"$f":"IF(Indtastning!Y:Y=\"Positiv\",1,\"\")","v":""},null,null,null,{"$f":"IF(Indtastning!AC:AC=\"Positiv\",1,\"\")","v":""}]
[null,null,null,null,null,null,null,null,null,null,null,null,null,null,null,null,null,null,null,null,null,null,null,null,null,null,null,null,null,null,null,null,null,null,null,null,null,null,null,null,null,null,null,{"$f":"IF(Indtastning!Y:Y=\"Ikke Aflagt\",1,\"\")","v":""},null,null,{"$f":"IF(Indtastning!U:U=\"Positiv\",1,\"\")","v":""},null,null,null,{"$f":"IF(Indtastning!Y:Y=\"Positiv\",1,\"\")","v":""},null,null,null,{"$f":"IF(Indtastning!AC:AC=\"Positiv\",1,\"\")","v":""}]
[null,null,null,null,null,null,null,null,null,null,null,null,null,null,null,null,null,null,null,null,null,null,null,null,null,null,null,null,null,null,null,null,null,null,null,null,null,null,null,null,null,null,null,{"$f":"IF(Indtastning!Y:Y=\"Ikke Aflagt\",1,\"\")","v":""},null,null,{"$f":"IF(Indtastning!U:U=\"Positiv\",1,\"\")","v":""},null,null,null,{"$f":"IF(Indtastning!Y:Y=\"Positiv\",1,\"\")","v":""},null,null,null,{"$f":"IF(Indtastning!AC:AC=\"Positiv\",1,\"\")","v":""}]
[null,null,null,null,null,null,null,null,null,null,null,null,null,null,null,null,null,null,null,null,null,null,null,null,null,null,null,null,null,null,null,null,null,null,null,null,null,null,null,null,null,null,null,{"$f":"IF(Indtastning!Y:Y=\"Ikke Aflagt\",1,\"\")","v":""},null,null,{"$f":"IF(Indtastning!U:U=\"Positiv\",1,\"\")","v":""},null,null,null,{"$f":"IF(Indtastning!Y:Y=\"Positiv\",1,\"\")","v":""},null,null,null,{"$f":"IF(Indtastning!AC:AC=\"Positiv\",1,\"\")","v":""}]
[null,null,null,null,null,null,null,null,null,null,null,null,null,null,null,null,null,null,null,null,null,null,null,null,null,null,null,null,null,null,null,null,null,null,null,null,null,null,null,null,null,null,null,{"$f":"IF(Indtastning!Y:Y=\"Ikke Aflagt\",1,\"\")","v":""},null,null,{"$f":"IF(Indtastning!U:U=\"Positiv\",1,\"\")","v":""},null,null,null,{"$f":"IF(Indtastning!Y:Y=\"Positiv\",1,\"\")","v":""},null,null,null,{"$f":"IF(Indtastning!AC:AC=\"Positiv\",1,\"\")","v":""}]
[null,null,null,null,null,null,null,null,null,null,null,null,null,null,null,null,null,null,null,null,null,null,null,null,null,null,null,null,null,null,null,null,null,null,null,null,null,null,null,null,null,null,null,{"$f":"IF(Indtastning!Y:Y=\"Ikke Aflagt\",1,\"\")","v":""},null,null,{"$f":"IF(Indtastning!U:U=\"Positiv\",1,\"\")","v":""},null,null,null,{"$f":"IF(Indtastning!Y:Y=\"Positiv\",1,\"\")","v":""},null,null,null,{"$f":"IF(Indtastning!AC:AC=\"Positiv\",1,\"\")","v":""}]
[null,null,null,null,null,null,null,null,null,null,null,null,null,null,null,null,null,null,null,null,null,null,null,null,null,null,null,null,null,null,null,null,null,null,null,null,null,null,null,null,null,null,null,{"$f":"IF(Indtastning!Y:Y=\"Ikke Aflagt\",1,\"\")","v":""},null,null,{"$f":"IF(Indtastning!U:U=\"Positiv\",1,\"\")","v":""},null,null,null,{"$f":"IF(Indtastning!Y:Y=\"Positiv\",1,\"\")","v":""},null,null,null,{"$f":"IF(Indtastning!AC:AC=\"Positiv\",1,\"\")","v":""}]
[null,null,null,null,null,null,null,null,null,null,null,null,null,null,null,null,null,null,null,null,null,null,null,null,null,null,null,null,null,null,null,null,null,null,null,null,null,null,null,null,null,null,null,{"$f":"IF(Indtastning!Y:Y=\"Ikke Aflagt\",1,\"\")","v":""},null,null,{"$f":"IF(Indtastning!U:U=\"Positiv\",1,\"\")","v":""},null,null,null,{"$f":"IF(Indtastning!Y:Y=\"Positiv\",1,\"\")","v":""},null,null,null,{"$f":"IF(Indtastning!AC:AC=\"Positiv\",1,\"\")","v":""}]
[null,null,null,null,null,null,null,null,null,null,null,null,null,null,null,null,null,null,null,null,null,null,null,null,null,null,null,null,null,null,null,null,null,null,null,null,null,null,null,null,null,null,null,{"$f":"IF(Indtastning!Y:Y=\"Ikke Aflagt\",1,\"\")","v":""},null,null,{"$f":"IF(Indtastning!U:U=\"Positiv\",1,\"\")","v":""},null,null,null,{"$f":"IF(Indtastning!Y:Y=\"Positiv\",1,\"\")","v":""},null,null,null,{"$f":"IF(Indtastning!AC:AC=\"Positiv\",1,\"\")","v":""}]
[null,null,null,null,null,null,null,null,null,null,null,null,null,null,null,null,null,null,null,null,null,null,null,null,null,null,null,null,null,null,null,null,null,null,null,null,null,null,null,null,null,null,null,{"$f":"IF(Indtastning!Y:Y=\"Ikke Aflagt\",1,\"\")","v":""},null,null,{"$f":"IF(Indtastning!U:U=\"Positiv\",1,\"\")","v":""},null,null,null,{"$f":"IF(Indtastning!Y:Y=\"Positiv\",1,\"\")","v":""},null,null,null,{"$f":"IF(Indtastning!AC:AC=\"Positiv\",1,\"\")","v":""}]
[null,null,null,null,null,null,null,null,null,null,null,null,null,null,null,null,null,null,null,null,null,null,null,null,null,null,null,null,null,null,null,null,null,null,null,null,null,null,null,null,null,null,null,{"$f":"IF(Indtastning!Y:Y=\"Ikke Aflagt\",1,\"\")","v":""},null,null,{"$f":"IF(Indtastning!U:U=\"Positiv\",1,\"\")","v":""},null,null,null,{"$f":"IF(Indtastning!Y:Y=\"Positiv\",1,\"\")","v":""},null,null,null,{"$f":"IF(Indtastning!AC:AC=\"Positiv\",1,\"\")","v":""}]
[null,null,null,null,null,null,null,null,null,null,null,null,null,null,null,null,null,null,null,null,null,null,null,null,null,null,null,null,null,null,null,null,null,null,null,null,null,null,null,null,null,null,null,{"$f":"IF(Indtastning!Y:Y=\"Ikke Aflagt\",1,\"\")","v":""},null,null,{"$f":"IF(Indtastning!U:U=\"Positiv\",1,\"\")","v":""},null,null,null,{"$f":"IF(Indtastning!Y:Y=\"Positiv\",1,\"\")","v":""},null,null,null,{"$f":"IF(Indtastning!AC:AC=\"Positiv\",1,\"\")","v":""}]
[null,null,null,null,null,null,null,null,null,null,null,null,null,null,null,null,null,null,null,null,null,null,null,null,null,null,null,null,null,null,null,null,null,null,null,null,null,null,null,null,null,null,null,{"$f":"IF(Indtastning!Y:Y=\"Ikke Aflagt\",1,\"\")","v":""},null,null,{"$f":"IF(Indtastning!U:U=\"Positiv\",1,\"\")","v":""},null,null,null,{"$f":"IF(Indtastning!Y:Y=\"Positiv\",1,\"\")","v":""},null,null,null,{"$f":"IF(Indtastning!AC:AC=\"Positiv\",1,\"\")","v":""}]
[null,null,null,null,null,null,null,null,null,null,null,null,null,null,null,null,null,null,null,null,null,null,null,null,null,null,null,null,null,null,null,null,null,null,null,null,null,null,null,null,null,null,null,{"$f":"IF(Indtastning!Y:Y=\"Ikke Aflagt\",1,\"\")","v":""},null,null,{"$f":"IF(Indtastning!U:U=\"Positiv\",1,\"\")","v":""},null,null,null,{"$f":"IF(Indtastning!Y:Y=\"Positiv\",1,\"\")","v":""},null,null,null,{"$f":"IF(Indtastning!AC:AC=\"Positiv\",1,\"\")","v":""}]
[null,null,null,null,null,null,null,null,null,null,null,null,null,null,null,null,null,null,null,null,null,null,null,null,null,null,null,null,null,null,null,null,null,null,null,null,null,null,null,null,null,null,null,{"$f":"IF(Indtastning!Y:Y=\"Ikke Aflagt\",1,\"\")","v":""},null,null,{"$f":"IF(Indtastning!U:U=\"Positiv\",1,\"\")","v":""},null,null,null,{"$f":"IF(Indtastning!Y:Y=\"Positiv\",1,\"\")","v":""},null,null,null,{"$f":"IF(Indtastning!AC:AC=\"Positiv\",1,\"\")","v":""}]
[null,null,null,null,null,null,null,null,null,null,null,null,null,null,null,null,null,null,null,null,null,null,null,null,null,null,null,null,null,null,null,null,null,null,null,null,null,null,null,null,null,null,null,{"$f":"IF(Indtastning!Y:Y=\"Ikke Aflagt\",1,\"\")","v":""},null,null,{"$f":"IF(Indtastning!U:U=\"Positiv\",1,\"\")","v":""},null,null,null,{"$f":"IF(Indtastning!Y:Y=\"Positiv\",1,\"\")","v":""},null,null,null,{"$f":"IF(Indtastning!AC:AC=\"Positiv\",1,\"\")","v":""}]
[null,null,null,null,null,null,null,null,null,null,null,null,null,null,null,null,null,null,null,null,null,null,null,null,null,null,null,null,null,null,null,null,null,null,null,null,null,null,null,null,null,null,null,{"$f":"IF(Indtastning!Y:Y=\"Ikke Aflagt\",1,\"\")","v":""},null,null,{"$f":"IF(Indtastning!U:U=\"Positiv\",1,\"\")","v":""},null,null,null,{"$f":"IF(Indtastning!Y:Y=\"Positiv\",1,\"\")","v":""},null,null,null,{"$f":"IF(Indtastning!AC:AC=\"Positiv\",1,\"\")","v":""}]
[null,null,null,null,null,null,null,null,null,null,null,null,null,null,null,null,null,null,null,null,null,null,null,null,null,null,null,null,null,null,null,null,null,null,null,null,null,null,null,null,null,null,null,{"$f":"IF(Indtastning!Y:Y=\"Ikke Aflagt\",1,\"\")","v":""},null,null,{"$f":"IF(Indtastning!U:U=\"Positiv\",1,\"\")","v":""},null,null,null,{"$f":"IF(Indtastning!Y:Y=\"Positiv\",1,\"\")","v":""},null,null,null,{"$f":"IF(Indtastning!AC:AC=\"Positiv\",1,\"\")","v":""}]
[null,null,null,null,null,null,null,null,null,null,null,null,null,null,null,null,null,null,null,null,null,null,null,null,null,null,null,null,null,null,null,null,null,null,null,null,null,null,null,null,null,null,null,{"$f":"IF(Indtastning!Y:Y=\"Ikke Aflagt\",1,\"\")","v":""},null,null,{"$f":"IF(Indtastning!U:U=\"Positiv\",1,\"\")","v":""},null,null,null,{"$f":"IF(Indtastning!Y:Y=\"Positiv\",1,\"\")","v":""},null,null,null,{"$f":"IF(Indtastning!AC:AC=\"Positiv\",1,\"\")","v":""}]
[null,null,null,null,null,null,null,null,null,null,null,null,null,null,null,null,null,null,null,null,null,null,null,null,null,null,null,null,null,null,null,null,null,null,null,null,null,null,null,null,null,null,null,{"$f":"IF(Indtastning!Y:Y=\"Ikke Aflagt\",1,\"\")","v":""},null,null,{"$f":"IF(Indtastning!U:U=\"Positiv\",1,\"\")","v":""},null,null,null,{"$f":"IF(Indtastning!Y:Y=\"Positiv\",1,\"\")","v":""},null,null,null,{"$f":"IF(Indtastning!AC:AC=\"Positiv\",1,\"\")","v":""}]
[null,null,null,null,null,null,null,null,null,null,null,null,null,null,null,null,null,null,null,null,null,null,null,null,null,null,null,null,null,null,null,null,null,null,null,null,null,null,null,null,null,null,null,{"$f":"IF(Indtastning!Y:Y=\"Ikke Aflagt\",1,\"\")","v":""},null,null,{"$f":"IF(Indtastning!U:U=\"Positiv\",1,\"\")","v":""},null,null,null,{"$f":"IF(Indtastning!Y:Y=\"Positiv\",1,\"\")","v":""},null,null,null,{"$f":"IF(Indtastning!AC:AC=\"Positiv\",1,\"\")","v":""}]
[null,null,null,null,null,null,null,null,null,null,null,null,null,null,null,null,null,null,null,null,null,null,null,null,null,null,null,null,null,null,null,null,null,null,null,null,null,null,null,null,null,null,null,{"$f":"IF(Indtastning!Y:Y=\"Ikke Aflagt\",1,\"\")","v":""},null,null,{"$f":"IF(Indtastning!U:U=\"Positiv\",1,\"\")","v":""},null,null,null,{"$f":"IF(Indtastning!Y:Y=\"Positiv\",1,\"\")","v":""},null,null,null,{"$f":"IF(Indtastning!AC:AC=\"Positiv\",1,\"\")","v":""}]
[null,null,null,null,null,null,null,null,null,null,null,null,null,null,null,null,null,null,null,null,null,null,null,null,null,null,null,null,null,null,null,null,null,null,null,null,null,null,null,null,null,null,null,{"$f":"IF(Indtastning!Y:Y=\"Ikke Aflagt\",1,\"\")","v":""},null,null,{"$f":"IF(Indtastning!U:U=\"Positiv\",1,\"\")","v":""},null,null,null,{"$f":"IF(Indtastning!Y:Y=\"Positiv\",1,\"\")","v":""},null,null,null,{"$f":"IF(Indtastning!AC:AC=\"Positiv\",1,\"\")","v":""}]
[null,null,null,null,null,null,null,null,null,null,null,null,null,null,null,null,null,null,null,null,null,null,null,null,null,null,null,null,null,null,null,null,null,null,null,null,null,null,null,null,null,null,null,{"$f":"IF(Indtastning!Y:Y=\"Ikke Aflagt\",1,\"\")","v":""},null,null,{"$f":"IF(Indtastning!U:U=\"Positiv\",1,\"\")","v":""},null,null,null,{"$f":"IF(Indtastning!Y:Y=\"Positiv\",1,\"\")","v":""},null,null,null,{"$f":"IF(Indtastning!AC:AC=\"Positiv\",1,\"\")","v":""}]
[null,null,null,null,null,null,null,null,null,null,null,null,null,null,null,null,null,null,null,null,null,null,null,null,null,null,null,null,null,null,null,null,null,null,null,null,null,null,null,null,null,null,null,{"$f":"IF(Indtastning!Y:Y=\"Ikke Aflagt\",1,\"\")","v":""},null,null,{"$f":"IF(Indtastning!U:U=\"Positiv\",1,\"\")","v":""},null,null,null,{"$f":"IF(Indtastning!Y:Y=\"Positiv\",1,\"\")","v":""},null,null,null,{"$f":"IF(Indtastning!AC:AC=\"Positiv\",1,\"\")","v":""}]
[null,null,null,null,null,null,null,null,null,null,null,null,null,null,null,null,null,null,null,null,null,null,null,null,null,null,null,null,null,null,null,null,null,null,null,null,null,null,null,null,null,null,null,{"$f":"IF(Indtastning!Y:Y=\"Ikke Aflagt\",1,\"\")","v":""},null,null,{"$f":"IF(Indtastning!U:U=\"Positiv\",1,\"\")","v":""},null,null,null,{"$f":"IF(Indtastning!Y:Y=\"Positiv\",1,\"\")","v":""},null,null,null,{"$f":"IF(Indtastning!AC:AC=\"Positiv\",1,\"\")","v":""}]
[null,null,null,null,null,null,null,null,null,null,null,null,null,null,null,null,null,null,null,null,null,null,null,null,null,null,null,null,null,null,null,null,null,null,null,null,null,null,null,null,null,null,null,{"$f":"IF(Indtastning!Y:Y=\"Ikke Aflagt\",1,\"\")","v":""},null,null,{"$f":"IF(Indtastning!U:U=\"Positiv\",1,\"\")","v":""},null,null,null,{"$f":"IF(Indtastning!Y:Y=\"Positiv\",1,\"\")","v":""},null,null,null,{"$f":"IF(Indtastning!AC:AC=\"Positiv\",1,\"\")","v":""}]
[null,null,null,null,null,null,null,null,null,null,null,null,null,null,null,null,null,null,null,null,null,null,null,null,null,null,null,null,null,null,null,null,null,null,null,null,null,null,null,null,null,null,null,{"$f":"IF(Indtastning!Y:Y=\"Ikke Aflagt\",1,\"\")","v":""},null,null,{"$f":"IF(Indtastning!U:U=\"Positiv\",1,\"\")","v":""},null,null,null,{"$f":"IF(Indtastning!Y:Y=\"Positiv\",1,\"\")","v":""},null,null,null,{"$f":"IF(Indtastning!AC:AC=\"Positiv\",1,\"\")","v":""}]
[null,null,null,null,null,null,null,null,null,null,null,null,null,null,null,null,null,null,null,null,null,null,null,null,null,null,null,null,null,null,null,null,null,null,null,null,null,null,null,null,null,null,null,{"$f":"IF(Indtastning!Y:Y=\"Ikke Aflagt\",1,\"\")","v":""},null,null,{"$f":"IF(Indtastning!U:U=\"Positiv\",1,\"\")","v":""},null,null,null,{"$f":"IF(Indtastning!Y:Y=\"Positiv\",1,\"\")","v":""},null,null,null,{"$f":"IF(Indtastning!AC:AC=\"Positiv\",1,\"\")","v":""}]
[null,null,null,null,null,null,null,null,null,null,null,null,null,null,null,null,null,null,null,null,null,null,null,null,null,null,null,null,null,null,null,null,null,null,null,null,null,null,null,null,null,null,null,{"$f":"IF(Indtastning!Y:Y=\"Ikke Aflagt\",1,\"\")","v":""},null,null,{"$f":"IF(Indtastning!U:U=\"Positiv\",1,\"\")","v":""},null,null,null,{"$f":"IF(Indtastning!Y:Y=\"Positiv\",1,\"\")","v":""},null,null,null,{"$f":"IF(Indtastning!AC:AC=\"Positiv\",1,\"\")","v":""}]
[null,null,null,null,null,null,null,null,null,null,null,null,null,null,null,null,null,null,null,null,null,null,null,null,null,null,null,null,null,null,null,null,null,null,null,null,null,null,null,null,null,null,null,{"$f":"IF(Indtastning!Y:Y=\"Ikke Aflagt\",1,\"\")","v":""},null,null,{"$f":"IF(Indtastning!U:U=\"Positiv\",1,\"\")","v":""},null,null,null,{"$f":"IF(Indtastning!Y:Y=\"Positiv\",1,\"\")","v":""},null,null,null,{"$f":"IF(Indtastning!AC:AC=\"Positiv\",1,\"\")","v":""}]
[null,null,null,null,null,null,null,null,null,null,null,null,null,null,null,null,null,null,null,null,null,null,null,null,null,null,null,null,null,null,null,null,null,null,null,null,null,null,null,null,null,null,null,{"$f":"IF(Indtastning!Y:Y=\"Ikke Aflagt\",1,\"\")","v":""},null,null,{"$f":"IF(Indtastning!U:U=\"Positiv\",1,\"\")","v":""},null,null,null,{"$f":"IF(Indtastning!Y:Y=\"Positiv\",1,\"\")","v":""},null,null,null,{"$f":"IF(Indtastning!AC:AC=\"Positiv\",1,\"\")","v":""}]
[null,null,null,null,null,null,null,null,null,null,null,null,null,null,null,null,null,null,null,null,null,null,null,null,null,null,null,null,null,null,null,null,null,null,null,null,null,null,null,null,null,null,null,{"$f":"IF(Indtastning!Y:Y=\"Ikke Aflagt\",1,\"\")","v":""},null,null,{"$f":"IF(Indtastning!U:U=\"Positiv\",1,\"\")","v":""},null,null,null,{"$f":"IF(Indtastning!Y:Y=\"Positiv\",1,\"\")","v":""},null,null,null,{"$f":"IF(Indtastning!AC:AC=\"Positiv\",1,\"\")","v":""}]
[null,null,null,null,null,null,null,null,null,null,null,null,null,null,null,null,null,null,null,null,null,null,null,null,null,null,null,null,null,null,null,null,null,null,null,null,null,null,null,null,null,null,null,{"$f":"IF(Indtastning!Y:Y=\"Ikke Aflagt\",1,\"\")","v":""},null,null,{"$f":"IF(Indtastning!U:U=\"Positiv\",1,\"\")","v":""},null,null,null,{"$f":"IF(Indtastning!Y:Y=\"Positiv\",1,\"\")","v":""},null,null,null,{"$f":"IF(Indtastning!AC:AC=\"Positiv\",1,\"\")","v":""}]
[null,null,null,null,null,null,null,null,null,null,null,null,null,null,null,null,null,null,null,null,null,null,null,null,null,null,null,null,null,null,null,null,null,null,null,null,null,null,null,null,null,null,null,{"$f":"IF(Indtastning!Y:Y=\"Ikke Aflagt\",1,\"\")","v":""},null,null,{"$f":"IF(Indtastning!U:U=\"Positiv\",1,\"\")","v":""},null,null,null,{"$f":"IF(Indtastning!Y:Y=\"Positiv\",1,\"\")","v":""},null,null,null,{"$f":"IF(Indtastning!AC:AC=\"Positiv\",1,\"\")","v":""}]
[null,null,null,null,null,null,null,null,null,null,null,null,null,null,null,null,null,null,null,null,null,null,null,null,null,null,null,null,null,null,null,null,null,null,null,null,null,null,null,null,null,null,null,{"$f":"IF(Indtastning!Y:Y=\"Ikke Aflagt\",1,\"\")","v":""},null,null,{"$f":"IF(Indtastning!U:U=\"Positiv\",1,\"\")","v":""},null,null,null,{"$f":"IF(Indtastning!Y:Y=\"Positiv\",1,\"\")","v":""},null,null,null,{"$f":"IF(Indtastning!AC:AC=\"Positiv\",1,\"\")","v":""}]
[null,null,null,null,null,null,null,null,null,null,null,null,null,null,null,null,null,null,null,null,null,null,null,null,null,null,null,null,null,null,null,null,null,null,null,null,null,null,null,null,null,null,null,{"$f":"IF(Indtastning!Y:Y=\"Ikke Aflagt\",1,\"\")","v":""},null,null,{"$f":"IF(Indtastning!U:U=\"Positiv\",1,\"\")","v":""},null,null,null,{"$f":"IF(Indtastning!Y:Y=\"Positiv\",1,\"\")","v":""},null,null,null,{"$f":"IF(Indtastning!AC:AC=\"Positiv\",1,\"\")","v":""}]
[null,null,null,null,null,null,null,null,null,null,null,null,null,null,null,null,null,null,null,null,null,null,null,null,null,null,null,null,null,null,null,null,null,null,null,null,null,null,null,null,null,null,null,{"$f":"IF(Indtastning!Y:Y=\"Ikke Aflagt\",1,\"\")","v":""},null,null,{"$f":"IF(Indtastning!U:U=\"Positiv\",1,\"\")","v":""},null,null,null,{"$f":"IF(Indtastning!Y:Y=\"Positiv\",1,\"\")","v":""},null,null,null,{"$f":"IF(Indtastning!AC:AC=\"Positiv\",1,\"\")","v":""}]
[null,null,null,null,null,null,null,null,null,null,null,null,null,null,null,null,null,null,null,null,null,null,null,null,null,null,null,null,null,null,null,null,null,null,null,null,null,null,null,null,null,null,null,{"$f":"IF(Indtastning!Y:Y=\"Ikke Aflagt\",1,\"\")","v":""},null,null,{"$f":"IF(Indtastning!U:U=\"Positiv\",1,\"\")","v":""},null,null,null,{"$f":"IF(Indtastning!Y:Y=\"Positiv\",1,\"\")","v":""},null,null,null,{"$f":"IF(Indtastning!AC:AC=\"Positiv\",1,\"\")","v":""}]
[null,null,null,null,null,null,null,null,null,null,null,null,null,null,null,null,null,null,null,null,null,null,null,null,null,null,null,null,null,null,null,null,null,null,null,null,null,null,null,null,null,null,null,{"$f":"IF(Indtastning!Y:Y=\"Ikke Aflagt\",1,\"\")","v":""},null,null,{"$f":"IF(Indtastning!U:U=\"Positiv\",1,\"\")","v":""},null,null,null,{"$f":"IF(Indtastning!Y:Y=\"Positiv\",1,\"\")","v":""},null,null,null,{"$f":"IF(Indtastning!AC:AC=\"Positiv\",1,\"\")","v":""}]
[null,null,null,null,null,null,null,null,null,null,null,null,null,null,null,null,null,null,null,null,null,null,null,null,null,null,null,null,null,null,null,null,null,null,null,null,null,null,null,null,null,null,null,{"$f":"IF(Indtastning!Y:Y=\"Ikke Aflagt\",1,\"\")","v":""},null,null,{"$f":"IF(Indtastning!U:U=\"Positiv\",1,\"\")","v":""},null,null,null,{"$f":"IF(Indtastning!Y:Y=\"Positiv\",1,\"\")","v":""},null,null,null,{"$f":"IF(Indtastning!AC:AC=\"Positiv\",1,\"\")","v":""}]
[null,null,null,null,null,null,null,null,null,null,null,null,null,null,null,null,null,null,null,null,null,null,null,null,null,null,null,null,null,null,null,null,null,null,null,null,null,null,null,null,null,null,null,{"$f":"IF(Indtastning!Y:Y=\"Ikke Aflagt\",1,\"\")","v":""},null,null,{"$f":"IF(Indtastning!U:U=\"Positiv\",1,\"\")","v":""},null,null,null,{"$f":"IF(Indtastning!Y:Y=\"Positiv\",1,\"\")","v":""},null,null,null,{"$f":"IF(Indtastning!AC:AC=\"Positiv\",1,\"\")","v":""}]
[null,null,null,null,null,null,null,null,null,null,null,null,null,null,null,null,null,null,null,null,null,null,null,null,null,null,null,null,null,null,null,null,null,null,null,null,null,null,null,null,null,null,null,{"$f":"IF(Indtastning!Y:Y=\"Ikke Aflagt\",1,\"\")","v":""},null,null,{"$f":"IF(Indtastning!U:U=\"Positiv\",1,\"\")","v":""},null,null,null,{"$f":"IF(Indtastning!Y:Y=\"Positiv\",1,\"\")","v":""},null,null,null,{"$f":"IF(Indtastning!AC:AC=\"Positiv\",1,\"\")","v":""}]
[null,null,null,null,null,null,null,null,null,null,null,null,null,null,null,null,null,null,null,null,null,null,null,null,null,null,null,null,null,null,null,null,null,null,null,null,null,null,null,null,null,null,null,{"$f":"IF(Indtastning!Y:Y=\"Ikke Aflagt\",1,\"\")","v":""},null,null,{"$f":"IF(Indtastning!U:U=\"Positiv\",1,\"\")","v":""},null,null,null,{"$f":"IF(Indtastning!Y:Y=\"Positiv\",1,\"\")","v":""},null,null,null,{"$f":"IF(Indtastning!AC:AC=\"Positiv\",1,\"\")","v":""}]
[null,null,null,null,null,null,null,null,null,null,null,null,null,null,null,null,null,null,null,null,null,null,null,null,null,null,null,null,null,null,null,null,null,null,null,null,null,null,null,null,null,null,null,{"$f":"IF(Indtastning!Y:Y=\"Ikke Aflagt\",1,\"\")","v":""},null,null,{"$f":"IF(Indtastning!U:U=\"Positiv\",1,\"\")","v":""},null,null,null,{"$f":"IF(Indtastning!Y:Y=\"Positiv\",1,\"\")","v":""},null,null,null,{"$f":"IF(Indtastning!AC:AC=\"Positiv\",1,\"\")","v":""}]
[null,null,null,null,null,null,null,null,null,null,null,null,null,null,null,null,null,null,null,null,null,null,null,null,null,null,null,null,null,null,null,null,null,null,null,null,null,null,null,null,null,null,null,{"$f":"IF(Indtastning!Y:Y=\"Ikke Aflagt\",1,\"\")","v":""},null,null,{"$f":"IF(Indtastning!U:U=\"Positiv\",1,\"\")","v":""},null,null,null,{"$f":"IF(Indtastning!Y:Y=\"Positiv\",1,\"\")","v":""},null,null,null,{"$f":"IF(Indtastning!AC:AC=\"Positiv\",1,\"\")","v":""}]
[null,null,null,null,null,null,null,null,null,null,null,null,null,null,null,null,null,null,null,null,null,null,null,null,null,null,null,null,null,null,null,null,null,null,null,null,null,null,null,null,null,null,null,{"$f":"IF(Indtastning!Y:Y=\"Ikke Aflagt\",1,\"\")","v":""},null,null,{"$f":"IF(Indtastning!U:U=\"Positiv\",1,\"\")","v":""},null,null,null,{"$f":"IF(Indtastning!Y:Y=\"Positiv\",1,\"\")","v":""},null,null,null,{"$f":"IF(Indtastning!AC:AC=\"Positiv\",1,\"\")","v":""}]
[null,null,null,null,null,null,null,null,null,null,null,null,null,null,null,null,null,null,null,null,null,null,null,null,null,null,null,null,null,null,null,null,null,null,null,null,null,null,null,null,null,null,null,{"$f":"IF(Indtastning!Y:Y=\"Ikke Aflagt\",1,\"\")","v":""},null,null,{"$f":"IF(Indtastning!U:U=\"Positiv\",1,\"\")","v":""},null,null,null,{"$f":"IF(Indtastning!Y:Y=\"Positiv\",1,\"\")","v":""},null,null,null,{"$f":"IF(Indtastning!AC:AC=\"Positiv\",1,\"\")","v":""}]
[null,null,null,null,null,null,null,null,null,null,null,null,null,null,null,null,null,null,null,null,null,null,null,null,null,null,null,null,null,null,null,null,null,null,null,null,null,null,null,null,null,null,null,{"$f":"IF(Indtastning!Y:Y=\"Ikke Aflagt\",1,\"\")","v":""},null,null,{"$f":"IF(Indtastning!U:U=\"Positiv\",1,\"\")","v":""},null,null,null,{"$f":"IF(Indtastning!Y:Y=\"Positiv\",1,\"\")","v":""},null,null,null,{"$f":"IF(Indtastning!AC:AC=\"Positiv\",1,\"\")","v":""}]
[null,null,null,null,null,null,null,null,null,null,null,null,null,null,null,null,null,null,null,null,null,null,null,null,null,null,null,null,null,null,null,null,null,null,null,null,null,null,null,null,null,null,null,{"$f":"IF(Indtastning!Y:Y=\"Ikke Aflagt\",1,\"\")","v":""},null,null,{"$f":"IF(Indtastning!U:U=\"Positiv\",1,\"\")","v":""},null,null,null,{"$f":"IF(Indtastning!Y:Y=\"Positiv\",1,\"\")","v":""},null,null,null,{"$f":"IF(Indtastning!AC:AC=\"Positiv\",1,\"\")","v":""}]
[null,null,null,null,null,null,null,null,null,null,null,null,null,null,null,null,null,null,null,null,null,null,null,null,null,null,null,null,null,null,null,null,null,null,null,null,null,null,null,null,null,null,null,{"$f":"IF(Indtastning!Y:Y=\"Ikke Aflagt\",1,\"\")","v":""},null,null,{"$f":"IF(Indtastning!U:U=\"Positiv\",1,\"\")","v":""},null,null,null,{"$f":"IF(Indtastning!Y:Y=\"Positiv\",1,\"\")","v":""},null,null,null,{"$f":"IF(Indtastning!AC:AC=\"Positiv\",1,\"\")","v":""}]
[null,null,null,null,null,null,null,null,null,null,null,null,null,null,null,null,null,null,null,null,null,null,null,null,null,null,null,null,null,null,null,null,null,null,null,null,null,null,null,null,null,null,null,{"$f":"IF(Indtastning!Y:Y=\"Ikke Aflagt\",1,\"\")","v":""},null,null,{"$f":"IF(Indtastning!U:U=\"Positiv\",1,\"\")","v":""},null,null,null,{"$f":"IF(Indtastning!Y:Y=\"Positiv\",1,\"\")","v":""},null,null,null,{"$f":"IF(Indtastning!AC:AC=\"Positiv\",1,\"\")","v":""}]
[null,null,null,null,null,null,null,null,null,null,null,null,null,null,null,null,null,null,null,null,null,null,null,null,null,null,null,null,null,null,null,null,null,null,null,null,null,null,null,null,null,null,null,{"$f":"IF(Indtastning!Y:Y=\"Ikke Aflagt\",1,\"\")","v":""},null,null,{"$f":"IF(Indtastning!U:U=\"Positiv\",1,\"\")","v":""},null,null,null,{"$f":"IF(Indtastning!Y:Y=\"Positiv\",1,\"\")","v":""},null,null,null,{"$f":"IF(Indtastning!AC:AC=\"Positiv\",1,\"\")","v":""}]
[null,null,null,null,null,null,null,null,null,null,null,null,null,null,null,null,null,null,null,null,null,null,null,null,null,null,null,null,null,null,null,null,null,null,null,null,null,null,null,null,null,null,null,{"$f":"IF(Indtastning!Y:Y=\"Ikke Aflagt\",1,\"\")","v":""},null,null,{"$f":"IF(Indtastning!U:U=\"Positiv\",1,\"\")","v":""},null,null,null,{"$f":"IF(Indtastning!Y:Y=\"Positiv\",1,\"\")","v":""},null,null,null,{"$f":"IF(Indtastning!AC:AC=\"Positiv\",1,\"\")","v":""}]
[null,null,null,null,null,null,null,null,null,null,null,null,null,null,null,null,null,null,null,null,null,null,null,null,null,null,null,null,null,null,null,null,null,null,null,null,null,null,null,null,null,null,null,{"$f":"IF(Indtastning!Y:Y=\"Ikke Aflagt\",1,\"\")","v":""},null,null,{"$f":"IF(Indtastning!U:U=\"Positiv\",1,\"\")","v":""},null,null,null,{"$f":"IF(Indtastning!Y:Y=\"Positiv\",1,\"\")","v":""},null,null,null,{"$f":"IF(Indtastning!AC:AC=\"Positiv\",1,\"\")","v":""}]
[null,null,null,null,null,null,null,null,null,null,null,null,null,null,null,null,null,null,null,null,null,null,null,null,null,null,null,null,null,null,null,null,null,null,null,null,null,null,null,null,null,null,null,{"$f":"IF(Indtastning!Y:Y=\"Ikke Aflagt\",1,\"\")","v":""},null,null,{"$f":"IF(Indtastning!U:U=\"Positiv\",1,\"\")","v":""},null,null,null,{"$f":"IF(Indtastning!Y:Y=\"Positiv\",1,\"\")","v":""},null,null,null,{"$f":"IF(Indtastning!AC:AC=\"Positiv\",1,\"\")","v":""}]
[null,null,null,null,null,null,null,null,null,null,null,null,null,null,null,null,null,null,null,null,null,null,null,null,null,null,null,null,null,null,null,null,null,null,null,null,null,null,null,null,null,null,null,{"$f":"IF(Indtastning!Y:Y=\"Ikke Aflagt\",1,\"\")","v":""},null,null,{"$f":"IF(Indtastning!U:U=\"Positiv\",1,\"\")","v":""},null,null,null,{"$f":"IF(Indtastning!Y:Y=\"Positiv\",1,\"\")","v":""},null,null,null,{"$f":"IF(Indtastning!AC:AC=\"Positiv\",1,\"\")","v":""}]
[null,null,null,null,null,null,null,null,null,null,null,null,null,null,null,null,null,null,null,null,null,null,null,null,null,null,null,null,null,null,null,null,null,null,null,null,null,null,null,null,null,null,null,{"$f":"IF(Indtastning!Y:Y=\"Ikke Aflagt\",1,\"\")","v":""},null,null,{"$f":"IF(Indtastning!U:U=\"Positiv\",1,\"\")","v":""},null,null,null,{"$f":"IF(Indtastning!Y:Y=\"Positiv\",1,\"\")","v":""},null,null,null,{"$f":"IF(Indtastning!AC:AC=\"Positiv\",1,\"\")","v":""}]
[null,null,null,null,null,null,null,null,null,null,null,null,null,null,null,null,null,null,null,null,null,null,null,null,null,null,null,null,null,null,null,null,null,null,null,null,null,null,null,null,null,null,null,{"$f":"IF(Indtastning!Y:Y=\"Ikke Aflagt\",1,\"\")","v":""},null,null,{"$f":"IF(Indtastning!U:U=\"Positiv\",1,\"\")","v":""},null,null,null,{"$f":"IF(Indtastning!Y:Y=\"Positiv\",1,\"\")","v":""},null,null,null,{"$f":"IF(Indtastning!AC:AC=\"Positiv\",1,\"\")","v":""}]
[null,null,null,null,null,null,null,null,null,null,null,null,null,null,null,null,null,null,null,null,null,null,null,null,null,null,null,null,null,null,null,null,null,null,null,null,null,null,null,null,null,null,null,{"$f":"IF(Indtastning!Y:Y=\"Ikke Aflagt\",1,\"\")","v":""},null,null,{"$f":"IF(Indtastning!U:U=\"Positiv\",1,\"\")","v":""},null,null,null,{"$f":"IF(Indtastning!Y:Y=\"Positiv\",1,\"\")","v":""},null,null,null,{"$f":"IF(Indtastning!AC:AC=\"Positiv\",1,\"\")","v":""}]
[null,null,null,null,null,null,null,null,null,null,null,null,null,null,null,null,null,null,null,null,null,null,null,null,null,null,null,null,null,null,null,null,null,null,null,null,null,null,null,null,null,null,null,{"$f":"IF(Indtastning!Y:Y=\"Ikke Aflagt\",1,\"\")","v":""},null,null,{"$f":"IF(Indtastning!U:U=\"Positiv\",1,\"\")","v":""},null,null,null,{"$f":"IF(Indtastning!Y:Y=\"Positiv\",1,\"\")","v":""},null,null,null,{"$f":"IF(Indtastning!AC:AC=\"Positiv\",1,\"\")","v":""}]
[null,null,null,null,null,null,null,null,null,null,null,null,null,null,null,null,null,null,null,null,null,null,null,null,null,null,null,null,null,null,null,null,null,null,null,null,null,null,null,null,null,null,null,{"$f":"IF(Indtastning!Y:Y=\"Ikke Aflagt\",1,\"\")","v":""},null,null,{"$f":"IF(Indtastning!U:U=\"Positiv\",1,\"\")","v":""},null,null,null,{"$f":"IF(Indtastning!Y:Y=\"Positiv\",1,\"\")","v":""},null,null,null,{"$f":"IF(Indtastning!AC:AC=\"Positiv\",1,\"\")","v":""}]
[null,null,null,null,null,null,null,null,null,null,null,null,null,null,null,null,null,null,null,null,null,null,null,null,null,null,null,null,null,null,null,null,null,null,null,null,null,null,null,null,null,null,null,{"$f":"IF(Indtastning!Y:Y=\"Ikke Aflagt\",1,\"\")","v":""},null,null,{"$f":"IF(Indtastning!U:U=\"Positiv\",1,\"\")","v":""},null,null,null,{"$f":"IF(Indtastning!Y:Y=\"Positiv\",1,\"\")","v":""},null,null,null,{"$f":"IF(Indtastning!AC:AC=\"Positiv\",1,\"\")","v":""}]
[null,null,null,null,null,null,null,null,null,null,null,null,null,null,null,null,null,null,null,null,null,null,null,null,null,null,null,null,null,null,null,null,null,null,null,null,null,null,null,null,null,null,null,{"$f":"IF(Indtastning!Y:Y=\"Ikke Aflagt\",1,\"\")","v":""},null,null,{"$f":"IF(Indtastning!U:U=\"Positiv\",1,\"\")","v":""},null,null,null,{"$f":"IF(Indtastning!Y:Y=\"Positiv\",1,\"\")","v":""},null,null,null,{"$f":"IF(Indtastning!AC:AC=\"Positiv\",1,\"\")","v":""}]
[null,null,null,null,null,null,null,null,null,null,null,null,null,null,null,null,null,null,null,null,null,null,null,null,null,null,null,null,null,null,null,null,null,null,null,null,null,null,null,null,null,null,null,{"$f":"IF(Indtastning!Y:Y=\"Ikke Aflagt\",1,\"\")","v":""},null,null,{"$f":"IF(Indtastning!U:U=\"Positiv\",1,\"\")","v":""},null,null,null,{"$f":"IF(Indtastning!Y:Y=\"Positiv\",1,\"\")","v":""},null,null,null,{"$f":"IF(Indtastning!AC:AC=\"Positiv\",1,\"\")","v":""}]
[null,null,null,null,null,null,null,null,null,null,null,null,null,null,null,null,null,null,null,null,null,null,null,null,null,null,null,null,null,null,null,null,null,null,null,null,null,null,null,null,null,null,null,{"$f":"IF(Indtastning!Y:Y=\"Ikke Aflagt\",1,\"\")","v":""},null,null,{"$f":"IF(Indtastning!U:U=\"Positiv\",1,\"\")","v":""},null,null,null,{"$f":"IF(Indtastning!Y:Y=\"Positiv\",1,\"\")","v":""},null,null,null,{"$f":"IF(Indtastning!AC:AC=\"Positiv\",1,\"\")","v":""}]
[null,null,null,null,null,null,null,null,null,null,null,null,null,null,null,null,null,null,null,null,null,null,null,null,null,null,null,null,null,null,null,null,null,null,null,null,null,null,null,null,null,null,null,{"$f":"IF(Indtastning!Y:Y=\"Ikke Aflagt\",1,\"\")","v":""},null,null,{"$f":"IF(Indtastning!U:U=\"Positiv\",1,\"\")","v":""},null,null,null,{"$f":"IF(Indtastning!Y:Y=\"Positiv\",1,\"\")","v":""},null,null,null,{"$f":"IF(Indtastning!AC:AC=\"Positiv\",1,\"\")","v":""}]
[null,null,null,null,null,null,null,null,null,null,null,null,null,null,null,null,null,null,null,null,null,null,null,null,null,null,null,null,null,null,null,null,null,null,null,null,null,null,null,null,null,null,null,{"$f":"IF(Indtastning!Y:Y=\"Ikke Aflagt\",1,\"\")","v":""},null,null,{"$f":"IF(Indtastning!U:U=\"Positiv\",1,\"\")","v":""},null,null,null,{"$f":"IF(Indtastning!Y:Y=\"Positiv\",1,\"\")","v":""},null,null,null,{"$f":"IF(Indtastning!AC:AC=\"Positiv\",1,\"\")","v":""}]
[null,null,null,null,null,null,null,null,null,null,null,null,null,null,null,null,null,null,null,null,null,null,null,null,null,null,null,null,null,null,null,null,null,null,null,null,null,null,null,null,null,null,null,{"$f":"IF(Indtastning!Y:Y=\"Ikke Aflagt\",1,\"\")","v":""},null,null,{"$f":"IF(Indtastning!U:U=\"Positiv\",1,\"\")","v":""},null,null,null,{"$f":"IF(Indtastning!Y:Y=\"Positiv\",1,\"\")","v":""},null,null,null,{"$f":"IF(Indtastning!AC:AC=\"Positiv\",1,\"\")","v":""}]
[null,null,null,null,null,null,null,null,null,null,null,null,null,null,null,null,null,null,null,null,null,null,null,null,null,null,null,null,null,null,null,null,null,null,null,null,null,null,null,null,null,null,null,{"$f":"IF(Indtastning!Y:Y=\"Ikke Aflagt\",1,\"\")","v":""},null,null,{"$f":"IF(Indtastning!U:U=\"Positiv\",1,\"\")","v":""},null,null,null,{"$f":"IF(Indtastning!Y:Y=\"Positiv\",1,\"\")","v":""},null,null,null,{"$f":"IF(Indtastning!AC:AC=\"Positiv\",1,\"\")","v":""}]
[null,null,null,null,null,null,null,null,null,null,null,null,null,null,null,null,null,null,null,null,null,null,null,null,null,null,null,null,null,null,null,null,null,null,null,null,null,null,null,null,null,null,null,{"$f":"IF(Indtastning!Y:Y=\"Ikke Aflagt\",1,\"\")","v":""},null,null,{"$f":"IF(Indtastning!U:U=\"Positiv\",1,\"\")","v":""},null,null,null,{"$f":"IF(Indtastning!Y:Y=\"Positiv\",1,\"\")","v":""},null,null,null,{"$f":"IF(Indtastning!AC:AC=\"Positiv\",1,\"\")","v":""}]
[null,null,null,null,null,null,null,null,null,null,null,null,null,null,null,null,null,null,null,null,null,null,null,null,null,null,null,null,null,null,null,null,null,null,null,null,null,null,null,null,null,null,null,{"$f":"IF(Indtastning!Y:Y=\"Ikke Aflagt\",1,\"\")","v":""},null,null,{"$f":"IF(Indtastning!U:U=\"Positiv\",1,\"\")","v":""},null,null,null,{"$f":"IF(Indtastning!Y:Y=\"Positiv\",1,\"\")","v":""},null,null,null,{"$f":"IF(Indtastning!AC:AC=\"Positiv\",1,\"\")","v":""}]
[null,null,null,null,null,null,null,null,null,null,null,null,null,null,null,null,null,null,null,null,null,null,null,null,null,null,null,null,null,null,null,null,null,null,null,null,null,null,null,null,null,null,null,{"$f":"IF(Indtastning!Y:Y=\"Ikke Aflagt\",1,\"\")","v":""},null,null,{"$f":"IF(Indtastning!U:U=\"Positiv\",1,\"\")","v":""},null,null,null,{"$f":"IF(Indtastning!Y:Y=\"Positiv\",1,\"\")","v":""},null,null,null,{"$f":"IF(Indtastning!AC:AC=\"Positiv\",1,\"\")","v":""}]
[null,null,null,null,null,null,null,null,null,null,null,null,null,null,null,null,null,null,null,null,null,null,null,null,null,null,null,null,null,null,null,null,null,null,null,null,null,null,null,null,null,null,null,{"$f":"IF(Indtastning!Y:Y=\"Ikke Aflagt\",1,\"\")","v":""},null,null,{"$f":"IF(Indtastning!U:U=\"Positiv\",1,\"\")","v":""},null,null,null,{"$f":"IF(Indtastning!Y:Y=\"Positiv\",1,\"\")","v":""},null,null,null,{"$f":"IF(Indtastning!AC:AC=\"Positiv\",1,\"\")","v":""}]
[null,null,null,null,null,null,null,null,null,null,null,null,null,null,null,null,null,null,null,null,null,null,null,null,null,null,null,null,null,null,null,null,null,null,null,null,null,null,null,null,null,null,null,{"$f":"IF(Indtastning!Y:Y=\"Ikke Aflagt\",1,\"\")","v":""},null,null,{"$f":"IF(Indtastning!U:U=\"Positiv\",1,\"\")","v":""},null,null,null,{"$f":"IF(Indtastning!Y:Y=\"Positiv\",1,\"\")","v":""},null,null,null,{"$f":"IF(Indtastning!AC:AC=\"Positiv\",1,\"\")","v":""}]
[null,null,null,null,null,null,null,null,null,null,null,null,null,null,null,null,null,null,null,null,null,null,null,null,null,null,null,null,null,null,null,null,null,null,null,null,null,null,null,null,null,null,null,{"$f":"IF(Indtastning!Y:Y=\"Ikke Aflagt\",1,\"\")","v":""},null,null,{"$f":"IF(Indtastning!U:U=\"Positiv\",1,\"\")","v":""},null,null,null,{"$f":"IF(Indtastning!Y:Y=\"Positiv\",1,\"\")","v":""},null,null,null,{"$f":"IF(Indtastning!AC:AC=\"Positiv\",1,\"\")","v":""}]
[null,null,null,null,null,null,null,null,null,null,null,null,null,null,null,null,null,null,null,null,null,null,null,null,null,null,null,null,null,null,null,null,null,null,null,null,null,null,null,null,null,null,null,{"$f":"IF(Indtastning!Y:Y=\"Ikke Aflagt\",1,\"\")","v":""},null,null,{"$f":"IF(Indtastning!U:U=\"Positiv\",1,\"\")","v":""},null,null,null,{"$f":"IF(Indtastning!Y:Y=\"Positiv\",1,\"\")","v":""},null,null,null,{"$f":"IF(Indtastning!AC:AC=\"Positiv\",1,\"\")","v":""}]
[null,null,null,null,null,null,null,null,null,null,null,null,null,null,null,null,null,null,null,null,null,null,null,null,null,null,null,null,null,null,null,null,null,null,null,null,null,null,null,null,null,null,null,{"$f":"IF(Indtastning!Y:Y=\"Ikke Aflagt\",1,\"\")","v":""},null,null,{"$f":"IF(Indtastning!U:U=\"Positiv\",1,\"\")","v":""},null,null,null,{"$f":"IF(Indtastning!Y:Y=\"Positiv\",1,\"\")","v":""},null,null,null,{"$f":"IF(Indtastning!AC:AC=\"Positiv\",1,\"\")","v":""}]
[null,null,null,null,null,null,null,null,null,null,null,null,null,null,null,null,null,null,null,null,null,null,null,null,null,null,null,null,null,null,null,null,null,null,null,null,null,null,null,null,null,null,null,{"$f":"IF(Indtastning!Y:Y=\"Ikke Aflagt\",1,\"\")","v":""},null,null,{"$f":"IF(Indtastning!U:U=\"Positiv\",1,\"\")","v":""},null,null,null,{"$f":"IF(Indtastning!Y:Y=\"Positiv\",1,\"\")","v":""},null,null,null,{"$f":"IF(Indtastning!AC:AC=\"Positiv\",1,\"\")","v":""}]
[null,null,null,null,null,null,null,null,null,null,null,null,null,null,null,null,null,null,null,null,null,null,null,null,null,null,null,null,null,null,null,null,null,null,null,null,null,null,null,null,null,null,null,{"$f":"IF(Indtastning!Y:Y=\"Ikke Aflagt\",1,\"\")","v":""},null,null,{"$f":"IF(Indtastning!U:U=\"Positiv\",1,\"\")","v":""},null,null,null,{"$f":"IF(Indtastning!Y:Y=\"Positiv\",1,\"\")","v":""},null,null,null,{"$f":"IF(Indtastning!AC:AC=\"Positiv\",1,\"\")","v":""}]
[null,null,null,null,null,null,null,null,null,null,null,null,null,null,null,null,null,null,null,null,null,null,null,null,null,null,null,null,null,null,null,null,null,null,null,null,null,null,null,null,null,null,null,{"$f":"IF(Indtastning!Y:Y=\"Ikke Aflagt\",1,\"\")","v":""},null,null,{"$f":"IF(Indtastning!U:U=\"Positiv\",1,\"\")","v":""},null,null,null,{"$f":"IF(Indtastning!Y:Y=\"Positiv\",1,\"\")","v":""},null,null,null,{"$f":"IF(Indtastning!AC:AC=\"Positiv\",1,\"\")","v":""}]
[null,null,null,null,null,null,null,null,null,null,null,null,null,null,null,null,null,null,null,null,null,null,null,null,null,null,null,null,null,null,null,null,null,null,null,null,null,null,null,null,null,null,null,{"$f":"IF(Indtastning!Y:Y=\"Ikke Aflagt\",1,\"\")","v":""},null,null,{"$f":"IF(Indtastning!U:U=\"Positiv\",1,\"\")","v":""},null,null,null,{"$f":"IF(Indtastning!Y:Y=\"Positiv\",1,\"\")","v":""},null,null,null,{"$f":"IF(Indtastning!AC:AC=\"Positiv\",1,\"\")","v":""}]
[null,null,null,null,null,null,null,null,null,null,null,null,null,null,null,null,null,null,null,null,null,null,null,null,null,null,null,null,null,null,null,null,null,null,null,null,null,null,null,null,null,null,null,{"$f":"IF(Indtastning!Y:Y=\"Ikke Aflagt\",1,\"\")","v":""},null,null,{"$f":"IF(Indtastning!U:U=\"Positiv\",1,\"\")","v":""},null,null,null,{"$f":"IF(Indtastning!Y:Y=\"Positiv\",1,\"\")","v":""},null,null,null,{"$f":"IF(Indtastning!AC:AC=\"Positiv\",1,\"\")","v":""}]
[null,null,null,null,null,null,null,null,null,null,null,null,null,null,null,null,null,null,null,null,null,null,null,null,null,null,null,null,null,null,null,null,null,null,null,null,null,null,null,null,null,null,null,{"$f":"IF(Indtastning!Y:Y=\"Ikke Aflagt\",1,\"\")","v":""},null,null,{"$f":"IF(Indtastning!U:U=\"Positiv\",1,\"\")","v":""},null,null,null,{"$f":"IF(Indtastning!Y:Y=\"Positiv\",1,\"\")","v":""},null,null,null,{"$f":"IF(Indtastning!AC:AC=\"Positiv\",1,\"\")","v":""}]
[null,null,null,null,null,null,null,null,null,null,null,null,null,null,null,null,null,null,null,null,null,null,null,null,null,null,null,null,null,null,null,null,null,null,null,null,null,null,null,null,null,null,null,{"$f":"IF(Indtastning!Y:Y=\"Ikke Aflagt\",1,\"\")","v":""},null,null,{"$f":"IF(Indtastning!U:U=\"Positiv\",1,\"\")","v":""},null,null,null,{"$f":"IF(Indtastning!Y:Y=\"Positiv\",1,\"\")","v":""},null,null,null,{"$f":"IF(Indtastning!AC:AC=\"Positiv\",1,\"\")","v":""}]
[null,null,null,null,null,null,null,null,null,null,null,null,null,null,null,null,null,null,null,null,null,null,null,null,null,null,null,null,null,null,null,null,null,null,null,null,null,null,null,null,null,null,null,{"$f":"IF(Indtastning!Y:Y=\"Ikke Aflagt\",1,\"\")","v":""},null,null,{"$f":"IF(Indtastning!U:U=\"Positiv\",1,\"\")","v":""},null,null,null,{"$f":"IF(Indtastning!Y:Y=\"Positiv\",1,\"\")","v":""},null,null,null,{"$f":"IF(Indtastning!AC:AC=\"Positiv\",1,\"\")","v":""}]
[null,null,null,null,null,null,null,null,null,null,null,null,null,null,null,null,null,null,null,null,null,null,null,null,null,null,null,null,null,null,null,null,null,null,null,null,null,null,null,null,null,null,null,{"$f":"IF(Indtastning!Y:Y=\"Ikke Aflagt\",1,\"\")","v":""},null,null,{"$f":"IF(Indtastning!U:U=\"Positiv\",1,\"\")","v":""},null,null,null,{"$f":"IF(Indtastning!Y:Y=\"Positiv\",1,\"\")","v":""},null,null,null,{"$f":"IF(Indtastning!AC:AC=\"Positiv\",1,\"\")","v":""}]
[null,null,null,null,null,null,null,null,null,null,null,null,null,null,null,null,null,null,null,null,null,null,null,null,null,null,null,null,null,null,null,null,null,null,null,null,null,null,null,null,null,null,null,{"$f":"IF(Indtastning!Y:Y=\"Ikke Aflagt\",1,\"\")","v":""},null,null,{"$f":"IF(Indtastning!U:U=\"Positiv\",1,\"\")","v":""},null,null,null,{"$f":"IF(Indtastning!Y:Y=\"Positiv\",1,\"\")","v":""},null,null,null,{"$f":"IF(Indtastning!AC:AC=\"Positiv\",1,\"\")","v":""}]
[null,null,null,null,null,null,null,null,null,null,null,null,null,null,null,null,null,null,null,null,null,null,null,null,null,null,null,null,null,null,null,null,null,null,null,null,null,null,null,null,null,null,null,{"$f":"IF(Indtastning!Y:Y=\"Ikke Aflagt\",1,\"\")","v":""},null,null,{"$f":"IF(Indtastning!U:U=\"Positiv\",1,\"\")","v":""},null,null,null,{"$f":"IF(Indtastning!Y:Y=\"Positiv\",1,\"\")","v":""},null,null,null,{"$f":"IF(Indtastning!AC:AC=\"Positiv\",1,\"\")","v":""}]
[null,null,null,null,null,null,null,null,null,null,null,null,null,null,null,null,null,null,null,null,null,null,null,null,null,null,null,null,null,null,null,null,null,null,null,null,null,null,null,null,null,null,null,{"$f":"IF(Indtastning!Y:Y=\"Ikke Aflagt\",1,\"\")","v":""},null,null,{"$f":"IF(Indtastning!U:U=\"Positiv\",1,\"\")","v":""},null,null,null,{"$f":"IF(Indtastning!Y:Y=\"Positiv\",1,\"\")","v":""},null,null,null,{"$f":"IF(Indtastning!AC:AC=\"Positiv\",1,\"\")","v":""}]
[null,null,null,null,null,null,null,null,null,null,null,null,null,null,null,null,null,null,null,null,null,null,null,null,null,null,null,null,null,null,null,null,null,null,null,null,null,null,null,null,null,null,null,{"$f":"IF(Indtastning!Y:Y=\"Ikke Aflagt\",1,\"\")","v":""},null,null,{"$f":"IF(Indtastning!U:U=\"Positiv\",1,\"\")","v":""},null,null,null,{"$f":"IF(Indtastning!Y:Y=\"Positiv\",1,\"\")","v":""},null,null,null,{"$f":"IF(Indtastning!AC:AC=\"Positiv\",1,\"\")","v":""}]
[null,null,null,null,null,null,null,null,null,null,null,null,null,null,null,null,null,null,null,null,null,null,null,null,null,null,null,null,null,null,null,null,null,null,null,null,null,null,null,null,null,null,null,{"$f":"IF(Indtastning!Y:Y=\"Ikke Aflagt\",1,\"\")","v":""},null,null,{"$f":"IF(Indtastning!U:U=\"Positiv\",1,\"\")","v":""},null,null,null,{"$f":"IF(Indtastning!Y:Y=\"Positiv\",1,\"\")","v":""},null,null,null,{"$f":"IF(Indtastning!AC:AC=\"Positiv\",1,\"\")","v":""}]
[null,null,null,null,null,null,null,null,null,null,null,null,null,null,null,null,null,null,null,null,null,null,null,null,null,null,null,null,null,null,null,null,null,null,null,null,null,null,null,null,null,null,null,{"$f":"IF(Indtastning!Y:Y=\"Ikke Aflagt\",1,\"\")","v":""},null,null,{"$f":"IF(Indtastning!U:U=\"Positiv\",1,\"\")","v":""},null,null,null,{"$f":"IF(Indtastning!Y:Y=\"Positiv\",1,\"\")","v":""},null,null,null,{"$f":"IF(Indtastning!AC:AC=\"Positiv\",1,\"\")","v":""}]
[null,null,null,null,null,null,null,null,null,null,null,null,null,null,null,null,null,null,null,null,null,null,null,null,null,null,null,null,null,null,null,null,null,null,null,null,null,null,null,null,null,null,null,{"$f":"IF(Indtastning!Y:Y=\"Ikke Aflagt\",1,\"\")","v":""},null,null,{"$f":"IF(Indtastning!U:U=\"Positiv\",1,\"\")","v":""},null,null,null,{"$f":"IF(Indtastning!Y:Y=\"Positiv\",1,\"\")","v":""},null,null,null,{"$f":"IF(Indtastning!AC:AC=\"Positiv\",1,\"\")","v":""}]
[null,null,null,null,null,null,null,null,null,null,null,null,null,null,null,null,null,null,null,null,null,null,null,null,null,null,null,null,null,null,null,null,null,null,null,null,null,null,null,null,null,null,null,{"$f":"IF(Indtastning!Y:Y=\"Ikke Aflagt\",1,\"\")","v":""},null,null,{"$f":"IF(Indtastning!U:U=\"Positiv\",1,\"\")","v":""},null,null,null,{"$f":"IF(Indtastning!Y:Y=\"Positiv\",1,\"\")","v":""},null,null,null,{"$f":"IF(Indtastning!AC:AC=\"Positiv\",1,\"\")","v":""}]
[null,null,null,null,null,null,null,null,null,null,null,null,null,null,null,null,null,null,null,null,null,null,null,null,null,null,null,null,null,null,null,null,null,null,null,null,null,null,null,null,null,null,null,{"$f":"IF(Indtastning!Y:Y=\"Ikke Aflagt\",1,\"\")","v":""},null,null,{"$f":"IF(Indtastning!U:U=\"Positiv\",1,\"\")","v":""},null,null,null,{"$f":"IF(Indtastning!Y:Y=\"Positiv\",1,\"\")","v":""},null,null,null,{"$f":"IF(Indtastning!AC:AC=\"Positiv\",1,\"\")","v":""}]
[null,null,null,null,null,null,null,null,null,null,null,null,null,null,null,null,null,null,null,null,null,null,null,null,null,null,null,null,null,null,null,null,null,null,null,null,null,null,null,null,null,null,null,{"$f":"IF(Indtastning!Y:Y=\"Ikke Aflagt\",1,\"\")","v":""},null,null,{"$f":"IF(Indtastning!U:U=\"Positiv\",1,\"\")","v":""},null,null,null,{"$f":"IF(Indtastning!Y:Y=\"Positiv\",1,\"\")","v":""},null,null,null,{"$f":"IF(Indtastning!AC:AC=\"Positiv\",1,\"\")","v":""}]
[null,null,null,null,null,null,null,null,null,null,null,null,null,null,null,null,null,null,null,null,null,null,null,null,null,null,null,null,null,null,null,null,null,null,null,null,null,null,null,null,null,null,null,{"$f":"IF(Indtastning!Y:Y=\"Ikke Aflagt\",1,\"\")","v":""},null,null,{"$f":"IF(Indtastning!U:U=\"Positiv\",1,\"\")","v":""},null,null,null,{"$f":"IF(Indtastning!Y:Y=\"Positiv\",1,\"\")","v":""},null,null,null,{"$f":"IF(Indtastning!AC:AC=\"Positiv\",1,\"\")","v":""}]
[null,null,null,null,null,null,null,null,null,null,null,null,null,null,null,null,null,null,null,null,null,null,null,null,null,null,null,null,null,null,null,null,null,null,null,null,null,null,null,null,null,null,null,{"$f":"IF(Indtastning!Y:Y=\"Ikke Aflagt\",1,\"\")","v":""},null,null,{"$f":"IF(Indtastning!U:U=\"Positiv\",1,\"\")","v":""},null,null,null,{"$f":"IF(Indtastning!Y:Y=\"Positiv\",1,\"\")","v":""},null,null,null,{"$f":"IF(Indtastning!AC:AC=\"Positiv\",1,\"\")","v":""}]
[null,null,null,null,null,null,null,null,null,null,null,null,null,null,null,null,null,null,null,null,null,null,null,null,null,null,null,null,null,null,null,null,null,null,null,null,null,null,null,null,null,null,null,{"$f":"IF(Indtastning!Y:Y=\"Ikke Aflagt\",1,\"\")","v":""},null,null,{"$f":"IF(Indtastning!U:U=\"Positiv\",1,\"\")","v":""},null,null,null,{"$f":"IF(Indtastning!Y:Y=\"Positiv\",1,\"\")","v":""},null,null,null,{"$f":"IF(Indtastning!AC:AC=\"Positiv\",1,\"\")","v":""}]
[null,null,null,null,null,null,null,null,null,null,null,null,null,null,null,null,null,null,null,null,null,null,null,null,null,null,null,null,null,null,null,null,null,null,null,null,null,null,null,null,null,null,null,{"$f":"IF(Indtastning!Y:Y=\"Ikke Aflagt\",1,\"\")","v":""},null,null,{"$f":"IF(Indtastning!U:U=\"Positiv\",1,\"\")","v":""},null,null,null,{"$f":"IF(Indtastning!Y:Y=\"Positiv\",1,\"\")","v":""},null,null,null,{"$f":"IF(Indtastning!AC:AC=\"Positiv\",1,\"\")","v":""}]
[null,null,null,null,null,null,null,null,null,null,null,null,null,null,null,null,null,null,null,null,null,null,null,null,null,null,null,null,null,null,null,null,null,null,null,null,null,null,null,null,null,null,null,{"$f":"IF(Indtastning!Y:Y=\"Ikke Aflagt\",1,\"\")","v":""},null,null,{"$f":"IF(Indtastning!U:U=\"Positiv\",1,\"\")","v":""},null,null,null,{"$f":"IF(Indtastning!Y:Y=\"Positiv\",1,\"\")","v":""},null,null,null,{"$f":"IF(Indtastning!AC:AC=\"Positiv\",1,\"\")","v":""}]
[null,null,null,null,null,null,null,null,null,null,null,null,null,null,null,null,null,null,null,null,null,null,null,null,null,null,null,null,null,null,null,null,null,null,null,null,null,null,null,null,null,null,null,{"$f":"IF(Indtastning!Y:Y=\"Ikke Aflagt\",1,\"\")","v":""},null,null,{"$f":"IF(Indtastning!U:U=\"Positiv\",1,\"\")","v":""},null,null,null,{"$f":"IF(Indtastning!Y:Y=\"Positiv\",1,\"\")","v":""},null,null,null,{"$f":"IF(Indtastning!AC:AC=\"Positiv\",1,\"\")","v":""}]
[null,null,null,null,null,null,null,null,null,null,null,null,null,null,null,null,null,null,null,null,null,null,null,null,null,null,null,null,null,null,null,null,null,null,null,null,null,null,null,null,null,null,null,{"$f":"IF(Indtastning!Y:Y=\"Ikke Aflagt\",1,\"\")","v":""},null,null,{"$f":"IF(Indtastning!U:U=\"Positiv\",1,\"\")","v":""},null,null,null,{"$f":"IF(Indtastning!Y:Y=\"Positiv\",1,\"\")","v":""},null,null,null,{"$f":"IF(Indtastning!AC:AC=\"Positiv\",1,\"\")","v":""}]
[null,null,null,null,null,null,null,null,null,null,null,null,null,null,null,null,null,null,null,null,null,null,null,null,null,null,null,null,null,null,null,null,null,null,null,null,null,null,null,null,null,null,null,{"$f":"IF(Indtastning!Y:Y=\"Ikke Aflagt\",1,\"\")","v":""},null,null,{"$f":"IF(Indtastning!U:U=\"Positiv\",1,\"\")","v":""},null,null,null,{"$f":"IF(Indtastning!Y:Y=\"Positiv\",1,\"\")","v":""},null,null,null,{"$f":"IF(Indtastning!AC:AC=\"Positiv\",1,\"\")","v":""}]
[null,null,null,null,null,null,null,null,null,null,null,null,null,null,null,null,null,null,null,null,null,null,null,null,null,null,null,null,null,null,null,null,null,null,null,null,null,null,null,null,null,null,null,{"$f":"IF(Indtastning!Y:Y=\"Ikke Aflagt\",1,\"\")","v":""},null,null,{"$f":"IF(Indtastning!U:U=\"Positiv\",1,\"\")","v":""},null,null,null,{"$f":"IF(Indtastning!Y:Y=\"Positiv\",1,\"\")","v":""},null,null,null,{"$f":"IF(Indtastning!AC:AC=\"Positiv\",1,\"\")","v":""}]
[null,null,null,null,null,null,null,null,null,null,null,null,null,null,null,null,null,null,null,null,null,null,null,null,null,null,null,null,null,null,null,null,null,null,null,null,null,null,null,null,null,null,null,{"$f":"IF(Indtastning!Y:Y=\"Ikke Aflagt\",1,\"\")","v":""},null,null,{"$f":"IF(Indtastning!U:U=\"Positiv\",1,\"\")","v":""},null,null,null,{"$f":"IF(Indtastning!Y:Y=\"Positiv\",1,\"\")","v":""},null,null,null,{"$f":"IF(Indtastning!AC:AC=\"Positiv\",1,\"\")","v":""}]
[null,null,null,null,null,null,null,null,null,null,null,null,null,null,null,null,null,null,null,null,null,null,null,null,null,null,null,null,null,null,null,null,null,null,null,null,null,null,null,null,null,null,null,{"$f":"IF(Indtastning!Y:Y=\"Ikke Aflagt\",1,\"\")","v":""},null,null,{"$f":"IF(Indtastning!U:U=\"Positiv\",1,\"\")","v":""},null,null,null,{"$f":"IF(Indtastning!Y:Y=\"Positiv\",1,\"\")","v":""},null,null,null,{"$f":"IF(Indtastning!AC:AC=\"Positiv\",1,\"\")","v":""}]
[null,null,null,null,null,null,null,null,null,null,null,null,null,null,null,null,null,null,null,null,null,null,null,null,null,null,null,null,null,null,null,null,null,null,null,null,null,null,null,null,null,null,null,{"$f":"IF(Indtastning!Y:Y=\"Ikke Aflagt\",1,\"\")","v":""},null,null,{"$f":"IF(Indtastning!U:U=\"Positiv\",1,\"\")","v":""},null,null,null,{"$f":"IF(Indtastning!Y:Y=\"Positiv\",1,\"\")","v":""},null,null,null,{"$f":"IF(Indtastning!AC:AC=\"Positiv\",1,\"\")","v":""}]
[null,null,null,null,null,null,null,null,null,null,null,null,null,null,null,null,null,null,null,null,null,null,null,null,null,null,null,null,null,null,null,null,null,null,null,null,null,null,null,null,null,null,null,{"$f":"IF(Indtastning!Y:Y=\"Ikke Aflagt\",1,\"\")","v":""},null,null,{"$f":"IF(Indtastning!U:U=\"Positiv\",1,\"\")","v":""},null,null,null,{"$f":"IF(Indtastning!Y:Y=\"Positiv\",1,\"\")","v":""},null,null,null,{"$f":"IF(Indtastning!AC:AC=\"Positiv\",1,\"\")","v":""}]
[null,null,null,null,null,null,null,null,null,null,null,null,null,null,null,null,null,null,null,null,null,null,null,null,null,null,null,null,null,null,null,null,null,null,null,null,null,null,null,null,null,null,null,{"$f":"IF(Indtastning!Y:Y=\"Ikke Aflagt\",1,\"\")","v":""},null,null,{"$f":"IF(Indtastning!U:U=\"Positiv\",1,\"\")","v":""},null,null,null,{"$f":"IF(Indtastning!Y:Y=\"Positiv\",1,\"\")","v":""},null,null,null,{"$f":"IF(Indtastning!AC:AC=\"Positiv\",1,\"\")","v":""}]
[null,null,null,null,null,null,null,null,null,null,null,null,null,null,null,null,null,null,null,null,null,null,null,null,null,null,null,null,null,null,null,null,null,null,null,null,null,null,null,null,null,null,null,{"$f":"IF(Indtastning!Y:Y=\"Ikke Aflagt\",1,\"\")","v":""},null,null,{"$f":"IF(Indtastning!U:U=\"Positiv\",1,\"\")","v":""},null,null,null,{"$f":"IF(Indtastning!Y:Y=\"Positiv\",1,\"\")","v":""},null,null,null,{"$f":"IF(Indtastning!AC:AC=\"Positiv\",1,\"\")","v":""}]
[null,null,null,null,null,null,null,null,null,null,null,null,null,null,null,null,null,null,null,null,null,null,null,null,null,null,null,null,null,null,null,null,null,null,null,null,null,null,null,null,null,null,null,{"$f":"IF(Indtastning!Y:Y=\"Ikke Aflagt\",1,\"\")","v":""},null,null,{"$f":"IF(Indtastning!U:U=\"Positiv\",1,\"\")","v":""},null,null,null,{"$f":"IF(Indtastning!Y:Y=\"Positiv\",1,\"\")","v":""},null,null,null,{"$f":"IF(Indtastning!AC:AC=\"Positiv\",1,\"\")","v":""}]
[null,null,null,null,null,null,null,null,null,null,null,null,null,null,null,null,null,null,null,null,null,null,null,null,null,null,null,null,null,null,null,null,null,null,null,null,null,null,null,null,null,null,null,{"$f":"IF(Indtastning!Y:Y=\"Ikke Aflagt\",1,\"\")","v":""},null,null,{"$f":"IF(Indtastning!U:U=\"Positiv\",1,\"\")","v":""},null,null,null,{"$f":"IF(Indtastning!Y:Y=\"Positiv\",1,\"\")","v":""},null,null,null,{"$f":"IF(Indtastning!AC:AC=\"Positiv\",1,\"\")","v":""}]
[null,null,null,null,null,null,null,null,null,null,null,null,null,null,null,null,null,null,null,null,null,null,null,null,null,null,null,null,null,null,null,null,null,null,null,null,null,null,null,null,null,null,null,{"$f":"IF(Indtastning!Y:Y=\"Ikke Aflagt\",1,\"\")","v":""},null,null,{"$f":"IF(Indtastning!U:U=\"Positiv\",1,\"\")","v":""},null,null,null,{"$f":"IF(Indtastning!Y:Y=\"Positiv\",1,\"\")","v":""},null,null,null,{"$f":"IF(Indtastning!AC:AC=\"Positiv\",1,\"\")","v":""}]
[null,null,null,null,null,null,null,null,null,null,null,null,null,null,null,null,null,null,null,null,null,null,null,null,null,null,null,null,null,null,null,null,null,null,null,null,null,null,null,null,null,null,null,{"$f":"IF(Indtastning!Y:Y=\"Ikke Aflagt\",1,\"\")","v":""},null,null,{"$f":"IF(Indtastning!U:U=\"Positiv\",1,\"\")","v":""},null,null,null,{"$f":"IF(Indtastning!Y:Y=\"Positiv\",1,\"\")","v":""},null,null,null,{"$f":"IF(Indtastning!AC:AC=\"Positiv\",1,\"\")","v":""}]
[null,null,null,null,null,null,null,null,null,null,null,null,null,null,null,null,null,null,null,null,null,null,null,null,null,null,null,null,null,null,null,null,null,null,null,null,null,null,null,null,null,null,null,{"$f":"IF(Indtastning!Y:Y=\"Ikke Aflagt\",1,\"\")","v":""},null,null,{"$f":"IF(Indtastning!U:U=\"Positiv\",1,\"\")","v":""},null,null,null,{"$f":"IF(Indtastning!Y:Y=\"Positiv\",1,\"\")","v":""},null,null,null,{"$f":"IF(Indtastning!AC:AC=\"Positiv\",1,\"\")","v":""}]
[null,null,null,null,null,null,null,null,null,null,null,null,null,null,null,null,null,null,null,null,null,null,null,null,null,null,null,null,null,null,null,null,null,null,null,null,null,null,null,null,null,null,null,{"$f":"IF(Indtastning!Y:Y=\"Ikke Aflagt\",1,\"\")","v":""},null,null,{"$f":"IF(Indtastning!U:U=\"Positiv\",1,\"\")","v":""},null,null,null,{"$f":"IF(Indtastning!Y:Y=\"Positiv\",1,\"\")","v":""},null,null,null,{"$f":"IF(Indtastning!AC:AC=\"Positiv\",1,\"\")","v":""}]
[null,null,null,null,null,null,null,null,null,null,null,null,null,null,null,null,null,null,null,null,null,null,null,null,null,null,null,null,null,null,null,null,null,null,null,null,null,null,null,null,null,null,null,{"$f":"IF(Indtastning!Y:Y=\"Ikke Aflagt\",1,\"\")","v":""},null,null,{"$f":"IF(Indtastning!U:U=\"Positiv\",1,\"\")","v":""},null,null,null,{"$f":"IF(Indtastning!Y:Y=\"Positiv\",1,\"\")","v":""},null,null,null,{"$f":"IF(Indtastning!AC:AC=\"Positiv\",1,\"\")","v":""}]
[null,null,null,null,null,null,null,null,null,null,null,null,null,null,null,null,null,null,null,null,null,null,null,null,null,null,null,null,null,null,null,null,null,null,null,null,null,null,null,null,null,null,null,{"$f":"IF(Indtastning!Y:Y=\"Ikke Aflagt\",1,\"\")","v":""},null,null,{"$f":"IF(Indtastning!U:U=\"Positiv\",1,\"\")","v":""},null,null,null,{"$f":"IF(Indtastning!Y:Y=\"Positiv\",1,\"\")","v":""},null,null,null,{"$f":"IF(Indtastning!AC:AC=\"Positiv\",1,\"\")","v":""}]
[null,null,null,null,null,null,null,null,null,null,null,null,null,null,null,null,null,null,null,null,null,null,null,null,null,null,null,null,null,null,null,null,null,null,null,null,null,null,null,null,null,null,null,{"$f":"IF(Indtastning!Y:Y=\"Ikke Aflagt\",1,\"\")","v":""},null,null,{"$f":"IF(Indtastning!U:U=\"Positiv\",1,\"\")","v":""},null,null,null,{"$f":"IF(Indtastning!Y:Y=\"Positiv\",1,\"\")","v":""},null,null,null,{"$f":"IF(Indtastning!AC:AC=\"Positiv\",1,\"\")","v":""}]
[null,null,null,null,null,null,null,null,null,null,null,null,null,null,null,null,null,null,null,null,null,null,null,null,null,null,null,null,null,null,null,null,null,null,null,null,null,null,null,null,null,null,null,{"$f":"IF(Indtastning!Y:Y=\"Ikke Aflagt\",1,\"\")","v":""},null,null,{"$f":"IF(Indtastning!U:U=\"Positiv\",1,\"\")","v":""},null,null,null,{"$f":"IF(Indtastning!Y:Y=\"Positiv\",1,\"\")","v":""},null,null,null,{"$f":"IF(Indtastning!AC:AC=\"Positiv\",1,\"\")","v":""}]
[null,null,null,null,null,null,null,null,null,null,null,null,null,null,null,null,null,null,null,null,null,null,null,null,null,null,null,null,null,null,null,null,null,null,null,null,null,null,null,null,null,null,null,{"$f":"IF(Indtastning!Y:Y=\"Ikke Aflagt\",1,\"\")","v":""},null,null,{"$f":"IF(Indtastning!U:U=\"Positiv\",1,\"\")","v":""},null,null,null,{"$f":"IF(Indtastning!Y:Y=\"Positiv\",1,\"\")","v":""},null,null,null,{"$f":"IF(Indtastning!AC:AC=\"Positiv\",1,\"\")","v":""}]
[null,null,null,null,null,null,null,null,null,null,null,null,null,null,null,null,null,null,null,null,null,null,null,null,null,null,null,null,null,null,null,null,null,null,null,null,null,null,null,null,null,null,null,{"$f":"IF(Indtastning!Y:Y=\"Ikke Aflagt\",1,\"\")","v":""},null,null,{"$f":"IF(Indtastning!U:U=\"Positiv\",1,\"\")","v":""},null,null,null,{"$f":"IF(Indtastning!Y:Y=\"Positiv\",1,\"\")","v":""},null,null,null,{"$f":"IF(Indtastning!AC:AC=\"Positiv\",1,\"\")","v":""}]
[null,null,null,null,null,null,null,null,null,null,null,null,null,null,null,null,null,null,null,null,null,null,null,null,null,null,null,null,null,null,null,null,null,null,null,null,null,null,null,null,null,null,null,{"$f":"IF(Indtastning!Y:Y=\"Ikke Aflagt\",1,\"\")","v":""},null,null,{"$f":"IF(Indtastning!U:U=\"Positiv\",1,\"\")","v":""},null,null,null,{"$f":"IF(Indtastning!Y:Y=\"Positiv\",1,\"\")","v":""},null,null,null,{"$f":"IF(Indtastning!AC:AC=\"Positiv\",1,\"\")","v":""}]
[null,null,null,null,null,null,null,null,null,null,null,null,null,null,null,null,null,null,null,null,null,null,null,null,null,null,null,null,null,null,null,null,null,null,null,null,null,null,null,null,null,null,null,{"$f":"IF(Indtastning!Y:Y=\"Ikke Aflagt\",1,\"\")","v":""},null,null,{"$f":"IF(Indtastning!U:U=\"Positiv\",1,\"\")","v":""},null,null,null,{"$f":"IF(Indtastning!Y:Y=\"Positiv\",1,\"\")","v":""},null,null,null,{"$f":"IF(Indtastning!AC:AC=\"Positiv\",1,\"\")","v":""}]
[null,null,null,null,null,null,null,null,null,null,null,null,null,null,null,null,null,null,null,null,null,null,null,null,null,null,null,null,null,null,null,null,null,null,null,null,null,null,null,null,null,null,null,{"$f":"IF(Indtastning!Y:Y=\"Ikke Aflagt\",1,\"\")","v":""},null,null,{"$f":"IF(Indtastning!U:U=\"Positiv\",1,\"\")","v":""},null,null,null,{"$f":"IF(Indtastning!Y:Y=\"Positiv\",1,\"\")","v":""},null,null,null,{"$f":"IF(Indtastning!AC:AC=\"Positiv\",1,\"\")","v":""}]
[null,null,null,null,null,null,null,null,null,null,null,null,null,null,null,null,null,null,null,null,null,null,null,null,null,null,null,null,null,null,null,null,null,null,null,null,null,null,null,null,null,null,null,{"$f":"IF(Indtastning!Y:Y=\"Ikke Aflagt\",1,\"\")","v":""},null,null,{"$f":"IF(Indtastning!U:U=\"Positiv\",1,\"\")","v":""},null,null,null,{"$f":"IF(Indtastning!Y:Y=\"Positiv\",1,\"\")","v":""},null,null,null,{"$f":"IF(Indtastning!AC:AC=\"Positiv\",1,\"\")","v":""}]
[null,null,null,null,null,null,null,null,null,null,null,null,null,null,null,null,null,null,null,null,null,null,null,null,null,null,null,null,null,null,null,null,null,null,null,null,null,null,null,null,null,null,null,{"$f":"IF(Indtastning!Y:Y=\"Ikke Aflagt\",1,\"\")","v":""},null,null,{"$f":"IF(Indtastning!U:U=\"Positiv\",1,\"\")","v":""},null,null,null,{"$f":"IF(Indtastning!Y:Y=\"Positiv\",1,\"\")","v":""},null,null,null,{"$f":"IF(Indtastning!AC:AC=\"Positiv\",1,\"\")","v":""}]
[null,null,null,null,null,null,null,null,null,null,null,null,null,null,null,null,null,null,null,null,null,null,null,null,null,null,null,null,null,null,null,null,null,null,null,null,null,null,null,null,null,null,null,{"$f":"IF(Indtastning!Y:Y=\"Ikke Aflagt\",1,\"\")","v":""},null,null,{"$f":"IF(Indtastning!U:U=\"Positiv\",1,\"\")","v":""},null,null,null,{"$f":"IF(Indtastning!Y:Y=\"Positiv\",1,\"\")","v":""},null,null,null,{"$f":"IF(Indtastning!AC:AC=\"Positiv\",1,\"\")","v":""}]
[null,null,null,null,null,null,null,null,null,null,null,null,null,null,null,null,null,null,null,null,null,null,null,null,null,null,null,null,null,null,null,null,null,null,null,null,null,null,null,null,null,null,null,{"$f":"IF(Indtastning!Y:Y=\"Ikke Aflagt\",1,\"\")","v":""},null,null,{"$f":"IF(Indtastning!U:U=\"Positiv\",1,\"\")","v":""},null,null,null,{"$f":"IF(Indtastning!Y:Y=\"Positiv\",1,\"\")","v":""},null,null,null,{"$f":"IF(Indtastning!AC:AC=\"Positiv\",1,\"\")","v":""}]
[null,null,null,null,null,null,null,null,null,null,null,null,null,null,null,null,null,null,null,null,null,null,null,null,null,null,null,null,null,null,null,null,null,null,null,null,null,null,null,null,null,null,null,{"$f":"IF(Indtastning!Y:Y=\"Ikke Aflagt\",1,\"\")","v":""},null,null,{"$f":"IF(Indtastning!U:U=\"Positiv\",1,\"\")","v":""},null,null,null,{"$f":"IF(Indtastning!Y:Y=\"Positiv\",1,\"\")","v":""},null,null,null,{"$f":"IF(Indtastning!AC:AC=\"Positiv\",1,\"\")","v":""}]
[null,null,null,null,null,null,null,null,null,null,null,null,null,null,null,null,null,null,null,null,null,null,null,null,null,null,null,null,null,null,null,null,null,null,null,null,null,null,null,null,null,null,null,{"$f":"IF(Indtastning!Y:Y=\"Ikke Aflagt\",1,\"\")","v":""},null,null,{"$f":"IF(Indtastning!U:U=\"Positiv\",1,\"\")","v":""},null,null,null,{"$f":"IF(Indtastning!Y:Y=\"Positiv\",1,\"\")","v":""},null,null,null,{"$f":"IF(Indtastning!AC:AC=\"Positiv\",1,\"\")","v":""}]
[null,null,null,null,null,null,null,null,null,null,null,null,null,null,null,null,null,null,null,null,null,null,null,null,null,null,null,null,null,null,null,null,null,null,null,null,null,null,null,null,null,null,null,{"$f":"IF(Indtastning!Y:Y=\"Ikke Aflagt\",1,\"\")","v":""},null,null,{"$f":"IF(Indtastning!U:U=\"Positiv\",1,\"\")","v":""},null,null,null,{"$f":"IF(Indtastning!Y:Y=\"Positiv\",1,\"\")","v":""},null,null,null,{"$f":"IF(Indtastning!AC:AC=\"Positiv\",1,\"\")","v":""}]
[null,null,null,null,null,null,null,null,null,null,null,null,null,null,null,null,null,null,null,null,null,null,null,null,null,null,null,null,null,null,null,null,null,null,null,null,null,null,null,null,null,null,null,{"$f":"IF(Indtastning!Y:Y=\"Ikke Aflagt\",1,\"\")","v":""},null,null,{"$f":"IF(Indtastning!U:U=\"Positiv\",1,\"\")","v":""},null,null,null,{"$f":"IF(Indtastning!Y:Y=\"Positiv\",1,\"\")","v":""},null,null,null,{"$f":"IF(Indtastning!AC:AC=\"Positiv\",1,\"\")","v":""}]
[null,null,null,null,null,null,null,null,null,null,null,null,null,null,null,null,null,null,null,null,null,null,null,null,null,null,null,null,null,null,null,null,null,null,null,null,null,null,null,null,null,null,null,{"$f":"IF(Indtastning!Y:Y=\"Ikke Aflagt\",1,\"\")","v":""},null,null,{"$f":"IF(Indtastning!U:U=\"Positiv\",1,\"\")","v":""},null,null,null,{"$f":"IF(Indtastning!Y:Y=\"Positiv\",1,\"\")","v":""},null,null,null,{"$f":"IF(Indtastning!AC:AC=\"Positiv\",1,\"\")","v":""}]
[null,null,null,null,null,null,null,null,null,null,null,null,null,null,null,null,null,null,null,null,null,null,null,null,null,null,null,null,null,null,null,null,null,null,null,null,null,null,null,null,null,null,null,{"$f":"IF(Indtastning!Y:Y=\"Ikke Aflagt\",1,\"\")","v":""},null,null,{"$f":"IF(Indtastning!U:U=\"Positiv\",1,\"\")","v":""},null,null,null,{"$f":"IF(Indtastning!Y:Y=\"Positiv\",1,\"\")","v":""},null,null,null,{"$f":"IF(Indtastning!AC:AC=\"Positiv\",1,\"\")","v":""}]
[null,null,null,null,null,null,null,null,null,null,null,null,null,null,null,null,null,null,null,null,null,null,null,null,null,null,null,null,null,null,null,null,null,null,null,null,null,null,null,null,null,null,null,{"$f":"IF(Indtastning!Y:Y=\"Ikke Aflagt\",1,\"\")","v":""},null,null,{"$f":"IF(Indtastning!U:U=\"Positiv\",1,\"\")","v":""},null,null,null,{"$f":"IF(Indtastning!Y:Y=\"Positiv\",1,\"\")","v":""},null,null,null,{"$f":"IF(Indtastning!AC:AC=\"Positiv\",1,\"\")","v":""}]
[null,null,null,null,null,null,null,null,null,null,null,null,null,null,null,null,null,null,null,null,null,null,null,null,null,null,null,null,null,null,null,null,null,null,null,null,null,null,null,null,null,null,null,{"$f":"IF(Indtastning!Y:Y=\"Ikke Aflagt\",1,\"\")","v":""},null,null,{"$f":"IF(Indtastning!U:U=\"Positiv\",1,\"\")","v":""},null,null,null,{"$f":"IF(Indtastning!Y:Y=\"Positiv\",1,\"\")","v":""},null,null,null,{"$f":"IF(Indtastning!AC:AC=\"Positiv\",1,\"\")","v":""}]
[null,null,null,null,null,null,null,null,null,null,null,null,null,null,null,null,null,null,null,null,null,null,null,null,null,null,null,null,null,null,null,null,null,null,null,null,null,null,null,null,null,null,null,{"$f":"IF(Indtastning!Y:Y=\"Ikke Aflagt\",1,\"\")","v":""},null,null,{"$f":"IF(Indtastning!U:U=\"Positiv\",1,\"\")","v":""},null,null,null,{"$f":"IF(Indtastning!Y:Y=\"Positiv\",1,\"\")","v":""},null,null,null,{"$f":"IF(Indtastning!AC:AC=\"Positiv\",1,\"\")","v":""}]
[null,null,null,null,null,null,null,null,null,null,null,null,null,null,null,null,null,null,null,null,null,null,null,null,null,null,null,null,null,null,null,null,null,null,null,null,null,null,null,null,null,null,null,{"$f":"IF(Indtastning!Y:Y=\"Ikke Aflagt\",1,\"\")","v":""},null,null,{"$f":"IF(Indtastning!U:U=\"Positiv\",1,\"\")","v":""},null,null,null,{"$f":"IF(Indtastning!Y:Y=\"Positiv\",1,\"\")","v":""},null,null,null,{"$f":"IF(Indtastning!AC:AC=\"Positiv\",1,\"\")","v":""}]
[null,null,null,null,null,null,null,null,null,null,null,null,null,null,null,null,null,null,null,null,null,null,null,null,null,null,null,null,null,null,null,null,null,null,null,null,null,null,null,null,null,null,null,{"$f":"IF(Indtastning!Y:Y=\"Ikke Aflagt\",1,\"\")","v":""},null,null,{"$f":"IF(Indtastning!U:U=\"Positiv\",1,\"\")","v":""},null,null,null,{"$f":"IF(Indtastning!Y:Y=\"Positiv\",1,\"\")","v":""},null,null,null,{"$f":"IF(Indtastning!AC:AC=\"Positiv\",1,\"\")","v":""}]
[null,null,null,null,null,null,null,null,null,null,null,null,null,null,null,null,null,null,null,null,null,null,null,null,null,null,null,null,null,null,null,null,null,null,null,null,null,null,null,null,null,null,null,{"$f":"IF(Indtastning!Y:Y=\"Ikke Aflagt\",1,\"\")","v":""},null,null,{"$f":"IF(Indtastning!U:U=\"Positiv\",1,\"\")","v":""},null,null,null,{"$f":"IF(Indtastning!Y:Y=\"Positiv\",1,\"\")","v":""},null,null,null,{"$f":"IF(Indtastning!AC:AC=\"Positiv\",1,\"\")","v":""}]
[null,null,null,null,null,null,null,null,null,null,null,null,null,null,null,null,null,null,null,null,null,null,null,null,null,null,null,null,null,null,null,null,null,null,null,null,null,null,null,null,null,null,null,{"$f":"IF(Indtastning!Y:Y=\"Ikke Aflagt\",1,\"\")","v":""},null,null,{"$f":"IF(Indtastning!U:U=\"Positiv\",1,\"\")","v":""},null,null,null,{"$f":"IF(Indtastning!Y:Y=\"Positiv\",1,\"\")","v":""},null,null,null,{"$f":"IF(Indtastning!AC:AC=\"Positiv\",1,\"\")","v":""}]
[null,null,null,null,null,null,null,null,null,null,null,null,null,null,null,null,null,null,null,null,null,null,null,null,null,null,null,null,null,null,null,null,null,null,null,null,null,null,null,null,null,null,null,{"$f":"IF(Indtastning!Y:Y=\"Ikke Aflagt\",1,\"\")","v":""},null,null,{"$f":"IF(Indtastning!U:U=\"Positiv\",1,\"\")","v":""},null,null,null,{"$f":"IF(Indtastning!Y:Y=\"Positiv\",1,\"\")","v":""},null,null,null,{"$f":"IF(Indtastning!AC:AC=\"Positiv\",1,\"\")","v":""}]
[null,null,null,null,null,null,null,null,null,null,null,null,null,null,null,null,null,null,null,null,null,null,null,null,null,null,null,null,null,null,null,null,null,null,null,null,null,null,null,null,null,null,null,{"$f":"IF(Indtastning!Y:Y=\"Ikke Aflagt\",1,\"\")","v":""},null,null,{"$f":"IF(Indtastning!U:U=\"Positiv\",1,\"\")","v":""},null,null,null,{"$f":"IF(Indtastning!Y:Y=\"Positiv\",1,\"\")","v":""},null,null,null,{"$f":"IF(Indtastning!AC:AC=\"Positiv\",1,\"\")","v":""}]
[null,null,null,null,null,null,null,null,null,null,null,null,null,null,null,null,null,null,null,null,null,null,null,null,null,null,null,null,null,null,null,null,null,null,null,null,null,null,null,null,null,null,null,{"$f":"IF(Indtastning!Y:Y=\"Ikke Aflagt\",1,\"\")","v":""},null,null,{"$f":"IF(Indtastning!U:U=\"Positiv\",1,\"\")","v":""},null,null,null,{"$f":"IF(Indtastning!Y:Y=\"Positiv\",1,\"\")","v":""},null,null,null,{"$f":"IF(Indtastning!AC:AC=\"Positiv\",1,\"\")","v":""}]
[null,null,null,null,null,null,null,null,null,null,null,null,null,null,null,null,null,null,null,null,null,null,null,null,null,null,null,null,null,null,null,null,null,null,null,null,null,null,null,null,null,null,null,{"$f":"IF(Indtastning!Y:Y=\"Ikke Aflagt\",1,\"\")","v":""},null,null,{"$f":"IF(Indtastning!U:U=\"Positiv\",1,\"\")","v":""},null,null,null,{"$f":"IF(Indtastning!Y:Y=\"Positiv\",1,\"\")","v":""},null,null,null,{"$f":"IF(Indtastning!AC:AC=\"Positiv\",1,\"\")","v":""}]
[null,null,null,null,null,null,null,null,null,null,null,null,null,null,null,null,null,null,null,null,null,null,null,null,null,null,null,null,null,null,null,null,null,null,null,null,null,null,null,null,null,null,null,{"$f":"IF(Indtastning!Y:Y=\"Ikke Aflagt\",1,\"\")","v":""},null,null,{"$f":"IF(Indtastning!U:U=\"Positiv\",1,\"\")","v":""},null,null,null,{"$f":"IF(Indtastning!Y:Y=\"Positiv\",1,\"\")","v":""},null,null,null,{"$f":"IF(Indtastning!AC:AC=\"Positiv\",1,\"\")","v":""}]
[null,null,null,null,null,null,null,null,null,null,null,null,null,null,null,null,null,null,null,null,null,null,null,null,null,null,null,null,null,null,null,null,null,null,null,null,null,null,null,null,null,null,null,{"$f":"IF(Indtastning!Y:Y=\"Ikke Aflagt\",1,\"\")","v":""},null,null,{"$f":"IF(Indtastning!U:U=\"Positiv\",1,\"\")","v":""},null,null,null,{"$f":"IF(Indtastning!Y:Y=\"Positiv\",1,\"\")","v":""},null,null,null,{"$f":"IF(Indtastning!AC:AC=\"Positiv\",1,\"\")","v":""}]
[null,null,null,null,null,null,null,null,null,null,null,null,null,null,null,null,null,null,null,null,null,null,null,null,null,null,null,null,null,null,null,null,null,null,null,null,null,null,null,null,null,null,null,{"$f":"IF(Indtastning!Y:Y=\"Ikke Aflagt\",1,\"\")","v":""},null,null,{"$f":"IF(Indtastning!U:U=\"Positiv\",1,\"\")","v":""},null,null,null,{"$f":"IF(Indtastning!Y:Y=\"Positiv\",1,\"\")","v":""},null,null,null,{"$f":"IF(Indtastning!AC:AC=\"Positiv\",1,\"\")","v":""}]
[null,null,null,null,null,null,null,null,null,null,null,null,null,null,null,null,null,null,null,null,null,null,null,null,null,null,null,null,null,null,null,null,null,null,null,null,null,null,null,null,null,null,null,{"$f":"IF(Indtastning!Y:Y=\"Ikke Aflagt\",1,\"\")","v":""},null,null,{"$f":"IF(Indtastning!U:U=\"Positiv\",1,\"\")","v":""},null,null,null,{"$f":"IF(Indtastning!Y:Y=\"Positiv\",1,\"\")","v":""},null,null,null,{"$f":"IF(Indtastning!AC:AC=\"Positiv\",1,\"\")","v":""}]
[null,null,null,null,null,null,null,null,null,null,null,null,null,null,null,null,null,null,null,null,null,null,null,null,null,null,null,null,null,null,null,null,null,null,null,null,null,null,null,null,null,null,null,{"$f":"IF(Indtastning!Y:Y=\"Ikke Aflagt\",1,\"\")","v":""},null,null,{"$f":"IF(Indtastning!U:U=\"Positiv\",1,\"\")","v":""},null,null,null,{"$f":"IF(Indtastning!Y:Y=\"Positiv\",1,\"\")","v":""},null,null,null,{"$f":"IF(Indtastning!AC:AC=\"Positiv\",1,\"\")","v":""}]
[null,null,null,null,null,null,null,null,null,null,null,null,null,null,null,null,null,null,null,null,null,null,null,null,null,null,null,null,null,null,null,null,null,null,null,null,null,null,null,null,null,null,null,{"$f":"IF(Indtastning!Y:Y=\"Ikke Aflagt\",1,\"\")","v":""},null,null,{"$f":"IF(Indtastning!U:U=\"Positiv\",1,\"\")","v":""},null,null,null,{"$f":"IF(Indtastning!Y:Y=\"Positiv\",1,\"\")","v":""},null,null,null,{"$f":"IF(Indtastning!AC:AC=\"Positiv\",1,\"\")","v":""}]
[null,null,null,null,null,null,null,null,null,null,null,null,null,null,null,null,null,null,null,null,null,null,null,null,null,null,null,null,null,null,null,null,null,null,null,null,null,null,null,null,null,null,null,{"$f":"IF(Indtastning!Y:Y=\"Ikke Aflagt\",1,\"\")","v":""},null,null,{"$f":"IF(Indtastning!U:U=\"Positiv\",1,\"\")","v":""},null,null,null,{"$f":"IF(Indtastning!Y:Y=\"Positiv\",1,\"\")","v":""},null,null,null,{"$f":"IF(Indtastning!AC:AC=\"Positiv\",1,\"\")","v":""}]
[null,null,null,null,null,null,null,null,null,null,null,null,null,null,null,null,null,null,null,null,null,null,null,null,null,null,null,null,null,null,null,null,null,null,null,null,null,null,null,null,null,null,null,{"$f":"IF(Indtastning!Y:Y=\"Ikke Aflagt\",1,\"\")","v":""},null,null,{"$f":"IF(Indtastning!U:U=\"Positiv\",1,\"\")","v":""},null,null,null,{"$f":"IF(Indtastning!Y:Y=\"Positiv\",1,\"\")","v":""},null,null,null,{"$f":"IF(Indtastning!AC:AC=\"Positiv\",1,\"\")","v":""}]
[null,null,null,null,null,null,null,null,null,null,null,null,null,null,null,null,null,null,null,null,null,null,null,null,null,null,null,null,null,null,null,null,null,null,null,null,null,null,null,null,null,null,null,{"$f":"IF(Indtastning!Y:Y=\"Ikke Aflagt\",1,\"\")","v":""},null,null,{"$f":"IF(Indtastning!U:U=\"Positiv\",1,\"\")","v":""},null,null,null,{"$f":"IF(Indtastning!Y:Y=\"Positiv\",1,\"\")","v":""},null,null,null,{"$f":"IF(Indtastning!AC:AC=\"Positiv\",1,\"\")","v":""}]
[null,null,null,null,null,null,null,null,null,null,null,null,null,null,null,null,null,null,null,null,null,null,null,null,null,null,null,null,null,null,null,null,null,null,null,null,null,null,null,null,null,null,null,{"$f":"IF(Indtastning!Y:Y=\"Ikke Aflagt\",1,\"\")","v":""},null,null,{"$f":"IF(Indtastning!U:U=\"Positiv\",1,\"\")","v":""},null,null,null,{"$f":"IF(Indtastning!Y:Y=\"Positiv\",1,\"\")","v":""},null,null,null,{"$f":"IF(Indtastning!AC:AC=\"Positiv\",1,\"\")","v":""}]
[null,null,null,null,null,null,null,null,null,null,null,null,null,null,null,null,null,null,null,null,null,null,null,null,null,null,null,null,null,null,null,null,null,null,null,null,null,null,null,null,null,null,null,{"$f":"IF(Indtastning!Y:Y=\"Ikke Aflagt\",1,\"\")","v":""},null,null,{"$f":"IF(Indtastning!U:U=\"Positiv\",1,\"\")","v":""},null,null,null,{"$f":"IF(Indtastning!Y:Y=\"Positiv\",1,\"\")","v":""},null,null,null,{"$f":"IF(Indtastning!AC:AC=\"Positiv\",1,\"\")","v":""}]
[null,null,null,null,null,null,null,null,null,null,null,null,null,null,null,null,null,null,null,null,null,null,null,null,null,null,null,null,null,null,null,null,null,null,null,null,null,null,null,null,null,null,null,{"$f":"IF(Indtastning!Y:Y=\"Ikke Aflagt\",1,\"\")","v":""},null,null,{"$f":"IF(Indtastning!U:U=\"Positiv\",1,\"\")","v":""},null,null,null,{"$f":"IF(Indtastning!Y:Y=\"Positiv\",1,\"\")","v":""},null,null,null,{"$f":"IF(Indtastning!AC:AC=\"Positiv\",1,\"\")","v":""}]
[null,null,null,null,null,null,null,null,null,null,null,null,null,null,null,null,null,null,null,null,null,null,null,null,null,null,null,null,null,null,null,null,null,null,null,null,null,null,null,null,null,null,null,{"$f":"IF(Indtastning!Y:Y=\"Ikke Aflagt\",1,\"\")","v":""},null,null,{"$f":"IF(Indtastning!U:U=\"Positiv\",1,\"\")","v":""},null,null,null,{"$f":"IF(Indtastning!Y:Y=\"Positiv\",1,\"\")","v":""},null,null,null,{"$f":"IF(Indtastning!AC:AC=\"Positiv\",1,\"\")","v":""}]
[null,null,null,null,null,null,null,null,null,null,null,null,null,null,null,null,null,null,null,null,null,null,null,null,null,null,null,null,null,null,null,null,null,null,null,null,null,null,null,null,null,null,null,{"$f":"IF(Indtastning!Y:Y=\"Ikke Aflagt\",1,\"\")","v":""},null,null,{"$f":"IF(Indtastning!U:U=\"Positiv\",1,\"\")","v":""},null,null,null,{"$f":"IF(Indtastning!Y:Y=\"Positiv\",1,\"\")","v":""},null,null,null,{"$f":"IF(Indtastning!AC:AC=\"Positiv\",1,\"\")","v":""}]
[null,null,null,null,null,null,null,null,null,null,null,null,null,null,null,null,null,null,null,null,null,null,null,null,null,null,null,null,null,null,null,null,null,null,null,null,null,null,null,null,null,null,null,{"$f":"IF(Indtastning!Y:Y=\"Ikke Aflagt\",1,\"\")","v":""},null,null,{"$f":"IF(Indtastning!U:U=\"Positiv\",1,\"\")","v":""},null,null,null,{"$f":"IF(Indtastning!Y:Y=\"Positiv\",1,\"\")","v":""},null,null,null,{"$f":"IF(Indtastning!AC:AC=\"Positiv\",1,\"\")","v":""}]
[null,null,null,null,null,null,null,null,null,null,null,null,null,null,null,null,null,null,null,null,null,null,null,null,null,null,null,null,null,null,null,null,null,null,null,null,null,null,null,null,null,null,null,{"$f":"IF(Indtastning!Y:Y=\"Ikke Aflagt\",1,\"\")","v":""},null,null,{"$f":"IF(Indtastning!U:U=\"Positiv\",1,\"\")","v":""},null,null,null,{"$f":"IF(Indtastning!Y:Y=\"Positiv\",1,\"\")","v":""},null,null,null,{"$f":"IF(Indtastning!AC:AC=\"Positiv\",1,\"\")","v":""}]
[null,null,null,null,null,null,null,null,null,null,null,null,null,null,null,null,null,null,null,null,null,null,null,null,null,null,null,null,null,null,null,null,null,null,null,null,null,null,null,null,null,null,null,{"$f":"IF(Indtastning!Y:Y=\"Ikke Aflagt\",1,\"\")","v":""},null,null,{"$f":"IF(Indtastning!U:U=\"Positiv\",1,\"\")","v":""},null,null,null,{"$f":"IF(Indtastning!Y:Y=\"Positiv\",1,\"\")","v":""},null,null,null,{"$f":"IF(Indtastning!AC:AC=\"Positiv\",1,\"\")","v":""}]
[null,null,null,null,null,null,null,null,null,null,null,null,null,null,null,null,null,null,null,null,null,null,null,null,null,null,null,null,null,null,null,null,null,null,null,null,null,null,null,null,null,null,null,{"$f":"IF(Indtastning!Y:Y=\"Ikke Aflagt\",1,\"\")","v":""},null,null,{"$f":"IF(Indtastning!U:U=\"Positiv\",1,\"\")","v":""},null,null,null,{"$f":"IF(Indtastning!Y:Y=\"Positiv\",1,\"\")","v":""},null,null,null,{"$f":"IF(Indtastning!AC:AC=\"Positiv\",1,\"\")","v":""}]
[null,null,null,null,null,null,null,null,null,null,null,null,null,null,null,null,null,null,null,null,null,null,null,null,null,null,null,null,null,null,null,null,null,null,null,null,null,null,null,null,null,null,null,{"$f":"IF(Indtastning!Y:Y=\"Ikke Aflagt\",1,\"\")","v":""},null,null,{"$f":"IF(Indtastning!U:U=\"Positiv\",1,\"\")","v":""},null,null,null,{"$f":"IF(Indtastning!Y:Y=\"Positiv\",1,\"\")","v":""},null,null,null,{"$f":"IF(Indtastning!AC:AC=\"Positiv\",1,\"\")","v":""}]
[null,null,null,null,null,null,null,null,null,null,null,null,null,null,null,null,null,null,null,null,null,null,null,null,null,null,null,null,null,null,null,null,null,null,null,null,null,null,null,null,null,null,null,{"$f":"IF(Indtastning!Y:Y=\"Ikke Aflagt\",1,\"\")","v":""},null,null,{"$f":"IF(Indtastning!U:U=\"Positiv\",1,\"\")","v":""},null,null,null,{"$f":"IF(Indtastning!Y:Y=\"Positiv\",1,\"\")","v":""},null,null,null,{"$f":"IF(Indtastning!AC:AC=\"Positiv\",1,\"\")","v":""}]
[null,null,null,null,null,null,null,null,null,null,null,null,null,null,null,null,null,null,null,null,null,null,null,null,null,null,null,null,null,null,null,null,null,null,null,null,null,null,null,null,null,null,null,{"$f":"IF(Indtastning!Y:Y=\"Ikke Aflagt\",1,\"\")","v":""},null,null,{"$f":"IF(Indtastning!U:U=\"Positiv\",1,\"\")","v":""},null,null,null,{"$f":"IF(Indtastning!Y:Y=\"Positiv\",1,\"\")","v":""},null,null,null,{"$f":"IF(Indtastning!AC:AC=\"Positiv\",1,\"\")","v":""}]
[null,null,null,null,null,null,null,null,null,null,null,null,null,null,null,null,null,null,null,null,null,null,null,null,null,null,null,null,null,null,null,null,null,null,null,null,null,null,null,null,null,null,null,{"$f":"IF(Indtastning!Y:Y=\"Ikke Aflagt\",1,\"\")","v":""},null,null,{"$f":"IF(Indtastning!U:U=\"Positiv\",1,\"\")","v":""},null,null,null,{"$f":"IF(Indtastning!Y:Y=\"Positiv\",1,\"\")","v":""},null,null,null,{"$f":"IF(Indtastning!AC:AC=\"Positiv\",1,\"\")","v":""}]
[null,null,null,null,null,null,null,null,null,null,null,null,null,null,null,null,null,null,null,null,null,null,null,null,null,null,null,null,null,null,null,null,null,null,null,null,null,null,null,null,null,null,null,{"$f":"IF(Indtastning!Y:Y=\"Ikke Aflagt\",1,\"\")","v":""},null,null,{"$f":"IF(Indtastning!U:U=\"Positiv\",1,\"\")","v":""},null,null,null,{"$f":"IF(Indtastning!Y:Y=\"Positiv\",1,\"\")","v":""},null,null,null,{"$f":"IF(Indtastning!AC:AC=\"Positiv\",1,\"\")","v":""}]
[null,null,null,null,null,null,null,null,null,null,null,null,null,null,null,null,null,null,null,null,null,null,null,null,null,null,null,null,null,null,null,null,null,null,null,null,null,null,null,null,null,null,null,{"$f":"IF(Indtastning!Y:Y=\"Ikke Aflagt\",1,\"\")","v":""},null,null,{"$f":"IF(Indtastning!U:U=\"Positiv\",1,\"\")","v":""},null,null,null,{"$f":"IF(Indtastning!Y:Y=\"Positiv\",1,\"\")","v":""},null,null,null,{"$f":"IF(Indtastning!AC:AC=\"Positiv\",1,\"\")","v":""}]
[null,null,null,null,null,null,null,null,null,null,null,null,null,null,null,null,null,null,null,null,null,null,null,null,null,null,null,null,null,null,null,null,null,null,null,null,null,null,null,null,null,null,null,{"$f":"IF(Indtastning!Y:Y=\"Ikke Aflagt\",1,\"\")","v":""},null,null,{"$f":"IF(Indtastning!U:U=\"Positiv\",1,\"\")","v":""},null,null,null,{"$f":"IF(Indtastning!Y:Y=\"Positiv\",1,\"\")","v":""},null,null,null,{"$f":"IF(Indtastning!AC:AC=\"Positiv\",1,\"\")","v":""}]
[null,null,null,null,null,null,null,null,null,null,null,null,null,null,null,null,null,null,null,null,null,null,null,null,null,null,null,null,null,null,null,null,null,null,null,null,null,null,null,null,null,null,null,{"$f":"IF(Indtastning!Y:Y=\"Ikke Aflagt\",1,\"\")","v":""},null,null,{"$f":"IF(Indtastning!U:U=\"Positiv\",1,\"\")","v":""},null,null,null,{"$f":"IF(Indtastning!Y:Y=\"Positiv\",1,\"\")","v":""},null,null,null,{"$f":"IF(Indtastning!AC:AC=\"Positiv\",1,\"\")","v":""}]
[null,null,null,null,null,null,null,null,null,null,null,null,null,null,null,null,null,null,null,null,null,null,null,null,null,null,null,null,null,null,null,null,null,null,null,null,null,null,null,null,null,null,null,{"$f":"IF(Indtastning!Y:Y=\"Ikke Aflagt\",1,\"\")","v":""},null,null,{"$f":"IF(Indtastning!U:U=\"Positiv\",1,\"\")","v":""},null,null,null,{"$f":"IF(Indtastning!Y:Y=\"Positiv\",1,\"\")","v":""},null,null,null,{"$f":"IF(Indtastning!AC:AC=\"Positiv\",1,\"\")","v":""}]
[null,null,null,null,null,null,null,null,null,null,null,null,null,null,null,null,null,null,null,null,null,null,null,null,null,null,null,null,null,null,null,null,null,null,null,null,null,null,null,null,null,null,null,{"$f":"IF(Indtastning!Y:Y=\"Ikke Aflagt\",1,\"\")","v":""},null,null,{"$f":"IF(Indtastning!U:U=\"Positiv\",1,\"\")","v":""},null,null,null,{"$f":"IF(Indtastning!Y:Y=\"Positiv\",1,\"\")","v":""},null,null,null,{"$f":"IF(Indtastning!AC:AC=\"Positiv\",1,\"\")","v":""}]
[null,null,null,null,null,null,null,null,null,null,null,null,null,null,null,null,null,null,null,null,null,null,null,null,null,null,null,null,null,null,null,null,null,null,null,null,null,null,null,null,null,null,null,{"$f":"IF(Indtastning!Y:Y=\"Ikke Aflagt\",1,\"\")","v":""},null,null,{"$f":"IF(Indtastning!U:U=\"Positiv\",1,\"\")","v":""},null,null,null,{"$f":"IF(Indtastning!Y:Y=\"Positiv\",1,\"\")","v":""},null,null,null,{"$f":"IF(Indtastning!AC:AC=\"Positiv\",1,\"\")","v":""}]
[null,null,null,null,null,null,null,null,null,null,null,null,null,null,null,null,null,null,null,null,null,null,null,null,null,null,null,null,null,null,null,null,null,null,null,null,null,null,null,null,null,null,null,{"$f":"IF(Indtastning!Y:Y=\"Ikke Aflagt\",1,\"\")","v":""},null,null,{"$f":"IF(Indtastning!U:U=\"Positiv\",1,\"\")","v":""},null,null,null,{"$f":"IF(Indtastning!Y:Y=\"Positiv\",1,\"\")","v":""},null,null,null,{"$f":"IF(Indtastning!AC:AC=\"Positiv\",1,\"\")","v":""}]
[null,null,null,null,null,null,null,null,null,null,null,null,null,null,null,null,null,null,null,null,null,null,null,null,null,null,null,null,null,null,null,null,null,null,null,null,null,null,null,null,null,null,null,{"$f":"IF(Indtastning!Y:Y=\"Ikke Aflagt\",1,\"\")","v":""},null,null,{"$f":"IF(Indtastning!U:U=\"Positiv\",1,\"\")","v":""},null,null,null,{"$f":"IF(Indtastning!Y:Y=\"Positiv\",1,\"\")","v":""},null,null,null,{"$f":"IF(Indtastning!AC:AC=\"Positiv\",1,\"\")","v":""}]
[null,null,null,null,null,null,null,null,null,null,null,null,null,null,null,null,null,null,null,null,null,null,null,null,null,null,null,null,null,null,null,null,null,null,null,null,null,null,null,null,null,null,null,{"$f":"IF(Indtastning!Y:Y=\"Ikke Aflagt\",1,\"\")","v":""},null,null,{"$f":"IF(Indtastning!U:U=\"Positiv\",1,\"\")","v":""},null,null,null,{"$f":"IF(Indtastning!Y:Y=\"Positiv\",1,\"\")","v":""},null,null,null,{"$f":"IF(Indtastning!AC:AC=\"Positiv\",1,\"\")","v":""}]
[null,null,null,null,null,null,null,null,null,null,null,null,null,null,null,null,null,null,null,null,null,null,null,null,null,null,null,null,null,null,null,null,null,null,null,null,null,null,null,null,null,null,null,{"$f":"IF(Indtastning!Y:Y=\"Ikke Aflagt\",1,\"\")","v":""},null,null,{"$f":"IF(Indtastning!U:U=\"Positiv\",1,\"\")","v":""},null,null,null,{"$f":"IF(Indtastning!Y:Y=\"Positiv\",1,\"\")","v":""},null,null,null,{"$f":"IF(Indtastning!AC:AC=\"Positiv\",1,\"\")","v":""}]
[null,null,null,null,null,null,null,null,null,null,null,null,null,null,null,null,null,null,null,null,null,null,null,null,null,null,null,null,null,null,null,null,null,null,null,null,null,null,null,null,null,null,null,{"$f":"IF(Indtastning!Y:Y=\"Ikke Aflagt\",1,\"\")","v":""},null,null,{"$f":"IF(Indtastning!U:U=\"Positiv\",1,\"\")","v":""},null,null,null,{"$f":"IF(Indtastning!Y:Y=\"Positiv\",1,\"\")","v":""},null,null,null,{"$f":"IF(Indtastning!AC:AC=\"Positiv\",1,\"\")","v":""}]
[null,null,null,null,null,null,null,null,null,null,null,null,null,null,null,null,null,null,null,null,null,null,null,null,null,null,null,null,null,null,null,null,null,null,null,null,null,null,null,null,null,null,null,{"$f":"IF(Indtastning!Y:Y=\"Ikke Aflagt\",1,\"\")","v":""},null,null,{"$f":"IF(Indtastning!U:U=\"Positiv\",1,\"\")","v":""},null,null,null,{"$f":"IF(Indtastning!Y:Y=\"Positiv\",1,\"\")","v":""},null,null,null,{"$f":"IF(Indtastning!AC:AC=\"Positiv\",1,\"\")","v":""}]
[null,null,null,null,null,null,null,null,null,null,null,null,null,null,null,null,null,null,null,null,null,null,null,null,null,null,null,null,null,null,null,null,null,null,null,null,null,null,null,null,null,null,null,{"$f":"IF(Indtastning!Y:Y=\"Ikke Aflagt\",1,\"\")","v":""},null,null,{"$f":"IF(Indtastning!U:U=\"Positiv\",1,\"\")","v":""},null,null,null,{"$f":"IF(Indtastning!Y:Y=\"Positiv\",1,\"\")","v":""},null,null,null,{"$f":"IF(Indtastning!AC:AC=\"Positiv\",1,\"\")","v":""}]
[null,null,null,null,null,null,null,null,null,null,null,null,null,null,null,null,null,null,null,null,null,null,null,null,null,null,null,null,null,null,null,null,null,null,null,null,null,null,null,null,null,null,null,{"$f":"IF(Indtastning!Y:Y=\"Ikke Aflagt\",1,\"\")","v":""},null,null,{"$f":"IF(Indtastning!U:U=\"Positiv\",1,\"\")","v":""},null,null,null,{"$f":"IF(Indtastning!Y:Y=\"Positiv\",1,\"\")","v":""},null,null,null,{"$f":"IF(Indtastning!AC:AC=\"Positiv\",1,\"\")","v":""}]
[null,null,null,null,null,null,null,null,null,null,null,null,null,null,null,null,null,null,null,null,null,null,null,null,null,null,null,null,null,null,null,null,null,null,null,null,null,null,null,null,null,null,null,{"$f":"IF(Indtastning!Y:Y=\"Ikke Aflagt\",1,\"\")","v":""},null,null,{"$f":"IF(Indtastning!U:U=\"Positiv\",1,\"\")","v":""},null,null,null,{"$f":"IF(Indtastning!Y:Y=\"Positiv\",1,\"\")","v":""},null,null,null,{"$f":"IF(Indtastning!AC:AC=\"Positiv\",1,\"\")","v":""}]
[null,null,null,null,null,null,null,null,null,null,null,null,null,null,null,null,null,null,null,null,null,null,null,null,null,null,null,null,null,null,null,null,null,null,null,null,null,null,null,null,null,null,null,{"$f":"IF(Indtastning!Y:Y=\"Ikke Aflagt\",1,\"\")","v":""},null,null,{"$f":"IF(Indtastning!U:U=\"Positiv\",1,\"\")","v":""},null,null,null,{"$f":"IF(Indtastning!Y:Y=\"Positiv\",1,\"\")","v":""},null,null,null,{"$f":"IF(Indtastning!AC:AC=\"Positiv\",1,\"\")","v":""}]
[null,null,null,null,null,null,null,null,null,null,null,null,null,null,null,null,null,null,null,null,null,null,null,null,null,null,null,null,null,null,null,null,null,null,null,null,null,null,null,null,null,null,null,{"$f":"IF(Indtastning!Y:Y=\"Ikke Aflagt\",1,\"\")","v":""},null,null,{"$f":"IF(Indtastning!U:U=\"Positiv\",1,\"\")","v":""},null,null,null,{"$f":"IF(Indtastning!Y:Y=\"Positiv\",1,\"\")","v":""},null,null,null,{"$f":"IF(Indtastning!AC:AC=\"Positiv\",1,\"\")","v":""}]
[null,null,null,null,null,null,null,null,null,null,null,null,null,null,null,null,null,null,null,null,null,null,null,null,null,null,null,null,null,null,null,null,null,null,null,null,null,null,null,null,null,null,null,{"$f":"IF(Indtastning!Y:Y=\"Ikke Aflagt\",1,\"\")","v":""},null,null,{"$f":"IF(Indtastning!U:U=\"Positiv\",1,\"\")","v":""},null,null,null,{"$f":"IF(Indtastning!Y:Y=\"Positiv\",1,\"\")","v":""},null,null,null,{"$f":"IF(Indtastning!AC:AC=\"Positiv\",1,\"\")","v":""}]
[null,null,null,null,null,null,null,null,null,null,null,null,null,null,null,null,null,null,null,null,null,null,null,null,null,null,null,null,null,null,null,null,null,null,null,null,null,null,null,null,null,null,null,{"$f":"IF(Indtastning!Y:Y=\"Ikke Aflagt\",1,\"\")","v":""},null,null,{"$f":"IF(Indtastning!U:U=\"Positiv\",1,\"\")","v":""},null,null,null,{"$f":"IF(Indtastning!Y:Y=\"Positiv\",1,\"\")","v":""},null,null,null,{"$f":"IF(Indtastning!AC:AC=\"Positiv\",1,\"\")","v":""}]
[null,null,null,null,null,null,null,null,null,null,null,null,null,null,null,null,null,null,null,null,null,null,null,null,null,null,null,null,null,null,null,null,null,null,null,null,null,null,null,null,null,null,null,{"$f":"IF(Indtastning!Y:Y=\"Ikke Aflagt\",1,\"\")","v":""},null,null,{"$f":"IF(Indtastning!U:U=\"Positiv\",1,\"\")","v":""},null,null,null,{"$f":"IF(Indtastning!Y:Y=\"Positiv\",1,\"\")","v":""},null,null,null,{"$f":"IF(Indtastning!AC:AC=\"Positiv\",1,\"\")","v":""}]
[null,null,null,null,null,null,null,null,null,null,null,null,null,null,null,null,null,null,null,null,null,null,null,null,null,null,null,null,null,null,null,null,null,null,null,null,null,null,null,null,null,null,null,{"$f":"IF(Indtastning!Y:Y=\"Ikke Aflagt\",1,\"\")","v":""},null,null,{"$f":"IF(Indtastning!U:U=\"Positiv\",1,\"\")","v":""},null,null,null,{"$f":"IF(Indtastning!Y:Y=\"Positiv\",1,\"\")","v":""},null,null,null,{"$f":"IF(Indtastning!AC:AC=\"Positiv\",1,\"\")","v":""}]
[null,null,null,null,null,null,null,null,null,null,null,null,null,null,null,null,null,null,null,null,null,null,null,null,null,null,null,null,null,null,null,null,null,null,null,null,null,null,null,null,null,null,null,{"$f":"IF(Indtastning!Y:Y=\"Ikke Aflagt\",1,\"\")","v":""},null,null,{"$f":"IF(Indtastning!U:U=\"Positiv\",1,\"\")","v":""},null,null,null,{"$f":"IF(Indtastning!Y:Y=\"Positiv\",1,\"\")","v":""},null,null,null,{"$f":"IF(Indtastning!AC:AC=\"Positiv\",1,\"\")","v":""}]
[null,null,null,null,null,null,null,null,null,null,null,null,null,null,null,null,null,null,null,null,null,null,null,null,null,null,null,null,null,null,null,null,null,null,null,null,null,null,null,null,null,null,null,{"$f":"IF(Indtastning!Y:Y=\"Ikke Aflagt\",1,\"\")","v":""},null,null,{"$f":"IF(Indtastning!U:U=\"Positiv\",1,\"\")","v":""},null,null,null,{"$f":"IF(Indtastning!Y:Y=\"Positiv\",1,\"\")","v":""},null,null,null,{"$f":"IF(Indtastning!AC:AC=\"Positiv\",1,\"\")","v":""}]
[null,null,null,null,null,null,null,null,null,null,null,null,null,null,null,null,null,null,null,null,null,null,null,null,null,null,null,null,null,null,null,null,null,null,null,null,null,null,null,null,null,null,null,{"$f":"IF(Indtastning!Y:Y=\"Ikke Aflagt\",1,\"\")","v":""},null,null,{"$f":"IF(Indtastning!U:U=\"Positiv\",1,\"\")","v":""},null,null,null,{"$f":"IF(Indtastning!Y:Y=\"Positiv\",1,\"\")","v":""},null,null,null,{"$f":"IF(Indtastning!AC:AC=\"Positiv\",1,\"\")","v":""}]
[null,null,null,null,null,null,null,null,null,null,null,null,null,null,null,null,null,null,null,null,null,null,null,null,null,null,null,null,null,null,null,null,null,null,null,null,null,null,null,null,null,null,null,{"$f":"IF(Indtastning!Y:Y=\"Ikke Aflagt\",1,\"\")","v":""},null,null,{"$f":"IF(Indtastning!U:U=\"Positiv\",1,\"\")","v":""},null,null,null,{"$f":"IF(Indtastning!Y:Y=\"Positiv\",1,\"\")","v":""},null,null,null,{"$f":"IF(Indtastning!AC:AC=\"Positiv\",1,\"\")","v":""}]
[null,null,null,null,null,null,null,null,null,null,null,null,null,null,null,null,null,null,null,null,null,null,null,null,null,null,null,null,null,null,null,null,null,null,null,null,null,null,null,null,null,null,null,{"$f":"IF(Indtastning!Y:Y=\"Ikke Aflagt\",1,\"\")","v":""},null,null,{"$f":"IF(Indtastning!U:U=\"Positiv\",1,\"\")","v":""},null,null,null,{"$f":"IF(Indtastning!Y:Y=\"Positiv\",1,\"\")","v":""},null,null,null,{"$f":"IF(Indtastning!AC:AC=\"Positiv\",1,\"\")","v":""}]
[null,null,null,null,null,null,null,null,null,null,null,null,null,null,null,null,null,null,null,null,null,null,null,null,null,null,null,null,null,null,null,null,null,null,null,null,null,null,null,null,null,null,null,{"$f":"IF(Indtastning!Y:Y=\"Ikke Aflagt\",1,\"\")","v":""},null,null,{"$f":"IF(Indtastning!U:U=\"Positiv\",1,\"\")","v":""},null,null,null,{"$f":"IF(Indtastning!Y:Y=\"Positiv\",1,\"\")","v":""},null,null,null,{"$f":"IF(Indtastning!AC:AC=\"Positiv\",1,\"\")","v":""}]
[null,null,null,null,null,null,null,null,null,null,null,null,null,null,null,null,null,null,null,null,null,null,null,null,null,null,null,null,null,null,null,null,null,null,null,null,null,null,null,null,null,null,null,{"$f":"IF(Indtastning!Y:Y=\"Ikke Aflagt\",1,\"\")","v":""},null,null,{"$f":"IF(Indtastning!U:U=\"Positiv\",1,\"\")","v":""},null,null,null,{"$f":"IF(Indtastning!Y:Y=\"Positiv\",1,\"\")","v":""},null,null,null,{"$f":"IF(Indtastning!AC:AC=\"Positiv\",1,\"\")","v":""}]
[null,null,null,null,null,null,null,null,null,null,null,null,null,null,null,null,null,null,null,null,null,null,null,null,null,null,null,null,null,null,null,null,null,null,null,null,null,null,null,null,null,null,null,{"$f":"IF(Indtastning!Y:Y=\"Ikke Aflagt\",1,\"\")","v":""},null,null,{"$f":"IF(Indtastning!U:U=\"Positiv\",1,\"\")","v":""},null,null,null,{"$f":"IF(Indtastning!Y:Y=\"Positiv\",1,\"\")","v":""},null,null,null,{"$f":"IF(Indtastning!AC:AC=\"Positiv\",1,\"\")","v":""}]
[null,null,null,null,null,null,null,null,null,null,null,null,null,null,null,null,null,null,null,null,null,null,null,null,null,null,null,null,null,null,null,null,null,null,null,null,null,null,null,null,null,null,null,{"$f":"IF(Indtastning!Y:Y=\"Ikke Aflagt\",1,\"\")","v":""},null,null,{"$f":"IF(Indtastning!U:U=\"Positiv\",1,\"\")","v":""},null,null,null,{"$f":"IF(Indtastning!Y:Y=\"Positiv\",1,\"\")","v":""},null,null,null,{"$f":"IF(Indtastning!AC:AC=\"Positiv\",1,\"\")","v":""}]
[null,null,null,null,null,null,null,null,null,null,null,null,null,null,null,null,null,null,null,null,null,null,null,null,null,null,null,null,null,null,null,null,null,null,null,null,null,null,null,null,null,null,null,{"$f":"IF(Indtastning!Y:Y=\"Ikke Aflagt\",1,\"\")","v":""},null,null,{"$f":"IF(Indtastning!U:U=\"Positiv\",1,\"\")","v":""},null,null,null,{"$f":"IF(Indtastning!Y:Y=\"Positiv\",1,\"\")","v":""},null,null,null,{"$f":"IF(Indtastning!AC:AC=\"Positiv\",1,\"\")","v":""}]
[null,null,null,null,null,null,null,null,null,null,null,null,null,null,null,null,null,null,null,null,null,null,null,null,null,null,null,null,null,null,null,null,null,null,null,null,null,null,null,null,null,null,null,{"$f":"IF(Indtastning!Y:Y=\"Ikke Aflagt\",1,\"\")","v":""},null,null,{"$f":"IF(Indtastning!U:U=\"Positiv\",1,\"\")","v":""},null,null,null,{"$f":"IF(Indtastning!Y:Y=\"Positiv\",1,\"\")","v":""},null,null,null,{"$f":"IF(Indtastning!AC:AC=\"Positiv\",1,\"\")","v":""}]
[null,null,null,null,null,null,null,null,null,null,null,null,null,null,null,null,null,null,null,null,null,null,null,null,null,null,null,null,null,null,null,null,null,null,null,null,null,null,null,null,null,null,null,{"$f":"IF(Indtastning!Y:Y=\"Ikke Aflagt\",1,\"\")","v":""},null,null,{"$f":"IF(Indtastning!U:U=\"Positiv\",1,\"\")","v":""},null,null,null,{"$f":"IF(Indtastning!Y:Y=\"Positiv\",1,\"\")","v":""},null,null,null,{"$f":"IF(Indtastning!AC:AC=\"Positiv\",1,\"\")","v":""}]
[null,null,null,null,null,null,null,null,null,null,null,null,null,null,null,null,null,null,null,null,null,null,null,null,null,null,null,null,null,null,null,null,null,null,null,null,null,null,null,null,null,null,null,{"$f":"IF(Indtastning!Y:Y=\"Ikke Aflagt\",1,\"\")","v":""},null,null,{"$f":"IF(Indtastning!U:U=\"Positiv\",1,\"\")","v":""},null,null,null,{"$f":"IF(Indtastning!Y:Y=\"Positiv\",1,\"\")","v":""},null,null,null,{"$f":"IF(Indtastning!AC:AC=\"Positiv\",1,\"\")","v":""}]
[null,null,null,null,null,null,null,null,null,null,null,null,null,null,null,null,null,null,null,null,null,null,null,null,null,null,null,null,null,null,null,null,null,null,null,null,null,null,null,null,null,null,null,{"$f":"IF(Indtastning!Y:Y=\"Ikke Aflagt\",1,\"\")","v":""},null,null,{"$f":"IF(Indtastning!U:U=\"Positiv\",1,\"\")","v":""},null,null,null,{"$f":"IF(Indtastning!Y:Y=\"Positiv\",1,\"\")","v":""},null,null,null,{"$f":"IF(Indtastning!AC:AC=\"Positiv\",1,\"\")","v":""}]
[null,null,null,null,null,null,null,null,null,null,null,null,null,null,null,null,null,null,null,null,null,null,null,null,null,null,null,null,null,null,null,null,null,null,null,null,null,null,null,null,null,null,null,{"$f":"IF(Indtastning!Y:Y=\"Ikke Aflagt\",1,\"\")","v":""},null,null,{"$f":"IF(Indtastning!U:U=\"Positiv\",1,\"\")","v":""},null,null,null,{"$f":"IF(Indtastning!Y:Y=\"Positiv\",1,\"\")","v":""},null,null,null,{"$f":"IF(Indtastning!AC:AC=\"Positiv\",1,\"\")","v":""}]
[null,null,null,null,null,null,null,null,null,null,null,null,null,null,null,null,null,null,null,null,null,null,null,null,null,null,null,null,null,null,null,null,null,null,null,null,null,null,null,null,null,null,null,{"$f":"IF(Indtastning!Y:Y=\"Ikke Aflagt\",1,\"\")","v":""},null,null,{"$f":"IF(Indtastning!U:U=\"Positiv\",1,\"\")","v":""},null,null,null,{"$f":"IF(Indtastning!Y:Y=\"Positiv\",1,\"\")","v":""},null,null,null,{"$f":"IF(Indtastning!AC:AC=\"Positiv\",1,\"\")","v":""}]
[null,null,null,null,null,null,null,null,null,null,null,null,null,null,null,null,null,null,null,null,null,null,null,null,null,null,null,null,null,null,null,null,null,null,null,null,null,null,null,null,null,null,null,{"$f":"IF(Indtastning!Y:Y=\"Ikke Aflagt\",1,\"\")","v":""},null,null,{"$f":"IF(Indtastning!U:U=\"Positiv\",1,\"\")","v":""},null,null,null,{"$f":"IF(Indtastning!Y:Y=\"Positiv\",1,\"\")","v":""},null,null,null,{"$f":"IF(Indtastning!AC:AC=\"Positiv\",1,\"\")","v":""}]
[null,null,null,null,null,null,null,null,null,null,null,null,null,null,null,null,null,null,null,null,null,null,null,null,null,null,null,null,null,null,null,null,null,null,null,null,null,null,null,null,null,null,null,{"$f":"IF(Indtastning!Y:Y=\"Ikke Aflagt\",1,\"\")","v":""},null,null,{"$f":"IF(Indtastning!U:U=\"Positiv\",1,\"\")","v":""},null,null,null,{"$f":"IF(Indtastning!Y:Y=\"Positiv\",1,\"\")","v":""},null,null,null,{"$f":"IF(Indtastning!AC:AC=\"Positiv\",1,\"\")","v":""}]
[null,null,null,null,null,null,null,null,null,null,null,null,null,null,null,null,null,null,null,null,null,null,null,null,null,null,null,null,null,null,null,null,null,null,null,null,null,null,null,null,null,null,null,{"$f":"IF(Indtastning!Y:Y=\"Ikke Aflagt\",1,\"\")","v":""},null,null,{"$f":"IF(Indtastning!U:U=\"Positiv\",1,\"\")","v":""},null,null,null,{"$f":"IF(Indtastning!Y:Y=\"Positiv\",1,\"\")","v":""},null,null,null,{"$f":"IF(Indtastning!AC:AC=\"Positiv\",1,\"\")","v":""}]
[null,null,null,null,null,null,null,null,null,null,null,null,null,null,null,null,null,null,null,null,null,null,null,null,null,null,null,null,null,null,null,null,null,null,null,null,null,null,null,null,null,null,null,{"$f":"IF(Indtastning!Y:Y=\"Ikke Aflagt\",1,\"\")","v":""},null,null,{"$f":"IF(Indtastning!U:U=\"Positiv\",1,\"\")","v":""},null,null,null,{"$f":"IF(Indtastning!Y:Y=\"Positiv\",1,\"\")","v":""},null,null,null,{"$f":"IF(Indtastning!AC:AC=\"Positiv\",1,\"\")","v":""}]
[null,null,null,null,null,null,null,null,null,null,null,null,null,null,null,null,null,null,null,null,null,null,null,null,null,null,null,null,null,null,null,null,null,null,null,null,null,null,null,null,null,null,null,{"$f":"IF(Indtastning!Y:Y=\"Ikke Aflagt\",1,\"\")","v":""},null,null,{"$f":"IF(Indtastning!U:U=\"Positiv\",1,\"\")","v":""},null,null,null,{"$f":"IF(Indtastning!Y:Y=\"Positiv\",1,\"\")","v":""},null,null,null,{"$f":"IF(Indtastning!AC:AC=\"Positiv\",1,\"\")","v":""}]
[null,null,null,null,null,null,null,null,null,null,null,null,null,null,null,null,null,null,null,null,null,null,null,null,null,null,null,null,null,null,null,null,null,null,null,null,null,null,null,null,null,null,null,{"$f":"IF(Indtastning!Y:Y=\"Ikke Aflagt\",1,\"\")","v":""},null,null,{"$f":"IF(Indtastning!U:U=\"Positiv\",1,\"\")","v":""},null,null,null,{"$f":"IF(Indtastning!Y:Y=\"Positiv\",1,\"\")","v":""},null,null,null,{"$f":"IF(Indtastning!AC:AC=\"Positiv\",1,\"\")","v":""}]
[null,null,null,null,null,null,null,null,null,null,null,null,null,null,null,null,null,null,null,null,null,null,null,null,null,null,null,null,null,null,null,null,null,null,null,null,null,null,null,null,null,null,null,{"$f":"IF(Indtastning!Y:Y=\"Ikke Aflagt\",1,\"\")","v":""},null,null,{"$f":"IF(Indtastning!U:U=\"Positiv\",1,\"\")","v":""},null,null,null,{"$f":"IF(Indtastning!Y:Y=\"Positiv\",1,\"\")","v":""},null,null,null,{"$f":"IF(Indtastning!AC:AC=\"Positiv\",1,\"\")","v":""}]
[null,null,null,null,null,null,null,null,null,null,null,null,null,null,null,null,null,null,null,null,null,null,null,null,null,null,null,null,null,null,null,null,null,null,null,null,null,null,null,null,null,null,null,{"$f":"IF(Indtastning!Y:Y=\"Ikke Aflagt\",1,\"\")","v":""},null,null,{"$f":"IF(Indtastning!U:U=\"Positiv\",1,\"\")","v":""},null,null,null,{"$f":"IF(Indtastning!Y:Y=\"Positiv\",1,\"\")","v":""},null,null,null,{"$f":"IF(Indtastning!AC:AC=\"Positiv\",1,\"\")","v":""}]
[null,null,null,null,null,null,null,null,null,null,null,null,null,null,null,null,null,null,null,null,null,null,null,null,null,null,null,null,null,null,null,null,null,null,null,null,null,null,null,null,null,null,null,{"$f":"IF(Indtastning!Y:Y=\"Ikke Aflagt\",1,\"\")","v":""},null,null,{"$f":"IF(Indtastning!U:U=\"Positiv\",1,\"\")","v":""},null,null,null,{"$f":"IF(Indtastning!Y:Y=\"Positiv\",1,\"\")","v":""},null,null,null,{"$f":"IF(Indtastning!AC:AC=\"Positiv\",1,\"\")","v":""}]
[null,null,null,null,null,null,null,null,null,null,null,null,null,null,null,null,null,null,null,null,null,null,null,null,null,null,null,null,null,null,null,null,null,null,null,null,null,null,null,null,null,null,null,{"$f":"IF(Indtastning!Y:Y=\"Ikke Aflagt\",1,\"\")","v":""},null,null,{"$f":"IF(Indtastning!U:U=\"Positiv\",1,\"\")","v":""},null,null,null,{"$f":"IF(Indtastning!Y:Y=\"Positiv\",1,\"\")","v":""},null,null,null,{"$f":"IF(Indtastning!AC:AC=\"Positiv\",1,\"\")","v":""}]
[null,null,null,null,null,null,null,null,null,null,null,null,null,null,null,null,null,null,null,null,null,null,null,null,null,null,null,null,null,null,null,null,null,null,null,null,null,null,null,null,null,null,null,{"$f":"IF(Indtastning!Y:Y=\"Ikke Aflagt\",1,\"\")","v":""},null,null,{"$f":"IF(Indtastning!U:U=\"Positiv\",1,\"\")","v":""},null,null,null,{"$f":"IF(Indtastning!Y:Y=\"Positiv\",1,\"\")","v":""},null,null,null,{"$f":"IF(Indtastning!AC:AC=\"Positiv\",1,\"\")","v":""}]
[null,null,null,null,null,null,null,null,null,null,null,null,null,null,null,null,null,null,null,null,null,null,null,null,null,null,null,null,null,null,null,null,null,null,null,null,null,null,null,null,null,null,null,{"$f":"IF(Indtastning!Y:Y=\"Ikke Aflagt\",1,\"\")","v":""},null,null,{"$f":"IF(Indtastning!U:U=\"Positiv\",1,\"\")","v":""},null,null,null,{"$f":"IF(Indtastning!Y:Y=\"Positiv\",1,\"\")","v":""},null,null,null,{"$f":"IF(Indtastning!AC:AC=\"Positiv\",1,\"\")","v":""}]
[null,null,null,null,null,null,null,null,null,null,null,null,null,null,null,null,null,null,null,null,null,null,null,null,null,null,null,null,null,null,null,null,null,null,null,null,null,null,null,null,null,null,null,{"$f":"IF(Indtastning!Y:Y=\"Ikke Aflagt\",1,\"\")","v":""},null,null,{"$f":"IF(Indtastning!U:U=\"Positiv\",1,\"\")","v":""},null,null,null,{"$f":"IF(Indtastning!Y:Y=\"Positiv\",1,\"\")","v":""},null,null,null,{"$f":"IF(Indtastning!AC:AC=\"Positiv\",1,\"\")","v":""}]
[null,null,null,null,null,null,null,null,null,null,null,null,null,null,null,null,null,null,null,null,null,null,null,null,null,null,null,null,null,null,null,null,null,null,null,null,null,null,null,null,null,null,null,{"$f":"IF(Indtastning!Y:Y=\"Ikke Aflagt\",1,\"\")","v":""},null,null,{"$f":"IF(Indtastning!U:U=\"Positiv\",1,\"\")","v":""},null,null,null,{"$f":"IF(Indtastning!Y:Y=\"Positiv\",1,\"\")","v":""},null,null,null,{"$f":"IF(Indtastning!AC:AC=\"Positiv\",1,\"\")","v":""}]
[null,null,null,null,null,null,null,null,null,null,null,null,null,null,null,null,null,null,null,null,null,null,null,null,null,null,null,null,null,null,null,null,null,null,null,null,null,null,null,null,null,null,null,{"$f":"IF(Indtastning!Y:Y=\"Ikke Aflagt\",1,\"\")","v":""},null,null,{"$f":"IF(Indtastning!U:U=\"Positiv\",1,\"\")","v":""},null,null,null,{"$f":"IF(Indtastning!Y:Y=\"Positiv\",1,\"\")","v":""},null,null,null,{"$f":"IF(Indtastning!AC:AC=\"Positiv\",1,\"\")","v":""}]
[null,null,null,null,null,null,null,null,null,null,null,null,null,null,null,null,null,null,null,null,null,null,null,null,null,null,null,null,null,null,null,null,null,null,null,null,null,null,null,null,null,null,null,{"$f":"IF(Indtastning!Y:Y=\"Ikke Aflagt\",1,\"\")","v":""},null,null,{"$f":"IF(Indtastning!U:U=\"Positiv\",1,\"\")","v":""},null,null,null,{"$f":"IF(Indtastning!Y:Y=\"Positiv\",1,\"\")","v":""},null,null,null,{"$f":"IF(Indtastning!AC:AC=\"Positiv\",1,\"\")","v":""}]
[null,null,null,null,null,null,null,null,null,null,null,null,null,null,null,null,null,null,null,null,null,null,null,null,null,null,null,null,null,null,null,null,null,null,null,null,null,null,null,null,null,null,null,{"$f":"IF(Indtastning!Y:Y=\"Ikke Aflagt\",1,\"\")","v":""},null,null,{"$f":"IF(Indtastning!U:U=\"Positiv\",1,\"\")","v":""},null,null,null,{"$f":"IF(Indtastning!Y:Y=\"Positiv\",1,\"\")","v":""},null,null,null,{"$f":"IF(Indtastning!AC:AC=\"Positiv\",1,\"\")","v":""}]
[null,null,null,null,null,null,null,null,null,null,null,null,null,null,null,null,null,null,null,null,null,null,null,null,null,null,null,null,null,null,null,null,null,null,null,null,null,null,null,null,null,null,null,{"$f":"IF(Indtastning!Y:Y=\"Ikke Aflagt\",1,\"\")","v":""},null,null,{"$f":"IF(Indtastning!U:U=\"Positiv\",1,\"\")","v":""},null,null,null,{"$f":"IF(Indtastning!Y:Y=\"Positiv\",1,\"\")","v":""},null,null,null,{"$f":"IF(Indtastning!AC:AC=\"Positiv\",1,\"\")","v":""}]
[null,null,null,null,null,null,null,null,null,null,null,null,null,null,null,null,null,null,null,null,null,null,null,null,null,null,null,null,null,null,null,null,null,null,null,null,null,null,null,null,null,null,null,{"$f":"IF(Indtastning!Y:Y=\"Ikke Aflagt\",1,\"\")","v":""},null,null,{"$f":"IF(Indtastning!U:U=\"Positiv\",1,\"\")","v":""},null,null,null,{"$f":"IF(Indtastning!Y:Y=\"Positiv\",1,\"\")","v":""},null,null,null,{"$f":"IF(Indtastning!AC:AC=\"Positiv\",1,\"\")","v":""}]
[null,null,null,null,null,null,null,null,null,null,null,null,null,null,null,null,null,null,null,null,null,null,null,null,null,null,null,null,null,null,null,null,null,null,null,null,null,null,null,null,null,null,null,{"$f":"IF(Indtastning!Y:Y=\"Ikke Aflagt\",1,\"\")","v":""},null,null,{"$f":"IF(Indtastning!U:U=\"Positiv\",1,\"\")","v":""},null,null,null,{"$f":"IF(Indtastning!Y:Y=\"Positiv\",1,\"\")","v":""},null,null,null,{"$f":"IF(Indtastning!AC:AC=\"Positiv\",1,\"\")","v":""}]
[null,null,null,null,null,null,null,null,null,null,null,null,null,null,null,null,null,null,null,null,null,null,null,null,null,null,null,null,null,null,null,null,null,null,null,null,null,null,null,null,null,null,null,{"$f":"IF(Indtastning!Y:Y=\"Ikke Aflagt\",1,\"\")","v":""},null,null,{"$f":"IF(Indtastning!U:U=\"Positiv\",1,\"\")","v":""},null,null,null,{"$f":"IF(Indtastning!Y:Y=\"Positiv\",1,\"\")","v":""},null,null,null,{"$f":"IF(Indtastning!AC:AC=\"Positiv\",1,\"\")","v":""}]
[null,null,null,null,null,null,null,null,null,null,null,null,null,null,null,null,null,null,null,null,null,null,null,null,null,null,null,null,null,null,null,null,null,null,null,null,null,null,null,null,null,null,null,{"$f":"IF(Indtastning!Y:Y=\"Ikke Aflagt\",1,\"\")","v":""},null,null,{"$f":"IF(Indtastning!U:U=\"Positiv\",1,\"\")","v":""},null,null,null,{"$f":"IF(Indtastning!Y:Y=\"Positiv\",1,\"\")","v":""},null,null,null,{"$f":"IF(Indtastning!AC:AC=\"Positiv\",1,\"\")","v":""}]
[null,null,null,null,null,null,null,null,null,null,null,null,null,null,null,null,null,null,null,null,null,null,null,null,null,null,null,null,null,null,null,null,null,null,null,null,null,null,null,null,null,null,null,{"$f":"IF(Indtastning!Y:Y=\"Ikke Aflagt\",1,\"\")","v":""},null,null,{"$f":"IF(Indtastning!U:U=\"Positiv\",1,\"\")","v":""},null,null,null,{"$f":"IF(Indtastning!Y:Y=\"Positiv\",1,\"\")","v":""},null,null,null,{"$f":"IF(Indtastning!AC:AC=\"Positiv\",1,\"\")","v":""}]
[null,null,null,null,null,null,null,null,null,null,null,null,null,null,null,null,null,null,null,null,null,null,null,null,null,null,null,null,null,null,null,null,null,null,null,null,null,null,null,null,null,null,null,{"$f":"IF(Indtastning!Y:Y=\"Ikke Aflagt\",1,\"\")","v":""},null,null,{"$f":"IF(Indtastning!U:U=\"Positiv\",1,\"\")","v":""},null,null,null,{"$f":"IF(Indtastning!Y:Y=\"Positiv\",1,\"\")","v":""},null,null,null,{"$f":"IF(Indtastning!AC:AC=\"Positiv\",1,\"\")","v":""}]
[null,null,null,null,null,null,null,null,null,null,null,null,null,null,null,null,null,null,null,null,null,null,null,null,null,null,null,null,null,null,null,null,null,null,null,null,null,null,null,null,null,null,null,{"$f":"IF(Indtastning!Y:Y=\"Ikke Aflagt\",1,\"\")","v":""},null,null,{"$f":"IF(Indtastning!U:U=\"Positiv\",1,\"\")","v":""},null,null,null,{"$f":"IF(Indtastning!Y:Y=\"Positiv\",1,\"\")","v":""},null,null,null,{"$f":"IF(Indtastning!AC:AC=\"Positiv\",1,\"\")","v":""}]
[null,null,null,null,null,null,null,null,null,null,null,null,null,null,null,null,null,null,null,null,null,null,null,null,null,null,null,null,null,null,null,null,null,null,null,null,null,null,null,null,null,null,null,{"$f":"IF(Indtastning!Y:Y=\"Ikke Aflagt\",1,\"\")","v":""},null,null,{"$f":"IF(Indtastning!U:U=\"Positiv\",1,\"\")","v":""},null,null,null,{"$f":"IF(Indtastning!Y:Y=\"Positiv\",1,\"\")","v":""},null,null,null,{"$f":"IF(Indtastning!AC:AC=\"Positiv\",1,\"\")","v":""}]
[null,null,null,null,null,null,null,null,null,null,null,null,null,null,null,null,null,null,null,null,null,null,null,null,null,null,null,null,null,null,null,null,null,null,null,null,null,null,null,null,null,null,null,{"$f":"IF(Indtastning!Y:Y=\"Ikke Aflagt\",1,\"\")","v":""},null,null,{"$f":"IF(Indtastning!U:U=\"Positiv\",1,\"\")","v":""},null,null,null,{"$f":"IF(Indtastning!Y:Y=\"Positiv\",1,\"\")","v":""},null,null,null,{"$f":"IF(Indtastning!AC:AC=\"Positiv\",1,\"\")","v":""}]
[null,null,null,null,null,null,null,null,null,null,null,null,null,null,null,null,null,null,null,null,null,null,null,null,null,null,null,null,null,null,null,null,null,null,null,null,null,null,null,null,null,null,null,{"$f":"IF(Indtastning!Y:Y=\"Ikke Aflagt\",1,\"\")","v":""},null,null,{"$f":"IF(Indtastning!U:U=\"Positiv\",1,\"\")","v":""},null,null,null,{"$f":"IF(Indtastning!Y:Y=\"Positiv\",1,\"\")","v":""},null,null,null,{"$f":"IF(Indtastning!AC:AC=\"Positiv\",1,\"\")","v":""}]
[null,null,null,null,null,null,null,null,null,null,null,null,null,null,null,null,null,null,null,null,null,null,null,null,null,null,null,null,null,null,null,null,null,null,null,null,null,null,null,null,null,null,null,{"$f":"IF(Indtastning!Y:Y=\"Ikke Aflagt\",1,\"\")","v":""},null,null,{"$f":"IF(Indtastning!U:U=\"Positiv\",1,\"\")","v":""},null,null,null,{"$f":"IF(Indtastning!Y:Y=\"Positiv\",1,\"\")","v":""},null,null,null,{"$f":"IF(Indtastning!AC:AC=\"Positiv\",1,\"\")","v":""}]
[null,null,null,null,null,null,null,null,null,null,null,null,null,null,null,null,null,null,null,null,null,null,null,null,null,null,null,null,null,null,null,null,null,null,null,null,null,null,null,null,null,null,null,{"$f":"IF(Indtastning!Y:Y=\"Ikke Aflagt\",1,\"\")","v":""},null,null,{"$f":"IF(Indtastning!U:U=\"Positiv\",1,\"\")","v":""},null,null,null,{"$f":"IF(Indtastning!Y:Y=\"Positiv\",1,\"\")","v":""},null,null,null,{"$f":"IF(Indtastning!AC:AC=\"Positiv\",1,\"\")","v":""}]
[null,null,null,null,null,null,null,null,null,null,null,null,null,null,null,null,null,null,null,null,null,null,null,null,null,null,null,null,null,null,null,null,null,null,null,null,null,null,null,null,null,null,null,{"$f":"IF(Indtastning!Y:Y=\"Ikke Aflagt\",1,\"\")","v":""},null,null,{"$f":"IF(Indtastning!U:U=\"Positiv\",1,\"\")","v":""},null,null,null,{"$f":"IF(Indtastning!Y:Y=\"Positiv\",1,\"\")","v":""},null,null,null,{"$f":"IF(Indtastning!AC:AC=\"Positiv\",1,\"\")","v":""}]
[null,null,null,null,null,null,null,null,null,null,null,null,null,null,null,null,null,null,null,null,null,null,null,null,null,null,null,null,null,null,null,null,null,null,null,null,null,null,null,null,null,null,null,{"$f":"IF(Indtastning!Y:Y=\"Ikke Aflagt\",1,\"\")","v":""},null,null,{"$f":"IF(Indtastning!U:U=\"Positiv\",1,\"\")","v":""},null,null,null,{"$f":"IF(Indtastning!Y:Y=\"Positiv\",1,\"\")","v":""},null,null,null,{"$f":"IF(Indtastning!AC:AC=\"Positiv\",1,\"\")","v":""}]
[null,null,null,null,null,null,null,null,null,null,null,null,null,null,null,null,null,null,null,null,null,null,null,null,null,null,null,null,null,null,null,null,null,null,null,null,null,null,null,null,null,null,null,{"$f":"IF(Indtastning!Y:Y=\"Ikke Aflagt\",1,\"\")","v":""},null,null,{"$f":"IF(Indtastning!U:U=\"Positiv\",1,\"\")","v":""},null,null,null,{"$f":"IF(Indtastning!Y:Y=\"Positiv\",1,\"\")","v":""},null,null,null,{"$f":"IF(Indtastning!AC:AC=\"Positiv\",1,\"\")","v":""}]
[null,null,null,null,null,null,null,null,null,null,null,null,null,null,null,null,null,null,null,null,null,null,null,null,null,null,null,null,null,null,null,null,null,null,null,null,null,null,null,null,null,null,null,{"$f":"IF(Indtastning!Y:Y=\"Ikke Aflagt\",1,\"\")","v":""},null,null,{"$f":"IF(Indtastning!U:U=\"Positiv\",1,\"\")","v":""},null,null,null,{"$f":"IF(Indtastning!Y:Y=\"Positiv\",1,\"\")","v":""},null,null,null,{"$f":"IF(Indtastning!AC:AC=\"Positiv\",1,\"\")","v":""}]
[null,null,null,null,null,null,null,null,null,null,null,null,null,null,null,null,null,null,null,null,null,null,null,null,null,null,null,null,null,null,null,null,null,null,null,null,null,null,null,null,null,null,null,{"$f":"IF(Indtastning!Y:Y=\"Ikke Aflagt\",1,\"\")","v":""},null,null,{"$f":"IF(Indtastning!U:U=\"Positiv\",1,\"\")","v":""},null,null,null,{"$f":"IF(Indtastning!Y:Y=\"Positiv\",1,\"\")","v":""},null,null,null,{"$f":"IF(Indtastning!AC:AC=\"Positiv\",1,\"\")","v":""}]
[null,null,null,null,null,null,null,null,null,null,null,null,null,null,null,null,null,null,null,null,null,null,null,null,null,null,null,null,null,null,null,null,null,null,null,null,null,null,null,null,null,null,null,{"$f":"IF(Indtastning!Y:Y=\"Ikke Aflagt\",1,\"\")","v":""},null,null,{"$f":"IF(Indtastning!U:U=\"Positiv\",1,\"\")","v":""},null,null,null,{"$f":"IF(Indtastning!Y:Y=\"Positiv\",1,\"\")","v":""},null,null,null,{"$f":"IF(Indtastning!AC:AC=\"Positiv\",1,\"\")","v":""}]
[null,null,null,null,null,null,null,null,null,null,null,null,null,null,null,null,null,null,null,null,null,null,null,null,null,null,null,null,null,null,null,null,null,null,null,null,null,null,null,null,null,null,null,{"$f":"IF(Indtastning!Y:Y=\"Ikke Aflagt\",1,\"\")","v":""},null,null,{"$f":"IF(Indtastning!U:U=\"Positiv\",1,\"\")","v":""},null,null,null,{"$f":"IF(Indtastning!Y:Y=\"Positiv\",1,\"\")","v":""},null,null,null,{"$f":"IF(Indtastning!AC:AC=\"Positiv\",1,\"\")","v":""}]
[null,null,null,null,null,null,null,null,null,null,null,null,null,null,null,null,null,null,null,null,null,null,null,null,null,null,null,null,null,null,null,null,null,null,null,null,null,null,null,null,null,null,null,{"$f":"IF(Indtastning!Y:Y=\"Ikke Aflagt\",1,\"\")","v":""},null,null,{"$f":"IF(Indtastning!U:U=\"Positiv\",1,\"\")","v":""},null,null,null,{"$f":"IF(Indtastning!Y:Y=\"Positiv\",1,\"\")","v":""},null,null,null,{"$f":"IF(Indtastning!AC:AC=\"Positiv\",1,\"\")","v":""}]
[null,null,null,null,null,null,null,null,null,null,null,null,null,null,null,null,null,null,null,null,null,null,null,null,null,null,null,null,null,null,null,null,null,null,null,null,null,null,null,null,null,null,null,{"$f":"IF(Indtastning!Y:Y=\"Ikke Aflagt\",1,\"\")","v":""},null,null,{"$f":"IF(Indtastning!U:U=\"Positiv\",1,\"\")","v":""},null,null,null,{"$f":"IF(Indtastning!Y:Y=\"Positiv\",1,\"\")","v":""},null,null,null,{"$f":"IF(Indtastning!AC:AC=\"Positiv\",1,\"\")","v":""}]
[null,null,null,null,null,null,null,null,null,null,null,null,null,null,null,null,null,null,null,null,null,null,null,null,null,null,null,null,null,null,null,null,null,null,null,null,null,null,null,null,null,null,null,{"$f":"IF(Indtastning!Y:Y=\"Ikke Aflagt\",1,\"\")","v":""},null,null,{"$f":"IF(Indtastning!U:U=\"Positiv\",1,\"\")","v":""},null,null,null,{"$f":"IF(Indtastning!Y:Y=\"Positiv\",1,\"\")","v":""},null,null,null,{"$f":"IF(Indtastning!AC:AC=\"Positiv\",1,\"\")","v":""}]
[null,null,null,null,null,null,null,null,null,null,null,null,null,null,null,null,null,null,null,null,null,null,null,null,null,null,null,null,null,null,null,null,null,null,null,null,null,null,null,null,null,null,null,{"$f":"IF(Indtastning!Y:Y=\"Ikke Aflagt\",1,\"\")","v":""},null,null,{"$f":"IF(Indtastning!U:U=\"Positiv\",1,\"\")","v":""},null,null,null,{"$f":"IF(Indtastning!Y:Y=\"Positiv\",1,\"\")","v":""},null,null,null,{"$f":"IF(Indtastning!AC:AC=\"Positiv\",1,\"\")","v":""}]
[null,null,null,null,null,null,null,null,null,null,null,null,null,null,null,null,null,null,null,null,null,null,null,null,null,null,null,null,null,null,null,null,null,null,null,null,null,null,null,null,null,null,null,{"$f":"IF(Indtastning!Y:Y=\"Ikke Aflagt\",1,\"\")","v":""},null,null,{"$f":"IF(Indtastning!U:U=\"Positiv\",1,\"\")","v":""},null,null,null,{"$f":"IF(Indtastning!Y:Y=\"Positiv\",1,\"\")","v":""},null,null,null,{"$f":"IF(Indtastning!AC:AC=\"Positiv\",1,\"\")","v":""}]
[null,null,null,null,null,null,null,null,null,null,null,null,null,null,null,null,null,null,null,null,null,null,null,null,null,null,null,null,null,null,null,null,null,null,null,null,null,null,null,null,null,null,null,{"$f":"IF(Indtastning!Y:Y=\"Ikke Aflagt\",1,\"\")","v":""},null,null,{"$f":"IF(Indtastning!U:U=\"Positiv\",1,\"\")","v":""},null,null,null,{"$f":"IF(Indtastning!Y:Y=\"Positiv\",1,\"\")","v":""},null,null,null,{"$f":"IF(Indtastning!AC:AC=\"Positiv\",1,\"\")","v":""}]
[null,null,null,null,null,null,null,null,null,null,null,null,null,null,null,null,null,null,null,null,null,null,null,null,null,null,null,null,null,null,null,null,null,null,null,null,null,null,null,null,null,null,null,{"$f":"IF(Indtastning!Y:Y=\"Ikke Aflagt\",1,\"\")","v":""},null,null,{"$f":"IF(Indtastning!U:U=\"Positiv\",1,\"\")","v":""},null,null,null,{"$f":"IF(Indtastning!Y:Y=\"Positiv\",1,\"\")","v":""},null,null,null,{"$f":"IF(Indtastning!AC:AC=\"Positiv\",1,\"\")","v":""}]
[null,null,null,null,null,null,null,null,null,null,null,null,null,null,null,null,null,null,null,null,null,null,null,null,null,null,null,null,null,null,null,null,null,null,null,null,null,null,null,null,null,null,null,{"$f":"IF(Indtastning!Y:Y=\"Ikke Aflagt\",1,\"\")","v":""},null,null,{"$f":"IF(Indtastning!U:U=\"Positiv\",1,\"\")","v":""},null,null,null,{"$f":"IF(Indtastning!Y:Y=\"Positiv\",1,\"\")","v":""},null,null,null,{"$f":"IF(Indtastning!AC:AC=\"Positiv\",1,\"\")","v":""}]
[null,null,null,null,null,null,null,null,null,null,null,null,null,null,null,null,null,null,null,null,null,null,null,null,null,null,null,null,null,null,null,null,null,null,null,null,null,null,null,null,null,null,null,{"$f":"IF(Indtastning!Y:Y=\"Ikke Aflagt\",1,\"\")","v":""},null,null,{"$f":"IF(Indtastning!U:U=\"Positiv\",1,\"\")","v":""},null,null,null,{"$f":"IF(Indtastning!Y:Y=\"Positiv\",1,\"\")","v":""},null,null,null,{"$f":"IF(Indtastning!AC:AC=\"Positiv\",1,\"\")","v":""}]
[null,null,null,null,null,null,null,null,null,null,null,null,null,null,null,null,null,null,null,null,null,null,null,null,null,null,null,null,null,null,null,null,null,null,null,null,null,null,null,null,null,null,null,{"$f":"IF(Indtastning!Y:Y=\"Ikke Aflagt\",1,\"\")","v":""},null,null,{"$f":"IF(Indtastning!U:U=\"Positiv\",1,\"\")","v":""},null,null,null,{"$f":"IF(Indtastning!Y:Y=\"Positiv\",1,\"\")","v":""},null,null,null,{"$f":"IF(Indtastning!AC:AC=\"Positiv\",1,\"\")","v":""}]
[null,null,null,null,null,null,null,null,null,null,null,null,null,null,null,null,null,null,null,null,null,null,null,null,null,null,null,null,null,null,null,null,null,null,null,null,null,null,null,null,null,null,null,{"$f":"IF(Indtastning!Y:Y=\"Ikke Aflagt\",1,\"\")","v":""},null,null,{"$f":"IF(Indtastning!U:U=\"Positiv\",1,\"\")","v":""},null,null,null,{"$f":"IF(Indtastning!Y:Y=\"Positiv\",1,\"\")","v":""},null,null,null,{"$f":"IF(Indtastning!AC:AC=\"Positiv\",1,\"\")","v":""}]
[null,null,null,null,null,null,null,null,null,null,null,null,null,null,null,null,null,null,null,null,null,null,null,null,null,null,null,null,null,null,null,null,null,null,null,null,null,null,null,null,null,null,null,{"$f":"IF(Indtastning!Y:Y=\"Ikke Aflagt\",1,\"\")","v":""},null,null,{"$f":"IF(Indtastning!U:U=\"Positiv\",1,\"\")","v":""},null,null,null,{"$f":"IF(Indtastning!Y:Y=\"Positiv\",1,\"\")","v":""},null,null,null,{"$f":"IF(Indtastning!AC:AC=\"Positiv\",1,\"\")","v":""}]
[null,null,null,null,null,null,null,null,null,null,null,null,null,null,null,null,null,null,null,null,null,null,null,null,null,null,null,null,null,null,null,null,null,null,null,null,null,null,null,null,null,null,null,{"$f":"IF(Indtastning!Y:Y=\"Ikke Aflagt\",1,\"\")","v":""},null,null,{"$f":"IF(Indtastning!U:U=\"Positiv\",1,\"\")","v":""},null,null,null,{"$f":"IF(Indtastning!Y:Y=\"Positiv\",1,\"\")","v":""},null,null,null,{"$f":"IF(Indtastning!AC:AC=\"Positiv\",1,\"\")","v":""}]
[null,null,null,null,null,null,null,null,null,null,null,null,null,null,null,null,null,null,null,null,null,null,null,null,null,null,null,null,null,null,null,null,null,null,null,null,null,null,null,null,null,null,null,{"$f":"IF(Indtastning!Y:Y=\"Ikke Aflagt\",1,\"\")","v":""},null,null,{"$f":"IF(Indtastning!U:U=\"Positiv\",1,\"\")","v":""},null,null,null,{"$f":"IF(Indtastning!Y:Y=\"Positiv\",1,\"\")","v":""},null,null,null,{"$f":"IF(Indtastning!AC:AC=\"Positiv\",1,\"\")","v":""}]
[null,null,null,null,null,null,null,null,null,null,null,null,null,null,null,null,null,null,null,null,null,null,null,null,null,null,null,null,null,null,null,null,null,null,null,null,null,null,null,null,null,null,null,{"$f":"IF(Indtastning!Y:Y=\"Ikke Aflagt\",1,\"\")","v":""},null,null,{"$f":"IF(Indtastning!U:U=\"Positiv\",1,\"\")","v":""},null,null,null,{"$f":"IF(Indtastning!Y:Y=\"Positiv\",1,\"\")","v":""},null,null,null,{"$f":"IF(Indtastning!AC:AC=\"Positiv\",1,\"\")","v":""}]
[null,null,null,null,null,null,null,null,null,null,null,null,null,null,null,null,null,null,null,null,null,null,null,null,null,null,null,null,null,null,null,null,null,null,null,null,null,null,null,null,null,null,null,{"$f":"IF(Indtastning!Y:Y=\"Ikke Aflagt\",1,\"\")","v":""},null,null,{"$f":"IF(Indtastning!U:U=\"Positiv\",1,\"\")","v":""},null,null,null,{"$f":"IF(Indtastning!Y:Y=\"Positiv\",1,\"\")","v":""},null,null,null,{"$f":"IF(Indtastning!AC:AC=\"Positiv\",1,\"\")","v":""}]
[null,null,null,null,null,null,null,null,null,null,null,null,null,null,null,null,null,null,null,null,null,null,null,null,null,null,null,null,null,null,null,null,null,null,null,null,null,null,null,null,null,null,null,{"$f":"IF(Indtastning!Y:Y=\"Ikke Aflagt\",1,\"\")","v":""},null,null,{"$f":"IF(Indtastning!U:U=\"Positiv\",1,\"\")","v":""},null,null,null,{"$f":"IF(Indtastning!Y:Y=\"Positiv\",1,\"\")","v":""},null,null,null,{"$f":"IF(Indtastning!AC:AC=\"Positiv\",1,\"\")","v":""}]
[null,null,null,null,null,null,null,null,null,null,null,null,null,null,null,null,null,null,null,null,null,null,null,null,null,null,null,null,null,null,null,null,null,null,null,null,null,null,null,null,null,null,null,{"$f":"IF(Indtastning!Y:Y=\"Ikke Aflagt\",1,\"\")","v":""},null,null,{"$f":"IF(Indtastning!U:U=\"Positiv\",1,\"\")","v":""},null,null,null,{"$f":"IF(Indtastning!Y:Y=\"Positiv\",1,\"\")","v":""},null,null,null,{"$f":"IF(Indtastning!AC:AC=\"Positiv\",1,\"\")","v":""}]
[null,null,null,null,null,null,null,null,null,null,null,null,null,null,null,null,null,null,null,null,null,null,null,null,null,null,null,null,null,null,null,null,null,null,null,null,null,null,null,null,null,null,null,{"$f":"IF(Indtastning!Y:Y=\"Ikke Aflagt\",1,\"\")","v":""},null,null,{"$f":"IF(Indtastning!U:U=\"Positiv\",1,\"\")","v":""},null,null,null,{"$f":"IF(Indtastning!Y:Y=\"Positiv\",1,\"\")","v":""},null,null,null,{"$f":"IF(Indtastning!AC:AC=\"Positiv\",1,\"\")","v":""}]
[null,null,null,null,null,null,null,null,null,null,null,null,null,null,null,null,null,null,null,null,null,null,null,null,null,null,null,null,null,null,null,null,null,null,null,null,null,null,null,null,null,null,null,{"$f":"IF(Indtastning!Y:Y=\"Ikke Aflagt\",1,\"\")","v":""},null,null,{"$f":"IF(Indtastning!U:U=\"Positiv\",1,\"\")","v":""},null,null,null,{"$f":"IF(Indtastning!Y:Y=\"Positiv\",1,\"\")","v":""},null,null,null,{"$f":"IF(Indtastning!AC:AC=\"Positiv\",1,\"\")","v":""}]
[null,null,null,null,null,null,null,null,null,null,null,null,null,null,null,null,null,null,null,null,null,null,null,null,null,null,null,null,null,null,null,null,null,null,null,null,null,null,null,null,null,null,null,{"$f":"IF(Indtastning!Y:Y=\"Ikke Aflagt\",1,\"\")","v":""},null,null,{"$f":"IF(Indtastning!U:U=\"Positiv\",1,\"\")","v":""},null,null,null,{"$f":"IF(Indtastning!Y:Y=\"Positiv\",1,\"\")","v":""},null,null,null,{"$f":"IF(Indtastning!AC:AC=\"Positiv\",1,\"\")","v":""}]
[null,null,null,null,null,null,null,null,null,null,null,null,null,null,null,null,null,null,null,null,null,null,null,null,null,null,null,null,null,null,null,null,null,null,null,null,null,null,null,null,null,null,null,{"$f":"IF(Indtastning!Y:Y=\"Ikke Aflagt\",1,\"\")","v":""},null,null,{"$f":"IF(Indtastning!U:U=\"Positiv\",1,\"\")","v":""},null,null,null,{"$f":"IF(Indtastning!Y:Y=\"Positiv\",1,\"\")","v":""},null,null,null,{"$f":"IF(Indtastning!AC:AC=\"Positiv\",1,\"\")","v":""}]
[null,null,null,null,null,null,null,null,null,null,null,null,null,null,null,null,null,null,null,null,null,null,null,null,null,null,null,null,null,null,null,null,null,null,null,null,null,null,null,null,null,null,null,{"$f":"IF(Indtastning!Y:Y=\"Ikke Aflagt\",1,\"\")","v":""},null,null,{"$f":"IF(Indtastning!U:U=\"Positiv\",1,\"\")","v":""},null,null,null,{"$f":"IF(Indtastning!Y:Y=\"Positiv\",1,\"\")","v":""},null,null,null,{"$f":"IF(Indtastning!AC:AC=\"Positiv\",1,\"\")","v":""}]
[null,null,null,null,null,null,null,null,null,null,null,null,null,null,null,null,null,null,null,null,null,null,null,null,null,null,null,null,null,null,null,null,null,null,null,null,null,null,null,null,null,null,null,{"$f":"IF(Indtastning!Y:Y=\"Ikke Aflagt\",1,\"\")","v":""},null,null,{"$f":"IF(Indtastning!U:U=\"Positiv\",1,\"\")","v":""},null,null,null,{"$f":"IF(Indtastning!Y:Y=\"Positiv\",1,\"\")","v":""},null,null,null,{"$f":"IF(Indtastning!AC:AC=\"Positiv\",1,\"\")","v":""}]
[null,null,null,null,null,null,null,null,null,null,null,null,null,null,null,null,null,null,null,null,null,null,null,null,null,null,null,null,null,null,null,null,null,null,null,null,null,null,null,null,null,null,null,{"$f":"IF(Indtastning!Y:Y=\"Ikke Aflagt\",1,\"\")","v":""},null,null,{"$f":"IF(Indtastning!U:U=\"Positiv\",1,\"\")","v":""},null,null,null,{"$f":"IF(Indtastning!Y:Y=\"Positiv\",1,\"\")","v":""},null,null,null,{"$f":"IF(Indtastning!AC:AC=\"Positiv\",1,\"\")","v":""}]
[null,null,null,null,null,null,null,null,null,null,null,null,null,null,null,null,null,null,null,null,null,null,null,null,null,null,null,null,null,null,null,null,null,null,null,null,null,null,null,null,null,null,null,{"$f":"IF(Indtastning!Y:Y=\"Ikke Aflagt\",1,\"\")","v":""},null,null,{"$f":"IF(Indtastning!U:U=\"Positiv\",1,\"\")","v":""},null,null,null,{"$f":"IF(Indtastning!Y:Y=\"Positiv\",1,\"\")","v":""},null,null,null,{"$f":"IF(Indtastning!AC:AC=\"Positiv\",1,\"\")","v":""}]
[null,null,null,null,null,null,null,null,null,null,null,null,null,null,null,null,null,null,null,null,null,null,null,null,null,null,null,null,null,null,null,null,null,null,null,null,null,null,null,null,null,null,null,{"$f":"IF(Indtastning!Y:Y=\"Ikke Aflagt\",1,\"\")","v":""},null,null,{"$f":"IF(Indtastning!U:U=\"Positiv\",1,\"\")","v":""},null,null,null,{"$f":"IF(Indtastning!Y:Y=\"Positiv\",1,\"\")","v":""},null,null,null,{"$f":"IF(Indtastning!AC:AC=\"Positiv\",1,\"\")","v":""}]
[null,null,null,null,null,null,null,null,null,null,null,null,null,null,null,null,null,null,null,null,null,null,null,null,null,null,null,null,null,null,null,null,null,null,null,null,null,null,null,null,null,null,null,{"$f":"IF(Indtastning!Y:Y=\"Ikke Aflagt\",1,\"\")","v":""},null,null,{"$f":"IF(Indtastning!U:U=\"Positiv\",1,\"\")","v":""},null,null,null,{"$f":"IF(Indtastning!Y:Y=\"Positiv\",1,\"\")","v":""},null,null,null,{"$f":"IF(Indtastning!AC:AC=\"Positiv\",1,\"\")","v":""}]
[null,null,null,null,null,null,null,null,null,null,null,null,null,null,null,null,null,null,null,null,null,null,null,null,null,null,null,null,null,null,null,null,null,null,null,null,null,null,null,null,null,null,null,{"$f":"IF(Indtastning!Y:Y=\"Ikke Aflagt\",1,\"\")","v":""},null,null,{"$f":"IF(Indtastning!U:U=\"Positiv\",1,\"\")","v":""},null,null,null,{"$f":"IF(Indtastning!Y:Y=\"Positiv\",1,\"\")","v":""},null,null,null,{"$f":"IF(Indtastning!AC:AC=\"Positiv\",1,\"\")","v":""}]
[null,null,null,null,null,null,null,null,null,null,null,null,null,null,null,null,null,null,null,null,null,null,null,null,null,null,null,null,null,null,null,null,null,null,null,null,null,null,null,null,null,null,null,{"$f":"IF(Indtastning!Y:Y=\"Ikke Aflagt\",1,\"\")","v":""},null,null,{"$f":"IF(Indtastning!U:U=\"Positiv\",1,\"\")","v":""},null,null,null,{"$f":"IF(Indtastning!Y:Y=\"Positiv\",1,\"\")","v":""},null,null,null,{"$f":"IF(Indtastning!AC:AC=\"Positiv\",1,\"\")","v":""}]
[null,null,null,null,null,null,null,null,null,null,null,null,null,null,null,null,null,null,null,null,null,null,null,null,null,null,null,null,null,null,null,null,null,null,null,null,null,null,null,null,null,null,null,{"$f":"IF(Indtastning!Y:Y=\"Ikke Aflagt\",1,\"\")","v":""},null,null,{"$f":"IF(Indtastning!U:U=\"Positiv\",1,\"\")","v":""},null,null,null,{"$f":"IF(Indtastning!Y:Y=\"Positiv\",1,\"\")","v":""},null,null,null,{"$f":"IF(Indtastning!AC:AC=\"Positiv\",1,\"\")","v":""}]
[null,null,null,null,null,null,null,null,null,null,null,null,null,null,null,null,null,null,null,null,null,null,null,null,null,null,null,null,null,null,null,null,null,null,null,null,null,null,null,null,null,null,null,{"$f":"IF(Indtastning!Y:Y=\"Ikke Aflagt\",1,\"\")","v":""},null,null,{"$f":"IF(Indtastning!U:U=\"Positiv\",1,\"\")","v":""},null,null,null,{"$f":"IF(Indtastning!Y:Y=\"Positiv\",1,\"\")","v":""},null,null,null,{"$f":"IF(Indtastning!AC:AC=\"Positiv\",1,\"\")","v":""}]
[null,null,null,null,null,null,null,null,null,null,null,null,null,null,null,null,null,null,null,null,null,null,null,null,null,null,null,null,null,null,null,null,null,null,null,null,null,null,null,null,null,null,null,{"$f":"IF(Indtastning!Y:Y=\"Ikke Aflagt\",1,\"\")","v":""},null,null,{"$f":"IF(Indtastning!U:U=\"Positiv\",1,\"\")","v":""},null,null,null,{"$f":"IF(Indtastning!Y:Y=\"Positiv\",1,\"\")","v":""},null,null,null,{"$f":"IF(Indtastning!AC:AC=\"Positiv\",1,\"\")","v":""}]
[null,null,null,null,null,null,null,null,null,null,null,null,null,null,null,null,null,null,null,null,null,null,null,null,null,null,null,null,null,null,null,null,null,null,null,null,null,null,null,null,null,null,null,{"$f":"IF(Indtastning!Y:Y=\"Ikke Aflagt\",1,\"\")","v":""},null,null,{"$f":"IF(Indtastning!U:U=\"Positiv\",1,\"\")","v":""},null,null,null,{"$f":"IF(Indtastning!Y:Y=\"Positiv\",1,\"\")","v":""},null,null,null,{"$f":"IF(Indtastning!AC:AC=\"Positiv\",1,\"\")","v":""}]
[null,null,null,null,null,null,null,null,null,null,null,null,null,null,null,null,null,null,null,null,null,null,null,null,null,null,null,null,null,null,null,null,null,null,null,null,null,null,null,null,null,null,null,{"$f":"IF(Indtastning!Y:Y=\"Ikke Aflagt\",1,\"\")","v":""},null,null,{"$f":"IF(Indtastning!U:U=\"Positiv\",1,\"\")","v":""},null,null,null,{"$f":"IF(Indtastning!Y:Y=\"Positiv\",1,\"\")","v":""},null,null,null,{"$f":"IF(Indtastning!AC:AC=\"Positiv\",1,\"\")","v":""}]
[null,null,null,null,null,null,null,null,null,null,null,null,null,null,null,null,null,null,null,null,null,null,null,null,null,null,null,null,null,null,null,null,null,null,null,null,null,null,null,null,null,null,null,{"$f":"IF(Indtastning!Y:Y=\"Ikke Aflagt\",1,\"\")","v":""},null,null,{"$f":"IF(Indtastning!U:U=\"Positiv\",1,\"\")","v":""},null,null,null,{"$f":"IF(Indtastning!Y:Y=\"Positiv\",1,\"\")","v":""},null,null,null,{"$f":"IF(Indtastning!AC:AC=\"Positiv\",1,\"\")","v":""}]
[null,null,null,null,null,null,null,null,null,null,null,null,null,null,null,null,null,null,null,null,null,null,null,null,null,null,null,null,null,null,null,null,null,null,null,null,null,null,null,null,null,null,null,{"$f":"IF(Indtastning!Y:Y=\"Ikke Aflagt\",1,\"\")","v":""},null,null,{"$f":"IF(Indtastning!U:U=\"Positiv\",1,\"\")","v":""},null,null,null,{"$f":"IF(Indtastning!Y:Y=\"Positiv\",1,\"\")","v":""},null,null,null,{"$f":"IF(Indtastning!AC:AC=\"Positiv\",1,\"\")","v":""}]
[null,null,null,null,null,null,null,null,null,null,null,null,null,null,null,null,null,null,null,null,null,null,null,null,null,null,null,null,null,null,null,null,null,null,null,null,null,null,null,null,null,null,null,{"$f":"IF(Indtastning!Y:Y=\"Ikke Aflagt\",1,\"\")","v":""},null,null,{"$f":"IF(Indtastning!U:U=\"Positiv\",1,\"\")","v":""},null,null,null,{"$f":"IF(Indtastning!Y:Y=\"Positiv\",1,\"\")","v":""},null,null,null,{"$f":"IF(Indtastning!AC:AC=\"Positiv\",1,\"\")","v":""}]
[null,null,null,null,null,null,null,null,null,null,null,null,null,null,null,null,null,null,null,null,null,null,null,null,null,null,null,null,null,null,null,null,null,null,null,null,null,null,null,null,null,null,null,{"$f":"IF(Indtastning!Y:Y=\"Ikke Aflagt\",1,\"\")","v":""},null,null,{"$f":"IF(Indtastning!U:U=\"Positiv\",1,\"\")","v":""},null,null,null,{"$f":"IF(Indtastning!Y:Y=\"Positiv\",1,\"\")","v":""},null,null,null,{"$f":"IF(Indtastning!AC:AC=\"Positiv\",1,\"\")","v":""}]
[null,null,null,null,null,null,null,null,null,null,null,null,null,null,null,null,null,null,null,null,null,null,null,null,null,null,null,null,null,null,null,null,null,null,null,null,null,null,null,null,null,null,null,{"$f":"IF(Indtastning!Y:Y=\"Ikke Aflagt\",1,\"\")","v":""},null,null,{"$f":"IF(Indtastning!U:U=\"Positiv\",1,\"\")","v":""},null,null,null,{"$f":"IF(Indtastning!Y:Y=\"Positiv\",1,\"\")","v":""},null,null,null,{"$f":"IF(Indtastning!AC:AC=\"Positiv\",1,\"\")","v":""}]
[null,null,null,null,null,null,null,null,null,null,null,null,null,null,null,null,null,null,null,null,null,null,null,null,null,null,null,null,null,null,null,null,null,null,null,null,null,null,null,null,null,null,null,{"$f":"IF(Indtastning!Y:Y=\"Ikke Aflagt\",1,\"\")","v":""},null,null,{"$f":"IF(Indtastning!U:U=\"Positiv\",1,\"\")","v":""},null,null,null,{"$f":"IF(Indtastning!Y:Y=\"Positiv\",1,\"\")","v":""},null,null,null,{"$f":"IF(Indtastning!AC:AC=\"Positiv\",1,\"\")","v":""}]
[null,null,null,null,null,null,null,null,null,null,null,null,null,null,null,null,null,null,null,null,null,null,null,null,null,null,null,null,null,null,null,null,null,null,null,null,null,null,null,null,null,null,null,{"$f":"IF(Indtastning!Y:Y=\"Ikke Aflagt\",1,\"\")","v":""},null,null,{"$f":"IF(Indtastning!U:U=\"Positiv\",1,\"\")","v":""},null,null,null,{"$f":"IF(Indtastning!Y:Y=\"Positiv\",1,\"\")","v":""},null,null,null,{"$f":"IF(Indtastning!AC:AC=\"Positiv\",1,\"\")","v":""}]
[null,null,null,null,null,null,null,null,null,null,null,null,null,null,null,null,null,null,null,null,null,null,null,null,null,null,null,null,null,null,null,null,null,null,null,null,null,null,null,null,null,null,null,{"$f":"IF(Indtastning!Y:Y=\"Ikke Aflagt\",1,\"\")","v":""},null,null,{"$f":"IF(Indtastning!U:U=\"Positiv\",1,\"\")","v":""},null,null,null,{"$f":"IF(Indtastning!Y:Y=\"Positiv\",1,\"\")","v":""},null,null,null,{"$f":"IF(Indtastning!AC:AC=\"Positiv\",1,\"\")","v":""}]
[null,null,null,null,null,null,null,null,null,null,null,null,null,null,null,null,null,null,null,null,null,null,null,null,null,null,null,null,null,null,null,null,null,null,null,null,null,null,null,null,null,null,null,{"$f":"IF(Indtastning!Y:Y=\"Ikke Aflagt\",1,\"\")","v":""},null,null,{"$f":"IF(Indtastning!U:U=\"Positiv\",1,\"\")","v":""},null,null,null,{"$f":"IF(Indtastning!Y:Y=\"Positiv\",1,\"\")","v":""},null,null,null,{"$f":"IF(Indtastning!AC:AC=\"Positiv\",1,\"\")","v":""}]
[null,null,null,null,null,null,null,null,null,null,null,null,null,null,null,null,null,null,null,null,null,null,null,null,null,null,null,null,null,null,null,null,null,null,null,null,null,null,null,null,null,null,null,{"$f":"IF(Indtastning!Y:Y=\"Ikke Aflagt\",1,\"\")","v":""},null,null,{"$f":"IF(Indtastning!U:U=\"Positiv\",1,\"\")","v":""},null,null,null,{"$f":"IF(Indtastning!Y:Y=\"Positiv\",1,\"\")","v":""},null,null,null,{"$f":"IF(Indtastning!AC:AC=\"Positiv\",1,\"\")","v":""}]
[null,null,null,null,null,null,null,null,null,null,null,null,null,null,null,null,null,null,null,null,null,null,null,null,null,null,null,null,null,null,null,null,null,null,null,null,null,null,null,null,null,null,null,{"$f":"IF(Indtastning!Y:Y=\"Ikke Aflagt\",1,\"\")","v":""},null,null,{"$f":"IF(Indtastning!U:U=\"Positiv\",1,\"\")","v":""},null,null,null,{"$f":"IF(Indtastning!Y:Y=\"Positiv\",1,\"\")","v":""},null,null,null,{"$f":"IF(Indtastning!AC:AC=\"Positiv\",1,\"\")","v":""}]
[null,null,null,null,null,null,null,null,null,null,null,null,null,null,null,null,null,null,null,null,null,null,null,null,null,null,null,null,null,null,null,null,null,null,null,null,null,null,null,null,null,null,null,{"$f":"IF(Indtastning!Y:Y=\"Ikke Aflagt\",1,\"\")","v":""},null,null,{"$f":"IF(Indtastning!U:U=\"Positiv\",1,\"\")","v":""},null,null,null,{"$f":"IF(Indtastning!Y:Y=\"Positiv\",1,\"\")","v":""},null,null,null,{"$f":"IF(Indtastning!AC:AC=\"Positiv\",1,\"\")","v":""}]
[null,null,null,null,null,null,null,null,null,null,null,null,null,null,null,null,null,null,null,null,null,null,null,null,null,null,null,null,null,null,null,null,null,null,null,null,null,null,null,null,null,null,null,{"$f":"IF(Indtastning!Y:Y=\"Ikke Aflagt\",1,\"\")","v":""},null,null,{"$f":"IF(Indtastning!U:U=\"Positiv\",1,\"\")","v":""},null,null,null,{"$f":"IF(Indtastning!Y:Y=\"Positiv\",1,\"\")","v":""},null,null,null,{"$f":"IF(Indtastning!AC:AC=\"Positiv\",1,\"\")","v":""}]
[null,null,null,null,null,null,null,null,null,null,null,null,null,null,null,null,null,null,null,null,null,null,null,null,null,null,null,null,null,null,null,null,null,null,null,null,null,null,null,null,null,null,null,{"$f":"IF(Indtastning!Y:Y=\"Ikke Aflagt\",1,\"\")","v":""},null,null,{"$f":"IF(Indtastning!U:U=\"Positiv\",1,\"\")","v":""},null,null,null,{"$f":"IF(Indtastning!Y:Y=\"Positiv\",1,\"\")","v":""},null,null,null,{"$f":"IF(Indtastning!AC:AC=\"Positiv\",1,\"\")","v":""}]
[null,null,null,null,null,null,null,null,null,null,null,null,null,null,null,null,null,null,null,null,null,null,null,null,null,null,null,null,null,null,null,null,null,null,null,null,null,null,null,null,null,null,null,{"$f":"IF(Indtastning!Y:Y=\"Ikke Aflagt\",1,\"\")","v":""},null,null,{"$f":"IF(Indtastning!U:U=\"Positiv\",1,\"\")","v":""},null,null,null,{"$f":"IF(Indtastning!Y:Y=\"Positiv\",1,\"\")","v":""},null,null,null,{"$f":"IF(Indtastning!AC:AC=\"Positiv\",1,\"\")","v":""}]
[null,null,null,null,null,null,null,null,null,null,null,null,null,null,null,null,null,null,null,null,null,null,null,null,null,null,null,null,null,null,null,null,null,null,null,null,null,null,null,null,null,null,null,{"$f":"IF(Indtastning!Y:Y=\"Ikke Aflagt\",1,\"\")","v":""},null,null,{"$f":"IF(Indtastning!U:U=\"Positiv\",1,\"\")","v":""},null,null,null,{"$f":"IF(Indtastning!Y:Y=\"Positiv\",1,\"\")","v":""},null,null,null,{"$f":"IF(Indtastning!AC:AC=\"Positiv\",1,\"\")","v":""}]
[null,null,null,null,null,null,null,null,null,null,null,null,null,null,null,null,null,null,null,null,null,null,null,null,null,null,null,null,null,null,null,null,null,null,null,null,null,null,null,null,null,null,null,{"$f":"IF(Indtastning!Y:Y=\"Ikke Aflagt\",1,\"\")","v":""},null,null,{"$f":"IF(Indtastning!U:U=\"Positiv\",1,\"\")","v":""},null,null,null,{"$f":"IF(Indtastning!Y:Y=\"Positiv\",1,\"\")","v":""},null,null,null,{"$f":"IF(Indtastning!AC:AC=\"Positiv\",1,\"\")","v":""}]
[null,null,null,null,null,null,null,null,null,null,null,null,null,null,null,null,null,null,null,null,null,null,null,null,null,null,null,null,null,null,null,null,null,null,null,null,null,null,null,null,null,null,null,{"$f":"IF(Indtastning!Y:Y=\"Ikke Aflagt\",1,\"\")","v":""},null,null,{"$f":"IF(Indtastning!U:U=\"Positiv\",1,\"\")","v":""},null,null,null,{"$f":"IF(Indtastning!Y:Y=\"Positiv\",1,\"\")","v":""},null,null,null,{"$f":"IF(Indtastning!AC:AC=\"Positiv\",1,\"\")","v":""}]
[null,null,null,null,null,null,null,null,null,null,null,null,null,null,null,null,null,null,null,null,null,null,null,null,null,null,null,null,null,null,null,null,null,null,null,null,null,null,null,null,null,null,null,{"$f":"IF(Indtastning!Y:Y=\"Ikke Aflagt\",1,\"\")","v":""},null,null,{"$f":"IF(Indtastning!U:U=\"Positiv\",1,\"\")","v":""},null,null,null,{"$f":"IF(Indtastning!Y:Y=\"Positiv\",1,\"\")","v":""},null,null,null,{"$f":"IF(Indtastning!AC:AC=\"Positiv\",1,\"\")","v":""}]
[null,null,null,null,null,null,null,null,null,null,null,null,null,null,null,null,null,null,null,null,null,null,null,null,null,null,null,null,null,null,null,null,null,null,null,null,null,null,null,null,null,null,null,{"$f":"IF(Indtastning!Y:Y=\"Ikke Aflagt\",1,\"\")","v":""},null,null,{"$f":"IF(Indtastning!U:U=\"Positiv\",1,\"\")","v":""},null,null,null,{"$f":"IF(Indtastning!Y:Y=\"Positiv\",1,\"\")","v":""},null,null,null,{"$f":"IF(Indtastning!AC:AC=\"Positiv\",1,\"\")","v":""}]
[null,null,null,null,null,null,null,null,null,null,null,null,null,null,null,null,null,null,null,null,null,null,null,null,null,null,null,null,null,null,null,null,null,null,null,null,null,null,null,null,null,null,null,{"$f":"IF(Indtastning!Y:Y=\"Ikke Aflagt\",1,\"\")","v":""},null,null,{"$f":"IF(Indtastning!U:U=\"Positiv\",1,\"\")","v":""},null,null,null,{"$f":"IF(Indtastning!Y:Y=\"Positiv\",1,\"\")","v":""},null,null,null,{"$f":"IF(Indtastning!AC:AC=\"Positiv\",1,\"\")","v":""}]
[null,null,null,null,null,null,null,null,null,null,null,null,null,null,null,null,null,null,null,null,null,null,null,null,null,null,null,null,null,null,null,null,null,null,null,null,null,null,null,null,null,null,null,{"$f":"IF(Indtastning!Y:Y=\"Ikke Aflagt\",1,\"\")","v":""},null,null,{"$f":"IF(Indtastning!U:U=\"Positiv\",1,\"\")","v":""},null,null,null,{"$f":"IF(Indtastning!Y:Y=\"Positiv\",1,\"\")","v":""},null,null,null,{"$f":"IF(Indtastning!AC:AC=\"Positiv\",1,\"\")","v":""}]
[null,null,null,null,null,null,null,null,null,null,null,null,null,null,null,null,null,null,null,null,null,null,null,null,null,null,null,null,null,null,null,null,null,null,null,null,null,null,null,null,null,null,null,{"$f":"IF(Indtastning!Y:Y=\"Ikke Aflagt\",1,\"\")","v":""},null,null,{"$f":"IF(Indtastning!U:U=\"Positiv\",1,\"\")","v":""},null,null,null,{"$f":"IF(Indtastning!Y:Y=\"Positiv\",1,\"\")","v":""},null,null,null,{"$f":"IF(Indtastning!AC:AC=\"Positiv\",1,\"\")","v":""}]
[null,null,null,null,null,null,null,null,null,null,null,null,null,null,null,null,null,null,null,null,null,null,null,null,null,null,null,null,null,null,null,null,null,null,null,null,null,null,null,null,null,null,null,{"$f":"IF(Indtastning!Y:Y=\"Ikke Aflagt\",1,\"\")","v":""},null,null,{"$f":"IF(Indtastning!U:U=\"Positiv\",1,\"\")","v":""},null,null,null,{"$f":"IF(Indtastning!Y:Y=\"Positiv\",1,\"\")","v":""},null,null,null,{"$f":"IF(Indtastning!AC:AC=\"Positiv\",1,\"\")","v":""}]
[null,null,null,null,null,null,null,null,null,null,null,null,null,null,null,null,null,null,null,null,null,null,null,null,null,null,null,null,null,null,null,null,null,null,null,null,null,null,null,null,null,null,null,{"$f":"IF(Indtastning!Y:Y=\"Ikke Aflagt\",1,\"\")","v":""},null,null,{"$f":"IF(Indtastning!U:U=\"Positiv\",1,\"\")","v":""},null,null,null,{"$f":"IF(Indtastning!Y:Y=\"Positiv\",1,\"\")","v":""},null,null,null,{"$f":"IF(Indtastning!AC:AC=\"Positiv\",1,\"\")","v":""}]
[null,null,null,null,null,null,null,null,null,null,null,null,null,null,null,null,null,null,null,null,null,null,null,null,null,null,null,null,null,null,null,null,null,null,null,null,null,null,null,null,null,null,null,{"$f":"IF(Indtastning!Y:Y=\"Ikke Aflagt\",1,\"\")","v":""},null,null,{"$f":"IF(Indtastning!U:U=\"Positiv\",1,\"\")","v":""},null,null,null,{"$f":"IF(Indtastning!Y:Y=\"Positiv\",1,\"\")","v":""},null,null,null,{"$f":"IF(Indtastning!AC:AC=\"Positiv\",1,\"\")","v":""}]
[null,null,null,null,null,null,null,null,null,null,null,null,null,null,null,null,null,null,null,null,null,null,null,null,null,null,null,null,null,null,null,null,null,null,null,null,null,null,null,null,null,null,null,{"$f":"IF(Indtastning!Y:Y=\"Ikke Aflagt\",1,\"\")","v":""},null,null,{"$f":"IF(Indtastning!U:U=\"Positiv\",1,\"\")","v":""},null,null,null,{"$f":"IF(Indtastning!Y:Y=\"Positiv\",1,\"\")","v":""},null,null,null,{"$f":"IF(Indtastning!AC:AC=\"Positiv\",1,\"\")","v":""}]
[null,null,null,null,null,null,null,null,null,null,null,null,null,null,null,null,null,null,null,null,null,null,null,null,null,null,null,null,null,null,null,null,null,null,null,null,null,null,null,null,null,null,null,{"$f":"IF(Indtastning!Y:Y=\"Ikke Aflagt\",1,\"\")","v":""},null,null,{"$f":"IF(Indtastning!U:U=\"Positiv\",1,\"\")","v":""},null,null,null,{"$f":"IF(Indtastning!Y:Y=\"Positiv\",1,\"\")","v":""},null,null,null,{"$f":"IF(Indtastning!AC:AC=\"Positiv\",1,\"\")","v":""}]
[null,null,null,null,null,null,null,null,null,null,null,null,null,null,null,null,null,null,null,null,null,null,null,null,null,null,null,null,null,null,null,null,null,null,null,null,null,null,null,null,null,null,null,{"$f":"IF(Indtastning!Y:Y=\"Ikke Aflagt\",1,\"\")","v":""},null,null,{"$f":"IF(Indtastning!U:U=\"Positiv\",1,\"\")","v":""},null,null,null,{"$f":"IF(Indtastning!Y:Y=\"Positiv\",1,\"\")","v":""},null,null,null,{"$f":"IF(Indtastning!AC:AC=\"Positiv\",1,\"\")","v":""}]
[null,null,null,null,null,null,null,null,null,null,null,null,null,null,null,null,null,null,null,null,null,null,null,null,null,null,null,null,null,null,null,null,null,null,null,null,null,null,null,null,null,null,null,{"$f":"IF(Indtastning!Y:Y=\"Ikke Aflagt\",1,\"\")","v":""},null,null,{"$f":"IF(Indtastning!U:U=\"Positiv\",1,\"\")","v":""},null,null,null,{"$f":"IF(Indtastning!Y:Y=\"Positiv\",1,\"\")","v":""},null,null,null,{"$f":"IF(Indtastning!AC:AC=\"Positiv\",1,\"\")","v":""}]
[null,null,null,null,null,null,null,null,null,null,null,null,null,null,null,null,null,null,null,null,null,null,null,null,null,null,null,null,null,null,null,null,null,null,null,null,null,null,null,null,null,null,null,{"$f":"IF(Indtastning!Y:Y=\"Ikke Aflagt\",1,\"\")","v":""},null,null,{"$f":"IF(Indtastning!U:U=\"Positiv\",1,\"\")","v":""},null,null,null,{"$f":"IF(Indtastning!Y:Y=\"Positiv\",1,\"\")","v":""},null,null,null,{"$f":"IF(Indtastning!AC:AC=\"Positiv\",1,\"\")","v":""}]
[null,null,null,null,null,null,null,null,null,null,null,null,null,null,null,null,null,null,null,null,null,null,null,null,null,null,null,null,null,null,null,null,null,null,null,null,null,null,null,null,null,null,null,{"$f":"IF(Indtastning!Y:Y=\"Ikke Aflagt\",1,\"\")","v":""},null,null,{"$f":"IF(Indtastning!U:U=\"Positiv\",1,\"\")","v":""},null,null,null,{"$f":"IF(Indtastning!Y:Y=\"Positiv\",1,\"\")","v":""},null,null,null,{"$f":"IF(Indtastning!AC:AC=\"Positiv\",1,\"\")","v":""}]
[null,null,null,null,null,null,null,null,null,null,null,null,null,null,null,null,null,null,null,null,null,null,null,null,null,null,null,null,null,null,null,null,null,null,null,null,null,null,null,null,null,null,null,{"$f":"IF(Indtastning!Y:Y=\"Ikke Aflagt\",1,\"\")","v":""},null,null,{"$f":"IF(Indtastning!U:U=\"Positiv\",1,\"\")","v":""},null,null,null,{"$f":"IF(Indtastning!Y:Y=\"Positiv\",1,\"\")","v":""},null,null,null,{"$f":"IF(Indtastning!AC:AC=\"Positiv\",1,\"\")","v":""}]
[null,null,null,null,null,null,null,null,null,null,null,null,null,null,null,null,null,null,null,null,null,null,null,null,null,null,null,null,null,null,null,null,null,null,null,null,null,null,null,null,null,null,null,{"$f":"IF(Indtastning!Y:Y=\"Ikke Aflagt\",1,\"\")","v":""},null,null,{"$f":"IF(Indtastning!U:U=\"Positiv\",1,\"\")","v":""},null,null,null,{"$f":"IF(Indtastning!Y:Y=\"Positiv\",1,\"\")","v":""},null,null,null,{"$f":"IF(Indtastning!AC:AC=\"Positiv\",1,\"\")","v":""}]
[null,null,null,null,null,null,null,null,null,null,null,null,null,null,null,null,null,null,null,null,null,null,null,null,null,null,null,null,null,null,null,null,null,null,null,null,null,null,null,null,null,null,null,{"$f":"IF(Indtastning!Y:Y=\"Ikke Aflagt\",1,\"\")","v":""},null,null,{"$f":"IF(Indtastning!U:U=\"Positiv\",1,\"\")","v":""},null,null,null,{"$f":"IF(Indtastning!Y:Y=\"Positiv\",1,\"\")","v":""},null,null,null,{"$f":"IF(Indtastning!AC:AC=\"Positiv\",1,\"\")","v":""}]
[null,null,null,null,null,null,null,null,null,null,null,null,null,null,null,null,null,null,null,null,null,null,null,null,null,null,null,null,null,null,null,null,null,null,null,null,null,null,null,null,null,null,null,{"$f":"IF(Indtastning!Y:Y=\"Ikke Aflagt\",1,\"\")","v":""},null,null,{"$f":"IF(Indtastning!U:U=\"Positiv\",1,\"\")","v":""},null,null,null,{"$f":"IF(Indtastning!Y:Y=\"Positiv\",1,\"\")","v":""},null,null,null,{"$f":"IF(Indtastning!AC:AC=\"Positiv\",1,\"\")","v":""}]
[null,null,null,null,null,null,null,null,null,null,null,null,null,null,null,null,null,null,null,null,null,null,null,null,null,null,null,null,null,null,null,null,null,null,null,null,null,null,null,null,null,null,null,{"$f":"IF(Indtastning!Y:Y=\"Ikke Aflagt\",1,\"\")","v":""},null,null,{"$f":"IF(Indtastning!U:U=\"Positiv\",1,\"\")","v":""},null,null,null,{"$f":"IF(Indtastning!Y:Y=\"Positiv\",1,\"\")","v":""},null,null,null,{"$f":"IF(Indtastning!AC:AC=\"Positiv\",1,\"\")","v":""}]
[null,null,null,null,null,null,null,null,null,null,null,null,null,null,null,null,null,null,null,null,null,null,null,null,null,null,null,null,null,null,null,null,null,null,null,null,null,null,null,null,null,null,null,{"$f":"IF(Indtastning!Y:Y=\"Ikke Aflagt\",1,\"\")","v":""},null,null,{"$f":"IF(Indtastning!U:U=\"Positiv\",1,\"\")","v":""},null,null,null,{"$f":"IF(Indtastning!Y:Y=\"Positiv\",1,\"\")","v":""},null,null,null,{"$f":"IF(Indtastning!AC:AC=\"Positiv\",1,\"\")","v":""}]
[null,null,null,null,null,null,null,null,null,null,null,null,null,null,null,null,null,null,null,null,null,null,null,null,null,null,null,null,null,null,null,null,null,null,null,null,null,null,null,null,null,null,null,{"$f":"IF(Indtastning!Y:Y=\"Ikke Aflagt\",1,\"\")","v":""},null,null,{"$f":"IF(Indtastning!U:U=\"Positiv\",1,\"\")","v":""},null,null,null,{"$f":"IF(Indtastning!Y:Y=\"Positiv\",1,\"\")","v":""},null,null,null,{"$f":"IF(Indtastning!AC:AC=\"Positiv\",1,\"\")","v":""}]
[null,null,null,null,null,null,null,null,null,null,null,null,null,null,null,null,null,null,null,null,null,null,null,null,null,null,null,null,null,null,null,null,null,null,null,null,null,null,null,null,null,null,null,{"$f":"IF(Indtastning!Y:Y=\"Ikke Aflagt\",1,\"\")","v":""},null,null,{"$f":"IF(Indtastning!U:U=\"Positiv\",1,\"\")","v":""},null,null,null,{"$f":"IF(Indtastning!Y:Y=\"Positiv\",1,\"\")","v":""},null,null,null,{"$f":"IF(Indtastning!AC:AC=\"Positiv\",1,\"\")","v":""}]
[null,null,null,null,null,null,null,null,null,null,null,null,null,null,null,null,null,null,null,null,null,null,null,null,null,null,null,null,null,null,null,null,null,null,null,null,null,null,null,null,null,null,null,{"$f":"IF(Indtastning!Y:Y=\"Ikke Aflagt\",1,\"\")","v":""},null,null,{"$f":"IF(Indtastning!U:U=\"Positiv\",1,\"\")","v":""},null,null,null,{"$f":"IF(Indtastning!Y:Y=\"Positiv\",1,\"\")","v":""},null,null,null,{"$f":"IF(Indtastning!AC:AC=\"Positiv\",1,\"\")","v":""}]
[null,null,null,null,null,null,null,null,null,null,null,null,null,null,null,null,null,null,null,null,null,null,null,null,null,null,null,null,null,null,null,null,null,null,null,null,null,null,null,null,null,null,null,{"$f":"IF(Indtastning!Y:Y=\"Ikke Aflagt\",1,\"\")","v":""},null,null,{"$f":"IF(Indtastning!U:U=\"Positiv\",1,\"\")","v":""},null,null,null,{"$f":"IF(Indtastning!Y:Y=\"Positiv\",1,\"\")","v":""},null,null,null,{"$f":"IF(Indtastning!AC:AC=\"Positiv\",1,\"\")","v":""}]
[null,null,null,null,null,null,null,null,null,null,null,null,null,null,null,null,null,null,null,null,null,null,null,null,null,null,null,null,null,null,null,null,null,null,null,null,null,null,null,null,null,null,null,{"$f":"IF(Indtastning!Y:Y=\"Ikke Aflagt\",1,\"\")","v":""},null,null,{"$f":"IF(Indtastning!U:U=\"Positiv\",1,\"\")","v":""},null,null,null,{"$f":"IF(Indtastning!Y:Y=\"Positiv\",1,\"\")","v":""},null,null,null,{"$f":"IF(Indtastning!AC:AC=\"Positiv\",1,\"\")","v":""}]
[null,null,null,null,null,null,null,null,null,null,null,null,null,null,null,null,null,null,null,null,null,null,null,null,null,null,null,null,null,null,null,null,null,null,null,null,null,null,null,null,null,null,null,{"$f":"IF(Indtastning!Y:Y=\"Ikke Aflagt\",1,\"\")","v":""},null,null,{"$f":"IF(Indtastning!U:U=\"Positiv\",1,\"\")","v":""},null,null,null,{"$f":"IF(Indtastning!Y:Y=\"Positiv\",1,\"\")","v":""},null,null,null,{"$f":"IF(Indtastning!AC:AC=\"Positiv\",1,\"\")","v":""}]
[null,null,null,null,null,null,null,null,null,null,null,null,null,null,null,null,null,null,null,null,null,null,null,null,null,null,null,null,null,null,null,null,null,null,null,null,null,null,null,null,null,null,null,{"$f":"IF(Indtastning!Y:Y=\"Ikke Aflagt\",1,\"\")","v":""},null,null,{"$f":"IF(Indtastning!U:U=\"Positiv\",1,\"\")","v":""},null,null,null,{"$f":"IF(Indtastning!Y:Y=\"Positiv\",1,\"\")","v":""},null,null,null,{"$f":"IF(Indtastning!AC:AC=\"Positiv\",1,\"\")","v":""}]
[null,null,null,null,null,null,null,null,null,null,null,null,null,null,null,null,null,null,null,null,null,null,null,null,null,null,null,null,null,null,null,null,null,null,null,null,null,null,null,null,null,null,null,{"$f":"IF(Indtastning!Y:Y=\"Ikke Aflagt\",1,\"\")","v":""},null,null,{"$f":"IF(Indtastning!U:U=\"Positiv\",1,\"\")","v":""},null,null,null,{"$f":"IF(Indtastning!Y:Y=\"Positiv\",1,\"\")","v":""},null,null,null,{"$f":"IF(Indtastning!AC:AC=\"Positiv\",1,\"\")","v":""}]
[null,null,null,null,null,null,null,null,null,null,null,null,null,null,null,null,null,null,null,null,null,null,null,null,null,null,null,null,null,null,null,null,null,null,null,null,null,null,null,null,null,null,null,{"$f":"IF(Indtastning!Y:Y=\"Ikke Aflagt\",1,\"\")","v":""},null,null,{"$f":"IF(Indtastning!U:U=\"Positiv\",1,\"\")","v":""},null,null,null,{"$f":"IF(Indtastning!Y:Y=\"Positiv\",1,\"\")","v":""},null,null,null,{"$f":"IF(Indtastning!AC:AC=\"Positiv\",1,\"\")","v":""}]
[null,null,null,null,null,null,null,null,null,null,null,null,null,null,null,null,null,null,null,null,null,null,null,null,null,null,null,null,null,null,null,null,null,null,null,null,null,null,null,null,null,null,null,{"$f":"IF(Indtastning!Y:Y=\"Ikke Aflagt\",1,\"\")","v":""},null,null,{"$f":"IF(Indtastning!U:U=\"Positiv\",1,\"\")","v":""},null,null,null,{"$f":"IF(Indtastning!Y:Y=\"Positiv\",1,\"\")","v":""},null,null,null,{"$f":"IF(Indtastning!AC:AC=\"Positiv\",1,\"\")","v":""}]
[null,null,null,null,null,null,null,null,null,null,null,null,null,null,null,null,null,null,null,null,null,null,null,null,null,null,null,null,null,null,null,null,null,null,null,null,null,null,null,null,null,null,null,{"$f":"IF(Indtastning!Y:Y=\"Ikke Aflagt\",1,\"\")","v":""},null,null,{"$f":"IF(Indtastning!U:U=\"Positiv\",1,\"\")","v":""},null,null,null,{"$f":"IF(Indtastning!Y:Y=\"Positiv\",1,\"\")","v":""},null,null,null,{"$f":"IF(Indtastning!AC:AC=\"Positiv\",1,\"\")","v":""}]
[null,null,null,null,null,null,null,null,null,null,null,null,null,null,null,null,null,null,null,null,null,null,null,null,null,null,null,null,null,null,null,null,null,null,null,null,null,null,null,null,null,null,null,{"$f":"IF(Indtastning!Y:Y=\"Ikke Aflagt\",1,\"\")","v":""},null,null,{"$f":"IF(Indtastning!U:U=\"Positiv\",1,\"\")","v":""},null,null,null,{"$f":"IF(Indtastning!Y:Y=\"Positiv\",1,\"\")","v":""},null,null,null,{"$f":"IF(Indtastning!AC:AC=\"Positiv\",1,\"\")","v":""}]
[null,null,null,null,null,null,null,null,null,null,null,null,null,null,null,null,null,null,null,null,null,null,null,null,null,null,null,null,null,null,null,null,null,null,null,null,null,null,null,null,null,null,null,{"$f":"IF(Indtastning!Y:Y=\"Ikke Aflagt\",1,\"\")","v":""},null,null,{"$f":"IF(Indtastning!U:U=\"Positiv\",1,\"\")","v":""},null,null,null,{"$f":"IF(Indtastning!Y:Y=\"Positiv\",1,\"\")","v":""},null,null,null,{"$f":"IF(Indtastning!AC:AC=\"Positiv\",1,\"\")","v":""}]
[null,null,null,null,null,null,null,null,null,null,null,null,null,null,null,null,null,null,null,null,null,null,null,null,null,null,null,null,null,null,null,null,null,null,null,null,null,null,null,null,null,null,null,{"$f":"IF(Indtastning!Y:Y=\"Ikke Aflagt\",1,\"\")","v":""},null,null,{"$f":"IF(Indtastning!U:U=\"Positiv\",1,\"\")","v":""},null,null,null,{"$f":"IF(Indtastning!Y:Y=\"Positiv\",1,\"\")","v":""},null,null,null,{"$f":"IF(Indtastning!AC:AC=\"Positiv\",1,\"\")","v":""}]
[null,null,null,null,null,null,null,null,null,null,null,null,null,null,null,null,null,null,null,null,null,null,null,null,null,null,null,null,null,null,null,null,null,null,null,null,null,null,null,null,null,null,null,{"$f":"IF(Indtastning!Y:Y=\"Ikke Aflagt\",1,\"\")","v":""},null,null,{"$f":"IF(Indtastning!U:U=\"Positiv\",1,\"\")","v":""},null,null,null,{"$f":"IF(Indtastning!Y:Y=\"Positiv\",1,\"\")","v":""},null,null,null,{"$f":"IF(Indtastning!AC:AC=\"Positiv\",1,\"\")","v":""}]
[null,null,null,null,null,null,null,null,null,null,null,null,null,null,null,null,null,null,null,null,null,null,null,null,null,null,null,null,null,null,null,null,null,null,null,null,null,null,null,null,null,null,null,{"$f":"IF(Indtastning!Y:Y=\"Ikke Aflagt\",1,\"\")","v":""},null,null,{"$f":"IF(Indtastning!U:U=\"Positiv\",1,\"\")","v":""},null,null,null,{"$f":"IF(Indtastning!Y:Y=\"Positiv\",1,\"\")","v":""},null,null,null,{"$f":"IF(Indtastning!AC:AC=\"Positiv\",1,\"\")","v":""}]
[null,null,null,null,null,null,null,null,null,null,null,null,null,null,null,null,null,null,null,null,null,null,null,null,null,null,null,null,null,null,null,null,null,null,null,null,null,null,null,null,null,null,null,{"$f":"IF(Indtastning!Y:Y=\"Ikke Aflagt\",1,\"\")","v":""},null,null,{"$f":"IF(Indtastning!U:U=\"Positiv\",1,\"\")","v":""},null,null,null,{"$f":"IF(Indtastning!Y:Y=\"Positiv\",1,\"\")","v":""},null,null,null,{"$f":"IF(Indtastning!AC:AC=\"Positiv\",1,\"\")","v":""}]
[null,null,null,null,null,null,null,null,null,null,null,null,null,null,null,null,null,null,null,null,null,null,null,null,null,null,null,null,null,null,null,null,null,null,null,null,null,null,null,null,null,null,null,{"$f":"IF(Indtastning!Y:Y=\"Ikke Aflagt\",1,\"\")","v":""},null,null,{"$f":"IF(Indtastning!U:U=\"Positiv\",1,\"\")","v":""},null,null,null,{"$f":"IF(Indtastning!Y:Y=\"Positiv\",1,\"\")","v":""},null,null,null,{"$f":"IF(Indtastning!AC:AC=\"Positiv\",1,\"\")","v":""}]
[null,null,null,null,null,null,null,null,null,null,null,null,null,null,null,null,null,null,null,null,null,null,null,null,null,null,null,null,null,null,null,null,null,null,null,null,null,null,null,null,null,null,null,{"$f":"IF(Indtastning!Y:Y=\"Ikke Aflagt\",1,\"\")","v":""},null,null,{"$f":"IF(Indtastning!U:U=\"Positiv\",1,\"\")","v":""},null,null,null,{"$f":"IF(Indtastning!Y:Y=\"Positiv\",1,\"\")","v":""},null,null,null,{"$f":"IF(Indtastning!AC:AC=\"Positiv\",1,\"\")","v":""}]
[null,null,null,null,null,null,null,null,null,null,null,null,null,null,null,null,null,null,null,null,null,null,null,null,null,null,null,null,null,null,null,null,null,null,null,null,null,null,null,null,null,null,null,{"$f":"IF(Indtastning!Y:Y=\"Ikke Aflagt\",1,\"\")","v":""},null,null,{"$f":"IF(Indtastning!U:U=\"Positiv\",1,\"\")","v":""},null,null,null,{"$f":"IF(Indtastning!Y:Y=\"Positiv\",1,\"\")","v":""},null,null,null,{"$f":"IF(Indtastning!AC:AC=\"Positiv\",1,\"\")","v":""}]
[null,null,null,null,null,null,null,null,null,null,null,null,null,null,null,null,null,null,null,null,null,null,null,null,null,null,null,null,null,null,null,null,null,null,null,null,null,null,null,null,null,null,null,{"$f":"IF(Indtastning!Y:Y=\"Ikke Aflagt\",1,\"\")","v":""},null,null,{"$f":"IF(Indtastning!U:U=\"Positiv\",1,\"\")","v":""},null,null,null,{"$f":"IF(Indtastning!Y:Y=\"Positiv\",1,\"\")","v":""},null,null,null,{"$f":"IF(Indtastning!AC:AC=\"Positiv\",1,\"\")","v":""}]
[null,null,null,null,null,null,null,null,null,null,null,null,null,null,null,null,null,null,null,null,null,null,null,null,null,null,null,null,null,null,null,null,null,null,null,null,null,null,null,null,null,null,null,{"$f":"IF(Indtastning!Y:Y=\"Ikke Aflagt\",1,\"\")","v":""},null,null,{"$f":"IF(Indtastning!U:U=\"Positiv\",1,\"\")","v":""},null,null,null,{"$f":"IF(Indtastning!Y:Y=\"Positiv\",1,\"\")","v":""},null,null,null,{"$f":"IF(Indtastning!AC:AC=\"Positiv\",1,\"\")","v":""}]
[null,null,null,null,null,null,null,null,null,null,null,null,null,null,null,null,null,null,null,null,null,null,null,null,null,null,null,null,null,null,null,null,null,null,null,null,null,null,null,null,null,null,null,{"$f":"IF(Indtastning!Y:Y=\"Ikke Aflagt\",1,\"\")","v":""},null,null,{"$f":"IF(Indtastning!U:U=\"Positiv\",1,\"\")","v":""},null,null,null,{"$f":"IF(Indtastning!Y:Y=\"Positiv\",1,\"\")","v":""},null,null,null,{"$f":"IF(Indtastning!AC:AC=\"Positiv\",1,\"\")","v":""}]
[null,null,null,null,null,null,null,null,null,null,null,null,null,null,null,null,null,null,null,null,null,null,null,null,null,null,null,null,null,null,null,null,null,null,null,null,null,null,null,null,null,null,null,{"$f":"IF(Indtastning!Y:Y=\"Ikke Aflagt\",1,\"\")","v":""},null,null,{"$f":"IF(Indtastning!U:U=\"Positiv\",1,\"\")","v":""},null,null,null,{"$f":"IF(Indtastning!Y:Y=\"Positiv\",1,\"\")","v":""},null,null,null,{"$f":"IF(Indtastning!AC:AC=\"Positiv\",1,\"\")","v":""}]
[null,null,null,null,null,null,null,null,null,null,null,null,null,null,null,null,null,null,null,null,null,null,null,null,null,null,null,null,null,null,null,null,null,null,null,null,null,null,null,null,null,null,null,{"$f":"IF(Indtastning!Y:Y=\"Ikke Aflagt\",1,\"\")","v":""},null,null,{"$f":"IF(Indtastning!U:U=\"Positiv\",1,\"\")","v":""},null,null,null,{"$f":"IF(Indtastning!Y:Y=\"Positiv\",1,\"\")","v":""},null,null,null,{"$f":"IF(Indtastning!AC:AC=\"Positiv\",1,\"\")","v":""}]
[null,null,null,null,null,null,null,null,null,null,null,null,null,null,null,null,null,null,null,null,null,null,null,null,null,null,null,null,null,null,null,null,null,null,null,null,null,null,null,null,null,null,null,{"$f":"IF(Indtastning!Y:Y=\"Ikke Aflagt\",1,\"\")","v":""},null,null,{"$f":"IF(Indtastning!U:U=\"Positiv\",1,\"\")","v":""},null,null,null,{"$f":"IF(Indtastning!Y:Y=\"Positiv\",1,\"\")","v":""},null,null,null,{"$f":"IF(Indtastning!AC:AC=\"Positiv\",1,\"\")","v":""}]
[null,null,null,null,null,null,null,null,null,null,null,null,null,null,null,null,null,null,null,null,null,null,null,null,null,null,null,null,null,null,null,null,null,null,null,null,null,null,null,null,null,null,null,{"$f":"IF(Indtastning!Y:Y=\"Ikke Aflagt\",1,\"\")","v":""},null,null,{"$f":"IF(Indtastning!U:U=\"Positiv\",1,\"\")","v":""},null,null,null,{"$f":"IF(Indtastning!Y:Y=\"Positiv\",1,\"\")","v":""},null,null,null,{"$f":"IF(Indtastning!AC:AC=\"Positiv\",1,\"\")","v":""}]
[null,null,null,null,null,null,null,null,null,null,null,null,null,null,null,null,null,null,null,null,null,null,null,null,null,null,null,null,null,null,null,null,null,null,null,null,null,null,null,null,null,null,null,{"$f":"IF(Indtastning!Y:Y=\"Ikke Aflagt\",1,\"\")","v":""},null,null,{"$f":"IF(Indtastning!U:U=\"Positiv\",1,\"\")","v":""},null,null,null,{"$f":"IF(Indtastning!Y:Y=\"Positiv\",1,\"\")","v":""},null,null,null,{"$f":"IF(Indtastning!AC:AC=\"Positiv\",1,\"\")","v":""}]
[null,null,null,null,null,null,null,null,null,null,null,null,null,null,null,null,null,null,null,null,null,null,null,null,null,null,null,null,null,null,null,null,null,null,null,null,null,null,null,null,null,null,null,{"$f":"IF(Indtastning!Y:Y=\"Ikke Aflagt\",1,\"\")","v":""},null,null,{"$f":"IF(Indtastning!U:U=\"Positiv\",1,\"\")","v":""},null,null,null,{"$f":"IF(Indtastning!Y:Y=\"Positiv\",1,\"\")","v":""},null,null,null,{"$f":"IF(Indtastning!AC:AC=\"Positiv\",1,\"\")","v":""}]
[null,null,null,null,null,null,null,null,null,null,null,null,null,null,null,null,null,null,null,null,null,null,null,null,null,null,null,null,null,null,null,null,null,null,null,null,null,null,null,null,null,null,null,{"$f":"IF(Indtastning!Y:Y=\"Ikke Aflagt\",1,\"\")","v":""},null,null,{"$f":"IF(Indtastning!U:U=\"Positiv\",1,\"\")","v":""},null,null,null,{"$f":"IF(Indtastning!Y:Y=\"Positiv\",1,\"\")","v":""},null,null,null,{"$f":"IF(Indtastning!AC:AC=\"Positiv\",1,\"\")","v":""}]
[null,null,null,null,null,null,null,null,null,null,null,null,null,null,null,null,null,null,null,null,null,null,null,null,null,null,null,null,null,null,null,null,null,null,null,null,null,null,null,null,null,null,null,{"$f":"IF(Indtastning!Y:Y=\"Ikke Aflagt\",1,\"\")","v":""},null,null,{"$f":"IF(Indtastning!U:U=\"Positiv\",1,\"\")","v":""},null,null,null,{"$f":"IF(Indtastning!Y:Y=\"Positiv\",1,\"\")","v":""},null,null,null,{"$f":"IF(Indtastning!AC:AC=\"Positiv\",1,\"\")","v":""}]
[null,null,null,null,null,null,null,null,null,null,null,null,null,null,null,null,null,null,null,null,null,null,null,null,null,null,null,null,null,null,null,null,null,null,null,null,null,null,null,null,null,null,null,{"$f":"IF(Indtastning!Y:Y=\"Ikke Aflagt\",1,\"\")","v":""},null,null,{"$f":"IF(Indtastning!U:U=\"Positiv\",1,\"\")","v":""},null,null,null,{"$f":"IF(Indtastning!Y:Y=\"Positiv\",1,\"\")","v":""},null,null,null,{"$f":"IF(Indtastning!AC:AC=\"Positiv\",1,\"\")","v":""}]
[null,null,null,null,null,null,null,null,null,null,null,null,null,null,null,null,null,null,null,null,null,null,null,null,null,null,null,null,null,null,null,null,null,null,null,null,null,null,null,null,null,null,null,{"$f":"IF(Indtastning!Y:Y=\"Ikke Aflagt\",1,\"\")","v":""},null,null,{"$f":"IF(Indtastning!U:U=\"Positiv\",1,\"\")","v":""},null,null,null,{"$f":"IF(Indtastning!Y:Y=\"Positiv\",1,\"\")","v":""},null,null,null,{"$f":"IF(Indtastning!AC:AC=\"Positiv\",1,\"\")","v":""}]
[null,null,null,null,null,null,null,null,null,null,null,null,null,null,null,null,null,null,null,null,null,null,null,null,null,null,null,null,null,null,null,null,null,null,null,null,null,null,null,null,null,null,null,{"$f":"IF(Indtastning!Y:Y=\"Ikke Aflagt\",1,\"\")","v":""},null,null,{"$f":"IF(Indtastning!U:U=\"Positiv\",1,\"\")","v":""},null,null,null,{"$f":"IF(Indtastning!Y:Y=\"Positiv\",1,\"\")","v":""},null,null,null,{"$f":"IF(Indtastning!AC:AC=\"Positiv\",1,\"\")","v":""}]
[null,null,null,null,null,null,null,null,null,null,null,null,null,null,null,null,null,null,null,null,null,null,null,null,null,null,null,null,null,null,null,null,null,null,null,null,null,null,null,null,null,null,null,{"$f":"IF(Indtastning!Y:Y=\"Ikke Aflagt\",1,\"\")","v":""},null,null,{"$f":"IF(Indtastning!U:U=\"Positiv\",1,\"\")","v":""},null,null,null,{"$f":"IF(Indtastning!Y:Y=\"Positiv\",1,\"\")","v":""},null,null,null,{"$f":"IF(Indtastning!AC:AC=\"Positiv\",1,\"\")","v":""}]
[null,null,null,null,null,null,null,null,null,null,null,null,null,null,null,null,null,null,null,null,null,null,null,null,null,null,null,null,null,null,null,null,null,null,null,null,null,null,null,null,null,null,null,{"$f":"IF(Indtastning!Y:Y=\"Ikke Aflagt\",1,\"\")","v":""},null,null,{"$f":"IF(Indtastning!U:U=\"Positiv\",1,\"\")","v":""},null,null,null,{"$f":"IF(Indtastning!Y:Y=\"Positiv\",1,\"\")","v":""},null,null,null,{"$f":"IF(Indtastning!AC:AC=\"Positiv\",1,\"\")","v":""}]
[null,null,null,null,null,null,null,null,null,null,null,null,null,null,null,null,null,null,null,null,null,null,null,null,null,null,null,null,null,null,null,null,null,null,null,null,null,null,null,null,null,null,null,{"$f":"IF(Indtastning!Y:Y=\"Ikke Aflagt\",1,\"\")","v":""},null,null,{"$f":"IF(Indtastning!U:U=\"Positiv\",1,\"\")","v":""},null,null,null,{"$f":"IF(Indtastning!Y:Y=\"Positiv\",1,\"\")","v":""},null,null,null,{"$f":"IF(Indtastning!AC:AC=\"Positiv\",1,\"\")","v":""}]
[null,null,null,null,null,null,null,null,null,null,null,null,null,null,null,null,null,null,null,null,null,null,null,null,null,null,null,null,null,null,null,null,null,null,null,null,null,null,null,null,null,null,null,{"$f":"IF(Indtastning!Y:Y=\"Ikke Aflagt\",1,\"\")","v":""},null,null,{"$f":"IF(Indtastning!U:U=\"Positiv\",1,\"\")","v":""},null,null,null,{"$f":"IF(Indtastning!Y:Y=\"Positiv\",1,\"\")","v":""},null,null,null,{"$f":"IF(Indtastning!AC:AC=\"Positiv\",1,\"\")","v":""}]
[null,null,null,null,null,null,null,null,null,null,null,null,null,null,null,null,null,null,null,null,null,null,null,null,null,null,null,null,null,null,null,null,null,null,null,null,null,null,null,null,null,null,null,{"$f":"IF(Indtastning!Y:Y=\"Ikke Aflagt\",1,\"\")","v":""},null,null,{"$f":"IF(Indtastning!U:U=\"Positiv\",1,\"\")","v":""},null,null,null,{"$f":"IF(Indtastning!Y:Y=\"Positiv\",1,\"\")","v":""},null,null,null,{"$f":"IF(Indtastning!AC:AC=\"Positiv\",1,\"\")","v":""}]
[null,null,null,null,null,null,null,null,null,null,null,null,null,null,null,null,null,null,null,null,null,null,null,null,null,null,null,null,null,null,null,null,null,null,null,null,null,null,null,null,null,null,null,{"$f":"IF(Indtastning!Y:Y=\"Ikke Aflagt\",1,\"\")","v":""},null,null,{"$f":"IF(Indtastning!U:U=\"Positiv\",1,\"\")","v":""},null,null,null,{"$f":"IF(Indtastning!Y:Y=\"Positiv\",1,\"\")","v":""},null,null,null,{"$f":"IF(Indtastning!AC:AC=\"Positiv\",1,\"\")","v":""}]
[null,null,null,null,null,null,null,null,null,null,null,null,null,null,null,null,null,null,null,null,null,null,null,null,null,null,null,null,null,null,null,null,null,null,null,null,null,null,null,null,null,null,null,{"$f":"IF(Indtastning!Y:Y=\"Ikke Aflagt\",1,\"\")","v":""},null,null,{"$f":"IF(Indtastning!U:U=\"Positiv\",1,\"\")","v":""},null,null,null,{"$f":"IF(Indtastning!Y:Y=\"Positiv\",1,\"\")","v":""},null,null,null,{"$f":"IF(Indtastning!AC:AC=\"Positiv\",1,\"\")","v":""}]
[null,null,null,null,null,null,null,null,null,null,null,null,null,null,null,null,null,null,null,null,null,null,null,null,null,null,null,null,null,null,null,null,null,null,null,null,null,null,null,null,null,null,null,{"$f":"IF(Indtastning!Y:Y=\"Ikke Aflagt\",1,\"\")","v":""},null,null,{"$f":"IF(Indtastning!U:U=\"Positiv\",1,\"\")","v":""},null,null,null,{"$f":"IF(Indtastning!Y:Y=\"Positiv\",1,\"\")","v":""},null,null,null,{"$f":"IF(Indtastning!AC:AC=\"Positiv\",1,\"\")","v":""}]
[null,null,null,null,null,null,null,null,null,null,null,null,null,null,null,null,null,null,null,null,null,null,null,null,null,null,null,null,null,null,null,null,null,null,null,null,null,null,null,null,null,null,null,{"$f":"IF(Indtastning!Y:Y=\"Ikke Aflagt\",1,\"\")","v":""},null,null,{"$f":"IF(Indtastning!U:U=\"Positiv\",1,\"\")","v":""},null,null,null,{"$f":"IF(Indtastning!Y:Y=\"Positiv\",1,\"\")","v":""},null,null,null,{"$f":"IF(Indtastning!AC:AC=\"Positiv\",1,\"\")","v":""}]
[null,null,null,null,null,null,null,null,null,null,null,null,null,null,null,null,null,null,null,null,null,null,null,null,null,null,null,null,null,null,null,null,null,null,null,null,null,null,null,null,null,null,null,{"$f":"IF(Indtastning!Y:Y=\"Ikke Aflagt\",1,\"\")","v":""},null,null,{"$f":"IF(Indtastning!U:U=\"Positiv\",1,\"\")","v":""},null,null,null,{"$f":"IF(Indtastning!Y:Y=\"Positiv\",1,\"\")","v":""},null,null,null,{"$f":"IF(Indtastning!AC:AC=\"Positiv\",1,\"\")","v":""}]
[null,null,null,null,null,null,null,null,null,null,null,null,null,null,null,null,null,null,null,null,null,null,null,null,null,null,null,null,null,null,null,null,null,null,null,null,null,null,null,null,null,null,null,{"$f":"IF(Indtastning!Y:Y=\"Ikke Aflagt\",1,\"\")","v":""},null,null,{"$f":"IF(Indtastning!U:U=\"Positiv\",1,\"\")","v":""},null,null,null,{"$f":"IF(Indtastning!Y:Y=\"Positiv\",1,\"\")","v":""},null,null,null,{"$f":"IF(Indtastning!AC:AC=\"Positiv\",1,\"\")","v":""}]
[null,null,null,null,null,null,null,null,null,null,null,null,null,null,null,null,null,null,null,null,null,null,null,null,null,null,null,null,null,null,null,null,null,null,null,null,null,null,null,null,null,null,null,{"$f":"IF(Indtastning!Y:Y=\"Ikke Aflagt\",1,\"\")","v":""},null,null,{"$f":"IF(Indtastning!U:U=\"Positiv\",1,\"\")","v":""},null,null,null,{"$f":"IF(Indtastning!Y:Y=\"Positiv\",1,\"\")","v":""},null,null,null,{"$f":"IF(Indtastning!AC:AC=\"Positiv\",1,\"\")","v":""}]
[null,null,null,null,null,null,null,null,null,null,null,null,null,null,null,null,null,null,null,null,null,null,null,null,null,null,null,null,null,null,null,null,null,null,null,null,null,null,null,null,null,null,null,{"$f":"IF(Indtastning!Y:Y=\"Ikke Aflagt\",1,\"\")","v":""},null,null,{"$f":"IF(Indtastning!U:U=\"Positiv\",1,\"\")","v":""},null,null,null,{"$f":"IF(Indtastning!Y:Y=\"Positiv\",1,\"\")","v":""},null,null,null,{"$f":"IF(Indtastning!AC:AC=\"Positiv\",1,\"\")","v":""}]
[null,null,null,null,null,null,null,null,null,null,null,null,null,null,null,null,null,null,null,null,null,null,null,null,null,null,null,null,null,null,null,null,null,null,null,null,null,null,null,null,null,null,null,{"$f":"IF(Indtastning!Y:Y=\"Ikke Aflagt\",1,\"\")","v":""},null,null,{"$f":"IF(Indtastning!U:U=\"Positiv\",1,\"\")","v":""},null,null,null,{"$f":"IF(Indtastning!Y:Y=\"Positiv\",1,\"\")","v":""},null,null,null,{"$f":"IF(Indtastning!AC:AC=\"Positiv\",1,\"\")","v":""}]
[null,null,null,null,null,null,null,null,null,null,null,null,null,null,null,null,null,null,null,null,null,null,null,null,null,null,null,null,null,null,null,null,null,null,null,null,null,null,null,null,null,null,null,{"$f":"IF(Indtastning!Y:Y=\"Ikke Aflagt\",1,\"\")","v":""},null,null,{"$f":"IF(Indtastning!U:U=\"Positiv\",1,\"\")","v":""},null,null,null,{"$f":"IF(Indtastning!Y:Y=\"Positiv\",1,\"\")","v":""},null,null,null,{"$f":"IF(Indtastning!AC:AC=\"Positiv\",1,\"\")","v":""}]
[null,null,null,null,null,null,null,null,null,null,null,null,null,null,null,null,null,null,null,null,null,null,null,null,null,null,null,null,null,null,null,null,null,null,null,null,null,null,null,null,null,null,null,{"$f":"IF(Indtastning!Y:Y=\"Ikke Aflagt\",1,\"\")","v":""},null,null,{"$f":"IF(Indtastning!U:U=\"Positiv\",1,\"\")","v":""},null,null,null,{"$f":"IF(Indtastning!Y:Y=\"Positiv\",1,\"\")","v":""},null,null,null,{"$f":"IF(Indtastning!AC:AC=\"Positiv\",1,\"\")","v":""}]
[null,null,null,null,null,null,null,null,null,null,null,null,null,null,null,null,null,null,null,null,null,null,null,null,null,null,null,null,null,null,null,null,null,null,null,null,null,null,null,null,null,null,null,{"$f":"IF(Indtastning!Y:Y=\"Ikke Aflagt\",1,\"\")","v":""},null,null,{"$f":"IF(Indtastning!U:U=\"Positiv\",1,\"\")","v":""},null,null,null,{"$f":"IF(Indtastning!Y:Y=\"Positiv\",1,\"\")","v":""},null,null,null,{"$f":"IF(Indtastning!AC:AC=\"Positiv\",1,\"\")","v":""}]
[null,null,null,null,null,null,null,null,null,null,null,null,null,null,null,null,null,null,null,null,null,null,null,null,null,null,null,null,null,null,null,null,null,null,null,null,null,null,null,null,null,null,null,{"$f":"IF(Indtastning!Y:Y=\"Ikke Aflagt\",1,\"\")","v":""},null,null,{"$f":"IF(Indtastning!U:U=\"Positiv\",1,\"\")","v":""},null,null,null,{"$f":"IF(Indtastning!Y:Y=\"Positiv\",1,\"\")","v":""},null,null,null,{"$f":"IF(Indtastning!AC:AC=\"Positiv\",1,\"\")","v":""}]
[null,null,null,null,null,null,null,null,null,null,null,null,null,null,null,null,null,null,null,null,null,null,null,null,null,null,null,null,null,null,null,null,null,null,null,null,null,null,null,null,null,null,null,{"$f":"IF(Indtastning!Y:Y=\"Ikke Aflagt\",1,\"\")","v":""},null,null,{"$f":"IF(Indtastning!U:U=\"Positiv\",1,\"\")","v":""},null,null,null,{"$f":"IF(Indtastning!Y:Y=\"Positiv\",1,\"\")","v":""},null,null,null,{"$f":"IF(Indtastning!AC:AC=\"Positiv\",1,\"\")","v":""}]
[null,null,null,null,null,null,null,null,null,null,null,null,null,null,null,null,null,null,null,null,null,null,null,null,null,null,null,null,null,null,null,null,null,null,null,null,null,null,null,null,null,null,null,{"$f":"IF(Indtastning!Y:Y=\"Ikke Aflagt\",1,\"\")","v":""},null,null,{"$f":"IF(Indtastning!U:U=\"Positiv\",1,\"\")","v":""},null,null,null,{"$f":"IF(Indtastning!Y:Y=\"Positiv\",1,\"\")","v":""},null,null,null,{"$f":"IF(Indtastning!AC:AC=\"Positiv\",1,\"\")","v":""}]
[null,null,null,null,null,null,null,null,null,null,null,null,null,null,null,null,null,null,null,null,null,null,null,null,null,null,null,null,null,null,null,null,null,null,null,null,null,null,null,null,null,null,null,{"$f":"IF(Indtastning!Y:Y=\"Ikke Aflagt\",1,\"\")","v":""},null,null,{"$f":"IF(Indtastning!U:U=\"Positiv\",1,\"\")","v":""},null,null,null,{"$f":"IF(Indtastning!Y:Y=\"Positiv\",1,\"\")","v":""},null,null,null,{"$f":"IF(Indtastning!AC:AC=\"Positiv\",1,\"\")","v":""}]
[null,null,null,null,null,null,null,null,null,null,null,null,null,null,null,null,null,null,null,null,null,null,null,null,null,null,null,null,null,null,null,null,null,null,null,null,null,null,null,null,null,null,null,{"$f":"IF(Indtastning!Y:Y=\"Ikke Aflagt\",1,\"\")","v":""},null,null,{"$f":"IF(Indtastning!U:U=\"Positiv\",1,\"\")","v":""},null,null,null,{"$f":"IF(Indtastning!Y:Y=\"Positiv\",1,\"\")","v":""},null,null,null,{"$f":"IF(Indtastning!AC:AC=\"Positiv\",1,\"\")","v":""}]
[null,null,null,null,null,null,null,null,null,null,null,null,null,null,null,null,null,null,null,null,null,null,null,null,null,null,null,null,null,null,null,null,null,null,null,null,null,null,null,null,null,null,null,{"$f":"IF(Indtastning!Y:Y=\"Ikke Aflagt\",1,\"\")","v":""},null,null,{"$f":"IF(Indtastning!U:U=\"Positiv\",1,\"\")","v":""},null,null,null,{"$f":"IF(Indtastning!Y:Y=\"Positiv\",1,\"\")","v":""},null,null,null,{"$f":"IF(Indtastning!AC:AC=\"Positiv\",1,\"\")","v":""}]
[null,null,null,null,null,null,null,null,null,null,null,null,null,null,null,null,null,null,null,null,null,null,null,null,null,null,null,null,null,null,null,null,null,null,null,null,null,null,null,null,null,null,null,{"$f":"IF(Indtastning!Y:Y=\"Ikke Aflagt\",1,\"\")","v":""},null,null,{"$f":"IF(Indtastning!U:U=\"Positiv\",1,\"\")","v":""},null,null,null,{"$f":"IF(Indtastning!Y:Y=\"Positiv\",1,\"\")","v":""},null,null,null,{"$f":"IF(Indtastning!AC:AC=\"Positiv\",1,\"\")","v":""}]
[null,null,null,null,null,null,null,null,null,null,null,null,null,null,null,null,null,null,null,null,null,null,null,null,null,null,null,null,null,null,null,null,null,null,null,null,null,null,null,null,null,null,null,{"$f":"IF(Indtastning!Y:Y=\"Ikke Aflagt\",1,\"\")","v":""},null,null,{"$f":"IF(Indtastning!U:U=\"Positiv\",1,\"\")","v":""},null,null,null,{"$f":"IF(Indtastning!Y:Y=\"Positiv\",1,\"\")","v":""},null,null,null,{"$f":"IF(Indtastning!AC:AC=\"Positiv\",1,\"\")","v":""}]
[null,null,null,null,null,null,null,null,null,null,null,null,null,null,null,null,null,null,null,null,null,null,null,null,null,null,null,null,null,null,null,null,null,null,null,null,null,null,null,null,null,null,null,{"$f":"IF(Indtastning!Y:Y=\"Ikke Aflagt\",1,\"\")","v":""},null,null,{"$f":"IF(Indtastning!U:U=\"Positiv\",1,\"\")","v":""},null,null,null,{"$f":"IF(Indtastning!Y:Y=\"Positiv\",1,\"\")","v":""},null,null,null,{"$f":"IF(Indtastning!AC:AC=\"Positiv\",1,\"\")","v":""}]
[null,null,null,null,null,null,null,null,null,null,null,null,null,null,null,null,null,null,null,null,null,null,null,null,null,null,null,null,null,null,null,null,null,null,null,null,null,null,null,null,null,null,null,{"$f":"IF(Indtastning!Y:Y=\"Ikke Aflagt\",1,\"\")","v":""},null,null,{"$f":"IF(Indtastning!U:U=\"Positiv\",1,\"\")","v":""},null,null,null,{"$f":"IF(Indtastning!Y:Y=\"Positiv\",1,\"\")","v":""},null,null,null,{"$f":"IF(Indtastning!AC:AC=\"Positiv\",1,\"\")","v":""}]
[null,null,null,null,null,null,null,null,null,null,null,null,null,null,null,null,null,null,null,null,null,null,null,null,null,null,null,null,null,null,null,null,null,null,null,null,null,null,null,null,null,null,null,{"$f":"IF(Indtastning!Y:Y=\"Ikke Aflagt\",1,\"\")","v":""},null,null,{"$f":"IF(Indtastning!U:U=\"Positiv\",1,\"\")","v":""},null,null,null,{"$f":"IF(Indtastning!Y:Y=\"Positiv\",1,\"\")","v":""},null,null,null,{"$f":"IF(Indtastning!AC:AC=\"Positiv\",1,\"\")","v":""}]
[null,null,null,null,null,null,null,null,null,null,null,null,null,null,null,null,null,null,null,null,null,null,null,null,null,null,null,null,null,null,null,null,null,null,null,null,null,null,null,null,null,null,null,{"$f":"IF(Indtastning!Y:Y=\"Ikke Aflagt\",1,\"\")","v":""},null,null,{"$f":"IF(Indtastning!U:U=\"Positiv\",1,\"\")","v":""},null,null,null,{"$f":"IF(Indtastning!Y:Y=\"Positiv\",1,\"\")","v":""},null,null,null,{"$f":"IF(Indtastning!AC:AC=\"Positiv\",1,\"\")","v":""}]
[null,null,null,null,null,null,null,null,null,null,null,null,null,null,null,null,null,null,null,null,null,null,null,null,null,null,null,null,null,null,null,null,null,null,null,null,null,null,null,null,null,null,null,{"$f":"IF(Indtastning!Y:Y=\"Ikke Aflagt\",1,\"\")","v":""},null,null,{"$f":"IF(Indtastning!U:U=\"Positiv\",1,\"\")","v":""},null,null,null,{"$f":"IF(Indtastning!Y:Y=\"Positiv\",1,\"\")","v":""},null,null,null,{"$f":"IF(Indtastning!AC:AC=\"Positiv\",1,\"\")","v":""}]
[null,null,null,null,null,null,null,null,null,null,null,null,null,null,null,null,null,null,null,null,null,null,null,null,null,null,null,null,null,null,null,null,null,null,null,null,null,null,null,null,null,null,null,{"$f":"IF(Indtastning!Y:Y=\"Ikke Aflagt\",1,\"\")","v":""},null,null,{"$f":"IF(Indtastning!U:U=\"Positiv\",1,\"\")","v":""},null,null,null,{"$f":"IF(Indtastning!Y:Y=\"Positiv\",1,\"\")","v":""},null,null,null,{"$f":"IF(Indtastning!AC:AC=\"Positiv\",1,\"\")","v":""}]
[null,null,null,null,null,null,null,null,null,null,null,null,null,null,null,null,null,null,null,null,null,null,null,null,null,null,null,null,null,null,null,null,null,null,null,null,null,null,null,null,null,null,null,{"$f":"IF(Indtastning!Y:Y=\"Ikke Aflagt\",1,\"\")","v":""},null,null,{"$f":"IF(Indtastning!U:U=\"Positiv\",1,\"\")","v":""},null,null,null,{"$f":"IF(Indtastning!Y:Y=\"Positiv\",1,\"\")","v":""},null,null,null,{"$f":"IF(Indtastning!AC:AC=\"Positiv\",1,\"\")","v":""}]
[null,null,null,null,null,null,null,null,null,null,null,null,null,null,null,null,null,null,null,null,null,null,null,null,null,null,null,null,null,null,null,null,null,null,null,null,null,null,null,null,null,null,null,{"$f":"IF(Indtastning!Y:Y=\"Ikke Aflagt\",1,\"\")","v":""},null,null,{"$f":"IF(Indtastning!U:U=\"Positiv\",1,\"\")","v":""},null,null,null,{"$f":"IF(Indtastning!Y:Y=\"Positiv\",1,\"\")","v":""},null,null,null,{"$f":"IF(Indtastning!AC:AC=\"Positiv\",1,\"\")","v":""}]
[null,null,null,null,null,null,null,null,null,null,null,null,null,null,null,null,null,null,null,null,null,null,null,null,null,null,null,null,null,null,null,null,null,null,null,null,null,null,null,null,null,null,null,{"$f":"IF(Indtastning!Y:Y=\"Ikke Aflagt\",1,\"\")","v":""},null,null,{"$f":"IF(Indtastning!U:U=\"Positiv\",1,\"\")","v":""},null,null,null,{"$f":"IF(Indtastning!Y:Y=\"Positiv\",1,\"\")","v":""},null,null,null,{"$f":"IF(Indtastning!AC:AC=\"Positiv\",1,\"\")","v":""}]
[null,null,null,null,null,null,null,null,null,null,null,null,null,null,null,null,null,null,null,null,null,null,null,null,null,null,null,null,null,null,null,null,null,null,null,null,null,null,null,null,null,null,null,{"$f":"IF(Indtastning!Y:Y=\"Ikke Aflagt\",1,\"\")","v":""},null,null,{"$f":"IF(Indtastning!U:U=\"Positiv\",1,\"\")","v":""},null,null,null,{"$f":"IF(Indtastning!Y:Y=\"Positiv\",1,\"\")","v":""},null,null,null,{"$f":"IF(Indtastning!AC:AC=\"Positiv\",1,\"\")","v":""}]
[null,null,null,null,null,null,null,null,null,null,null,null,null,null,null,null,null,null,null,null,null,null,null,null,null,null,null,null,null,null,null,null,null,null,null,null,null,null,null,null,null,null,null,{"$f":"IF(Indtastning!Y:Y=\"Ikke Aflagt\",1,\"\")","v":""},null,null,{"$f":"IF(Indtastning!U:U=\"Positiv\",1,\"\")","v":""},null,null,null,{"$f":"IF(Indtastning!Y:Y=\"Positiv\",1,\"\")","v":""},null,null,null,{"$f":"IF(Indtastning!AC:AC=\"Positiv\",1,\"\")","v":""}]
[null,null,null,null,null,null,null,null,null,null,null,null,null,null,null,null,null,null,null,null,null,null,null,null,null,null,null,null,null,null,null,null,null,null,null,null,null,null,null,null,null,null,null,{"$f":"IF(Indtastning!Y:Y=\"Ikke Aflagt\",1,\"\")","v":""},null,null,{"$f":"IF(Indtastning!U:U=\"Positiv\",1,\"\")","v":""},null,null,null,{"$f":"IF(Indtastning!Y:Y=\"Positiv\",1,\"\")","v":""},null,null,null,{"$f":"IF(Indtastning!AC:AC=\"Positiv\",1,\"\")","v":""}]
[null,null,null,null,null,null,null,null,null,null,null,null,null,null,null,null,null,null,null,null,null,null,null,null,null,null,null,null,null,null,null,null,null,null,null,null,null,null,null,null,null,null,null,{"$f":"IF(Indtastning!Y:Y=\"Ikke Aflagt\",1,\"\")","v":""},null,null,{"$f":"IF(Indtastning!U:U=\"Positiv\",1,\"\")","v":""},null,null,null,{"$f":"IF(Indtastning!Y:Y=\"Positiv\",1,\"\")","v":""},null,null,null,{"$f":"IF(Indtastning!AC:AC=\"Positiv\",1,\"\")","v":""}]
[null,null,null,null,null,null,null,null,null,null,null,null,null,null,null,null,null,null,null,null,null,null,null,null,null,null,null,null,null,null,null,null,null,null,null,null,null,null,null,null,null,null,null,{"$f":"IF(Indtastning!Y:Y=\"Ikke Aflagt\",1,\"\")","v":""},null,null,{"$f":"IF(Indtastning!U:U=\"Positiv\",1,\"\")","v":""},null,null,null,{"$f":"IF(Indtastning!Y:Y=\"Positiv\",1,\"\")","v":""},null,null,null,{"$f":"IF(Indtastning!AC:AC=\"Positiv\",1,\"\")","v":""}]
[null,null,null,null,null,null,null,null,null,null,null,null,null,null,null,null,null,null,null,null,null,null,null,null,null,null,null,null,null,null,null,null,null,null,null,null,null,null,null,null,null,null,null,{"$f":"IF(Indtastning!Y:Y=\"Ikke Aflagt\",1,\"\")","v":""},null,null,{"$f":"IF(Indtastning!U:U=\"Positiv\",1,\"\")","v":""},null,null,null,{"$f":"IF(Indtastning!Y:Y=\"Positiv\",1,\"\")","v":""},null,null,null,{"$f":"IF(Indtastning!AC:AC=\"Positiv\",1,\"\")","v":""}]
[null,null,null,null,null,null,null,null,null,null,null,null,null,null,null,null,null,null,null,null,null,null,null,null,null,null,null,null,null,null,null,null,null,null,null,null,null,null,null,null,null,null,null,{"$f":"IF(Indtastning!Y:Y=\"Ikke Aflagt\",1,\"\")","v":""},null,null,{"$f":"IF(Indtastning!U:U=\"Positiv\",1,\"\")","v":""},null,null,null,{"$f":"IF(Indtastning!Y:Y=\"Positiv\",1,\"\")","v":""},null,null,null,{"$f":"IF(Indtastning!AC:AC=\"Positiv\",1,\"\")","v":""}]
[null,null,null,null,null,null,null,null,null,null,null,null,null,null,null,null,null,null,null,null,null,null,null,null,null,null,null,null,null,null,null,null,null,null,null,null,null,null,null,null,null,null,null,{"$f":"IF(Indtastning!Y:Y=\"Ikke Aflagt\",1,\"\")","v":""},null,null,{"$f":"IF(Indtastning!U:U=\"Positiv\",1,\"\")","v":""},null,null,null,{"$f":"IF(Indtastning!Y:Y=\"Positiv\",1,\"\")","v":""},null,null,null,{"$f":"IF(Indtastning!AC:AC=\"Positiv\",1,\"\")","v":""}]
[null,null,null,null,null,null,null,null,null,null,null,null,null,null,null,null,null,null,null,null,null,null,null,null,null,null,null,null,null,null,null,null,null,null,null,null,null,null,null,null,null,null,null,{"$f":"IF(Indtastning!Y:Y=\"Ikke Aflagt\",1,\"\")","v":""},null,null,{"$f":"IF(Indtastning!U:U=\"Positiv\",1,\"\")","v":""},null,null,null,{"$f":"IF(Indtastning!Y:Y=\"Positiv\",1,\"\")","v":""},null,null,null,{"$f":"IF(Indtastning!AC:AC=\"Positiv\",1,\"\")","v":""}]
[null,null,null,null,null,null,null,null,null,null,null,null,null,null,null,null,null,null,null,null,null,null,null,null,null,null,null,null,null,null,null,null,null,null,null,null,null,null,null,null,null,null,null,{"$f":"IF(Indtastning!Y:Y=\"Ikke Aflagt\",1,\"\")","v":""},null,null,{"$f":"IF(Indtastning!U:U=\"Positiv\",1,\"\")","v":""},null,null,null,{"$f":"IF(Indtastning!Y:Y=\"Positiv\",1,\"\")","v":""},null,null,null,{"$f":"IF(Indtastning!AC:AC=\"Positiv\",1,\"\")","v":""}]
[null,null,null,null,null,null,null,null,null,null,null,null,null,null,null,null,null,null,null,null,null,null,null,null,null,null,null,null,null,null,null,null,null,null,null,null,null,null,null,null,null,null,null,{"$f":"IF(Indtastning!Y:Y=\"Ikke Aflagt\",1,\"\")","v":""},null,null,{"$f":"IF(Indtastning!U:U=\"Positiv\",1,\"\")","v":""},null,null,null,{"$f":"IF(Indtastning!Y:Y=\"Positiv\",1,\"\")","v":""},null,null,null,{"$f":"IF(Indtastning!AC:AC=\"Positiv\",1,\"\")","v":""}]
[null,null,null,null,null,null,null,null,null,null,null,null,null,null,null,null,null,null,null,null,null,null,null,null,null,null,null,null,null,null,null,null,null,null,null,null,null,null,null,null,null,null,null,{"$f":"IF(Indtastning!Y:Y=\"Ikke Aflagt\",1,\"\")","v":""},null,null,{"$f":"IF(Indtastning!U:U=\"Positiv\",1,\"\")","v":""},null,null,null,{"$f":"IF(Indtastning!Y:Y=\"Positiv\",1,\"\")","v":""},null,null,null,{"$f":"IF(Indtastning!AC:AC=\"Positiv\",1,\"\")","v":""}]
[null,null,null,null,null,null,null,null,null,null,null,null,null,null,null,null,null,null,null,null,null,null,null,null,null,null,null,null,null,null,null,null,null,null,null,null,null,null,null,null,null,null,null,{"$f":"IF(Indtastning!Y:Y=\"Ikke Aflagt\",1,\"\")","v":""},null,null,{"$f":"IF(Indtastning!U:U=\"Positiv\",1,\"\")","v":""},null,null,null,{"$f":"IF(Indtastning!Y:Y=\"Positiv\",1,\"\")","v":""},null,null,null,{"$f":"IF(Indtastning!AC:AC=\"Positiv\",1,\"\")","v":""}]
[null,null,null,null,null,null,null,null,null,null,null,null,null,null,null,null,null,null,null,null,null,null,null,null,null,null,null,null,null,null,null,null,null,null,null,null,null,null,null,null,null,null,null,{"$f":"IF(Indtastning!Y:Y=\"Ikke Aflagt\",1,\"\")","v":""},null,null,{"$f":"IF(Indtastning!U:U=\"Positiv\",1,\"\")","v":""},null,null,null,{"$f":"IF(Indtastning!Y:Y=\"Positiv\",1,\"\")","v":""},null,null,null,{"$f":"IF(Indtastning!AC:AC=\"Positiv\",1,\"\")","v":""}]
[null,null,null,null,null,null,null,null,null,null,null,null,null,null,null,null,null,null,null,null,null,null,null,null,null,null,null,null,null,null,null,null,null,null,null,null,null,null,null,null,null,null,null,{"$f":"IF(Indtastning!Y:Y=\"Ikke Aflagt\",1,\"\")","v":""},null,null,{"$f":"IF(Indtastning!U:U=\"Positiv\",1,\"\")","v":""},null,null,null,{"$f":"IF(Indtastning!Y:Y=\"Positiv\",1,\"\")","v":""},null,null,null,{"$f":"IF(Indtastning!AC:AC=\"Positiv\",1,\"\")","v":""}]
[null,null,null,null,null,null,null,null,null,null,null,null,null,null,null,null,null,null,null,null,null,null,null,null,null,null,null,null,null,null,null,null,null,null,null,null,null,null,null,null,null,null,null,{"$f":"IF(Indtastning!Y:Y=\"Ikke Aflagt\",1,\"\")","v":""},null,null,{"$f":"IF(Indtastning!U:U=\"Positiv\",1,\"\")","v":""},null,null,null,{"$f":"IF(Indtastning!Y:Y=\"Positiv\",1,\"\")","v":""},null,null,null,{"$f":"IF(Indtastning!AC:AC=\"Positiv\",1,\"\")","v":""}]
[null,null,null,null,null,null,null,null,null,null,null,null,null,null,null,null,null,null,null,null,null,null,null,null,null,null,null,null,null,null,null,null,null,null,null,null,null,null,null,null,null,null,null,{"$f":"IF(Indtastning!Y:Y=\"Ikke Aflagt\",1,\"\")","v":""},null,null,{"$f":"IF(Indtastning!U:U=\"Positiv\",1,\"\")","v":""},null,null,null,{"$f":"IF(Indtastning!Y:Y=\"Positiv\",1,\"\")","v":""},null,null,null,{"$f":"IF(Indtastning!AC:AC=\"Positiv\",1,\"\")","v":""}]
[null,null,null,null,null,null,null,null,null,null,null,null,null,null,null,null,null,null,null,null,null,null,null,null,null,null,null,null,null,null,null,null,null,null,null,null,null,null,null,null,null,null,null,{"$f":"IF(Indtastning!Y:Y=\"Ikke Aflagt\",1,\"\")","v":""},null,null,{"$f":"IF(Indtastning!U:U=\"Positiv\",1,\"\")","v":""},null,null,null,{"$f":"IF(Indtastning!Y:Y=\"Positiv\",1,\"\")","v":""},null,null,null,{"$f":"IF(Indtastning!AC:AC=\"Positiv\",1,\"\")","v":""}]
[null,null,null,null,null,null,null,null,null,null,null,null,null,null,null,null,null,null,null,null,null,null,null,null,null,null,null,null,null,null,null,null,null,null,null,null,null,null,null,null,null,null,null,{"$f":"IF(Indtastning!Y:Y=\"Ikke Aflagt\",1,\"\")","v":""},null,null,{"$f":"IF(Indtastning!U:U=\"Positiv\",1,\"\")","v":""},null,null,null,{"$f":"IF(Indtastning!Y:Y=\"Positiv\",1,\"\")","v":""},null,null,null,{"$f":"IF(Indtastning!AC:AC=\"Positiv\",1,\"\")","v":""}]
[null,null,null,null,null,null,null,null,null,null,null,null,null,null,null,null,null,null,null,null,null,null,null,null,null,null,null,null,null,null,null,null,null,null,null,null,null,null,null,null,null,null,null,{"$f":"IF(Indtastning!Y:Y=\"Ikke Aflagt\",1,\"\")","v":""},null,null,{"$f":"IF(Indtastning!U:U=\"Positiv\",1,\"\")","v":""},null,null,null,{"$f":"IF(Indtastning!Y:Y=\"Positiv\",1,\"\")","v":""},null,null,null,{"$f":"IF(Indtastning!AC:AC=\"Positiv\",1,\"\")","v":""}]
[null,null,null,null,null,null,null,null,null,null,null,null,null,null,null,null,null,null,null,null,null,null,null,null,null,null,null,null,null,null,null,null,null,null,null,null,null,null,null,null,null,null,null,{"$f":"IF(Indtastning!Y:Y=\"Ikke Aflagt\",1,\"\")","v":""},null,null,{"$f":"IF(Indtastning!U:U=\"Positiv\",1,\"\")","v":""},null,null,null,{"$f":"IF(Indtastning!Y:Y=\"Positiv\",1,\"\")","v":""},null,null,null,{"$f":"IF(Indtastning!AC:AC=\"Positiv\",1,\"\")","v":""}]
[null,null,null,null,null,null,null,null,null,null,null,null,null,null,null,null,null,null,null,null,null,null,null,null,null,null,null,null,null,null,null,null,null,null,null,null,null,null,null,null,null,null,null,{"$f":"IF(Indtastning!Y:Y=\"Ikke Aflagt\",1,\"\")","v":""},null,null,{"$f":"IF(Indtastning!U:U=\"Positiv\",1,\"\")","v":""},null,null,null,{"$f":"IF(Indtastning!Y:Y=\"Positiv\",1,\"\")","v":""},null,null,null,{"$f":"IF(Indtastning!AC:AC=\"Positiv\",1,\"\")","v":""}]
[null,null,null,null,null,null,null,null,null,null,null,null,null,null,null,null,null,null,null,null,null,null,null,null,null,null,null,null,null,null,null,null,null,null,null,null,null,null,null,null,null,null,null,{"$f":"IF(Indtastning!Y:Y=\"Ikke Aflagt\",1,\"\")","v":""},null,null,{"$f":"IF(Indtastning!U:U=\"Positiv\",1,\"\")","v":""},null,null,null,{"$f":"IF(Indtastning!Y:Y=\"Positiv\",1,\"\")","v":""},null,null,null,{"$f":"IF(Indtastning!AC:AC=\"Positiv\",1,\"\")","v":""}]
[null,null,null,null,null,null,null,null,null,null,null,null,null,null,null,null,null,null,null,null,null,null,null,null,null,null,null,null,null,null,null,null,null,null,null,null,null,null,null,null,null,null,null,{"$f":"IF(Indtastning!Y:Y=\"Ikke Aflagt\",1,\"\")","v":""},null,null,{"$f":"IF(Indtastning!U:U=\"Positiv\",1,\"\")","v":""},null,null,null,{"$f":"IF(Indtastning!Y:Y=\"Positiv\",1,\"\")","v":""},null,null,null,{"$f":"IF(Indtastning!AC:AC=\"Positiv\",1,\"\")","v":""}]
[null,null,null,null,null,null,null,null,null,null,null,null,null,null,null,null,null,null,null,null,null,null,null,null,null,null,null,null,null,null,null,null,null,null,null,null,null,null,null,null,null,null,null,{"$f":"IF(Indtastning!Y:Y=\"Ikke Aflagt\",1,\"\")","v":""},null,null,{"$f":"IF(Indtastning!U:U=\"Positiv\",1,\"\")","v":""},null,null,null,{"$f":"IF(Indtastning!Y:Y=\"Positiv\",1,\"\")","v":""},null,null,null,{"$f":"IF(Indtastning!AC:AC=\"Positiv\",1,\"\")","v":""}]
[null,null,null,null,null,null,null,null,null,null,null,null,null,null,null,null,null,null,null,null,null,null,null,null,null,null,null,null,null,null,null,null,null,null,null,null,null,null,null,null,null,null,null,{"$f":"IF(Indtastning!Y:Y=\"Ikke Aflagt\",1,\"\")","v":""},null,null,{"$f":"IF(Indtastning!U:U=\"Positiv\",1,\"\")","v":""},null,null,null,{"$f":"IF(Indtastning!Y:Y=\"Positiv\",1,\"\")","v":""},null,null,null,{"$f":"IF(Indtastning!AC:AC=\"Positiv\",1,\"\")","v":""}]
[null,null,null,null,null,null,null,null,null,null,null,null,null,null,null,null,null,null,null,null,null,null,null,null,null,null,null,null,null,null,null,null,null,null,null,null,null,null,null,null,null,null,null,{"$f":"IF(Indtastning!Y:Y=\"Ikke Aflagt\",1,\"\")","v":""},null,null,{"$f":"IF(Indtastning!U:U=\"Positiv\",1,\"\")","v":""},null,null,null,{"$f":"IF(Indtastning!Y:Y=\"Positiv\",1,\"\")","v":""},null,null,null,{"$f":"IF(Indtastning!AC:AC=\"Positiv\",1,\"\")","v":""}]
[null,null,null,null,null,null,null,null,null,null,null,null,null,null,null,null,null,null,null,null,null,null,null,null,null,null,null,null,null,null,null,null,null,null,null,null,null,null,null,null,null,null,null,{"$f":"IF(Indtastning!Y:Y=\"Ikke Aflagt\",1,\"\")","v":""},null,null,{"$f":"IF(Indtastning!U:U=\"Positiv\",1,\"\")","v":""},null,null,null,{"$f":"IF(Indtastning!Y:Y=\"Positiv\",1,\"\")","v":""},null,null,null,{"$f":"IF(Indtastning!AC:AC=\"Positiv\",1,\"\")","v":""}]
[null,null,null,null,null,null,null,null,null,null,null,null,null,null,null,null,null,null,null,null,null,null,null,null,null,null,null,null,null,null,null,null,null,null,null,null,null,null,null,null,null,null,null,{"$f":"IF(Indtastning!Y:Y=\"Ikke Aflagt\",1,\"\")","v":""},null,null,{"$f":"IF(Indtastning!U:U=\"Positiv\",1,\"\")","v":""},null,null,null,{"$f":"IF(Indtastning!Y:Y=\"Positiv\",1,\"\")","v":""},null,null,null,{"$f":"IF(Indtastning!AC:AC=\"Positiv\",1,\"\")","v":""}]
[null,null,null,null,null,null,null,null,null,null,null,null,null,null,null,null,null,null,null,null,null,null,null,null,null,null,null,null,null,null,null,null,null,null,null,null,null,null,null,null,null,null,null,{"$f":"IF(Indtastning!Y:Y=\"Ikke Aflagt\",1,\"\")","v":""},null,null,{"$f":"IF(Indtastning!U:U=\"Positiv\",1,\"\")","v":""},null,null,null,{"$f":"IF(Indtastning!Y:Y=\"Positiv\",1,\"\")","v":""},null,null,null,{"$f":"IF(Indtastning!AC:AC=\"Positiv\",1,\"\")","v":""}]
[null,null,null,null,null,null,null,null,null,null,null,null,null,null,null,null,null,null,null,null,null,null,null,null,null,null,null,null,null,null,null,null,null,null,null,null,null,null,null,null,null,null,null,{"$f":"IF(Indtastning!Y:Y=\"Ikke Aflagt\",1,\"\")","v":""},null,null,{"$f":"IF(Indtastning!U:U=\"Positiv\",1,\"\")","v":""},null,null,null,{"$f":"IF(Indtastning!Y:Y=\"Positiv\",1,\"\")","v":""},null,null,null,{"$f":"IF(Indtastning!AC:AC=\"Positiv\",1,\"\")","v":""}]
[null,null,null,null,null,null,null,null,null,null,null,null,null,null,null,null,null,null,null,null,null,null,null,null,null,null,null,null,null,null,null,null,null,null,null,null,null,null,null,null,null,null,null,{"$f":"IF(Indtastning!Y:Y=\"Ikke Aflagt\",1,\"\")","v":""},null,null,{"$f":"IF(Indtastning!U:U=\"Positiv\",1,\"\")","v":""},null,null,null,{"$f":"IF(Indtastning!Y:Y=\"Positiv\",1,\"\")","v":""},null,null,null,{"$f":"IF(Indtastning!AC:AC=\"Positiv\",1,\"\")","v":""}]
[null,null,null,null,null,null,null,null,null,null,null,null,null,null,null,null,null,null,null,null,null,null,null,null,null,null,null,null,null,null,null,null,null,null,null,null,null,null,null,null,null,null,null,{"$f":"IF(Indtastning!Y:Y=\"Ikke Aflagt\",1,\"\")","v":""},null,null,{"$f":"IF(Indtastning!U:U=\"Positiv\",1,\"\")","v":""},null,null,null,{"$f":"IF(Indtastning!Y:Y=\"Positiv\",1,\"\")","v":""},null,null,null,{"$f":"IF(Indtastning!AC:AC=\"Positiv\",1,\"\")","v":""}]
[null,null,null,null,null,null,null,null,null,null,null,null,null,null,null,null,null,null,null,null,null,null,null,null,null,null,null,null,null,null,null,null,null,null,null,null,null,null,null,null,null,null,null,{"$f":"IF(Indtastning!Y:Y=\"Ikke Aflagt\",1,\"\")","v":""},null,null,{"$f":"IF(Indtastning!U:U=\"Positiv\",1,\"\")","v":""},null,null,null,{"$f":"IF(Indtastning!Y:Y=\"Positiv\",1,\"\")","v":""},null,null,null,{"$f":"IF(Indtastning!AC:AC=\"Positiv\",1,\"\")","v":""}]
[null,null,null,null,null,null,null,null,null,null,null,null,null,null,null,null,null,null,null,null,null,null,null,null,null,null,null,null,null,null,null,null,null,null,null,null,null,null,null,null,null,null,null,{"$f":"IF(Indtastning!Y:Y=\"Ikke Aflagt\",1,\"\")","v":""},null,null,{"$f":"IF(Indtastning!U:U=\"Positiv\",1,\"\")","v":""},null,null,null,{"$f":"IF(Indtastning!Y:Y=\"Positiv\",1,\"\")","v":""},null,null,null,{"$f":"IF(Indtastning!AC:AC=\"Positiv\",1,\"\")","v":""}]
[null,null,null,null,null,null,null,null,null,null,null,null,null,null,null,null,null,null,null,null,null,null,null,null,null,null,null,null,null,null,null,null,null,null,null,null,null,null,null,null,null,null,null,{"$f":"IF(Indtastning!Y:Y=\"Ikke Aflagt\",1,\"\")","v":""},null,null,{"$f":"IF(Indtastning!U:U=\"Positiv\",1,\"\")","v":""},null,null,null,{"$f":"IF(Indtastning!Y:Y=\"Positiv\",1,\"\")","v":""},null,null,null,{"$f":"IF(Indtastning!AC:AC=\"Positiv\",1,\"\")","v":""}]
[null,null,null,null,null,null,null,null,null,null,null,null,null,null,null,null,null,null,null,null,null,null,null,null,null,null,null,null,null,null,null,null,null,null,null,null,null,null,null,null,null,null,null,{"$f":"IF(Indtastning!Y:Y=\"Ikke Aflagt\",1,\"\")","v":""},null,null,{"$f":"IF(Indtastning!U:U=\"Positiv\",1,\"\")","v":""},null,null,null,{"$f":"IF(Indtastning!Y:Y=\"Positiv\",1,\"\")","v":""},null,null,null,{"$f":"IF(Indtastning!AC:AC=\"Positiv\",1,\"\")","v":""}]
[null,null,null,null,null,null,null,null,null,null,null,null,null,null,null,null,null,null,null,null,null,null,null,null,null,null,null,null,null,null,null,null,null,null,null,null,null,null,null,null,null,null,null,{"$f":"IF(Indtastning!Y:Y=\"Ikke Aflagt\",1,\"\")","v":""},null,null,{"$f":"IF(Indtastning!U:U=\"Positiv\",1,\"\")","v":""},null,null,null,{"$f":"IF(Indtastning!Y:Y=\"Positiv\",1,\"\")","v":""},null,null,null,{"$f":"IF(Indtastning!AC:AC=\"Positiv\",1,\"\")","v":""}]
[null,null,null,null,null,null,null,null,null,null,null,null,null,null,null,null,null,null,null,null,null,null,null,null,null,null,null,null,null,null,null,null,null,null,null,null,null,null,null,null,null,null,null,{"$f":"IF(Indtastning!Y:Y=\"Ikke Aflagt\",1,\"\")","v":""},null,null,{"$f":"IF(Indtastning!U:U=\"Positiv\",1,\"\")","v":""},null,null,null,{"$f":"IF(Indtastning!Y:Y=\"Positiv\",1,\"\")","v":""},null,null,null,{"$f":"IF(Indtastning!AC:AC=\"Positiv\",1,\"\")","v":""}]
[null,null,null,null,null,null,null,null,null,null,null,null,null,null,null,null,null,null,null,null,null,null,null,null,null,null,null,null,null,null,null,null,null,null,null,null,null,null,null,null,null,null,null,{"$f":"IF(Indtastning!Y:Y=\"Ikke Aflagt\",1,\"\")","v":""},null,null,{"$f":"IF(Indtastning!U:U=\"Positiv\",1,\"\")","v":""},null,null,null,{"$f":"IF(Indtastning!Y:Y=\"Positiv\",1,\"\")","v":""},null,null,null,{"$f":"IF(Indtastning!AC:AC=\"Positiv\",1,\"\")","v":""}]
[null,null,null,null,null,null,null,null,null,null,null,null,null,null,null,null,null,null,null,null,null,null,null,null,null,null,null,null,null,null,null,null,null,null,null,null,null,null,null,null,null,null,null,{"$f":"IF(Indtastning!Y:Y=\"Ikke Aflagt\",1,\"\")","v":""},null,null,{"$f":"IF(Indtastning!U:U=\"Positiv\",1,\"\")","v":""},null,null,null,{"$f":"IF(Indtastning!Y:Y=\"Positiv\",1,\"\")","v":""},null,null,null,{"$f":"IF(Indtastning!AC:AC=\"Positiv\",1,\"\")","v":""}]
[null,null,null,null,null,null,null,null,null,null,null,null,null,null,null,null,null,null,null,null,null,null,null,null,null,null,null,null,null,null,null,null,null,null,null,null,null,null,null,null,null,null,null,{"$f":"IF(Indtastning!Y:Y=\"Ikke Aflagt\",1,\"\")","v":""},null,null,{"$f":"IF(Indtastning!U:U=\"Positiv\",1,\"\")","v":""},null,null,null,{"$f":"IF(Indtastning!Y:Y=\"Positiv\",1,\"\")","v":""},null,null,null,{"$f":"IF(Indtastning!AC:AC=\"Positiv\",1,\"\")","v":""}]
[null,null,null,null,null,null,null,null,null,null,null,null,null,null,null,null,null,null,null,null,null,null,null,null,null,null,null,null,null,null,null,null,null,null,null,null,null,null,null,null,null,null,null,{"$f":"IF(Indtastning!Y:Y=\"Ikke Aflagt\",1,\"\")","v":""},null,null,{"$f":"IF(Indtastning!U:U=\"Positiv\",1,\"\")","v":""},null,null,null,{"$f":"IF(Indtastning!Y:Y=\"Positiv\",1,\"\")","v":""},null,null,null,{"$f":"IF(Indtastning!AC:AC=\"Positiv\",1,\"\")","v":""}]
[null,null,null,null,null,null,null,null,null,null,null,null,null,null,null,null,null,null,null,null,null,null,null,null,null,null,null,null,null,null,null,null,null,null,null,null,null,null,null,null,null,null,null,{"$f":"IF(Indtastning!Y:Y=\"Ikke Aflagt\",1,\"\")","v":""},null,null,{"$f":"IF(Indtastning!U:U=\"Positiv\",1,\"\")","v":""},null,null,null,{"$f":"IF(Indtastning!Y:Y=\"Positiv\",1,\"\")","v":""},null,null,null,{"$f":"IF(Indtastning!AC:AC=\"Positiv\",1,\"\")","v":""}]
[null,null,null,null,null,null,null,null,null,null,null,null,null,null,null,null,null,null,null,null,null,null,null,null,null,null,null,null,null,null,null,null,null,null,null,null,null,null,null,null,null,null,null,{"$f":"IF(Indtastning!Y:Y=\"Ikke Aflagt\",1,\"\")","v":""},null,null,{"$f":"IF(Indtastning!U:U=\"Positiv\",1,\"\")","v":""},null,null,null,{"$f":"IF(Indtastning!Y:Y=\"Positiv\",1,\"\")","v":""},null,null,null,{"$f":"IF(Indtastning!AC:AC=\"Positiv\",1,\"\")","v":""}]
[null,null,null,null,null,null,null,null,null,null,null,null,null,null,null,null,null,null,null,null,null,null,null,null,null,null,null,null,null,null,null,null,null,null,null,null,null,null,null,null,null,null,null,{"$f":"IF(Indtastning!Y:Y=\"Ikke Aflagt\",1,\"\")","v":""},null,null,{"$f":"IF(Indtastning!U:U=\"Positiv\",1,\"\")","v":""},null,null,null,{"$f":"IF(Indtastning!Y:Y=\"Positiv\",1,\"\")","v":""},null,null,null,{"$f":"IF(Indtastning!AC:AC=\"Positiv\",1,\"\")","v":""}]
[null,null,null,null,null,null,null,null,null,null,null,null,null,null,null,null,null,null,null,null,null,null,null,null,null,null,null,null,null,null,null,null,null,null,null,null,null,null,null,null,null,null,null,{"$f":"IF(Indtastning!Y:Y=\"Ikke Aflagt\",1,\"\")","v":""},null,null,{"$f":"IF(Indtastning!U:U=\"Positiv\",1,\"\")","v":""},null,null,null,{"$f":"IF(Indtastning!Y:Y=\"Positiv\",1,\"\")","v":""},null,null,null,{"$f":"IF(Indtastning!AC:AC=\"Positiv\",1,\"\")","v":""}]
[null,null,null,null,null,null,null,null,null,null,null,null,null,null,null,null,null,null,null,null,null,null,null,null,null,null,null,null,null,null,null,null,null,null,null,null,null,null,null,null,null,null,null,{"$f":"IF(Indtastning!Y:Y=\"Ikke Aflagt\",1,\"\")","v":""},null,null,{"$f":"IF(Indtastning!U:U=\"Positiv\",1,\"\")","v":""},null,null,null,{"$f":"IF(Indtastning!Y:Y=\"Positiv\",1,\"\")","v":""},null,null,null,{"$f":"IF(Indtastning!AC:AC=\"Positiv\",1,\"\")","v":""}]
[null,null,null,null,null,null,null,null,null,null,null,null,null,null,null,null,null,null,null,null,null,null,null,null,null,null,null,null,null,null,null,null,null,null,null,null,null,null,null,null,null,null,null,{"$f":"IF(Indtastning!Y:Y=\"Ikke Aflagt\",1,\"\")","v":""},null,null,{"$f":"IF(Indtastning!U:U=\"Positiv\",1,\"\")","v":""},null,null,null,{"$f":"IF(Indtastning!Y:Y=\"Positiv\",1,\"\")","v":""},null,null,null,{"$f":"IF(Indtastning!AC:AC=\"Positiv\",1,\"\")","v":""}]
[null,null,null,null,null,null,null,null,null,null,null,null,null,null,null,null,null,null,null,null,null,null,null,null,null,null,null,null,null,null,null,null,null,null,null,null,null,null,null,null,null,null,null,{"$f":"IF(Indtastning!Y:Y=\"Ikke Aflagt\",1,\"\")","v":""},null,null,{"$f":"IF(Indtastning!U:U=\"Positiv\",1,\"\")","v":""},null,null,null,{"$f":"IF(Indtastning!Y:Y=\"Positiv\",1,\"\")","v":""},null,null,null,{"$f":"IF(Indtastning!AC:AC=\"Positiv\",1,\"\")","v":""}]
[null,null,null,null,null,null,null,null,null,null,null,null,null,null,null,null,null,null,null,null,null,null,null,null,null,null,null,null,null,null,null,null,null,null,null,null,null,null,null,null,null,null,null,{"$f":"IF(Indtastning!Y:Y=\"Ikke Aflagt\",1,\"\")","v":""},null,null,{"$f":"IF(Indtastning!U:U=\"Positiv\",1,\"\")","v":""},null,null,null,{"$f":"IF(Indtastning!Y:Y=\"Positiv\",1,\"\")","v":""},null,null,null,{"$f":"IF(Indtastning!AC:AC=\"Positiv\",1,\"\")","v":""}]
[null,null,null,null,null,null,null,null,null,null,null,null,null,null,null,null,null,null,null,null,null,null,null,null,null,null,null,null,null,null,null,null,null,null,null,null,null,null,null,null,null,null,null,{"$f":"IF(Indtastning!Y:Y=\"Ikke Aflagt\",1,\"\")","v":""},null,null,{"$f":"IF(Indtastning!U:U=\"Positiv\",1,\"\")","v":""},null,null,null,{"$f":"IF(Indtastning!Y:Y=\"Positiv\",1,\"\")","v":""},null,null,null,{"$f":"IF(Indtastning!AC:AC=\"Positiv\",1,\"\")","v":""}]
[null,null,null,null,null,null,null,null,null,null,null,null,null,null,null,null,null,null,null,null,null,null,null,null,null,null,null,null,null,null,null,null,null,null,null,null,null,null,null,null,null,null,null,{"$f":"IF(Indtastning!Y:Y=\"Ikke Aflagt\",1,\"\")","v":""},null,null,{"$f":"IF(Indtastning!U:U=\"Positiv\",1,\"\")","v":""},null,null,null,{"$f":"IF(Indtastning!Y:Y=\"Positiv\",1,\"\")","v":""},null,null,null,{"$f":"IF(Indtastning!AC:AC=\"Positiv\",1,\"\")","v":""}]
[null,null,null,null,null,null,null,null,null,null,null,null,null,null,null,null,null,null,null,null,null,null,null,null,null,null,null,null,null,null,null,null,null,null,null,null,null,null,null,null,null,null,null,{"$f":"IF(Indtastning!Y:Y=\"Ikke Aflagt\",1,\"\")","v":""},null,null,{"$f":"IF(Indtastning!U:U=\"Positiv\",1,\"\")","v":""},null,null,null,{"$f":"IF(Indtastning!Y:Y=\"Positiv\",1,\"\")","v":""},null,null,null,{"$f":"IF(Indtastning!AC:AC=\"Positiv\",1,\"\")","v":""}]
[null,null,null,null,null,null,null,null,null,null,null,null,null,null,null,null,null,null,null,null,null,null,null,null,null,null,null,null,null,null,null,null,null,null,null,null,null,null,null,null,null,null,null,{"$f":"IF(Indtastning!Y:Y=\"Ikke Aflagt\",1,\"\")","v":""},null,null,{"$f":"IF(Indtastning!U:U=\"Positiv\",1,\"\")","v":""},null,null,null,{"$f":"IF(Indtastning!Y:Y=\"Positiv\",1,\"\")","v":""},null,null,null,{"$f":"IF(Indtastning!AC:AC=\"Positiv\",1,\"\")","v":""}]
[null,null,null,null,null,null,null,null,null,null,null,null,null,null,null,null,null,null,null,null,null,null,null,null,null,null,null,null,null,null,null,null,null,null,null,null,null,null,null,null,null,null,null,{"$f":"IF(Indtastning!Y:Y=\"Ikke Aflagt\",1,\"\")","v":""},null,null,{"$f":"IF(Indtastning!U:U=\"Positiv\",1,\"\")","v":""},null,null,null,{"$f":"IF(Indtastning!Y:Y=\"Positiv\",1,\"\")","v":""},null,null,null,{"$f":"IF(Indtastning!AC:AC=\"Positiv\",1,\"\")","v":""}]
[null,null,null,null,null,null,null,null,null,null,null,null,null,null,null,null,null,null,null,null,null,null,null,null,null,null,null,null,null,null,null,null,null,null,null,null,null,null,null,null,null,null,null,{"$f":"IF(Indtastning!Y:Y=\"Ikke Aflagt\",1,\"\")","v":""},null,null,{"$f":"IF(Indtastning!U:U=\"Positiv\",1,\"\")","v":""},null,null,null,{"$f":"IF(Indtastning!Y:Y=\"Positiv\",1,\"\")","v":""},null,null,null,{"$f":"IF(Indtastning!AC:AC=\"Positiv\",1,\"\")","v":""}]
[null,null,null,null,null,null,null,null,null,null,null,null,null,null,null,null,null,null,null,null,null,null,null,null,null,null,null,null,null,null,null,null,null,null,null,null,null,null,null,null,null,null,null,{"$f":"IF(Indtastning!Y:Y=\"Ikke Aflagt\",1,\"\")","v":""},null,null,{"$f":"IF(Indtastning!U:U=\"Positiv\",1,\"\")","v":""},null,null,null,{"$f":"IF(Indtastning!Y:Y=\"Positiv\",1,\"\")","v":""},null,null,null,{"$f":"IF(Indtastning!AC:AC=\"Positiv\",1,\"\")","v":""}]
[null,null,null,null,null,null,null,null,null,null,null,null,null,null,null,null,null,null,null,null,null,null,null,null,null,null,null,null,null,null,null,null,null,null,null,null,null,null,null,null,null,null,null,{"$f":"IF(Indtastning!Y:Y=\"Ikke Aflagt\",1,\"\")","v":""},null,null,{"$f":"IF(Indtastning!U:U=\"Positiv\",1,\"\")","v":""},null,null,null,{"$f":"IF(Indtastning!Y:Y=\"Positiv\",1,\"\")","v":""},null,null,null,{"$f":"IF(Indtastning!AC:AC=\"Positiv\",1,\"\")","v":""}]
[null,null,null,null,null,null,null,null,null,null,null,null,null,null,null,null,null,null,null,null,null,null,null,null,null,null,null,null,null,null,null,null,null,null,null,null,null,null,null,null,null,null,null,{"$f":"IF(Indtastning!Y:Y=\"Ikke Aflagt\",1,\"\")","v":""},null,null,{"$f":"IF(Indtastning!U:U=\"Positiv\",1,\"\")","v":""},null,null,null,{"$f":"IF(Indtastning!Y:Y=\"Positiv\",1,\"\")","v":""},null,null,null,{"$f":"IF(Indtastning!AC:AC=\"Positiv\",1,\"\")","v":""}]
[null,null,null,null,null,null,null,null,null,null,null,null,null,null,null,null,null,null,null,null,null,null,null,null,null,null,null,null,null,null,null,null,null,null,null,null,null,null,null,null,null,null,null,{"$f":"IF(Indtastning!Y:Y=\"Ikke Aflagt\",1,\"\")","v":""},null,null,{"$f":"IF(Indtastning!U:U=\"Positiv\",1,\"\")","v":""},null,null,null,{"$f":"IF(Indtastning!Y:Y=\"Positiv\",1,\"\")","v":""},null,null,null,{"$f":"IF(Indtastning!AC:AC=\"Positiv\",1,\"\")","v":""}]
[null,null,null,null,null,null,null,null,null,null,null,null,null,null,null,null,null,null,null,null,null,null,null,null,null,null,null,null,null,null,null,null,null,null,null,null,null,null,null,null,null,null,null,{"$f":"IF(Indtastning!Y:Y=\"Ikke Aflagt\",1,\"\")","v":""},null,null,{"$f":"IF(Indtastning!U:U=\"Positiv\",1,\"\")","v":""},null,null,null,{"$f":"IF(Indtastning!Y:Y=\"Positiv\",1,\"\")","v":""},null,null,null,{"$f":"IF(Indtastning!AC:AC=\"Positiv\",1,\"\")","v":""}]
[null,null,null,null,null,null,null,null,null,null,null,null,null,null,null,null,null,null,null,null,null,null,null,null,null,null,null,null,null,null,null,null,null,null,null,null,null,null,null,null,null,null,null,{"$f":"IF(Indtastning!Y:Y=\"Ikke Aflagt\",1,\"\")","v":""},null,null,{"$f":"IF(Indtastning!U:U=\"Positiv\",1,\"\")","v":""},null,null,null,{"$f":"IF(Indtastning!Y:Y=\"Positiv\",1,\"\")","v":""},null,null,null,{"$f":"IF(Indtastning!AC:AC=\"Positiv\",1,\"\")","v":""}]
[null,null,null,null,null,null,null,null,null,null,null,null,null,null,null,null,null,null,null,null,null,null,null,null,null,null,null,null,null,null,null,null,null,null,null,null,null,null,null,null,null,null,null,{"$f":"IF(Indtastning!Y:Y=\"Ikke Aflagt\",1,\"\")","v":""},null,null,{"$f":"IF(Indtastning!U:U=\"Positiv\",1,\"\")","v":""},null,null,null,{"$f":"IF(Indtastning!Y:Y=\"Positiv\",1,\"\")","v":""},null,null,null,{"$f":"IF(Indtastning!AC:AC=\"Positiv\",1,\"\")","v":""}]
[null,null,null,null,null,null,null,null,null,null,null,null,null,null,null,null,null,null,null,null,null,null,null,null,null,null,null,null,null,null,null,null,null,null,null,null,null,null,null,null,null,null,null,{"$f":"IF(Indtastning!Y:Y=\"Ikke Aflagt\",1,\"\")","v":""},null,null,{"$f":"IF(Indtastning!U:U=\"Positiv\",1,\"\")","v":""},null,null,null,{"$f":"IF(Indtastning!Y:Y=\"Positiv\",1,\"\")","v":""},null,null,null,{"$f":"IF(Indtastning!AC:AC=\"Positiv\",1,\"\")","v":""}]
[null,null,null,null,null,null,null,null,null,null,null,null,null,null,null,null,null,null,null,null,null,null,null,null,null,null,null,null,null,null,null,null,null,null,null,null,null,null,null,null,null,null,null,{"$f":"IF(Indtastning!Y:Y=\"Ikke Aflagt\",1,\"\")","v":""},null,null,{"$f":"IF(Indtastning!U:U=\"Positiv\",1,\"\")","v":""},null,null,null,{"$f":"IF(Indtastning!Y:Y=\"Positiv\",1,\"\")","v":""},null,null,null,{"$f":"IF(Indtastning!AC:AC=\"Positiv\",1,\"\")","v":""}]
[null,null,null,null,null,null,null,null,null,null,null,null,null,null,null,null,null,null,null,null,null,null,null,null,null,null,null,null,null,null,null,null,null,null,null,null,null,null,null,null,null,null,null,{"$f":"IF(Indtastning!Y:Y=\"Ikke Aflagt\",1,\"\")","v":""},null,null,{"$f":"IF(Indtastning!U:U=\"Positiv\",1,\"\")","v":""},null,null,null,{"$f":"IF(Indtastning!Y:Y=\"Positiv\",1,\"\")","v":""},null,null,null,{"$f":"IF(Indtastning!AC:AC=\"Positiv\",1,\"\")","v":""}]
[null,null,null,null,null,null,null,null,null,null,null,null,null,null,null,null,null,null,null,null,null,null,null,null,null,null,null,null,null,null,null,null,null,null,null,null,null,null,null,null,null,null,null,{"$f":"IF(Indtastning!Y:Y=\"Ikke Aflagt\",1,\"\")","v":""},null,null,{"$f":"IF(Indtastning!U:U=\"Positiv\",1,\"\")","v":""},null,null,null,{"$f":"IF(Indtastning!Y:Y=\"Positiv\",1,\"\")","v":""},null,null,null,{"$f":"IF(Indtastning!AC:AC=\"Positiv\",1,\"\")","v":""}]
[null,null,null,null,null,null,null,null,null,null,null,null,null,null,null,null,null,null,null,null,null,null,null,null,null,null,null,null,null,null,null,null,null,null,null,null,null,null,null,null,null,null,null,{"$f":"IF(Indtastning!Y:Y=\"Ikke Aflagt\",1,\"\")","v":""},null,null,{"$f":"IF(Indtastning!U:U=\"Positiv\",1,\"\")","v":""},null,null,null,{"$f":"IF(Indtastning!Y:Y=\"Positiv\",1,\"\")","v":""},null,null,null,{"$f":"IF(Indtastning!AC:AC=\"Positiv\",1,\"\")","v":""}]
[null,null,null,null,null,null,null,null,null,null,null,null,null,null,null,null,null,null,null,null,null,null,null,null,null,null,null,null,null,null,null,null,null,null,null,null,null,null,null,null,null,null,null,{"$f":"IF(Indtastning!Y:Y=\"Ikke Aflagt\",1,\"\")","v":""},null,null,{"$f":"IF(Indtastning!U:U=\"Positiv\",1,\"\")","v":""},null,null,null,{"$f":"IF(Indtastning!Y:Y=\"Positiv\",1,\"\")","v":""},null,null,null,{"$f":"IF(Indtastning!AC:AC=\"Positiv\",1,\"\")","v":""}]
[null,null,null,null,null,null,null,null,null,null,null,null,null,null,null,null,null,null,null,null,null,null,null,null,null,null,null,null,null,null,null,null,null,null,null,null,null,null,null,null,null,null,null,{"$f":"IF(Indtastning!Y:Y=\"Ikke Aflagt\",1,\"\")","v":""},null,null,{"$f":"IF(Indtastning!U:U=\"Positiv\",1,\"\")","v":""},null,null,null,{"$f":"IF(Indtastning!Y:Y=\"Positiv\",1,\"\")","v":""},null,null,null,{"$f":"IF(Indtastning!AC:AC=\"Positiv\",1,\"\")","v":""}]
[null,null,null,null,null,null,null,null,null,null,null,null,null,null,null,null,null,null,null,null,null,null,null,null,null,null,null,null,null,null,null,null,null,null,null,null,null,null,null,null,null,null,null,{"$f":"IF(Indtastning!Y:Y=\"Ikke Aflagt\",1,\"\")","v":""},null,null,{"$f":"IF(Indtastning!U:U=\"Positiv\",1,\"\")","v":""},null,null,null,{"$f":"IF(Indtastning!Y:Y=\"Positiv\",1,\"\")","v":""},null,null,null,{"$f":"IF(Indtastning!AC:AC=\"Positiv\",1,\"\")","v":""}]
[null,null,null,null,null,null,null,null,null,null,null,null,null,null,null,null,null,null,null,null,null,null,null,null,null,null,null,null,null,null,null,null,null,null,null,null,null,null,null,null,null,null,null,{"$f":"IF(Indtastning!Y:Y=\"Ikke Aflagt\",1,\"\")","v":""},null,null,{"$f":"IF(Indtastning!U:U=\"Positiv\",1,\"\")","v":""},null,null,null,{"$f":"IF(Indtastning!Y:Y=\"Positiv\",1,\"\")","v":""},null,null,null,{"$f":"IF(Indtastning!AC:AC=\"Positiv\",1,\"\")","v":""}]
[null,null,null,null,null,null,null,null,null,null,null,null,null,null,null,null,null,null,null,null,null,null,null,null,null,null,null,null,null,null,null,null,null,null,null,null,null,null,null,null,null,null,null,{"$f":"IF(Indtastning!Y:Y=\"Ikke Aflagt\",1,\"\")","v":""},null,null,{"$f":"IF(Indtastning!U:U=\"Positiv\",1,\"\")","v":""},null,null,null,{"$f":"IF(Indtastning!Y:Y=\"Positiv\",1,\"\")","v":""},null,null,null,{"$f":"IF(Indtastning!AC:AC=\"Positiv\",1,\"\")","v":""}]
[null,null,null,null,null,null,null,null,null,null,null,null,null,null,null,null,null,null,null,null,null,null,null,null,null,null,null,null,null,null,null,null,null,null,null,null,null,null,null,null,null,null,null,{"$f":"IF(Indtastning!Y:Y=\"Ikke Aflagt\",1,\"\")","v":""},null,null,{"$f":"IF(Indtastning!U:U=\"Positiv\",1,\"\")","v":""},null,null,null,{"$f":"IF(Indtastning!Y:Y=\"Positiv\",1,\"\")","v":""},null,null,null,{"$f":"IF(Indtastning!AC:AC=\"Positiv\",1,\"\")","v":""}]
[null,null,null,null,null,null,null,null,null,null,null,null,null,null,null,null,null,null,null,null,null,null,null,null,null,null,null,null,null,null,null,null,null,null,null,null,null,null,null,null,null,null,null,{"$f":"IF(Indtastning!Y:Y=\"Ikke Aflagt\",1,\"\")","v":""},null,null,{"$f":"IF(Indtastning!U:U=\"Positiv\",1,\"\")","v":""},null,null,null,{"$f":"IF(Indtastning!Y:Y=\"Positiv\",1,\"\")","v":""},null,null,null,{"$f":"IF(Indtastning!AC:AC=\"Positiv\",1,\"\")","v":""}]
[null,null,null,null,null,null,null,null,null,null,null,null,null,null,null,null,null,null,null,null,null,null,null,null,null,null,null,null,null,null,null,null,null,null,null,null,null,null,null,null,null,null,null,{"$f":"IF(Indtastning!Y:Y=\"Ikke Aflagt\",1,\"\")","v":""},null,null,{"$f":"IF(Indtastning!U:U=\"Positiv\",1,\"\")","v":""},null,null,null,{"$f":"IF(Indtastning!Y:Y=\"Positiv\",1,\"\")","v":""},null,null,null,{"$f":"IF(Indtastning!AC:AC=\"Positiv\",1,\"\")","v":""}]
[null,null,null,null,null,null,null,null,null,null,null,null,null,null,null,null,null,null,null,null,null,null,null,null,null,null,null,null,null,null,null,null,null,null,null,null,null,null,null,null,null,null,null,{"$f":"IF(Indtastning!Y:Y=\"Ikke Aflagt\",1,\"\")","v":""},null,null,{"$f":"IF(Indtastning!U:U=\"Positiv\",1,\"\")","v":""},null,null,null,{"$f":"IF(Indtastning!Y:Y=\"Positiv\",1,\"\")","v":""},null,null,null,{"$f":"IF(Indtastning!AC:AC=\"Positiv\",1,\"\")","v":""}]
[null,null,null,null,null,null,null,null,null,null,null,null,null,null,null,null,null,null,null,null,null,null,null,null,null,null,null,null,null,null,null,null,null,null,null,null,null,null,null,null,null,null,null,{"$f":"IF(Indtastning!Y:Y=\"Ikke Aflagt\",1,\"\")","v":""},null,null,{"$f":"IF(Indtastning!U:U=\"Positiv\",1,\"\")","v":""},null,null,null,{"$f":"IF(Indtastning!Y:Y=\"Positiv\",1,\"\")","v":""},null,null,null,{"$f":"IF(Indtastning!AC:AC=\"Positiv\",1,\"\")","v":""}]
[null,null,null,null,null,null,null,null,null,null,null,null,null,null,null,null,null,null,null,null,null,null,null,null,null,null,null,null,null,null,null,null,null,null,null,null,null,null,null,null,null,null,null,{"$f":"IF(Indtastning!Y:Y=\"Ikke Aflagt\",1,\"\")","v":""},null,null,{"$f":"IF(Indtastning!U:U=\"Positiv\",1,\"\")","v":""},null,null,null,{"$f":"IF(Indtastning!Y:Y=\"Positiv\",1,\"\")","v":""},null,null,null,{"$f":"IF(Indtastning!AC:AC=\"Positiv\",1,\"\")","v":""}]
[null,null,null,null,null,null,null,null,null,null,null,null,null,null,null,null,null,null,null,null,null,null,null,null,null,null,null,null,null,null,null,null,null,null,null,null,null,null,null,null,null,null,null,{"$f":"IF(Indtastning!Y:Y=\"Ikke Aflagt\",1,\"\")","v":""},null,null,{"$f":"IF(Indtastning!U:U=\"Positiv\",1,\"\")","v":""},null,null,null,{"$f":"IF(Indtastning!Y:Y=\"Positiv\",1,\"\")","v":""},null,null,null,{"$f":"IF(Indtastning!AC:AC=\"Positiv\",1,\"\")","v":""}]
[null,null,null,null,null,null,null,null,null,null,null,null,null,null,null,null,null,null,null,null,null,null,null,null,null,null,null,null,null,null,null,null,null,null,null,null,null,null,null,null,null,null,null,{"$f":"IF(Indtastning!Y:Y=\"Ikke Aflagt\",1,\"\")","v":""},null,null,{"$f":"IF(Indtastning!U:U=\"Positiv\",1,\"\")","v":""},null,null,null,{"$f":"IF(Indtastning!Y:Y=\"Positiv\",1,\"\")","v":""},null,null,null,{"$f":"IF(Indtastning!AC:AC=\"Positiv\",1,\"\")","v":""}]
[null,null,null,null,null,null,null,null,null,null,null,null,null,null,null,null,null,null,null,null,null,null,null,null,null,null,null,null,null,null,null,null,null,null,null,null,null,null,null,null,null,null,null,{"$f":"IF(Indtastning!Y:Y=\"Ikke Aflagt\",1,\"\")","v":""},null,null,{"$f":"IF(Indtastning!U:U=\"Positiv\",1,\"\")","v":""},null,null,null,{"$f":"IF(Indtastning!Y:Y=\"Positiv\",1,\"\")","v":""},null,null,null,{"$f":"IF(Indtastning!AC:AC=\"Positiv\",1,\"\")","v":""}]
[null,null,null,null,null,null,null,null,null,null,null,null,null,null,null,null,null,null,null,null,null,null,null,null,null,null,null,null,null,null,null,null,null,null,null,null,null,null,null,null,null,null,null,{"$f":"IF(Indtastning!Y:Y=\"Ikke Aflagt\",1,\"\")","v":""},null,null,{"$f":"IF(Indtastning!U:U=\"Positiv\",1,\"\")","v":""},null,null,null,{"$f":"IF(Indtastning!Y:Y=\"Positiv\",1,\"\")","v":""},null,null,null,{"$f":"IF(Indtastning!AC:AC=\"Positiv\",1,\"\")","v":""}]
[null,null,null,null,null,null,null,null,null,null,null,null,null,null,null,null,null,null,null,null,null,null,null,null,null,null,null,null,null,null,null,null,null,null,null,null,null,null,null,null,null,null,null,{"$f":"IF(Indtastning!Y:Y=\"Ikke Aflagt\",1,\"\")","v":""},null,null,{"$f":"IF(Indtastning!U:U=\"Positiv\",1,\"\")","v":""},null,null,null,{"$f":"IF(Indtastning!Y:Y=\"Positiv\",1,\"\")","v":""},null,null,null,{"$f":"IF(Indtastning!AC:AC=\"Positiv\",1,\"\")","v":""}]
[null,null,null,null,null,null,null,null,null,null,null,null,null,null,null,null,null,null,null,null,null,null,null,null,null,null,null,null,null,null,null,null,null,null,null,null,null,null,null,null,null,null,null,{"$f":"IF(Indtastning!Y:Y=\"Ikke Aflagt\",1,\"\")","v":""},null,null,{"$f":"IF(Indtastning!U:U=\"Positiv\",1,\"\")","v":""},null,null,null,{"$f":"IF(Indtastning!Y:Y=\"Positiv\",1,\"\")","v":""},null,null,null,{"$f":"IF(Indtastning!AC:AC=\"Positiv\",1,\"\")","v":""}]
[null,null,null,null,null,null,null,null,null,null,null,null,null,null,null,null,null,null,null,null,null,null,null,null,null,null,null,null,null,null,null,null,null,null,null,null,null,null,null,null,null,null,null,{"$f":"IF(Indtastning!Y:Y=\"Ikke Aflagt\",1,\"\")","v":""},null,null,{"$f":"IF(Indtastning!U:U=\"Positiv\",1,\"\")","v":""},null,null,null,{"$f":"IF(Indtastning!Y:Y=\"Positiv\",1,\"\")","v":""},null,null,null,{"$f":"IF(Indtastning!AC:AC=\"Positiv\",1,\"\")","v":""}]
[null,null,null,null,null,null,null,null,null,null,null,null,null,null,null,null,null,null,null,null,null,null,null,null,null,null,null,null,null,null,null,null,null,null,null,null,null,null,null,null,null,null,null,{"$f":"IF(Indtastning!Y:Y=\"Ikke Aflagt\",1,\"\")","v":""},null,null,{"$f":"IF(Indtastning!U:U=\"Positiv\",1,\"\")","v":""},null,null,null,{"$f":"IF(Indtastning!Y:Y=\"Positiv\",1,\"\")","v":""},null,null,null,{"$f":"IF(Indtastning!AC:AC=\"Positiv\",1,\"\")","v":""}]
[null,null,null,null,null,null,null,null,null,null,null,null,null,null,null,null,null,null,null,null,null,null,null,null,null,null,null,null,null,null,null,null,null,null,null,null,null,null,null,null,null,null,null,{"$f":"IF(Indtastning!Y:Y=\"Ikke Aflagt\",1,\"\")","v":""},null,null,{"$f":"IF(Indtastning!U:U=\"Positiv\",1,\"\")","v":""},null,null,null,{"$f":"IF(Indtastning!Y:Y=\"Positiv\",1,\"\")","v":""},null,null,null,{"$f":"IF(Indtastning!AC:AC=\"Positiv\",1,\"\")","v":""}]
[null,null,null,null,null,null,null,null,null,null,null,null,null,null,null,null,null,null,null,null,null,null,null,null,null,null,null,null,null,null,null,null,null,null,null,null,null,null,null,null,null,null,null,{"$f":"IF(Indtastning!Y:Y=\"Ikke Aflagt\",1,\"\")","v":""},null,null,{"$f":"IF(Indtastning!U:U=\"Positiv\",1,\"\")","v":""},null,null,null,{"$f":"IF(Indtastning!Y:Y=\"Positiv\",1,\"\")","v":""},null,null,null,{"$f":"IF(Indtastning!AC:AC=\"Positiv\",1,\"\")","v":""}]
[null,null,null,null,null,null,null,null,null,null,null,null,null,null,null,null,null,null,null,null,null,null,null,null,null,null,null,null,null,null,null,null,null,null,null,null,null,null,null,null,null,null,null,{"$f":"IF(Indtastning!Y:Y=\"Ikke Aflagt\",1,\"\")","v":""},null,null,{"$f":"IF(Indtastning!U:U=\"Positiv\",1,\"\")","v":""},null,null,null,{"$f":"IF(Indtastning!Y:Y=\"Positiv\",1,\"\")","v":""},null,null,null,{"$f":"IF(Indtastning!AC:AC=\"Positiv\",1,\"\")","v":""}]
[null,null,null,null,null,null,null,null,null,null,null,null,null,null,null,null,null,null,null,null,null,null,null,null,null,null,null,null,null,null,null,null,null,null,null,null,null,null,null,null,null,null,null,{"$f":"IF(Indtastning!Y:Y=\"Ikke Aflagt\",1,\"\")","v":""},null,null,{"$f":"IF(Indtastning!U:U=\"Positiv\",1,\"\")","v":""},null,null,null,{"$f":"IF(Indtastning!Y:Y=\"Positiv\",1,\"\")","v":""},null,null,null,{"$f":"IF(Indtastning!AC:AC=\"Positiv\",1,\"\")","v":""}]
[null,null,null,null,null,null,null,null,null,null,null,null,null,null,null,null,null,null,null,null,null,null,null,null,null,null,null,null,null,null,null,null,null,null,null,null,null,null,null,null,null,null,null,{"$f":"IF(Indtastning!Y:Y=\"Ikke Aflagt\",1,\"\")","v":""},null,null,{"$f":"IF(Indtastning!U:U=\"Positiv\",1,\"\")","v":""},null,null,null,{"$f":"IF(Indtastning!Y:Y=\"Positiv\",1,\"\")","v":""},null,null,null,{"$f":"IF(Indtastning!AC:AC=\"Positiv\",1,\"\")","v":""}]
[null,null,null,null,null,null,null,null,null,null,null,null,null,null,null,null,null,null,null,null,null,null,null,null,null,null,null,null,null,null,null,null,null,null,null,null,null,null,null,null,null,null,null,{"$f":"IF(Indtastning!Y:Y=\"Ikke Aflagt\",1,\"\")","v":""},null,null,{"$f":"IF(Indtastning!U:U=\"Positiv\",1,\"\")","v":""},null,null,null,{"$f":"IF(Indtastning!Y:Y=\"Positiv\",1,\"\")","v":""},null,null,null,{"$f":"IF(Indtastning!AC:AC=\"Positiv\",1,\"\")","v":""}]
[null,null,null,null,null,null,null,null,null,null,null,null,null,null,null,null,null,null,null,null,null,null,null,null,null,null,null,null,null,null,null,null,null,null,null,null,null,null,null,null,null,null,null,{"$f":"IF(Indtastning!Y:Y=\"Ikke Aflagt\",1,\"\")","v":""},null,null,{"$f":"IF(Indtastning!U:U=\"Positiv\",1,\"\")","v":""},null,null,null,{"$f":"IF(Indtastning!Y:Y=\"Positiv\",1,\"\")","v":""},null,null,null,{"$f":"IF(Indtastning!AC:AC=\"Positiv\",1,\"\")","v":""}]
[null,null,null,null,null,null,null,null,null,null,null,null,null,null,null,null,null,null,null,null,null,null,null,null,null,null,null,null,null,null,null,null,null,null,null,null,null,null,null,null,null,null,null,{"$f":"IF(Indtastning!Y:Y=\"Ikke Aflagt\",1,\"\")","v":""},null,null,{"$f":"IF(Indtastning!U:U=\"Positiv\",1,\"\")","v":""},null,null,null,{"$f":"IF(Indtastning!Y:Y=\"Positiv\",1,\"\")","v":""},null,null,null,{"$f":"IF(Indtastning!AC:AC=\"Positiv\",1,\"\")","v":""}]
[null,null,null,null,null,null,null,null,null,null,null,null,null,null,null,null,null,null,null,null,null,null,null,null,null,null,null,null,null,null,null,null,null,null,null,null,null,null,null,null,null,null,null,{"$f":"IF(Indtastning!Y:Y=\"Ikke Aflagt\",1,\"\")","v":""},null,null,{"$f":"IF(Indtastning!U:U=\"Positiv\",1,\"\")","v":""},null,null,null,{"$f":"IF(Indtastning!Y:Y=\"Positiv\",1,\"\")","v":""},null,null,null,{"$f":"IF(Indtastning!AC:AC=\"Positiv\",1,\"\")","v":""}]
[null,null,null,null,null,null,null,null,null,null,null,null,null,null,null,null,null,null,null,null,null,null,null,null,null,null,null,null,null,null,null,null,null,null,null,null,null,null,null,null,null,null,null,{"$f":"IF(Indtastning!Y:Y=\"Ikke Aflagt\",1,\"\")","v":""},null,null,{"$f":"IF(Indtastning!U:U=\"Positiv\",1,\"\")","v":""},null,null,null,{"$f":"IF(Indtastning!Y:Y=\"Positiv\",1,\"\")","v":""},null,null,null,{"$f":"IF(Indtastning!AC:AC=\"Positiv\",1,\"\")","v":""}]
[null,null,null,null,null,null,null,null,null,null,null,null,null,null,null,null,null,null,null,null,null,null,null,null,null,null,null,null,null,null,null,null,null,null,null,null,null,null,null,null,null,null,null,{"$f":"IF(Indtastning!Y:Y=\"Ikke Aflagt\",1,\"\")","v":""},null,null,{"$f":"IF(Indtastning!U:U=\"Positiv\",1,\"\")","v":""},null,null,null,{"$f":"IF(Indtastning!Y:Y=\"Positiv\",1,\"\")","v":""},null,null,null,{"$f":"IF(Indtastning!AC:AC=\"Positiv\",1,\"\")","v":""}]
[null,null,null,null,null,null,null,null,null,null,null,null,null,null,null,null,null,null,null,null,null,null,null,null,null,null,null,null,null,null,null,null,null,null,null,null,null,null,null,null,null,null,null,{"$f":"IF(Indtastning!Y:Y=\"Ikke Aflagt\",1,\"\")","v":""},null,null,{"$f":"IF(Indtastning!U:U=\"Positiv\",1,\"\")","v":""},null,null,null,{"$f":"IF(Indtastning!Y:Y=\"Positiv\",1,\"\")","v":""},null,null,null,{"$f":"IF(Indtastning!AC:AC=\"Positiv\",1,\"\")","v":""}]
[null,null,null,null,null,null,null,null,null,null,null,null,null,null,null,null,null,null,null,null,null,null,null,null,null,null,null,null,null,null,null,null,null,null,null,null,null,null,null,null,null,null,null,{"$f":"IF(Indtastning!Y:Y=\"Ikke Aflagt\",1,\"\")","v":""},null,null,{"$f":"IF(Indtastning!U:U=\"Positiv\",1,\"\")","v":""},null,null,null,{"$f":"IF(Indtastning!Y:Y=\"Positiv\",1,\"\")","v":""},null,null,null,{"$f":"IF(Indtastning!AC:AC=\"Positiv\",1,\"\")","v":""}]
[null,null,null,null,null,null,null,null,null,null,null,null,null,null,null,null,null,null,null,null,null,null,null,null,null,null,null,null,null,null,null,null,null,null,null,null,null,null,null,null,null,null,null,{"$f":"IF(Indtastning!Y:Y=\"Ikke Aflagt\",1,\"\")","v":""},null,null,{"$f":"IF(Indtastning!U:U=\"Positiv\",1,\"\")","v":""},null,null,null,{"$f":"IF(Indtastning!Y:Y=\"Positiv\",1,\"\")","v":""},null,null,null,{"$f":"IF(Indtastning!AC:AC=\"Positiv\",1,\"\")","v":""}]
[null,null,null,null,null,null,null,null,null,null,null,null,null,null,null,null,null,null,null,null,null,null,null,null,null,null,null,null,null,null,null,null,null,null,null,null,null,null,null,null,null,null,null,{"$f":"IF(Indtastning!Y:Y=\"Ikke Aflagt\",1,\"\")","v":""},null,null,{"$f":"IF(Indtastning!U:U=\"Positiv\",1,\"\")","v":""},null,null,null,{"$f":"IF(Indtastning!Y:Y=\"Positiv\",1,\"\")","v":""},null,null,null,{"$f":"IF(Indtastning!AC:AC=\"Positiv\",1,\"\")","v":""}]
[null,null,null,null,null,null,null,null,null,null,null,null,null,null,null,null,null,null,null,null,null,null,null,null,null,null,null,null,null,null,null,null,null,null,null,null,null,null,null,null,null,null,null,{"$f":"IF(Indtastning!Y:Y=\"Ikke Aflagt\",1,\"\")","v":""},null,null,{"$f":"IF(Indtastning!U:U=\"Positiv\",1,\"\")","v":""},null,null,null,{"$f":"IF(Indtastning!Y:Y=\"Positiv\",1,\"\")","v":""},null,null,null,{"$f":"IF(Indtastning!AC:AC=\"Positiv\",1,\"\")","v":""}]
[null,null,null,null,null,null,null,null,null,null,null,null,null,null,null,null,null,null,null,null,null,null,null,null,null,null,null,null,null,null,null,null,null,null,null,null,null,null,null,null,null,null,null,{"$f":"IF(Indtastning!Y:Y=\"Ikke Aflagt\",1,\"\")","v":""},null,null,{"$f":"IF(Indtastning!U:U=\"Positiv\",1,\"\")","v":""},null,null,null,{"$f":"IF(Indtastning!Y:Y=\"Positiv\",1,\"\")","v":""},null,null,null,{"$f":"IF(Indtastning!AC:AC=\"Positiv\",1,\"\")","v":""}]
[null,null,null,null,null,null,null,null,null,null,null,null,null,null,null,null,null,null,null,null,null,null,null,null,null,null,null,null,null,null,null,null,null,null,null,null,null,null,null,null,null,null,null,{"$f":"IF(Indtastning!Y:Y=\"Ikke Aflagt\",1,\"\")","v":""},null,null,{"$f":"IF(Indtastning!U:U=\"Positiv\",1,\"\")","v":""},null,null,null,{"$f":"IF(Indtastning!Y:Y=\"Positiv\",1,\"\")","v":""},null,null,null,{"$f":"IF(Indtastning!AC:AC=\"Positiv\",1,\"\")","v":""}]
[null,null,null,null,null,null,null,null,null,null,null,null,null,null,null,null,null,null,null,null,null,null,null,null,null,null,null,null,null,null,null,null,null,null,null,null,null,null,null,null,null,null,null,{"$f":"IF(Indtastning!Y:Y=\"Ikke Aflagt\",1,\"\")","v":""},null,null,{"$f":"IF(Indtastning!U:U=\"Positiv\",1,\"\")","v":""},null,null,null,{"$f":"IF(Indtastning!Y:Y=\"Positiv\",1,\"\")","v":""},null,null,null,{"$f":"IF(Indtastning!AC:AC=\"Positiv\",1,\"\")","v":""}]
[null,null,null,null,null,null,null,null,null,null,null,null,null,null,null,null,null,null,null,null,null,null,null,null,null,null,null,null,null,null,null,null,null,null,null,null,null,null,null,null,null,null,null,{"$f":"IF(Indtastning!Y:Y=\"Ikke Aflagt\",1,\"\")","v":""},null,null,{"$f":"IF(Indtastning!U:U=\"Positiv\",1,\"\")","v":""},null,null,null,{"$f":"IF(Indtastning!Y:Y=\"Positiv\",1,\"\")","v":""},null,null,null,{"$f":"IF(Indtastning!AC:AC=\"Positiv\",1,\"\")","v":""}]
[null,null,null,null,null,null,null,null,null,null,null,null,null,null,null,null,null,null,null,null,null,null,null,null,null,null,null,null,null,null,null,null,null,null,null,null,null,null,null,null,null,null,null,{"$f":"IF(Indtastning!Y:Y=\"Ikke Aflagt\",1,\"\")","v":""},null,null,{"$f":"IF(Indtastning!U:U=\"Positiv\",1,\"\")","v":""},null,null,null,{"$f":"IF(Indtastning!Y:Y=\"Positiv\",1,\"\")","v":""},null,null,null,{"$f":"IF(Indtastning!AC:AC=\"Positiv\",1,\"\")","v":""}]
[null,null,null,null,null,null,null,null,null,null,null,null,null,null,null,null,null,null,null,null,null,null,null,null,null,null,null,null,null,null,null,null,null,null,null,null,null,null,null,null,null,null,null,{"$f":"IF(Indtastning!Y:Y=\"Ikke Aflagt\",1,\"\")","v":""},null,null,{"$f":"IF(Indtastning!U:U=\"Positiv\",1,\"\")","v":""},null,null,null,{"$f":"IF(Indtastning!Y:Y=\"Positiv\",1,\"\")","v":""},null,null,null,{"$f":"IF(Indtastning!AC:AC=\"Positiv\",1,\"\")","v":""}]
[null,null,null,null,null,null,null,null,null,null,null,null,null,null,null,null,null,null,null,null,null,null,null,null,null,null,null,null,null,null,null,null,null,null,null,null,null,null,null,null,null,null,null,{"$f":"IF(Indtastning!Y:Y=\"Ikke Aflagt\",1,\"\")","v":""},null,null,{"$f":"IF(Indtastning!U:U=\"Positiv\",1,\"\")","v":""},null,null,null,{"$f":"IF(Indtastning!Y:Y=\"Positiv\",1,\"\")","v":""},null,null,null,{"$f":"IF(Indtastning!AC:AC=\"Positiv\",1,\"\")","v":""}]
[null,null,null,null,null,null,null,null,null,null,null,null,null,null,null,null,null,null,null,null,null,null,null,null,null,null,null,null,null,null,null,null,null,null,null,null,null,null,null,null,null,null,null,{"$f":"IF(Indtastning!Y:Y=\"Ikke Aflagt\",1,\"\")","v":""},null,null,{"$f":"IF(Indtastning!U:U=\"Positiv\",1,\"\")","v":""},null,null,null,{"$f":"IF(Indtastning!Y:Y=\"Positiv\",1,\"\")","v":""},null,null,null,{"$f":"IF(Indtastning!AC:AC=\"Positiv\",1,\"\")","v":""}]
[null,null,null,null,null,null,null,null,null,null,null,null,null,null,null,null,null,null,null,null,null,null,null,null,null,null,null,null,null,null,null,null,null,null,null,null,null,null,null,null,null,null,null,{"$f":"IF(Indtastning!Y:Y=\"Ikke Aflagt\",1,\"\")","v":""},null,null,{"$f":"IF(Indtastning!U:U=\"Positiv\",1,\"\")","v":""},null,null,null,{"$f":"IF(Indtastning!Y:Y=\"Positiv\",1,\"\")","v":""},null,null,null,{"$f":"IF(Indtastning!AC:AC=\"Positiv\",1,\"\")","v":""}]
[null,null,null,null,null,null,null,null,null,null,null,null,null,null,null,null,null,null,null,null,null,null,null,null,null,null,null,null,null,null,null,null,null,null,null,null,null,null,null,null,null,null,null,{"$f":"IF(Indtastning!Y:Y=\"Ikke Aflagt\",1,\"\")","v":""},null,null,{"$f":"IF(Indtastning!U:U=\"Positiv\",1,\"\")","v":""},null,null,null,{"$f":"IF(Indtastning!Y:Y=\"Positiv\",1,\"\")","v":""},null,null,null,{"$f":"IF(Indtastning!AC:AC=\"Positiv\",1,\"\")","v":""}]
[null,null,null,null,null,null,null,null,null,null,null,null,null,null,null,null,null,null,null,null,null,null,null,null,null,null,null,null,null,null,null,null,null,null,null,null,null,null,null,null,null,null,null,{"$f":"IF(Indtastning!Y:Y=\"Ikke Aflagt\",1,\"\")","v":""},null,null,{"$f":"IF(Indtastning!U:U=\"Positiv\",1,\"\")","v":""},null,null,null,{"$f":"IF(Indtastning!Y:Y=\"Positiv\",1,\"\")","v":""},null,null,null,{"$f":"IF(Indtastning!AC:AC=\"Positiv\",1,\"\")","v":""}]
[null,null,null,null,null,null,null,null,null,null,null,null,null,null,null,null,null,null,null,null,null,null,null,null,null,null,null,null,null,null,null,null,null,null,null,null,null,null,null,null,null,null,null,{"$f":"IF(Indtastning!Y:Y=\"Ikke Aflagt\",1,\"\")","v":""},null,null,{"$f":"IF(Indtastning!U:U=\"Positiv\",1,\"\")","v":""},null,null,null,{"$f":"IF(Indtastning!Y:Y=\"Positiv\",1,\"\")","v":""},null,null,null,{"$f":"IF(Indtastning!AC:AC=\"Positiv\",1,\"\")","v":""}]
[null,null,null,null,null,null,null,null,null,null,null,null,null,null,null,null,null,null,null,null,null,null,null,null,null,null,null,null,null,null,null,null,null,null,null,null,null,null,null,null,null,null,null,{"$f":"IF(Indtastning!Y:Y=\"Ikke Aflagt\",1,\"\")","v":""},null,null,{"$f":"IF(Indtastning!U:U=\"Positiv\",1,\"\")","v":""},null,null,null,{"$f":"IF(Indtastning!Y:Y=\"Positiv\",1,\"\")","v":""},null,null,null,{"$f":"IF(Indtastning!AC:AC=\"Positiv\",1,\"\")","v":""}]
[null,null,null,null,null,null,null,null,null,null,null,null,null,null,null,null,null,null,null,null,null,null,null,null,null,null,null,null,null,null,null,null,null,null,null,null,null,null,null,null,null,null,null,{"$f":"IF(Indtastning!Y:Y=\"Ikke Aflagt\",1,\"\")","v":""},null,null,{"$f":"IF(Indtastning!U:U=\"Positiv\",1,\"\")","v":""},null,null,null,{"$f":"IF(Indtastning!Y:Y=\"Positiv\",1,\"\")","v":""},null,null,null,{"$f":"IF(Indtastning!AC:AC=\"Positiv\",1,\"\")","v":""}]
[null,null,null,null,null,null,null,null,null,null,null,null,null,null,null,null,null,null,null,null,null,null,null,null,null,null,null,null,null,null,null,null,null,null,null,null,null,null,null,null,null,null,null,{"$f":"IF(Indtastning!Y:Y=\"Ikke Aflagt\",1,\"\")","v":""},null,null,{"$f":"IF(Indtastning!U:U=\"Positiv\",1,\"\")","v":""},null,null,null,{"$f":"IF(Indtastning!Y:Y=\"Positiv\",1,\"\")","v":""},null,null,null,{"$f":"IF(Indtastning!AC:AC=\"Positiv\",1,\"\")","v":""}]
[null,null,null,null,null,null,null,null,null,null,null,null,null,null,null,null,null,null,null,null,null,null,null,null,null,null,null,null,null,null,null,null,null,null,null,null,null,null,null,null,null,null,null,{"$f":"IF(Indtastning!Y:Y=\"Ikke Aflagt\",1,\"\")","v":""},null,null,{"$f":"IF(Indtastning!U:U=\"Positiv\",1,\"\")","v":""},null,null,null,{"$f":"IF(Indtastning!Y:Y=\"Positiv\",1,\"\")","v":""},null,null,null,{"$f":"IF(Indtastning!AC:AC=\"Positiv\",1,\"\")","v":""}]
[null,null,null,null,null,null,null,null,null,null,null,null,null,null,null,null,null,null,null,null,null,null,null,null,null,null,null,null,null,null,null,null,null,null,null,null,null,null,null,null,null,null,null,{"$f":"IF(Indtastning!Y:Y=\"Ikke Aflagt\",1,\"\")","v":""},null,null,{"$f":"IF(Indtastning!U:U=\"Positiv\",1,\"\")","v":""},null,null,null,{"$f":"IF(Indtastning!Y:Y=\"Positiv\",1,\"\")","v":""},null,null,null,{"$f":"IF(Indtastning!AC:AC=\"Positiv\",1,\"\")","v":""}]
[null,null,null,null,null,null,null,null,null,null,null,null,null,null,null,null,null,null,null,null,null,null,null,null,null,null,null,null,null,null,null,null,null,null,null,null,null,null,null,null,null,null,null,{"$f":"IF(Indtastning!Y:Y=\"Ikke Aflagt\",1,\"\")","v":""},null,null,{"$f":"IF(Indtastning!U:U=\"Positiv\",1,\"\")","v":""},null,null,null,{"$f":"IF(Indtastning!Y:Y=\"Positiv\",1,\"\")","v":""},null,null,null,{"$f":"IF(Indtastning!AC:AC=\"Positiv\",1,\"\")","v":""}]
[null,null,null,null,null,null,null,null,null,null,null,null,null,null,null,null,null,null,null,null,null,null,null,null,null,null,null,null,null,null,null,null,null,null,null,null,null,null,null,null,null,null,null,{"$f":"IF(Indtastning!Y:Y=\"Ikke Aflagt\",1,\"\")","v":""},null,null,{"$f":"IF(Indtastning!U:U=\"Positiv\",1,\"\")","v":""},null,null,null,{"$f":"IF(Indtastning!Y:Y=\"Positiv\",1,\"\")","v":""},null,null,null,{"$f":"IF(Indtastning!AC:AC=\"Positiv\",1,\"\")","v":""}]
[null,null,null,null,null,null,null,null,null,null,null,null,null,null,null,null,null,null,null,null,null,null,null,null,null,null,null,null,null,null,null,null,null,null,null,null,null,null,null,null,null,null,null,{"$f":"IF(Indtastning!Y:Y=\"Ikke Aflagt\",1,\"\")","v":""},null,null,{"$f":"IF(Indtastning!U:U=\"Positiv\",1,\"\")","v":""},null,null,null,{"$f":"IF(Indtastning!Y:Y=\"Positiv\",1,\"\")","v":""},null,null,null,{"$f":"IF(Indtastning!AC:AC=\"Positiv\",1,\"\")","v":""}]
[null,null,null,null,null,null,null,null,null,null,null,null,null,null,null,null,null,null,null,null,null,null,null,null,null,null,null,null,null,null,null,null,null,null,null,null,null,null,null,null,null,null,null,{"$f":"IF(Indtastning!Y:Y=\"Ikke Aflagt\",1,\"\")","v":""},null,null,{"$f":"IF(Indtastning!U:U=\"Positiv\",1,\"\")","v":""},null,null,null,{"$f":"IF(Indtastning!Y:Y=\"Positiv\",1,\"\")","v":""},null,null,null,{"$f":"IF(Indtastning!AC:AC=\"Positiv\",1,\"\")","v":""}]
[null,null,null,null,null,null,null,null,null,null,null,null,null,null,null,null,null,null,null,null,null,null,null,null,null,null,null,null,null,null,null,null,null,null,null,null,null,null,null,null,null,null,null,{"$f":"IF(Indtastning!Y:Y=\"Ikke Aflagt\",1,\"\")","v":""},null,null,{"$f":"IF(Indtastning!U:U=\"Positiv\",1,\"\")","v":""},null,null,null,{"$f":"IF(Indtastning!Y:Y=\"Positiv\",1,\"\")","v":""},null,null,null,{"$f":"IF(Indtastning!AC:AC=\"Positiv\",1,\"\")","v":""}]
[null,null,null,null,null,null,null,null,null,null,null,null,null,null,null,null,null,null,null,null,null,null,null,null,null,null,null,null,null,null,null,null,null,null,null,null,null,null,null,null,null,null,null,{"$f":"IF(Indtastning!Y:Y=\"Ikke Aflagt\",1,\"\")","v":""},null,null,{"$f":"IF(Indtastning!U:U=\"Positiv\",1,\"\")","v":""},null,null,null,{"$f":"IF(Indtastning!Y:Y=\"Positiv\",1,\"\")","v":""},null,null,null,{"$f":"IF(Indtastning!AC:AC=\"Positiv\",1,\"\")","v":""}]
[null,null,null,null,null,null,null,null,null,null,null,null,null,null,null,null,null,null,null,null,null,null,null,null,null,null,null,null,null,null,null,null,null,null,null,null,null,null,null,null,null,null,null,{"$f":"IF(Indtastning!Y:Y=\"Ikke Aflagt\",1,\"\")","v":""},null,null,{"$f":"IF(Indtastning!U:U=\"Positiv\",1,\"\")","v":""},null,null,null,{"$f":"IF(Indtastning!Y:Y=\"Positiv\",1,\"\")","v":""},null,null,null,{"$f":"IF(Indtastning!AC:AC=\"Positiv\",1,\"\")","v":""}]
[null,null,null,null,null,null,null,null,null,null,null,null,null,null,null,null,null,null,null,null,null,null,null,null,null,null,null,null,null,null,null,null,null,null,null,null,null,null,null,null,null,null,null,{"$f":"IF(Indtastning!Y:Y=\"Ikke Aflagt\",1,\"\")","v":""},null,null,{"$f":"IF(Indtastning!U:U=\"Positiv\",1,\"\")","v":""},null,null,null,{"$f":"IF(Indtastning!Y:Y=\"Positiv\",1,\"\")","v":""},null,null,null,{"$f":"IF(Indtastning!AC:AC=\"Positiv\",1,\"\")","v":""}]
[null,null,null,null,null,null,null,null,null,null,null,null,null,null,null,null,null,null,null,null,null,null,null,null,null,null,null,null,null,null,null,null,null,null,null,null,null,null,null,null,null,null,null,{"$f":"IF(Indtastning!Y:Y=\"Ikke Aflagt\",1,\"\")","v":""},null,null,{"$f":"IF(Indtastning!U:U=\"Positiv\",1,\"\")","v":""},null,null,null,{"$f":"IF(Indtastning!Y:Y=\"Positiv\",1,\"\")","v":""},null,null,null,{"$f":"IF(Indtastning!AC:AC=\"Positiv\",1,\"\")","v":""}]
[null,null,null,null,null,null,null,null,null,null,null,null,null,null,null,null,null,null,null,null,null,null,null,null,null,null,null,null,null,null,null,null,null,null,null,null,null,null,null,null,null,null,null,{"$f":"IF(Indtastning!Y:Y=\"Ikke Aflagt\",1,\"\")","v":""},null,null,{"$f":"IF(Indtastning!U:U=\"Positiv\",1,\"\")","v":""},null,null,null,{"$f":"IF(Indtastning!Y:Y=\"Positiv\",1,\"\")","v":""},null,null,null,{"$f":"IF(Indtastning!AC:AC=\"Positiv\",1,\"\")","v":""}]
[null,null,null,null,null,null,null,null,null,null,null,null,null,null,null,null,null,null,null,null,null,null,null,null,null,null,null,null,null,null,null,null,null,null,null,null,null,null,null,null,null,null,null,{"$f":"IF(Indtastning!Y:Y=\"Ikke Aflagt\",1,\"\")","v":""},null,null,{"$f":"IF(Indtastning!U:U=\"Positiv\",1,\"\")","v":""},null,null,null,{"$f":"IF(Indtastning!Y:Y=\"Positiv\",1,\"\")","v":""},null,null,null,{"$f":"IF(Indtastning!AC:AC=\"Positiv\",1,\"\")","v":""}]
[null,null,null,null,null,null,null,null,null,null,null,null,null,null,null,null,null,null,null,null,null,null,null,null,null,null,null,null,null,null,null,null,null,null,null,null,null,null,null,null,null,null,null,{"$f":"IF(Indtastning!Y:Y=\"Ikke Aflagt\",1,\"\")","v":""},null,null,{"$f":"IF(Indtastning!U:U=\"Positiv\",1,\"\")","v":""},null,null,null,{"$f":"IF(Indtastning!Y:Y=\"Positiv\",1,\"\")","v":""},null,null,null,{"$f":"IF(Indtastning!AC:AC=\"Positiv\",1,\"\")","v":""}]
[null,null,null,null,null,null,null,null,null,null,null,null,null,null,null,null,null,null,null,null,null,null,null,null,null,null,null,null,null,null,null,null,null,null,null,null,null,null,null,null,null,null,null,{"$f":"IF(Indtastning!Y:Y=\"Ikke Aflagt\",1,\"\")","v":""},null,null,{"$f":"IF(Indtastning!U:U=\"Positiv\",1,\"\")","v":""},null,null,null,{"$f":"IF(Indtastning!Y:Y=\"Positiv\",1,\"\")","v":""},null,null,null,{"$f":"IF(Indtastning!AC:AC=\"Positiv\",1,\"\")","v":""}]
[null,null,null,null,null,null,null,null,null,null,null,null,null,null,null,null,null,null,null,null,null,null,null,null,null,null,null,null,null,null,null,null,null,null,null,null,null,null,null,null,null,null,null,{"$f":"IF(Indtastning!Y:Y=\"Ikke Aflagt\",1,\"\")","v":""},null,null,{"$f":"IF(Indtastning!U:U=\"Positiv\",1,\"\")","v":""},null,null,null,{"$f":"IF(Indtastning!Y:Y=\"Positiv\",1,\"\")","v":""},null,null,null,{"$f":"IF(Indtastning!AC:AC=\"Positiv\",1,\"\")","v":""}]
[null,null,null,null,null,null,null,null,null,null,null,null,null,null,null,null,null,null,null,null,null,null,null,null,null,null,null,null,null,null,null,null,null,null,null,null,null,null,null,null,null,null,null,{"$f":"IF(Indtastning!Y:Y=\"Ikke Aflagt\",1,\"\")","v":""},null,null,{"$f":"IF(Indtastning!U:U=\"Positiv\",1,\"\")","v":""},null,null,null,{"$f":"IF(Indtastning!Y:Y=\"Positiv\",1,\"\")","v":""},null,null,null,{"$f":"IF(Indtastning!AC:AC=\"Positiv\",1,\"\")","v":""}]
[null,null,null,null,null,null,null,null,null,null,null,null,null,null,null,null,null,null,null,null,null,null,null,null,null,null,null,null,null,null,null,null,null,null,null,null,null,null,null,null,null,null,null,{"$f":"IF(Indtastning!Y:Y=\"Ikke Aflagt\",1,\"\")","v":""},null,null,{"$f":"IF(Indtastning!U:U=\"Positiv\",1,\"\")","v":""},null,null,null,{"$f":"IF(Indtastning!Y:Y=\"Positiv\",1,\"\")","v":""},null,null,null,{"$f":"IF(Indtastning!AC:AC=\"Positiv\",1,\"\")","v":""}]
[null,null,null,null,null,null,null,null,null,null,null,null,null,null,null,null,null,null,null,null,null,null,null,null,null,null,null,null,null,null,null,null,null,null,null,null,null,null,null,null,null,null,null,{"$f":"IF(Indtastning!Y:Y=\"Ikke Aflagt\",1,\"\")","v":""},null,null,{"$f":"IF(Indtastning!U:U=\"Positiv\",1,\"\")","v":""},null,null,null,{"$f":"IF(Indtastning!Y:Y=\"Positiv\",1,\"\")","v":""},null,null,null,{"$f":"IF(Indtastning!AC:AC=\"Positiv\",1,\"\")","v":""}]
[null,null,null,null,null,null,null,null,null,null,null,null,null,null,null,null,null,null,null,null,null,null,null,null,null,null,null,null,null,null,null,null,null,null,null,null,null,null,null,null,null,null,null,{"$f":"IF(Indtastning!Y:Y=\"Ikke Aflagt\",1,\"\")","v":""},null,null,{"$f":"IF(Indtastning!U:U=\"Positiv\",1,\"\")","v":""},null,null,null,{"$f":"IF(Indtastning!Y:Y=\"Positiv\",1,\"\")","v":""},null,null,null,{"$f":"IF(Indtastning!AC:AC=\"Positiv\",1,\"\")","v":""}]
[null,null,null,null,null,null,null,null,null,null,null,null,null,null,null,null,null,null,null,null,null,null,null,null,null,null,null,null,null,null,null,null,null,null,null,null,null,null,null,null,null,null,null,{"$f":"IF(Indtastning!Y:Y=\"Ikke Aflagt\",1,\"\")","v":""},null,null,{"$f":"IF(Indtastning!U:U=\"Positiv\",1,\"\")","v":""},null,null,null,{"$f":"IF(Indtastning!Y:Y=\"Positiv\",1,\"\")","v":""},null,null,null,{"$f":"IF(Indtastning!AC:AC=\"Positiv\",1,\"\")","v":""}]
[null,null,null,null,null,null,null,null,null,null,null,null,null,null,null,null,null,null,null,null,null,null,null,null,null,null,null,null,null,null,null,null,null,null,null,null,null,null,null,null,null,null,null,{"$f":"IF(Indtastning!Y:Y=\"Ikke Aflagt\",1,\"\")","v":""},null,null,{"$f":"IF(Indtastning!U:U=\"Positiv\",1,\"\")","v":""},null,null,null,{"$f":"IF(Indtastning!Y:Y=\"Positiv\",1,\"\")","v":""},null,null,null,{"$f":"IF(Indtastning!AC:AC=\"Positiv\",1,\"\")","v":""}]
[null,null,null,null,null,null,null,null,null,null,null,null,null,null,null,null,null,null,null,null,null,null,null,null,null,null,null,null,null,null,null,null,null,null,null,null,null,null,null,null,null,null,null,{"$f":"IF(Indtastning!Y:Y=\"Ikke Aflagt\",1,\"\")","v":""},null,null,{"$f":"IF(Indtastning!U:U=\"Positiv\",1,\"\")","v":""},null,null,null,{"$f":"IF(Indtastning!Y:Y=\"Positiv\",1,\"\")","v":""},null,null,null,{"$f":"IF(Indtastning!AC:AC=\"Positiv\",1,\"\")","v":""}]
[null,null,null,null,null,null,null,null,null,null,null,null,null,null,null,null,null,null,null,null,null,null,null,null,null,null,null,null,null,null,null,null,null,null,null,null,null,null,null,null,null,null,null,{"$f":"IF(Indtastning!Y:Y=\"Ikke Aflagt\",1,\"\")","v":""},null,null,{"$f":"IF(Indtastning!U:U=\"Positiv\",1,\"\")","v":""},null,null,null,{"$f":"IF(Indtastning!Y:Y=\"Positiv\",1,\"\")","v":""},null,null,null,{"$f":"IF(Indtastning!AC:AC=\"Positiv\",1,\"\")","v":""}]
[null,null,null,null,null,null,null,null,null,null,null,null,null,null,null,null,null,null,null,null,null,null,null,null,null,null,null,null,null,null,null,null,null,null,null,null,null,null,null,null,null,null,null,{"$f":"IF(Indtastning!Y:Y=\"Ikke Aflagt\",1,\"\")","v":""},null,null,{"$f":"IF(Indtastning!U:U=\"Positiv\",1,\"\")","v":""},null,null,null,{"$f":"IF(Indtastning!Y:Y=\"Positiv\",1,\"\")","v":""},null,null,null,{"$f":"IF(Indtastning!AC:AC=\"Positiv\",1,\"\")","v":""}]
[null,null,null,null,null,null,null,null,null,null,null,null,null,null,null,null,null,null,null,null,null,null,null,null,null,null,null,null,null,null,null,null,null,null,null,null,null,null,null,null,null,null,null,{"$f":"IF(Indtastning!Y:Y=\"Ikke Aflagt\",1,\"\")","v":""},null,null,{"$f":"IF(Indtastning!U:U=\"Positiv\",1,\"\")","v":""},null,null,null,{"$f":"IF(Indtastning!Y:Y=\"Positiv\",1,\"\")","v":""},null,null,null,{"$f":"IF(Indtastning!AC:AC=\"Positiv\",1,\"\")","v":""}]
[null,null,null,null,null,null,null,null,null,null,null,null,null,null,null,null,null,null,null,null,null,null,null,null,null,null,null,null,null,null,null,null,null,null,null,null,null,null,null,null,null,null,null,{"$f":"IF(Indtastning!Y:Y=\"Ikke Aflagt\",1,\"\")","v":""},null,null,{"$f":"IF(Indtastning!U:U=\"Positiv\",1,\"\")","v":""},null,null,null,{"$f":"IF(Indtastning!Y:Y=\"Positiv\",1,\"\")","v":""},null,null,null,{"$f":"IF(Indtastning!AC:AC=\"Positiv\",1,\"\")","v":""}]
[null,null,null,null,null,null,null,null,null,null,null,null,null,null,null,null,null,null,null,null,null,null,null,null,null,null,null,null,null,null,null,null,null,null,null,null,null,null,null,null,null,null,null,{"$f":"IF(Indtastning!Y:Y=\"Ikke Aflagt\",1,\"\")","v":""},null,null,{"$f":"IF(Indtastning!U:U=\"Positiv\",1,\"\")","v":""},null,null,null,{"$f":"IF(Indtastning!Y:Y=\"Positiv\",1,\"\")","v":""},null,null,null,{"$f":"IF(Indtastning!AC:AC=\"Positiv\",1,\"\")","v":""}]
[null,null,null,null,null,null,null,null,null,null,null,null,null,null,null,null,null,null,null,null,null,null,null,null,null,null,null,null,null,null,null,null,null,null,null,null,null,null,null,null,null,null,null,{"$f":"IF(Indtastning!Y:Y=\"Ikke Aflagt\",1,\"\")","v":""},null,null,{"$f":"IF(Indtastning!U:U=\"Positiv\",1,\"\")","v":""},null,null,null,{"$f":"IF(Indtastning!Y:Y=\"Positiv\",1,\"\")","v":""},null,null,null,{"$f":"IF(Indtastning!AC:AC=\"Positiv\",1,\"\")","v":""}]
[null,null,null,null,null,null,null,null,null,null,null,null,null,null,null,null,null,null,null,null,null,null,null,null,null,null,null,null,null,null,null,null,null,null,null,null,null,null,null,null,null,null,null,{"$f":"IF(Indtastning!Y:Y=\"Ikke Aflagt\",1,\"\")","v":""},null,null,{"$f":"IF(Indtastning!U:U=\"Positiv\",1,\"\")","v":""},null,null,null,{"$f":"IF(Indtastning!Y:Y=\"Positiv\",1,\"\")","v":""},null,null,null,{"$f":"IF(Indtastning!AC:AC=\"Positiv\",1,\"\")","v":""}]
[null,null,null,null,null,null,null,null,null,null,null,null,null,null,null,null,null,null,null,null,null,null,null,null,null,null,null,null,null,null,null,null,null,null,null,null,null,null,null,null,null,null,null,{"$f":"IF(Indtastning!Y:Y=\"Ikke Aflagt\",1,\"\")","v":""},null,null,{"$f":"IF(Indtastning!U:U=\"Positiv\",1,\"\")","v":""},null,null,null,{"$f":"IF(Indtastning!Y:Y=\"Positiv\",1,\"\")","v":""},null,null,null,{"$f":"IF(Indtastning!AC:AC=\"Positiv\",1,\"\")","v":""}]
[null,null,null,null,null,null,null,null,null,null,null,null,null,null,null,null,null,null,null,null,null,null,null,null,null,null,null,null,null,null,null,null,null,null,null,null,null,null,null,null,null,null,null,{"$f":"IF(Indtastning!Y:Y=\"Ikke Aflagt\",1,\"\")","v":""},null,null,{"$f":"IF(Indtastning!U:U=\"Positiv\",1,\"\")","v":""},null,null,null,{"$f":"IF(Indtastning!Y:Y=\"Positiv\",1,\"\")","v":""},null,null,null,{"$f":"IF(Indtastning!AC:AC=\"Positiv\",1,\"\")","v":""}]
[null,null,null,null,null,null,null,null,null,null,null,null,null,null,null,null,null,null,null,null,null,null,null,null,null,null,null,null,null,null,null,null,null,null,null,null,null,null,null,null,null,null,null,{"$f":"IF(Indtastning!Y:Y=\"Ikke Aflagt\",1,\"\")","v":""},null,null,{"$f":"IF(Indtastning!U:U=\"Positiv\",1,\"\")","v":""},null,null,null,{"$f":"IF(Indtastning!Y:Y=\"Positiv\",1,\"\")","v":""},null,null,null,{"$f":"IF(Indtastning!AC:AC=\"Positiv\",1,\"\")","v":""}]
[null,null,null,null,null,null,null,null,null,null,null,null,null,null,null,null,null,null,null,null,null,null,null,null,null,null,null,null,null,null,null,null,null,null,null,null,null,null,null,null,null,null,null,{"$f":"IF(Indtastning!Y:Y=\"Ikke Aflagt\",1,\"\")","v":""},null,null,{"$f":"IF(Indtastning!U:U=\"Positiv\",1,\"\")","v":""},null,null,null,{"$f":"IF(Indtastning!Y:Y=\"Positiv\",1,\"\")","v":""},null,null,null,{"$f":"IF(Indtastning!AC:AC=\"Positiv\",1,\"\")","v":""}]
[null,null,null,null,null,null,null,null,null,null,null,null,null,null,null,null,null,null,null,null,null,null,null,null,null,null,null,null,null,null,null,null,null,null,null,null,null,null,null,null,null,null,null,{"$f":"IF(Indtastning!Y:Y=\"Ikke Aflagt\",1,\"\")","v":""},null,null,{"$f":"IF(Indtastning!U:U=\"Positiv\",1,\"\")","v":""},null,null,null,{"$f":"IF(Indtastning!Y:Y=\"Positiv\",1,\"\")","v":""},null,null,null,{"$f":"IF(Indtastning!AC:AC=\"Positiv\",1,\"\")","v":""}]
[null,null,null,null,null,null,null,null,null,null,null,null,null,null,null,null,null,null,null,null,null,null,null,null,null,null,null,null,null,null,null,null,null,null,null,null,null,null,null,null,null,null,null,{"$f":"IF(Indtastning!Y:Y=\"Ikke Aflagt\",1,\"\")","v":""},null,null,{"$f":"IF(Indtastning!U:U=\"Positiv\",1,\"\")","v":""},null,null,null,{"$f":"IF(Indtastning!Y:Y=\"Positiv\",1,\"\")","v":""},null,null,null,{"$f":"IF(Indtastning!AC:AC=\"Positiv\",1,\"\")","v":""}]
[null,null,null,null,null,null,null,null,null,null,null,null,null,null,null,null,null,null,null,null,null,null,null,null,null,null,null,null,null,null,null,null,null,null,null,null,null,null,null,null,null,null,null,{"$f":"IF(Indtastning!Y:Y=\"Ikke Aflagt\",1,\"\")","v":""},null,null,{"$f":"IF(Indtastning!U:U=\"Positiv\",1,\"\")","v":""},null,null,null,{"$f":"IF(Indtastning!Y:Y=\"Positiv\",1,\"\")","v":""},null,null,null,{"$f":"IF(Indtastning!AC:AC=\"Positiv\",1,\"\")","v":""}]
[null,null,null,null,null,null,null,null,null,null,null,null,null,null,null,null,null,null,null,null,null,null,null,null,null,null,null,null,null,null,null,null,null,null,null,null,null,null,null,null,null,null,null,{"$f":"IF(Indtastning!Y:Y=\"Ikke Aflagt\",1,\"\")","v":""},null,null,{"$f":"IF(Indtastning!U:U=\"Positiv\",1,\"\")","v":""},null,null,null,{"$f":"IF(Indtastning!Y:Y=\"Positiv\",1,\"\")","v":""},null,null,null,{"$f":"IF(Indtastning!AC:AC=\"Positiv\",1,\"\")","v":""}]
[null,null,null,null,null,null,null,null,null,null,null,null,null,null,null,null,null,null,null,null,null,null,null,null,null,null,null,null,null,null,null,null,null,null,null,null,null,null,null,null,null,null,null,{"$f":"IF(Indtastning!Y:Y=\"Ikke Aflagt\",1,\"\")","v":""},null,null,{"$f":"IF(Indtastning!U:U=\"Positiv\",1,\"\")","v":""},null,null,null,{"$f":"IF(Indtastning!Y:Y=\"Positiv\",1,\"\")","v":""},null,null,null,{"$f":"IF(Indtastning!AC:AC=\"Positiv\",1,\"\")","v":""}]
[null,null,null,null,null,null,null,null,null,null,null,null,null,null,null,null,null,null,null,null,null,null,null,null,null,null,null,null,null,null,null,null,null,null,null,null,null,null,null,null,null,null,null,{"$f":"IF(Indtastning!Y:Y=\"Ikke Aflagt\",1,\"\")","v":""},null,null,{"$f":"IF(Indtastning!U:U=\"Positiv\",1,\"\")","v":""},null,null,null,{"$f":"IF(Indtastning!Y:Y=\"Positiv\",1,\"\")","v":""},null,null,null,{"$f":"IF(Indtastning!AC:AC=\"Positiv\",1,\"\")","v":""}]
[null,null,null,null,null,null,null,null,null,null,null,null,null,null,null,null,null,null,null,null,null,null,null,null,null,null,null,null,null,null,null,null,null,null,null,null,null,null,null,null,null,null,null,{"$f":"IF(Indtastning!Y:Y=\"Ikke Aflagt\",1,\"\")","v":""},null,null,{"$f":"IF(Indtastning!U:U=\"Positiv\",1,\"\")","v":""},null,null,null,{"$f":"IF(Indtastning!Y:Y=\"Positiv\",1,\"\")","v":""},null,null,null,{"$f":"IF(Indtastning!AC:AC=\"Positiv\",1,\"\")","v":""}]
[null,null,null,null,null,null,null,null,null,null,null,null,null,null,null,null,null,null,null,null,null,null,null,null,null,null,null,null,null,null,null,null,null,null,null,null,null,null,null,null,null,null,null,{"$f":"IF(Indtastning!Y:Y=\"Ikke Aflagt\",1,\"\")","v":""},null,null,{"$f":"IF(Indtastning!U:U=\"Positiv\",1,\"\")","v":""},null,null,null,{"$f":"IF(Indtastning!Y:Y=\"Positiv\",1,\"\")","v":""},null,null,null,{"$f":"IF(Indtastning!AC:AC=\"Positiv\",1,\"\")","v":""}]
[null,null,null,null,null,null,null,null,null,null,null,null,null,null,null,null,null,null,null,null,null,null,null,null,null,null,null,null,null,null,null,null,null,null,null,null,null,null,null,null,null,null,null,{"$f":"IF(Indtastning!Y:Y=\"Ikke Aflagt\",1,\"\")","v":""},null,null,{"$f":"IF(Indtastning!U:U=\"Positiv\",1,\"\")","v":""},null,null,null,{"$f":"IF(Indtastning!Y:Y=\"Positiv\",1,\"\")","v":""},null,null,null,{"$f":"IF(Indtastning!AC:AC=\"Positiv\",1,\"\")","v":""}]
[null,null,null,null,null,null,null,null,null,null,null,null,null,null,null,null,null,null,null,null,null,null,null,null,null,null,null,null,null,null,null,null,null,null,null,null,null,null,null,null,null,null,null,{"$f":"IF(Indtastning!Y:Y=\"Ikke Aflagt\",1,\"\")","v":""},null,null,{"$f":"IF(Indtastning!U:U=\"Positiv\",1,\"\")","v":""},null,null,null,{"$f":"IF(Indtastning!Y:Y=\"Positiv\",1,\"\")","v":""},null,null,null,{"$f":"IF(Indtastning!AC:AC=\"Positiv\",1,\"\")","v":""}]
[null,null,null,null,null,null,null,null,null,null,null,null,null,null,null,null,null,null,null,null,null,null,null,null,null,null,null,null,null,null,null,null,null,null,null,null,null,null,null,null,null,null,null,{"$f":"IF(Indtastning!Y:Y=\"Ikke Aflagt\",1,\"\")","v":""},null,null,{"$f":"IF(Indtastning!U:U=\"Positiv\",1,\"\")","v":""},null,null,null,{"$f":"IF(Indtastning!Y:Y=\"Positiv\",1,\"\")","v":""},null,null,null,{"$f":"IF(Indtastning!AC:AC=\"Positiv\",1,\"\")","v":""}]
[null,null,null,null,null,null,null,null,null,null,null,null,null,null,null,null,null,null,null,null,null,null,null,null,null,null,null,null,null,null,null,null,null,null,null,null,null,null,null,null,null,null,null,{"$f":"IF(Indtastning!Y:Y=\"Ikke Aflagt\",1,\"\")","v":""},null,null,{"$f":"IF(Indtastning!U:U=\"Positiv\",1,\"\")","v":""},null,null,null,{"$f":"IF(Indtastning!Y:Y=\"Positiv\",1,\"\")","v":""},null,null,null,{"$f":"IF(Indtastning!AC:AC=\"Positiv\",1,\"\")","v":""}]
[null,null,null,null,null,null,null,null,null,null,null,null,null,null,null,null,null,null,null,null,null,null,null,null,null,null,null,null,null,null,null,null,null,null,null,null,null,null,null,null,null,null,null,{"$f":"IF(Indtastning!Y:Y=\"Ikke Aflagt\",1,\"\")","v":""},null,null,{"$f":"IF(Indtastning!U:U=\"Positiv\",1,\"\")","v":""},null,null,null,{"$f":"IF(Indtastning!Y:Y=\"Positiv\",1,\"\")","v":""},null,null,null,{"$f":"IF(Indtastning!AC:AC=\"Positiv\",1,\"\")","v":""}]
[null,null,null,null,null,null,null,null,null,null,null,null,null,null,null,null,null,null,null,null,null,null,null,null,null,null,null,null,null,null,null,null,null,null,null,null,null,null,null,null,null,null,null,{"$f":"IF(Indtastning!Y:Y=\"Ikke Aflagt\",1,\"\")","v":""},null,null,{"$f":"IF(Indtastning!U:U=\"Positiv\",1,\"\")","v":""},null,null,null,{"$f":"IF(Indtastning!Y:Y=\"Positiv\",1,\"\")","v":""},null,null,null,{"$f":"IF(Indtastning!AC:AC=\"Positiv\",1,\"\")","v":""}]
[null,null,null,null,null,null,null,null,null,null,null,null,null,null,null,null,null,null,null,null,null,null,null,null,null,null,null,null,null,null,null,null,null,null,null,null,null,null,null,null,null,null,null,{"$f":"IF(Indtastning!Y:Y=\"Ikke Aflagt\",1,\"\")","v":""},null,null,{"$f":"IF(Indtastning!U:U=\"Positiv\",1,\"\")","v":""},null,null,null,{"$f":"IF(Indtastning!Y:Y=\"Positiv\",1,\"\")","v":""},null,null,null,{"$f":"IF(Indtastning!AC:AC=\"Positiv\",1,\"\")","v":""}]
[null,null,null,null,null,null,null,null,null,null,null,null,null,null,null,null,null,null,null,null,null,null,null,null,null,null,null,null,null,null,null,null,null,null,null,null,null,null,null,null,null,null,null,{"$f":"IF(Indtastning!Y:Y=\"Ikke Aflagt\",1,\"\")","v":""},null,null,{"$f":"IF(Indtastning!U:U=\"Positiv\",1,\"\")","v":""},null,null,null,{"$f":"IF(Indtastning!Y:Y=\"Positiv\",1,\"\")","v":""},null,null,null,{"$f":"IF(Indtastning!AC:AC=\"Positiv\",1,\"\")","v":""}]
[null,null,null,null,null,null,null,null,null,null,null,null,null,null,null,null,null,null,null,null,null,null,null,null,null,null,null,null,null,null,null,null,null,null,null,null,null,null,null,null,null,null,null,{"$f":"IF(Indtastning!Y:Y=\"Ikke Aflagt\",1,\"\")","v":""},null,null,{"$f":"IF(Indtastning!U:U=\"Positiv\",1,\"\")","v":""},null,null,null,{"$f":"IF(Indtastning!Y:Y=\"Positiv\",1,\"\")","v":""},null,null,null,{"$f":"IF(Indtastning!AC:AC=\"Positiv\",1,\"\")","v":""}]
[null,null,null,null,null,null,null,null,null,null,null,null,null,null,null,null,null,null,null,null,null,null,null,null,null,null,null,null,null,null,null,null,null,null,null,null,null,null,null,null,null,null,null,{"$f":"IF(Indtastning!Y:Y=\"Ikke Aflagt\",1,\"\")","v":""},null,null,{"$f":"IF(Indtastning!U:U=\"Positiv\",1,\"\")","v":""},null,null,null,{"$f":"IF(Indtastning!Y:Y=\"Positiv\",1,\"\")","v":""},null,null,null,{"$f":"IF(Indtastning!AC:AC=\"Positiv\",1,\"\")","v":""}]
[null,null,null,null,null,null,null,null,null,null,null,null,null,null,null,null,null,null,null,null,null,null,null,null,null,null,null,null,null,null,null,null,null,null,null,null,null,null,null,null,null,null,null,{"$f":"IF(Indtastning!Y:Y=\"Ikke Aflagt\",1,\"\")","v":""},null,null,{"$f":"IF(Indtastning!U:U=\"Positiv\",1,\"\")","v":""},null,null,null,{"$f":"IF(Indtastning!Y:Y=\"Positiv\",1,\"\")","v":""},null,null,null,{"$f":"IF(Indtastning!AC:AC=\"Positiv\",1,\"\")","v":""}]
[null,null,null,null,null,null,null,null,null,null,null,null,null,null,null,null,null,null,null,null,null,null,null,null,null,null,null,null,null,null,null,null,null,null,null,null,null,null,null,null,null,null,null,{"$f":"IF(Indtastning!Y:Y=\"Ikke Aflagt\",1,\"\")","v":""},null,null,{"$f":"IF(Indtastning!U:U=\"Positiv\",1,\"\")","v":""},null,null,null,{"$f":"IF(Indtastning!Y:Y=\"Positiv\",1,\"\")","v":""},null,null,null,{"$f":"IF(Indtastning!AC:AC=\"Positiv\",1,\"\")","v":""}]
[null,null,null,null,null,null,null,null,null,null,null,null,null,null,null,null,null,null,null,null,null,null,null,null,null,null,null,null,null,null,null,null,null,null,null,null,null,null,null,null,null,null,null,{"$f":"IF(Indtastning!Y:Y=\"Ikke Aflagt\",1,\"\")","v":""},null,null,{"$f":"IF(Indtastning!U:U=\"Positiv\",1,\"\")","v":""},null,null,null,{"$f":"IF(Indtastning!Y:Y=\"Positiv\",1,\"\")","v":""},null,null,null,{"$f":"IF(Indtastning!AC:AC=\"Positiv\",1,\"\")","v":""}]
[null,null,null,null,null,null,null,null,null,null,null,null,null,null,null,null,null,null,null,null,null,null,null,null,null,null,null,null,null,null,null,null,null,null,null,null,null,null,null,null,null,null,null,{"$f":"IF(Indtastning!Y:Y=\"Ikke Aflagt\",1,\"\")","v":""},null,null,{"$f":"IF(Indtastning!U:U=\"Positiv\",1,\"\")","v":""},null,null,null,{"$f":"IF(Indtastning!Y:Y=\"Positiv\",1,\"\")","v":""},null,null,null,{"$f":"IF(Indtastning!AC:AC=\"Positiv\",1,\"\")","v":""}]
[null,null,null,null,null,null,null,null,null,null,null,null,null,null,null,null,null,null,null,null,null,null,null,null,null,null,null,null,null,null,null,null,null,null,null,null,null,null,null,null,null,null,null,{"$f":"IF(Indtastning!Y:Y=\"Ikke Aflagt\",1,\"\")","v":""},null,null,{"$f":"IF(Indtastning!U:U=\"Positiv\",1,\"\")","v":""},null,null,null,{"$f":"IF(Indtastning!Y:Y=\"Positiv\",1,\"\")","v":""},null,null,null,{"$f":"IF(Indtastning!AC:AC=\"Positiv\",1,\"\")","v":""}]
[null,null,null,null,null,null,null,null,null,null,null,null,null,null,null,null,null,null,null,null,null,null,null,null,null,null,null,null,null,null,null,null,null,null,null,null,null,null,null,null,null,null,null,{"$f":"IF(Indtastning!Y:Y=\"Ikke Aflagt\",1,\"\")","v":""},null,null,{"$f":"IF(Indtastning!U:U=\"Positiv\",1,\"\")","v":""},null,null,null,{"$f":"IF(Indtastning!Y:Y=\"Positiv\",1,\"\")","v":""},null,null,null,{"$f":"IF(Indtastning!AC:AC=\"Positiv\",1,\"\")","v":""}]
[null,null,null,null,null,null,null,null,null,null,null,null,null,null,null,null,null,null,null,null,null,null,null,null,null,null,null,null,null,null,null,null,null,null,null,null,null,null,null,null,null,null,null,{"$f":"IF(Indtastning!Y:Y=\"Ikke Aflagt\",1,\"\")","v":""},null,null,{"$f":"IF(Indtastning!U:U=\"Positiv\",1,\"\")","v":""},null,null,null,{"$f":"IF(Indtastning!Y:Y=\"Positiv\",1,\"\")","v":""},null,null,null,{"$f":"IF(Indtastning!AC:AC=\"Positiv\",1,\"\")","v":""}]
[null,null,null,null,null,null,null,null,null,null,null,null,null,null,null,null,null,null,null,null,null,null,null,null,null,null,null,null,null,null,null,null,null,null,null,null,null,null,null,null,null,null,null,{"$f":"IF(Indtastning!Y:Y=\"Ikke Aflagt\",1,\"\")","v":""},null,null,{"$f":"IF(Indtastning!U:U=\"Positiv\",1,\"\")","v":""},null,null,null,{"$f":"IF(Indtastning!Y:Y=\"Positiv\",1,\"\")","v":""},null,null,null,{"$f":"IF(Indtastning!AC:AC=\"Positiv\",1,\"\")","v":""}]
[null,null,null,null,null,null,null,null,null,null,null,null,null,null,null,null,null,null,null,null,null,null,null,null,null,null,null,null,null,null,null,null,null,null,null,null,null,null,null,null,null,null,null,{"$f":"IF(Indtastning!Y:Y=\"Ikke Aflagt\",1,\"\")","v":""},null,null,{"$f":"IF(Indtastning!U:U=\"Positiv\",1,\"\")","v":""},null,null,null,{"$f":"IF(Indtastning!Y:Y=\"Positiv\",1,\"\")","v":""},null,null,null,{"$f":"IF(Indtastning!AC:AC=\"Positiv\",1,\"\")","v":""}]
[null,null,null,null,null,null,null,null,null,null,null,null,null,null,null,null,null,null,null,null,null,null,null,null,null,null,null,null,null,null,null,null,null,null,null,null,null,null,null,null,null,null,null,{"$f":"IF(Indtastning!Y:Y=\"Ikke Aflagt\",1,\"\")","v":""},null,null,{"$f":"IF(Indtastning!U:U=\"Positiv\",1,\"\")","v":""},null,null,null,{"$f":"IF(Indtastning!Y:Y=\"Positiv\",1,\"\")","v":""},null,null,null,{"$f":"IF(Indtastning!AC:AC=\"Positiv\",1,\"\")","v":""}]
[null,null,null,null,null,null,null,null,null,null,null,null,null,null,null,null,null,null,null,null,null,null,null,null,null,null,null,null,null,null,null,null,null,null,null,null,null,null,null,null,null,null,null,{"$f":"IF(Indtastning!Y:Y=\"Ikke Aflagt\",1,\"\")","v":""},null,null,{"$f":"IF(Indtastning!U:U=\"Positiv\",1,\"\")","v":""},null,null,null,{"$f":"IF(Indtastning!Y:Y=\"Positiv\",1,\"\")","v":""},null,null,null,{"$f":"IF(Indtastning!AC:AC=\"Positiv\",1,\"\")","v":""}]
[null,null,null,null,null,null,null,null,null,null,null,null,null,null,null,null,null,null,null,null,null,null,null,null,null,null,null,null,null,null,null,null,null,null,null,null,null,null,null,null,null,null,null,{"$f":"IF(Indtastning!Y:Y=\"Ikke Aflagt\",1,\"\")","v":""},null,null,{"$f":"IF(Indtastning!U:U=\"Positiv\",1,\"\")","v":""},null,null,null,{"$f":"IF(Indtastning!Y:Y=\"Positiv\",1,\"\")","v":""},null,null,null,{"$f":"IF(Indtastning!AC:AC=\"Positiv\",1,\"\")","v":""}]
[null,null,null,null,null,null,null,null,null,null,null,null,null,null,null,null,null,null,null,null,null,null,null,null,null,null,null,null,null,null,null,null,null,null,null,null,null,null,null,null,null,null,null,{"$f":"IF(Indtastning!Y:Y=\"Ikke Aflagt\",1,\"\")","v":""},null,null,{"$f":"IF(Indtastning!U:U=\"Positiv\",1,\"\")","v":""},null,null,null,{"$f":"IF(Indtastning!Y:Y=\"Positiv\",1,\"\")","v":""},null,null,null,{"$f":"IF(Indtastning!AC:AC=\"Positiv\",1,\"\")","v":""}]
[null,null,null,null,null,null,null,null,null,null,null,null,null,null,null,null,null,null,null,null,null,null,null,null,null,null,null,null,null,null,null,null,null,null,null,null,null,null,null,null,null,null,null,{"$f":"IF(Indtastning!Y:Y=\"Ikke Aflagt\",1,\"\")","v":""},null,null,{"$f":"IF(Indtastning!U:U=\"Positiv\",1,\"\")","v":""},null,null,null,{"$f":"IF(Indtastning!Y:Y=\"Positiv\",1,\"\")","v":""},null,null,null,{"$f":"IF(Indtastning!AC:AC=\"Positiv\",1,\"\")","v":""}]
[null,null,null,null,null,null,null,null,null,null,null,null,null,null,null,null,null,null,null,null,null,null,null,null,null,null,null,null,null,null,null,null,null,null,null,null,null,null,null,null,null,null,null,{"$f":"IF(Indtastning!Y:Y=\"Ikke Aflagt\",1,\"\")","v":""},null,null,{"$f":"IF(Indtastning!U:U=\"Positiv\",1,\"\")","v":""},null,null,null,{"$f":"IF(Indtastning!Y:Y=\"Positiv\",1,\"\")","v":""},null,null,null,{"$f":"IF(Indtastning!AC:AC=\"Positiv\",1,\"\")","v":""}]
[null,null,null,null,null,null,null,null,null,null,null,null,null,null,null,null,null,null,null,null,null,null,null,null,null,null,null,null,null,null,null,null,null,null,null,null,null,null,null,null,null,null,null,{"$f":"IF(Indtastning!Y:Y=\"Ikke Aflagt\",1,\"\")","v":""},null,null,{"$f":"IF(Indtastning!U:U=\"Positiv\",1,\"\")","v":""},null,null,null,{"$f":"IF(Indtastning!Y:Y=\"Positiv\",1,\"\")","v":""},null,null,null,{"$f":"IF(Indtastning!AC:AC=\"Positiv\",1,\"\")","v":""}]
[null,null,null,null,null,null,null,null,null,null,null,null,null,null,null,null,null,null,null,null,null,null,null,null,null,null,null,null,null,null,null,null,null,null,null,null,null,null,null,null,null,null,null,{"$f":"IF(Indtastning!Y:Y=\"Ikke Aflagt\",1,\"\")","v":""},null,null,{"$f":"IF(Indtastning!U:U=\"Positiv\",1,\"\")","v":""},null,null,null,{"$f":"IF(Indtastning!Y:Y=\"Positiv\",1,\"\")","v":""},null,null,null,{"$f":"IF(Indtastning!AC:AC=\"Positiv\",1,\"\")","v":""}]
[null,null,null,null,null,null,null,null,null,null,null,null,null,null,null,null,null,null,null,null,null,null,null,null,null,null,null,null,null,null,null,null,null,null,null,null,null,null,null,null,null,null,null,{"$f":"IF(Indtastning!Y:Y=\"Ikke Aflagt\",1,\"\")","v":""},null,null,{"$f":"IF(Indtastning!U:U=\"Positiv\",1,\"\")","v":""},null,null,null,{"$f":"IF(Indtastning!Y:Y=\"Positiv\",1,\"\")","v":""},null,null,null,{"$f":"IF(Indtastning!AC:AC=\"Positiv\",1,\"\")","v":""}]
[null,null,null,null,null,null,null,null,null,null,null,null,null,null,null,null,null,null,null,null,null,null,null,null,null,null,null,null,null,null,null,null,null,null,null,null,null,null,null,null,null,null,null,{"$f":"IF(Indtastning!Y:Y=\"Ikke Aflagt\",1,\"\")","v":""},null,null,{"$f":"IF(Indtastning!U:U=\"Positiv\",1,\"\")","v":""},null,null,null,{"$f":"IF(Indtastning!Y:Y=\"Positiv\",1,\"\")","v":""},null,null,null,{"$f":"IF(Indtastning!AC:AC=\"Positiv\",1,\"\")","v":""}]
[null,null,null,null,null,null,null,null,null,null,null,null,null,null,null,null,null,null,null,null,null,null,null,null,null,null,null,null,null,null,null,null,null,null,null,null,null,null,null,null,null,null,null,{"$f":"IF(Indtastning!Y:Y=\"Ikke Aflagt\",1,\"\")","v":""},null,null,{"$f":"IF(Indtastning!U:U=\"Positiv\",1,\"\")","v":""},null,null,null,{"$f":"IF(Indtastning!Y:Y=\"Positiv\",1,\"\")","v":""},null,null,null,{"$f":"IF(Indtastning!AC:AC=\"Positiv\",1,\"\")","v":""}]
[null,null,null,null,null,null,null,null,null,null,null,null,null,null,null,null,null,null,null,null,null,null,null,null,null,null,null,null,null,null,null,null,null,null,null,null,null,null,null,null,null,null,null,{"$f":"IF(Indtastning!Y:Y=\"Ikke Aflagt\",1,\"\")","v":""},null,null,{"$f":"IF(Indtastning!U:U=\"Positiv\",1,\"\")","v":""},null,null,null,{"$f":"IF(Indtastning!Y:Y=\"Positiv\",1,\"\")","v":""},null,null,null,{"$f":"IF(Indtastning!AC:AC=\"Positiv\",1,\"\")","v":""}]
[null,null,null,null,null,null,null,null,null,null,null,null,null,null,null,null,null,null,null,null,null,null,null,null,null,null,null,null,null,null,null,null,null,null,null,null,null,null,null,null,null,null,null,{"$f":"IF(Indtastning!Y:Y=\"Ikke Aflagt\",1,\"\")","v":""},null,null,{"$f":"IF(Indtastning!U:U=\"Positiv\",1,\"\")","v":""},null,null,null,{"$f":"IF(Indtastning!Y:Y=\"Positiv\",1,\"\")","v":""},null,null,null,{"$f":"IF(Indtastning!AC:AC=\"Positiv\",1,\"\")","v":""}]
[null,null,null,null,null,null,null,null,null,null,null,null,null,null,null,null,null,null,null,null,null,null,null,null,null,null,null,null,null,null,null,null,null,null,null,null,null,null,null,null,null,null,null,{"$f":"IF(Indtastning!Y:Y=\"Ikke Aflagt\",1,\"\")","v":""},null,null,{"$f":"IF(Indtastning!U:U=\"Positiv\",1,\"\")","v":""},null,null,null,{"$f":"IF(Indtastning!Y:Y=\"Positiv\",1,\"\")","v":""},null,null,null,{"$f":"IF(Indtastning!AC:AC=\"Positiv\",1,\"\")","v":""}]
[null,null,null,null,null,null,null,null,null,null,null,null,null,null,null,null,null,null,null,null,null,null,null,null,null,null,null,null,null,null,null,null,null,null,null,null,null,null,null,null,null,null,null,{"$f":"IF(Indtastning!Y:Y=\"Ikke Aflagt\",1,\"\")","v":""},null,null,{"$f":"IF(Indtastning!U:U=\"Positiv\",1,\"\")","v":""},null,null,null,{"$f":"IF(Indtastning!Y:Y=\"Positiv\",1,\"\")","v":""},null,null,null,{"$f":"IF(Indtastning!AC:AC=\"Positiv\",1,\"\")","v":""}]
[null,null,null,null,null,null,null,null,null,null,null,null,null,null,null,null,null,null,null,null,null,null,null,null,null,null,null,null,null,null,null,null,null,null,null,null,null,null,null,null,null,null,null,{"$f":"IF(Indtastning!Y:Y=\"Ikke Aflagt\",1,\"\")","v":""},null,null,{"$f":"IF(Indtastning!U:U=\"Positiv\",1,\"\")","v":""},null,null,null,{"$f":"IF(Indtastning!Y:Y=\"Positiv\",1,\"\")","v":""},null,null,null,{"$f":"IF(Indtastning!AC:AC=\"Positiv\",1,\"\")","v":""}]
[null,null,null,null,null,null,null,null,null,null,null,null,null,null,null,null,null,null,null,null,null,null,null,null,null,null,null,null,null,null,null,null,null,null,null,null,null,null,null,null,null,null,null,{"$f":"IF(Indtastning!Y:Y=\"Ikke Aflagt\",1,\"\")","v":""},null,null,{"$f":"IF(Indtastning!U:U=\"Positiv\",1,\"\")","v":""},null,null,null,{"$f":"IF(Indtastning!Y:Y=\"Positiv\",1,\"\")","v":""},null,null,null,{"$f":"IF(Indtastning!AC:AC=\"Positiv\",1,\"\")","v":""}]
[null,null,null,null,null,null,null,null,null,null,null,null,null,null,null,null,null,null,null,null,null,null,null,null,null,null,null,null,null,null,null,null,null,null,null,null,null,null,null,null,null,null,null,{"$f":"IF(Indtastning!Y:Y=\"Ikke Aflagt\",1,\"\")","v":""},null,null,{"$f":"IF(Indtastning!U:U=\"Positiv\",1,\"\")","v":""},null,null,null,{"$f":"IF(Indtastning!Y:Y=\"Positiv\",1,\"\")","v":""},null,null,null,{"$f":"IF(Indtastning!AC:AC=\"Positiv\",1,\"\")","v":""}]
[null,null,null,null,null,null,null,null,null,null,null,null,null,null,null,null,null,null,null,null,null,null,null,null,null,null,null,null,null,null,null,null,null,null,null,null,null,null,null,null,null,null,null,{"$f":"IF(Indtastning!Y:Y=\"Ikke Aflagt\",1,\"\")","v":""},null,null,{"$f":"IF(Indtastning!U:U=\"Positiv\",1,\"\")","v":""},null,null,null,{"$f":"IF(Indtastning!Y:Y=\"Positiv\",1,\"\")","v":""},null,null,null,{"$f":"IF(Indtastning!AC:AC=\"Positiv\",1,\"\")","v":""}]
[null,null,null,null,null,null,null,null,null,null,null,null,null,null,null,null,null,null,null,null,null,null,null,null,null,null,null,null,null,null,null,null,null,null,null,null,null,null,null,null,null,null,null,{"$f":"IF(Indtastning!Y:Y=\"Ikke Aflagt\",1,\"\")","v":""},null,null,{"$f":"IF(Indtastning!U:U=\"Positiv\",1,\"\")","v":""},null,null,null,{"$f":"IF(Indtastning!Y:Y=\"Positiv\",1,\"\")","v":""},null,null,null,{"$f":"IF(Indtastning!AC:AC=\"Positiv\",1,\"\")","v":""}]
[null,null,null,null,null,null,null,null,null,null,null,null,null,null,null,null,null,null,null,null,null,null,null,null,null,null,null,null,null,null,null,null,null,null,null,null,null,null,null,null,null,null,null,{"$f":"IF(Indtastning!Y:Y=\"Ikke Aflagt\",1,\"\")","v":""},null,null,{"$f":"IF(Indtastning!U:U=\"Positiv\",1,\"\")","v":""},null,null,null,{"$f":"IF(Indtastning!Y:Y=\"Positiv\",1,\"\")","v":""},null,null,null,{"$f":"IF(Indtastning!AC:AC=\"Positiv\",1,\"\")","v":""}]
[null,null,null,null,null,null,null,null,null,null,null,null,null,null,null,null,null,null,null,null,null,null,null,null,null,null,null,null,null,null,null,null,null,null,null,null,null,null,null,null,null,null,null,{"$f":"IF(Indtastning!Y:Y=\"Ikke Aflagt\",1,\"\")","v":""},null,null,{"$f":"IF(Indtastning!U:U=\"Positiv\",1,\"\")","v":""},null,null,null,{"$f":"IF(Indtastning!Y:Y=\"Positiv\",1,\"\")","v":""},null,null,null,{"$f":"IF(Indtastning!AC:AC=\"Positiv\",1,\"\")","v":""}]
[null,null,null,null,null,null,null,null,null,null,null,null,null,null,null,null,null,null,null,null,null,null,null,null,null,null,null,null,null,null,null,null,null,null,null,null,null,null,null,null,null,null,null,{"$f":"IF(Indtastning!Y:Y=\"Ikke Aflagt\",1,\"\")","v":""},null,null,{"$f":"IF(Indtastning!U:U=\"Positiv\",1,\"\")","v":""},null,null,null,{"$f":"IF(Indtastning!Y:Y=\"Positiv\",1,\"\")","v":""},null,null,null,{"$f":"IF(Indtastning!AC:AC=\"Positiv\",1,\"\")","v":""}]
[null,null,null,null,null,null,null,null,null,null,null,null,null,null,null,null,null,null,null,null,null,null,null,null,null,null,null,null,null,null,null,null,null,null,null,null,null,null,null,null,null,null,null,{"$f":"IF(Indtastning!Y:Y=\"Ikke Aflagt\",1,\"\")","v":""},null,null,{"$f":"IF(Indtastning!U:U=\"Positiv\",1,\"\")","v":""},null,null,null,{"$f":"IF(Indtastning!Y:Y=\"Positiv\",1,\"\")","v":""},null,null,null,{"$f":"IF(Indtastning!AC:AC=\"Positiv\",1,\"\")","v":""}]
[null,null,null,null,null,null,null,null,null,null,null,null,null,null,null,null,null,null,null,null,null,null,null,null,null,null,null,null,null,null,null,null,null,null,null,null,null,null,null,null,null,null,null,{"$f":"IF(Indtastning!Y:Y=\"Ikke Aflagt\",1,\"\")","v":""},null,null,{"$f":"IF(Indtastning!U:U=\"Positiv\",1,\"\")","v":""},null,null,null,{"$f":"IF(Indtastning!Y:Y=\"Positiv\",1,\"\")","v":""},null,null,null,{"$f":"IF(Indtastning!AC:AC=\"Positiv\",1,\"\")","v":""}]
[null,null,null,null,null,null,null,null,null,null,null,null,null,null,null,null,null,null,null,null,null,null,null,null,null,null,null,null,null,null,null,null,null,null,null,null,null,null,null,null,null,null,null,{"$f":"IF(Indtastning!Y:Y=\"Ikke Aflagt\",1,\"\")","v":""},null,null,{"$f":"IF(Indtastning!U:U=\"Positiv\",1,\"\")","v":""},null,null,null,{"$f":"IF(Indtastning!Y:Y=\"Positiv\",1,\"\")","v":""},null,null,null,{"$f":"IF(Indtastning!AC:AC=\"Positiv\",1,\"\")","v":""}]
[null,null,null,null,null,null,null,null,null,null,null,null,null,null,null,null,null,null,null,null,null,null,null,null,null,null,null,null,null,null,null,null,null,null,null,null,null,null,null,null,null,null,null,{"$f":"IF(Indtastning!Y:Y=\"Ikke Aflagt\",1,\"\")","v":""},null,null,{"$f":"IF(Indtastning!U:U=\"Positiv\",1,\"\")","v":""},null,null,null,{"$f":"IF(Indtastning!Y:Y=\"Positiv\",1,\"\")","v":""},null,null,null,{"$f":"IF(Indtastning!AC:AC=\"Positiv\",1,\"\")","v":""}]
[null,null,null,null,null,null,null,null,null,null,null,null,null,null,null,null,null,null,null,null,null,null,null,null,null,null,null,null,null,null,null,null,null,null,null,null,null,null,null,null,null,null,null,{"$f":"IF(Indtastning!Y:Y=\"Ikke Aflagt\",1,\"\")","v":""},null,null,{"$f":"IF(Indtastning!U:U=\"Positiv\",1,\"\")","v":""},null,null,null,{"$f":"IF(Indtastning!Y:Y=\"Positiv\",1,\"\")","v":""},null,null,null,{"$f":"IF(Indtastning!AC:AC=\"Positiv\",1,\"\")","v":""}]
[null,null,null,null,null,null,null,null,null,null,null,null,null,null,null,null,null,null,null,null,null,null,null,null,null,null,null,null,null,null,null,null,null,null,null,null,null,null,null,null,null,null,null,{"$f":"IF(Indtastning!Y:Y=\"Ikke Aflagt\",1,\"\")","v":""},null,null,{"$f":"IF(Indtastning!U:U=\"Positiv\",1,\"\")","v":""},null,null,null,{"$f":"IF(Indtastning!Y:Y=\"Positiv\",1,\"\")","v":""},null,null,null,{"$f":"IF(Indtastning!AC:AC=\"Positiv\",1,\"\")","v":""}]
[null,null,null,null,null,null,null,null,null,null,null,null,null,null,null,null,null,null,null,null,null,null,null,null,null,null,null,null,null,null,null,null,null,null,null,null,null,null,null,null,null,null,null,{"$f":"IF(Indtastning!Y:Y=\"Ikke Aflagt\",1,\"\")","v":""},null,null,{"$f":"IF(Indtastning!U:U=\"Positiv\",1,\"\")","v":""},null,null,null,{"$f":"IF(Indtastning!Y:Y=\"Positiv\",1,\"\")","v":""},null,null,null,{"$f":"IF(Indtastning!AC:AC=\"Positiv\",1,\"\")","v":""}]
[null,null,null,null,null,null,null,null,null,null,null,null,null,null,null,null,null,null,null,null,null,null,null,null,null,null,null,null,null,null,null,null,null,null,null,null,null,null,null,null,null,null,null,{"$f":"IF(Indtastning!Y:Y=\"Ikke Aflagt\",1,\"\")","v":""},null,null,{"$f":"IF(Indtastning!U:U=\"Positiv\",1,\"\")","v":""},null,null,null,{"$f":"IF(Indtastning!Y:Y=\"Positiv\",1,\"\")","v":""},null,null,null,{"$f":"IF(Indtastning!AC:AC=\"Positiv\",1,\"\")","v":""}]
[null,null,null,null,null,null,null,null,null,null,null,null,null,null,null,null,null,null,null,null,null,null,null,null,null,null,null,null,null,null,null,null,null,null,null,null,null,null,null,null,null,null,null,{"$f":"IF(Indtastning!Y:Y=\"Ikke Aflagt\",1,\"\")","v":""},null,null,{"$f":"IF(Indtastning!U:U=\"Positiv\",1,\"\")","v":""},null,null,null,{"$f":"IF(Indtastning!Y:Y=\"Positiv\",1,\"\")","v":""},null,null,null,{"$f":"IF(Indtastning!AC:AC=\"Positiv\",1,\"\")","v":""}]
[null,null,null,null,null,null,null,null,null,null,null,null,null,null,null,null,null,null,null,null,null,null,null,null,null,null,null,null,null,null,null,null,null,null,null,null,null,null,null,null,null,null,null,{"$f":"IF(Indtastning!Y:Y=\"Ikke Aflagt\",1,\"\")","v":""},null,null,{"$f":"IF(Indtastning!U:U=\"Positiv\",1,\"\")","v":""},null,null,null,{"$f":"IF(Indtastning!Y:Y=\"Positiv\",1,\"\")","v":""},null,null,null,{"$f":"IF(Indtastning!AC:AC=\"Positiv\",1,\"\")","v":""}]
[null,null,null,null,null,null,null,null,null,null,null,null,null,null,null,null,null,null,null,null,null,null,null,null,null,null,null,null,null,null,null,null,null,null,null,null,null,null,null,null,null,null,null,{"$f":"IF(Indtastning!Y:Y=\"Ikke Aflagt\",1,\"\")","v":""},null,null,{"$f":"IF(Indtastning!U:U=\"Positiv\",1,\"\")","v":""},null,null,null,{"$f":"IF(Indtastning!Y:Y=\"Positiv\",1,\"\")","v":""},null,null,null,{"$f":"IF(Indtastning!AC:AC=\"Positiv\",1,\"\")","v":""}]
[null,null,null,null,null,null,null,null,null,null,null,null,null,null,null,null,null,null,null,null,null,null,null,null,null,null,null,null,null,null,null,null,null,null,null,null,null,null,null,null,null,null,null,{"$f":"IF(Indtastning!Y:Y=\"Ikke Aflagt\",1,\"\")","v":""},null,null,{"$f":"IF(Indtastning!U:U=\"Positiv\",1,\"\")","v":""},null,null,null,{"$f":"IF(Indtastning!Y:Y=\"Positiv\",1,\"\")","v":""},null,null,null,{"$f":"IF(Indtastning!AC:AC=\"Positiv\",1,\"\")","v":""}]
[null,null,null,null,null,null,null,null,null,null,null,null,null,null,null,null,null,null,null,null,null,null,null,null,null,null,null,null,null,null,null,null,null,null,null,null,null,null,null,null,null,null,null,{"$f":"IF(Indtastning!Y:Y=\"Ikke Aflagt\",1,\"\")","v":""},null,null,{"$f":"IF(Indtastning!U:U=\"Positiv\",1,\"\")","v":""},null,null,null,{"$f":"IF(Indtastning!Y:Y=\"Positiv\",1,\"\")","v":""},null,null,null,{"$f":"IF(Indtastning!AC:AC=\"Positiv\",1,\"\")","v":""}]
[null,null,null,null,null,null,null,null,null,null,null,null,null,null,null,null,null,null,null,null,null,null,null,null,null,null,null,null,null,null,null,null,null,null,null,null,null,null,null,null,null,null,null,{"$f":"IF(Indtastning!Y:Y=\"Ikke Aflagt\",1,\"\")","v":""},null,null,{"$f":"IF(Indtastning!U:U=\"Positiv\",1,\"\")","v":""},null,null,null,{"$f":"IF(Indtastning!Y:Y=\"Positiv\",1,\"\")","v":""},null,null,null,{"$f":"IF(Indtastning!AC:AC=\"Positiv\",1,\"\")","v":""}]
[null,null,null,null,null,null,null,null,null,null,null,null,null,null,null,null,null,null,null,null,null,null,null,null,null,null,null,null,null,null,null,null,null,null,null,null,null,null,null,null,null,null,null,{"$f":"IF(Indtastning!Y:Y=\"Ikke Aflagt\",1,\"\")","v":""},null,null,{"$f":"IF(Indtastning!U:U=\"Positiv\",1,\"\")","v":""},null,null,null,{"$f":"IF(Indtastning!Y:Y=\"Positiv\",1,\"\")","v":""},null,null,null,{"$f":"IF(Indtastning!AC:AC=\"Positiv\",1,\"\")","v":""}]
[null,null,null,null,null,null,null,null,null,null,null,null,null,null,null,null,null,null,null,null,null,null,null,null,null,null,null,null,null,null,null,null,null,null,null,null,null,null,null,null,null,null,null,{"$f":"IF(Indtastning!Y:Y=\"Ikke Aflagt\",1,\"\")","v":""},null,null,{"$f":"IF(Indtastning!U:U=\"Positiv\",1,\"\")","v":""},null,null,null,{"$f":"IF(Indtastning!Y:Y=\"Positiv\",1,\"\")","v":""},null,null,null,{"$f":"IF(Indtastning!AC:AC=\"Positiv\",1,\"\")","v":""}]
[null,null,null,null,null,null,null,null,null,null,null,null,null,null,null,null,null,null,null,null,null,null,null,null,null,null,null,null,null,null,null,null,null,null,null,null,null,null,null,null,null,null,null,{"$f":"IF(Indtastning!Y:Y=\"Ikke Aflagt\",1,\"\")","v":""},null,null,{"$f":"IF(Indtastning!U:U=\"Positiv\",1,\"\")","v":""},null,null,null,{"$f":"IF(Indtastning!Y:Y=\"Positiv\",1,\"\")","v":""},null,null,null,{"$f":"IF(Indtastning!AC:AC=\"Positiv\",1,\"\")","v":""}]
[null,null,null,null,null,null,null,null,null,null,null,null,null,null,null,null,null,null,null,null,null,null,null,null,null,null,null,null,null,null,null,null,null,null,null,null,null,null,null,null,null,null,null,{"$f":"IF(Indtastning!Y:Y=\"Ikke Aflagt\",1,\"\")","v":""},null,null,{"$f":"IF(Indtastning!U:U=\"Positiv\",1,\"\")","v":""},null,null,null,{"$f":"IF(Indtastning!Y:Y=\"Positiv\",1,\"\")","v":""},null,null,null,{"$f":"IF(Indtastning!AC:AC=\"Positiv\",1,\"\")","v":""}]
[null,null,null,null,null,null,null,null,null,null,null,null,null,null,null,null,null,null,null,null,null,null,null,null,null,null,null,null,null,null,null,null,null,null,null,null,null,null,null,null,null,null,null,{"$f":"IF(Indtastning!Y:Y=\"Ikke Aflagt\",1,\"\")","v":""},null,null,{"$f":"IF(Indtastning!U:U=\"Positiv\",1,\"\")","v":""},null,null,null,{"$f":"IF(Indtastning!Y:Y=\"Positiv\",1,\"\")","v":""},null,null,null,{"$f":"IF(Indtastning!AC:AC=\"Positiv\",1,\"\")","v":""}]
[null,null,null,null,null,null,null,null,null,null,null,null,null,null,null,null,null,null,null,null,null,null,null,null,null,null,null,null,null,null,null,null,null,null,null,null,null,null,null,null,null,null,null,{"$f":"IF(Indtastning!Y:Y=\"Ikke Aflagt\",1,\"\")","v":""},null,null,{"$f":"IF(Indtastning!U:U=\"Positiv\",1,\"\")","v":""},null,null,null,{"$f":"IF(Indtastning!Y:Y=\"Positiv\",1,\"\")","v":""},null,null,null,{"$f":"IF(Indtastning!AC:AC=\"Positiv\",1,\"\")","v":""}]
[null,null,null,null,null,null,null,null,null,null,null,null,null,null,null,null,null,null,null,null,null,null,null,null,null,null,null,null,null,null,null,null,null,null,null,null,null,null,null,null,null,null,null,{"$f":"IF(Indtastning!Y:Y=\"Ikke Aflagt\",1,\"\")","v":""},null,null,{"$f":"IF(Indtastning!U:U=\"Positiv\",1,\"\")","v":""},null,null,null,{"$f":"IF(Indtastning!Y:Y=\"Positiv\",1,\"\")","v":""},null,null,null,{"$f":"IF(Indtastning!AC:AC=\"Positiv\",1,\"\")","v":""}]
[null,null,null,null,null,null,null,null,null,null,null,null,null,null,null,null,null,null,null,null,null,null,null,null,null,null,null,null,null,null,null,null,null,null,null,null,null,null,null,null,null,null,null,{"$f":"IF(Indtastning!Y:Y=\"Ikke Aflagt\",1,\"\")","v":""},null,null,{"$f":"IF(Indtastning!U:U=\"Positiv\",1,\"\")","v":""},null,null,null,{"$f":"IF(Indtastning!Y:Y=\"Positiv\",1,\"\")","v":""},null,null,null,{"$f":"IF(Indtastning!AC:AC=\"Positiv\",1,\"\")","v":""}]
[null,null,null,null,null,null,null,null,null,null,null,null,null,null,null,null,null,null,null,null,null,null,null,null,null,null,null,null,null,null,null,null,null,null,null,null,null,null,null,null,null,null,null,{"$f":"IF(Indtastning!Y:Y=\"Ikke Aflagt\",1,\"\")","v":""},null,null,{"$f":"IF(Indtastning!U:U=\"Positiv\",1,\"\")","v":""},null,null,null,{"$f":"IF(Indtastning!Y:Y=\"Positiv\",1,\"\")","v":""},null,null,null,{"$f":"IF(Indtastning!AC:AC=\"Positiv\",1,\"\")","v":""}]
[null,null,null,null,null,null,null,null,null,null,null,null,null,null,null,null,null,null,null,null,null,null,null,null,null,null,null,null,null,null,null,null,null,null,null,null,null,null,null,null,null,null,null,{"$f":"IF(Indtastning!Y:Y=\"Ikke Aflagt\",1,\"\")","v":""},null,null,{"$f":"IF(Indtastning!U:U=\"Positiv\",1,\"\")","v":""},null,null,null,{"$f":"IF(Indtastning!Y:Y=\"Positiv\",1,\"\")","v":""},null,null,null,{"$f":"IF(Indtastning!AC:AC=\"Positiv\",1,\"\")","v":""}]
[null,null,null,null,null,null,null,null,null,null,null,null,null,null,null,null,null,null,null,null,null,null,null,null,null,null,null,null,null,null,null,null,null,null,null,null,null,null,null,null,null,null,null,{"$f":"IF(Indtastning!Y:Y=\"Ikke Aflagt\",1,\"\")","v":""},null,null,{"$f":"IF(Indtastning!U:U=\"Positiv\",1,\"\")","v":""},null,null,null,{"$f":"IF(Indtastning!Y:Y=\"Positiv\",1,\"\")","v":""},null,null,null,{"$f":"IF(Indtastning!AC:AC=\"Positiv\",1,\"\")","v":""}]
[null,null,null,null,null,null,null,null,null,null,null,null,null,null,null,null,null,null,null,null,null,null,null,null,null,null,null,null,null,null,null,null,null,null,null,null,null,null,null,null,null,null,null,{"$f":"IF(Indtastning!Y:Y=\"Ikke Aflagt\",1,\"\")","v":""},null,null,{"$f":"IF(Indtastning!U:U=\"Positiv\",1,\"\")","v":""},null,null,null,{"$f":"IF(Indtastning!Y:Y=\"Positiv\",1,\"\")","v":""},null,null,null,{"$f":"IF(Indtastning!AC:AC=\"Positiv\",1,\"\")","v":""}]
[null,null,null,null,null,null,null,null,null,null,null,null,null,null,null,null,null,null,null,null,null,null,null,null,null,null,null,null,null,null,null,null,null,null,null,null,null,null,null,null,null,null,null,{"$f":"IF(Indtastning!Y:Y=\"Ikke Aflagt\",1,\"\")","v":""},null,null,{"$f":"IF(Indtastning!U:U=\"Positiv\",1,\"\")","v":""},null,null,null,{"$f":"IF(Indtastning!Y:Y=\"Positiv\",1,\"\")","v":""},null,null,null,{"$f":"IF(Indtastning!AC:AC=\"Positiv\",1,\"\")","v":""}]
[null,null,null,null,null,null,null,null,null,null,null,null,null,null,null,null,null,null,null,null,null,null,null,null,null,null,null,null,null,null,null,null,null,null,null,null,null,null,null,null,null,null,null,{"$f":"IF(Indtastning!Y:Y=\"Ikke Aflagt\",1,\"\")","v":""},null,null,{"$f":"IF(Indtastning!U:U=\"Positiv\",1,\"\")","v":""},null,null,null,{"$f":"IF(Indtastning!Y:Y=\"Positiv\",1,\"\")","v":""},null,null,null,{"$f":"IF(Indtastning!AC:AC=\"Positiv\",1,\"\")","v":""}]
[null,null,null,null,null,null,null,null,null,null,null,null,null,null,null,null,null,null,null,null,null,null,null,null,null,null,null,null,null,null,null,null,null,null,null,null,null,null,null,null,null,null,null,{"$f":"IF(Indtastning!Y:Y=\"Ikke Aflagt\",1,\"\")","v":""},null,null,{"$f":"IF(Indtastning!U:U=\"Positiv\",1,\"\")","v":""},null,null,null,{"$f":"IF(Indtastning!Y:Y=\"Positiv\",1,\"\")","v":""},null,null,null,{"$f":"IF(Indtastning!AC:AC=\"Positiv\",1,\"\")","v":""}]
[null,null,null,null,null,null,null,null,null,null,null,null,null,null,null,null,null,null,null,null,null,null,null,null,null,null,null,null,null,null,null,null,null,null,null,null,null,null,null,null,null,null,null,{"$f":"IF(Indtastning!Y:Y=\"Ikke Aflagt\",1,\"\")","v":""},null,null,{"$f":"IF(Indtastning!U:U=\"Positiv\",1,\"\")","v":""},null,null,null,{"$f":"IF(Indtastning!Y:Y=\"Positiv\",1,\"\")","v":""},null,null,null,{"$f":"IF(Indtastning!AC:AC=\"Positiv\",1,\"\")","v":""}]
[null,null,null,null,null,null,null,null,null,null,null,null,null,null,null,null,null,null,null,null,null,null,null,null,null,null,null,null,null,null,null,null,null,null,null,null,null,null,null,null,null,null,null,{"$f":"IF(Indtastning!Y:Y=\"Ikke Aflagt\",1,\"\")","v":""},null,null,{"$f":"IF(Indtastning!U:U=\"Positiv\",1,\"\")","v":""},null,null,null,{"$f":"IF(Indtastning!Y:Y=\"Positiv\",1,\"\")","v":""},null,null,null,{"$f":"IF(Indtastning!AC:AC=\"Positiv\",1,\"\")","v":""}]
[null,null,null,null,null,null,null,null,null,null,null,null,null,null,null,null,null,null,null,null,null,null,null,null,null,null,null,null,null,null,null,null,null,null,null,null,null,null,null,null,null,null,null,{"$f":"IF(Indtastning!Y:Y=\"Ikke Aflagt\",1,\"\")","v":""},null,null,{"$f":"IF(Indtastning!U:U=\"Positiv\",1,\"\")","v":""},null,null,null,{"$f":"IF(Indtastning!Y:Y=\"Positiv\",1,\"\")","v":""},null,null,null,{"$f":"IF(Indtastning!AC:AC=\"Positiv\",1,\"\")","v":""}]
[null,null,null,null,null,null,null,null,null,null,null,null,null,null,null,null,null,null,null,null,null,null,null,null,null,null,null,null,null,null,null,null,null,null,null,null,null,null,null,null,null,null,null,{"$f":"IF(Indtastning!Y:Y=\"Ikke Aflagt\",1,\"\")","v":""},null,null,{"$f":"IF(Indtastning!U:U=\"Positiv\",1,\"\")","v":""},null,null,null,{"$f":"IF(Indtastning!Y:Y=\"Positiv\",1,\"\")","v":""},null,null,null,{"$f":"IF(Indtastning!AC:AC=\"Positiv\",1,\"\")","v":""}]
[null,null,null,null,null,null,null,null,null,null,null,null,null,null,null,null,null,null,null,null,null,null,null,null,null,null,null,null,null,null,null,null,null,null,null,null,null,null,null,null,null,null,null,{"$f":"IF(Indtastning!Y:Y=\"Ikke Aflagt\",1,\"\")","v":""},null,null,{"$f":"IF(Indtastning!U:U=\"Positiv\",1,\"\")","v":""},null,null,null,{"$f":"IF(Indtastning!Y:Y=\"Positiv\",1,\"\")","v":""},null,null,null,{"$f":"IF(Indtastning!AC:AC=\"Positiv\",1,\"\")","v":""}]
[null,null,null,null,null,null,null,null,null,null,null,null,null,null,null,null,null,null,null,null,null,null,null,null,null,null,null,null,null,null,null,null,null,null,null,null,null,null,null,null,null,null,null,{"$f":"IF(Indtastning!Y:Y=\"Ikke Aflagt\",1,\"\")","v":""},null,null,{"$f":"IF(Indtastning!U:U=\"Positiv\",1,\"\")","v":""},null,null,null,{"$f":"IF(Indtastning!Y:Y=\"Positiv\",1,\"\")","v":""},null,null,null,{"$f":"IF(Indtastning!AC:AC=\"Positiv\",1,\"\")","v":""}]
[null,null,null,null,null,null,null,null,null,null,null,null,null,null,null,null,null,null,null,null,null,null,null,null,null,null,null,null,null,null,null,null,null,null,null,null,null,null,null,null,null,null,null,{"$f":"IF(Indtastning!Y:Y=\"Ikke Aflagt\",1,\"\")","v":""},null,null,{"$f":"IF(Indtastning!U:U=\"Positiv\",1,\"\")","v":""},null,null,null,{"$f":"IF(Indtastning!Y:Y=\"Positiv\",1,\"\")","v":""},null,null,null,{"$f":"IF(Indtastning!AC:AC=\"Positiv\",1,\"\")","v":""}]
[null,null,null,null,null,null,null,null,null,null,null,null,null,null,null,null,null,null,null,null,null,null,null,null,null,null,null,null,null,null,null,null,null,null,null,null,null,null,null,null,null,null,null,{"$f":"IF(Indtastning!Y:Y=\"Ikke Aflagt\",1,\"\")","v":""},null,null,{"$f":"IF(Indtastning!U:U=\"Positiv\",1,\"\")","v":""},null,null,null,{"$f":"IF(Indtastning!Y:Y=\"Positiv\",1,\"\")","v":""},null,null,null,{"$f":"IF(Indtastning!AC:AC=\"Positiv\",1,\"\")","v":""}]
[null,null,null,null,null,null,null,null,null,null,null,null,null,null,null,null,null,null,null,null,null,null,null,null,null,null,null,null,null,null,null,null,null,null,null,null,null,null,null,null,null,null,null,{"$f":"IF(Indtastning!Y:Y=\"Ikke Aflagt\",1,\"\")","v":""},null,null,{"$f":"IF(Indtastning!U:U=\"Positiv\",1,\"\")","v":""},null,null,null,{"$f":"IF(Indtastning!Y:Y=\"Positiv\",1,\"\")","v":""},null,null,null,{"$f":"IF(Indtastning!AC:AC=\"Positiv\",1,\"\")","v":""}]
[null,null,null,null,null,null,null,null,null,null,null,null,null,null,null,null,null,null,null,null,null,null,null,null,null,null,null,null,null,null,null,null,null,null,null,null,null,null,null,null,null,null,null,{"$f":"IF(Indtastning!Y:Y=\"Ikke Aflagt\",1,\"\")","v":""},null,null,{"$f":"IF(Indtastning!U:U=\"Positiv\",1,\"\")","v":""},null,null,null,{"$f":"IF(Indtastning!Y:Y=\"Positiv\",1,\"\")","v":""},null,null,null,{"$f":"IF(Indtastning!AC:AC=\"Positiv\",1,\"\")","v":""}]
[null,null,null,null,null,null,null,null,null,null,null,null,null,null,null,null,null,null,null,null,null,null,null,null,null,null,null,null,null,null,null,null,null,null,null,null,null,null,null,null,null,null,null,{"$f":"IF(Indtastning!Y:Y=\"Ikke Aflagt\",1,\"\")","v":""},null,null,{"$f":"IF(Indtastning!U:U=\"Positiv\",1,\"\")","v":""},null,null,null,{"$f":"IF(Indtastning!Y:Y=\"Positiv\",1,\"\")","v":""},null,null,null,{"$f":"IF(Indtastning!AC:AC=\"Positiv\",1,\"\")","v":""}]
[null,null,null,null,null,null,null,null,null,null,null,null,null,null,null,null,null,null,null,null,null,null,null,null,null,null,null,null,null,null,null,null,null,null,null,null,null,null,null,null,null,null,null,{"$f":"IF(Indtastning!Y:Y=\"Ikke Aflagt\",1,\"\")","v":""},null,null,{"$f":"IF(Indtastning!U:U=\"Positiv\",1,\"\")","v":""},null,null,null,{"$f":"IF(Indtastning!Y:Y=\"Positiv\",1,\"\")","v":""},null,null,null,{"$f":"IF(Indtastning!AC:AC=\"Positiv\",1,\"\")","v":""}]
[null,null,null,null,null,null,null,null,null,null,null,null,null,null,null,null,null,null,null,null,null,null,null,null,null,null,null,null,null,null,null,null,null,null,null,null,null,null,null,null,null,null,null,{"$f":"IF(Indtastning!Y:Y=\"Ikke Aflagt\",1,\"\")","v":""},null,null,{"$f":"IF(Indtastning!U:U=\"Positiv\",1,\"\")","v":""},null,null,null,{"$f":"IF(Indtastning!Y:Y=\"Positiv\",1,\"\")","v":""},null,null,null,{"$f":"IF(Indtastning!AC:AC=\"Positiv\",1,\"\")","v":""}]
[null,null,null,null,null,null,null,null,null,null,null,null,null,null,null,null,null,null,null,null,null,null,null,null,null,null,null,null,null,null,null,null,null,null,null,null,null,null,null,null,null,null,null,{"$f":"IF(Indtastning!Y:Y=\"Ikke Aflagt\",1,\"\")","v":""},null,null,{"$f":"IF(Indtastning!U:U=\"Positiv\",1,\"\")","v":""},null,null,null,{"$f":"IF(Indtastning!Y:Y=\"Positiv\",1,\"\")","v":""},null,null,null,{"$f":"IF(Indtastning!AC:AC=\"Positiv\",1,\"\")","v":""}]
[null,null,null,null,null,null,null,null,null,null,null,null,null,null,null,null,null,null,null,null,null,null,null,null,null,null,null,null,null,null,null,null,null,null,null,null,null,null,null,null,null,null,null,{"$f":"IF(Indtastning!Y:Y=\"Ikke Aflagt\",1,\"\")","v":""},null,null,{"$f":"IF(Indtastning!U:U=\"Positiv\",1,\"\")","v":""},null,null,null,{"$f":"IF(Indtastning!Y:Y=\"Positiv\",1,\"\")","v":""},null,null,null,{"$f":"IF(Indtastning!AC:AC=\"Positiv\",1,\"\")","v":""}]
[null,null,null,null,null,null,null,null,null,null,null,null,null,null,null,null,null,null,null,null,null,null,null,null,null,null,null,null,null,null,null,null,null,null,null,null,null,null,null,null,null,null,null,{"$f":"IF(Indtastning!Y:Y=\"Ikke Aflagt\",1,\"\")","v":""},null,null,{"$f":"IF(Indtastning!U:U=\"Positiv\",1,\"\")","v":""},null,null,null,{"$f":"IF(Indtastning!Y:Y=\"Positiv\",1,\"\")","v":""},null,null,null,{"$f":"IF(Indtastning!AC:AC=\"Positiv\",1,\"\")","v":""}]
[null,null,null,null,null,null,null,null,null,null,null,null,null,null,null,null,null,null,null,null,null,null,null,null,null,null,null,null,null,null,null,null,null,null,null,null,null,null,null,null,null,null,null,{"$f":"IF(Indtastning!Y:Y=\"Ikke Aflagt\",1,\"\")","v":""},null,null,{"$f":"IF(Indtastning!U:U=\"Positiv\",1,\"\")","v":""},null,null,null,{"$f":"IF(Indtastning!Y:Y=\"Positiv\",1,\"\")","v":""},null,null,null,{"$f":"IF(Indtastning!AC:AC=\"Positiv\",1,\"\")","v":""}]
[null,null,null,null,null,null,null,null,null,null,null,null,null,null,null,null,null,null,null,null,null,null,null,null,null,null,null,null,null,null,null,null,null,null,null,null,null,null,null,null,null,null,null,{"$f":"IF(Indtastning!Y:Y=\"Ikke Aflagt\",1,\"\")","v":""},null,null,{"$f":"IF(Indtastning!U:U=\"Positiv\",1,\"\")","v":""},null,null,null,{"$f":"IF(Indtastning!Y:Y=\"Positiv\",1,\"\")","v":""},null,null,null,{"$f":"IF(Indtastning!AC:AC=\"Positiv\",1,\"\")","v":""}]
[null,null,null,null,null,null,null,null,null,null,null,null,null,null,null,null,null,null,null,null,null,null,null,null,null,null,null,null,null,null,null,null,null,null,null,null,null,null,null,null,null,null,null,{"$f":"IF(Indtastning!Y:Y=\"Ikke Aflagt\",1,\"\")","v":""},null,null,{"$f":"IF(Indtastning!U:U=\"Positiv\",1,\"\")","v":""},null,null,null,{"$f":"IF(Indtastning!Y:Y=\"Positiv\",1,\"\")","v":""},null,null,null,{"$f":"IF(Indtastning!AC:AC=\"Positiv\",1,\"\")","v":""}]
[null,null,null,null,null,null,null,null,null,null,null,null,null,null,null,null,null,null,null,null,null,null,null,null,null,null,null,null,null,null,null,null,null,null,null,null,null,null,null,null,null,null,null,{"$f":"IF(Indtastning!Y:Y=\"Ikke Aflagt\",1,\"\")","v":""},null,null,{"$f":"IF(Indtastning!U:U=\"Positiv\",1,\"\")","v":""},null,null,null,{"$f":"IF(Indtastning!Y:Y=\"Positiv\",1,\"\")","v":""},null,null,null,{"$f":"IF(Indtastning!AC:AC=\"Positiv\",1,\"\")","v":""}]
[null,null,null,null,null,null,null,null,null,null,null,null,null,null,null,null,null,null,null,null,null,null,null,null,null,null,null,null,null,null,null,null,null,null,null,null,null,null,null,null,null,null,null,{"$f":"IF(Indtastning!Y:Y=\"Ikke Aflagt\",1,\"\")","v":""},null,null,{"$f":"IF(Indtastning!U:U=\"Positiv\",1,\"\")","v":""},null,null,null,{"$f":"IF(Indtastning!Y:Y=\"Positiv\",1,\"\")","v":""},null,null,null,{"$f":"IF(Indtastning!AC:AC=\"Positiv\",1,\"\")","v":""}]
[null,null,null,null,null,null,null,null,null,null,null,null,null,null,null,null,null,null,null,null,null,null,null,null,null,null,null,null,null,null,null,null,null,null,null,null,null,null,null,null,null,null,null,{"$f":"IF(Indtastning!Y:Y=\"Ikke Aflagt\",1,\"\")","v":""},null,null,{"$f":"IF(Indtastning!U:U=\"Positiv\",1,\"\")","v":""},null,null,null,{"$f":"IF(Indtastning!Y:Y=\"Positiv\",1,\"\")","v":""},null,null,null,{"$f":"IF(Indtastning!AC:AC=\"Positiv\",1,\"\")","v":""}]
[null,null,null,null,null,null,null,null,null,null,null,null,null,null,null,null,null,null,null,null,null,null,null,null,null,null,null,null,null,null,null,null,null,null,null,null,null,null,null,null,null,null,null,{"$f":"IF(Indtastning!Y:Y=\"Ikke Aflagt\",1,\"\")","v":""},null,null,{"$f":"IF(Indtastning!U:U=\"Positiv\",1,\"\")","v":""},null,null,null,{"$f":"IF(Indtastning!Y:Y=\"Positiv\",1,\"\")","v":""},null,null,null,{"$f":"IF(Indtastning!AC:AC=\"Positiv\",1,\"\")","v":""}]
[null,null,null,null,null,null,null,null,null,null,null,null,null,null,null,null,null,null,null,null,null,null,null,null,null,null,null,null,null,null,null,null,null,null,null,null,null,null,null,null,null,null,null,{"$f":"IF(Indtastning!Y:Y=\"Ikke Aflagt\",1,\"\")","v":""},null,null,{"$f":"IF(Indtastning!U:U=\"Positiv\",1,\"\")","v":""},null,null,null,{"$f":"IF(Indtastning!Y:Y=\"Positiv\",1,\"\")","v":""},null,null,null,{"$f":"IF(Indtastning!AC:AC=\"Positiv\",1,\"\")","v":""}]
[null,null,null,null,null,null,null,null,null,null,null,null,null,null,null,null,null,null,null,null,null,null,null,null,null,null,null,null,null,null,null,null,null,null,null,null,null,null,null,null,null,null,null,{"$f":"IF(Indtastning!Y:Y=\"Ikke Aflagt\",1,\"\")","v":""},null,null,{"$f":"IF(Indtastning!U:U=\"Positiv\",1,\"\")","v":""},null,null,null,{"$f":"IF(Indtastning!Y:Y=\"Positiv\",1,\"\")","v":""},null,null,null,{"$f":"IF(Indtastning!AC:AC=\"Positiv\",1,\"\")","v":""}]
[null,null,null,null,null,null,null,null,null,null,null,null,null,null,null,null,null,null,null,null,null,null,null,null,null,null,null,null,null,null,null,null,null,null,null,null,null,null,null,null,null,null,null,{"$f":"IF(Indtastning!Y:Y=\"Ikke Aflagt\",1,\"\")","v":""},null,null,{"$f":"IF(Indtastning!U:U=\"Positiv\",1,\"\")","v":""},null,null,null,{"$f":"IF(Indtastning!Y:Y=\"Positiv\",1,\"\")","v":""},null,null,null,{"$f":"IF(Indtastning!AC:AC=\"Positiv\",1,\"\")","v":""}]
[null,null,null,null,null,null,null,null,null,null,null,null,null,null,null,null,null,null,null,null,null,null,null,null,null,null,null,null,null,null,null,null,null,null,null,null,null,null,null,null,null,null,null,{"$f":"IF(Indtastning!Y:Y=\"Ikke Aflagt\",1,\"\")","v":""},null,null,{"$f":"IF(Indtastning!U:U=\"Positiv\",1,\"\")","v":""},null,null,null,{"$f":"IF(Indtastning!Y:Y=\"Positiv\",1,\"\")","v":""},null,null,null,{"$f":"IF(Indtastning!AC:AC=\"Positiv\",1,\"\")","v":""}]
[null,null,null,null,null,null,null,null,null,null,null,null,null,null,null,null,null,null,null,null,null,null,null,null,null,null,null,null,null,null,null,null,null,null,null,null,null,null,null,null,null,null,null,{"$f":"IF(Indtastning!Y:Y=\"Ikke Aflagt\",1,\"\")","v":""},null,null,{"$f":"IF(Indtastning!U:U=\"Positiv\",1,\"\")","v":""},null,null,null,{"$f":"IF(Indtastning!Y:Y=\"Positiv\",1,\"\")","v":""},null,null,null,{"$f":"IF(Indtastning!AC:AC=\"Positiv\",1,\"\")","v":""}]
[null,null,null,null,null,null,null,null,null,null,null,null,null,null,null,null,null,null,null,null,null,null,null,null,null,null,null,null,null,null,null,null,null,null,null,null,null,null,null,null,null,null,null,{"$f":"IF(Indtastning!Y:Y=\"Ikke Aflagt\",1,\"\")","v":""},null,null,{"$f":"IF(Indtastning!U:U=\"Positiv\",1,\"\")","v":""},null,null,null,{"$f":"IF(Indtastning!Y:Y=\"Positiv\",1,\"\")","v":""},null,null,null,{"$f":"IF(Indtastning!AC:AC=\"Positiv\",1,\"\")","v":""}]
[null,null,null,null,null,null,null,null,null,null,null,null,null,null,null,null,null,null,null,null,null,null,null,null,null,null,null,null,null,null,null,null,null,null,null,null,null,null,null,null,null,null,null,{"$f":"IF(Indtastning!Y:Y=\"Ikke Aflagt\",1,\"\")","v":""},null,null,{"$f":"IF(Indtastning!U:U=\"Positiv\",1,\"\")","v":""},null,null,null,{"$f":"IF(Indtastning!Y:Y=\"Positiv\",1,\"\")","v":""},null,null,null,{"$f":"IF(Indtastning!AC:AC=\"Positiv\",1,\"\")","v":""}]
[null,null,null,null,null,null,null,null,null,null,null,null,null,null,null,null,null,null,null,null,null,null,null,null,null,null,null,null,null,null,null,null,null,null,null,null,null,null,null,null,null,null,null,{"$f":"IF(Indtastning!Y:Y=\"Ikke Aflagt\",1,\"\")","v":""},null,null,{"$f":"IF(Indtastning!U:U=\"Positiv\",1,\"\")","v":""},null,null,null,{"$f":"IF(Indtastning!Y:Y=\"Positiv\",1,\"\")","v":""},null,null,null,{"$f":"IF(Indtastning!AC:AC=\"Positiv\",1,\"\")","v":""}]
[null,null,null,null,null,null,null,null,null,null,null,null,null,null,null,null,null,null,null,null,null,null,null,null,null,null,null,null,null,null,null,null,null,null,null,null,null,null,null,null,null,null,null,{"$f":"IF(Indtastning!Y:Y=\"Ikke Aflagt\",1,\"\")","v":""},null,null,{"$f":"IF(Indtastning!U:U=\"Positiv\",1,\"\")","v":""},null,null,null,{"$f":"IF(Indtastning!Y:Y=\"Positiv\",1,\"\")","v":""},null,null,null,{"$f":"IF(Indtastning!AC:AC=\"Positiv\",1,\"\")","v":""}]
[null,null,null,null,null,null,null,null,null,null,null,null,null,null,null,null,null,null,null,null,null,null,null,null,null,null,null,null,null,null,null,null,null,null,null,null,null,null,null,null,null,null,null,{"$f":"IF(Indtastning!Y:Y=\"Ikke Aflagt\",1,\"\")","v":""},null,null,{"$f":"IF(Indtastning!U:U=\"Positiv\",1,\"\")","v":""},null,null,null,{"$f":"IF(Indtastning!Y:Y=\"Positiv\",1,\"\")","v":""},null,null,null,{"$f":"IF(Indtastning!AC:AC=\"Positiv\",1,\"\")","v":""}]
[null,null,null,null,null,null,null,null,null,null,null,null,null,null,null,null,null,null,null,null,null,null,null,null,null,null,null,null,null,null,null,null,null,null,null,null,null,null,null,null,null,null,null,{"$f":"IF(Indtastning!Y:Y=\"Ikke Aflagt\",1,\"\")","v":""},null,null,{"$f":"IF(Indtastning!U:U=\"Positiv\",1,\"\")","v":""},null,null,null,{"$f":"IF(Indtastning!Y:Y=\"Positiv\",1,\"\")","v":""},null,null,null,{"$f":"IF(Indtastning!AC:AC=\"Positiv\",1,\"\")","v":""}]
[null,null,null,null,null,null,null,null,null,null,null,null,null,null,null,null,null,null,null,null,null,null,null,null,null,null,null,null,null,null,null,null,null,null,null,null,null,null,null,null,null,null,null,{"$f":"IF(Indtastning!Y:Y=\"Ikke Aflagt\",1,\"\")","v":""},null,null,{"$f":"IF(Indtastning!U:U=\"Positiv\",1,\"\")","v":""},null,null,null,{"$f":"IF(Indtastning!Y:Y=\"Positiv\",1,\"\")","v":""},null,null,null,{"$f":"IF(Indtastning!AC:AC=\"Positiv\",1,\"\")","v":""}]
[null,null,null,null,null,null,null,null,null,null,null,null,null,null,null,null,null,null,null,null,null,null,null,null,null,null,null,null,null,null,null,null,null,null,null,null,null,null,null,null,null,null,null,{"$f":"IF(Indtastning!Y:Y=\"Ikke Aflagt\",1,\"\")","v":""},null,null,{"$f":"IF(Indtastning!U:U=\"Positiv\",1,\"\")","v":""},null,null,null,{"$f":"IF(Indtastning!Y:Y=\"Positiv\",1,\"\")","v":""},null,null,null,{"$f":"IF(Indtastning!AC:AC=\"Positiv\",1,\"\")","v":""}]
[null,null,null,null,null,null,null,null,null,null,null,null,null,null,null,null,null,null,null,null,null,null,null,null,null,null,null,null,null,null,null,null,null,null,null,null,null,null,null,null,null,null,null,{"$f":"IF(Indtastning!Y:Y=\"Ikke Aflagt\",1,\"\")","v":""},null,null,{"$f":"IF(Indtastning!U:U=\"Positiv\",1,\"\")","v":""},null,null,null,{"$f":"IF(Indtastning!Y:Y=\"Positiv\",1,\"\")","v":""},null,null,null,{"$f":"IF(Indtastning!AC:AC=\"Positiv\",1,\"\")","v":""}]
[null,null,null,null,null,null,null,null,null,null,null,null,null,null,null,null,null,null,null,null,null,null,null,null,null,null,null,null,null,null,null,null,null,null,null,null,null,null,null,null,null,null,null,{"$f":"IF(Indtastning!Y:Y=\"Ikke Aflagt\",1,\"\")","v":""},null,null,{"$f":"IF(Indtastning!U:U=\"Positiv\",1,\"\")","v":""},null,null,null,{"$f":"IF(Indtastning!Y:Y=\"Positiv\",1,\"\")","v":""},null,null,null,{"$f":"IF(Indtastning!AC:AC=\"Positiv\",1,\"\")","v":""}]
[null,null,null,null,null,null,null,null,null,null,null,null,null,null,null,null,null,null,null,null,null,null,null,null,null,null,null,null,null,null,null,null,null,null,null,null,null,null,null,null,null,null,null,{"$f":"IF(Indtastning!Y:Y=\"Ikke Aflagt\",1,\"\")","v":""},null,null,{"$f":"IF(Indtastning!U:U=\"Positiv\",1,\"\")","v":""},null,null,null,{"$f":"IF(Indtastning!Y:Y=\"Positiv\",1,\"\")","v":""},null,null,null,{"$f":"IF(Indtastning!AC:AC=\"Positiv\",1,\"\")","v":""}]
[null,null,null,null,null,null,null,null,null,null,null,null,null,null,null,null,null,null,null,null,null,null,null,null,null,null,null,null,null,null,null,null,null,null,null,null,null,null,null,null,null,null,null,{"$f":"IF(Indtastning!Y:Y=\"Ikke Aflagt\",1,\"\")","v":""},null,null,{"$f":"IF(Indtastning!U:U=\"Positiv\",1,\"\")","v":""},null,null,null,{"$f":"IF(Indtastning!Y:Y=\"Positiv\",1,\"\")","v":""},null,null,null,{"$f":"IF(Indtastning!AC:AC=\"Positiv\",1,\"\")","v":""}]
[null,null,null,null,null,null,null,null,null,null,null,null,null,null,null,null,null,null,null,null,null,null,null,null,null,null,null,null,null,null,null,null,null,null,null,null,null,null,null,null,null,null,null,{"$f":"IF(Indtastning!Y:Y=\"Ikke Aflagt\",1,\"\")","v":""},null,null,{"$f":"IF(Indtastning!U:U=\"Positiv\",1,\"\")","v":""},null,null,null,{"$f":"IF(Indtastning!Y:Y=\"Positiv\",1,\"\")","v":""},null,null,null,{"$f":"IF(Indtastning!AC:AC=\"Positiv\",1,\"\")","v":""}]
[null,null,null,null,null,null,null,null,null,null,null,null,null,null,null,null,null,null,null,null,null,null,null,null,null,null,null,null,null,null,null,null,null,null,null,null,null,null,null,null,null,null,null,{"$f":"IF(Indtastning!Y:Y=\"Ikke Aflagt\",1,\"\")","v":""},null,null,{"$f":"IF(Indtastning!U:U=\"Positiv\",1,\"\")","v":""},null,null,null,{"$f":"IF(Indtastning!Y:Y=\"Positiv\",1,\"\")","v":""},null,null,null,{"$f":"IF(Indtastning!AC:AC=\"Positiv\",1,\"\")","v":""}]
[null,null,null,null,null,null,null,null,null,null,null,null,null,null,null,null,null,null,null,null,null,null,null,null,null,null,null,null,null,null,null,null,null,null,null,null,null,null,null,null,null,null,null,{"$f":"IF(Indtastning!Y:Y=\"Ikke Aflagt\",1,\"\")","v":""},null,null,{"$f":"IF(Indtastning!U:U=\"Positiv\",1,\"\")","v":""},null,null,null,{"$f":"IF(Indtastning!Y:Y=\"Positiv\",1,\"\")","v":""},null,null,null,{"$f":"IF(Indtastning!AC:AC=\"Positiv\",1,\"\")","v":""}]
[null,null,null,null,null,null,null,null,null,null,null,null,null,null,null,null,null,null,null,null,null,null,null,null,null,null,null,null,null,null,null,null,null,null,null,null,null,null,null,null,null,null,null,{"$f":"IF(Indtastning!Y:Y=\"Ikke Aflagt\",1,\"\")","v":""},null,null,{"$f":"IF(Indtastning!U:U=\"Positiv\",1,\"\")","v":""},null,null,null,{"$f":"IF(Indtastning!Y:Y=\"Positiv\",1,\"\")","v":""},null,null,null,{"$f":"IF(Indtastning!AC:AC=\"Positiv\",1,\"\")","v":""}]
[null,null,null,null,null,null,null,null,null,null,null,null,null,null,null,null,null,null,null,null,null,null,null,null,null,null,null,null,null,null,null,null,null,null,null,null,null,null,null,null,null,null,null,{"$f":"IF(Indtastning!Y:Y=\"Ikke Aflagt\",1,\"\")","v":""},null,null,{"$f":"IF(Indtastning!U:U=\"Positiv\",1,\"\")","v":""},null,null,null,{"$f":"IF(Indtastning!Y:Y=\"Positiv\",1,\"\")","v":""},null,null,null,{"$f":"IF(Indtastning!AC:AC=\"Positiv\",1,\"\")","v":""}]
[null,null,null,null,null,null,null,null,null,null,null,null,null,null,null,null,null,null,null,null,null,null,null,null,null,null,null,null,null,null,null,null,null,null,null,null,null,null,null,null,null,null,null,{"$f":"IF(Indtastning!Y:Y=\"Ikke Aflagt\",1,\"\")","v":""},null,null,{"$f":"IF(Indtastning!U:U=\"Positiv\",1,\"\")","v":""},null,null,null,{"$f":"IF(Indtastning!Y:Y=\"Positiv\",1,\"\")","v":""},null,null,null,{"$f":"IF(Indtastning!AC:AC=\"Positiv\",1,\"\")","v":""}]
[null,null,null,null,null,null,null,null,null,null,null,null,null,null,null,null,null,null,null,null,null,null,null,null,null,null,null,null,null,null,null,null,null,null,null,null,null,null,null,null,null,null,null,{"$f":"IF(Indtastning!Y:Y=\"Ikke Aflagt\",1,\"\")","v":""},null,null,{"$f":"IF(Indtastning!U:U=\"Positiv\",1,\"\")","v":""},null,null,null,{"$f":"IF(Indtastning!Y:Y=\"Positiv\",1,\"\")","v":""},null,null,null,{"$f":"IF(Indtastning!AC:AC=\"Positiv\",1,\"\")","v":""}]
[null,null,null,null,null,null,null,null,null,null,null,null,null,null,null,null,null,null,null,null,null,null,null,null,null,null,null,null,null,null,null,null,null,null,null,null,null,null,null,null,null,null,null,{"$f":"IF(Indtastning!Y:Y=\"Ikke Aflagt\",1,\"\")","v":""},null,null,{"$f":"IF(Indtastning!U:U=\"Positiv\",1,\"\")","v":""},null,null,null,{"$f":"IF(Indtastning!Y:Y=\"Positiv\",1,\"\")","v":""},null,null,null,{"$f":"IF(Indtastning!AC:AC=\"Positiv\",1,\"\")","v":""}]
[null,null,null,null,null,null,null,null,null,null,null,null,null,null,null,null,null,null,null,null,null,null,null,null,null,null,null,null,null,null,null,null,null,null,null,null,null,null,null,null,null,null,null,{"$f":"IF(Indtastning!Y:Y=\"Ikke Aflagt\",1,\"\")","v":""},null,null,{"$f":"IF(Indtastning!U:U=\"Positiv\",1,\"\")","v":""},null,null,null,{"$f":"IF(Indtastning!Y:Y=\"Positiv\",1,\"\")","v":""},null,null,null,{"$f":"IF(Indtastning!AC:AC=\"Positiv\",1,\"\")","v":""}]
[null,null,null,null,null,null,null,null,null,null,null,null,null,null,null,null,null,null,null,null,null,null,null,null,null,null,null,null,null,null,null,null,null,null,null,null,null,null,null,null,null,null,null,{"$f":"IF(Indtastning!Y:Y=\"Ikke Aflagt\",1,\"\")","v":""},null,null,{"$f":"IF(Indtastning!U:U=\"Positiv\",1,\"\")","v":""},null,null,null,{"$f":"IF(Indtastning!Y:Y=\"Positiv\",1,\"\")","v":""},null,null,null,{"$f":"IF(Indtastning!AC:AC=\"Positiv\",1,\"\")","v":""}]
[null,null,null,null,null,null,null,null,null,null,null,null,null,null,null,null,null,null,null,null,null,null,null,null,null,null,null,null,null,null,null,null,null,null,null,null,null,null,null,null,null,null,null,{"$f":"IF(Indtastning!Y:Y=\"Ikke Aflagt\",1,\"\")","v":""},null,null,{"$f":"IF(Indtastning!U:U=\"Positiv\",1,\"\")","v":""},null,null,null,{"$f":"IF(Indtastning!Y:Y=\"Positiv\",1,\"\")","v":""},null,null,null,{"$f":"IF(Indtastning!AC:AC=\"Positiv\",1,\"\")","v":""}]
[null,null,null,null,null,null,null,null,null,null,null,null,null,null,null,null,null,null,null,null,null,null,null,null,null,null,null,null,null,null,null,null,null,null,null,null,null,null,null,null,null,null,null,{"$f":"IF(Indtastning!Y:Y=\"Ikke Aflagt\",1,\"\")","v":""},null,null,{"$f":"IF(Indtastning!U:U=\"Positiv\",1,\"\")","v":""},null,null,null,{"$f":"IF(Indtastning!Y:Y=\"Positiv\",1,\"\")","v":""},null,null,null,{"$f":"IF(Indtastning!AC:AC=\"Positiv\",1,\"\")","v":""}]
[null,null,null,null,null,null,null,null,null,null,null,null,null,null,null,null,null,null,null,null,null,null,null,null,null,null,null,null,null,null,null,null,null,null,null,null,null,null,null,null,null,null,null,{"$f":"IF(Indtastning!Y:Y=\"Ikke Aflagt\",1,\"\")","v":""},null,null,{"$f":"IF(Indtastning!U:U=\"Positiv\",1,\"\")","v":""},null,null,null,{"$f":"IF(Indtastning!Y:Y=\"Positiv\",1,\"\")","v":""},null,null,null,{"$f":"IF(Indtastning!AC:AC=\"Positiv\",1,\"\")","v":""}]
[null,null,null,null,null,null,null,null,null,null,null,null,null,null,null,null,null,null,null,null,null,null,null,null,null,null,null,null,null,null,null,null,null,null,null,null,null,null,null,null,null,null,null,{"$f":"IF(Indtastning!Y:Y=\"Ikke Aflagt\",1,\"\")","v":""},null,null,{"$f":"IF(Indtastning!U:U=\"Positiv\",1,\"\")","v":""},null,null,null,{"$f":"IF(Indtastning!Y:Y=\"Positiv\",1,\"\")","v":""},null,null,null,{"$f":"IF(Indtastning!AC:AC=\"Positiv\",1,\"\")","v":""}]
[null,null,null,null,null,null,null,null,null,null,null,null,null,null,null,null,null,null,null,null,null,null,null,null,null,null,null,null,null,null,null,null,null,null,null,null,null,null,null,null,null,null,null,{"$f":"IF(Indtastning!Y:Y=\"Ikke Aflagt\",1,\"\")","v":""},null,null,{"$f":"IF(Indtastning!U:U=\"Positiv\",1,\"\")","v":""},null,null,null,{"$f":"IF(Indtastning!Y:Y=\"Positiv\",1,\"\")","v":""},null,null,null,{"$f":"IF(Indtastning!AC:AC=\"Positiv\",1,\"\")","v":""}]
[null,null,null,null,null,null,null,null,null,null,null,null,null,null,null,null,null,null,null,null,null,null,null,null,null,null,null,null,null,null,null,null,null,null,null,null,null,null,null,null,null,null,null,{"$f":"IF(Indtastning!Y:Y=\"Ikke Aflagt\",1,\"\")","v":""},null,null,{"$f":"IF(Indtastning!U:U=\"Positiv\",1,\"\")","v":""},null,null,null,{"$f":"IF(Indtastning!Y:Y=\"Positiv\",1,\"\")","v":""},null,null,null,{"$f":"IF(Indtastning!AC:AC=\"Positiv\",1,\"\")","v":""}]
[null,null,null,null,null,null,null,null,null,null,null,null,null,null,null,null,null,null,null,null,null,null,null,null,null,null,null,null,null,null,null,null,null,null,null,null,null,null,null,null,null,null,null,{"$f":"IF(Indtastning!Y:Y=\"Ikke Aflagt\",1,\"\")","v":""},null,null,{"$f":"IF(Indtastning!U:U=\"Positiv\",1,\"\")","v":""},null,null,null,{"$f":"IF(Indtastning!Y:Y=\"Positiv\",1,\"\")","v":""},null,null,null,{"$f":"IF(Indtastning!AC:AC=\"Positiv\",1,\"\")","v":""}]
[null,null,null,null,null,null,null,null,null,null,null,null,null,null,null,null,null,null,null,null,null,null,null,null,null,null,null,null,null,null,null,null,null,null,null,null,null,null,null,null,null,null,null,{"$f":"IF(Indtastning!Y:Y=\"Ikke Aflagt\",1,\"\")","v":""},null,null,{"$f":"IF(Indtastning!U:U=\"Positiv\",1,\"\")","v":""},null,null,null,{"$f":"IF(Indtastning!Y:Y=\"Positiv\",1,\"\")","v":""},null,null,null,{"$f":"IF(Indtastning!AC:AC=\"Positiv\",1,\"\")","v":""}]
[null,null,null,null,null,null,null,null,null,null,null,null,null,null,null,null,null,null,null,null,null,null,null,null,null,null,null,null,null,null,null,null,null,null,null,null,null,null,null,null,null,null,null,{"$f":"IF(Indtastning!Y:Y=\"Ikke Aflagt\",1,\"\")","v":""},null,null,{"$f":"IF(Indtastning!U:U=\"Positiv\",1,\"\")","v":""},null,null,null,{"$f":"IF(Indtastning!Y:Y=\"Positiv\",1,\"\")","v":""},null,null,null,{"$f":"IF(Indtastning!AC:AC=\"Positiv\",1,\"\")","v":""}]
[null,null,null,null,null,null,null,null,null,null,null,null,null,null,null,null,null,null,null,null,null,null,null,null,null,null,null,null,null,null,null,null,null,null,null,null,null,null,null,null,null,null,null,{"$f":"IF(Indtastning!Y:Y=\"Ikke Aflagt\",1,\"\")","v":""},null,null,{"$f":"IF(Indtastning!U:U=\"Positiv\",1,\"\")","v":""},null,null,null,{"$f":"IF(Indtastning!Y:Y=\"Positiv\",1,\"\")","v":""},null,null,null,{"$f":"IF(Indtastning!AC:AC=\"Positiv\",1,\"\")","v":""}]
[null,null,null,null,null,null,null,null,null,null,null,null,null,null,null,null,null,null,null,null,null,null,null,null,null,null,null,null,null,null,null,null,null,null,null,null,null,null,null,null,null,null,null,{"$f":"IF(Indtastning!Y:Y=\"Ikke Aflagt\",1,\"\")","v":""},null,null,{"$f":"IF(Indtastning!U:U=\"Positiv\",1,\"\")","v":""},null,null,null,{"$f":"IF(Indtastning!Y:Y=\"Positiv\",1,\"\")","v":""},null,null,null,{"$f":"IF(Indtastning!AC:AC=\"Positiv\",1,\"\")","v":""}]
[null,null,null,null,null,null,null,null,null,null,null,null,null,null,null,null,null,null,null,null,null,null,null,null,null,null,null,null,null,null,null,null,null,null,null,null,null,null,null,null,null,null,null,{"$f":"IF(Indtastning!Y:Y=\"Ikke Aflagt\",1,\"\")","v":""},null,null,{"$f":"IF(Indtastning!U:U=\"Positiv\",1,\"\")","v":""},null,null,null,{"$f":"IF(Indtastning!Y:Y=\"Positiv\",1,\"\")","v":""},null,null,null,{"$f":"IF(Indtastning!AC:AC=\"Positiv\",1,\"\")","v":""}]
[null,null,null,null,null,null,null,null,null,null,null,null,null,null,null,null,null,null,null,null,null,null,null,null,null,null,null,null,null,null,null,null,null,null,null,null,null,null,null,null,null,null,null,{"$f":"IF(Indtastning!Y:Y=\"Ikke Aflagt\",1,\"\")","v":""},null,null,{"$f":"IF(Indtastning!U:U=\"Positiv\",1,\"\")","v":""},null,null,null,{"$f":"IF(Indtastning!Y:Y=\"Positiv\",1,\"\")","v":""},null,null,null,{"$f":"IF(Indtastning!AC:AC=\"Positiv\",1,\"\")","v":""}]
[null,null,null,null,null,null,null,null,null,null,null,null,null,null,null,null,null,null,null,null,null,null,null,null,null,null,null,null,null,null,null,null,null,null,null,null,null,null,null,null,null,null,null,{"$f":"IF(Indtastning!Y:Y=\"Ikke Aflagt\",1,\"\")","v":""},null,null,{"$f":"IF(Indtastning!U:U=\"Positiv\",1,\"\")","v":""},null,null,null,{"$f":"IF(Indtastning!Y:Y=\"Positiv\",1,\"\")","v":""},null,null,null,{"$f":"IF(Indtastning!AC:AC=\"Positiv\",1,\"\")","v":""}]
[null,null,null,null,null,null,null,null,null,null,null,null,null,null,null,null,null,null,null,null,null,null,null,null,null,null,null,null,null,null,null,null,null,null,null,null,null,null,null,null,null,null,null,{"$f":"IF(Indtastning!Y:Y=\"Ikke Aflagt\",1,\"\")","v":""},null,null,{"$f":"IF(Indtastning!U:U=\"Positiv\",1,\"\")","v":""},null,null,null,{"$f":"IF(Indtastning!Y:Y=\"Positiv\",1,\"\")","v":""},null,null,null,{"$f":"IF(Indtastning!AC:AC=\"Positiv\",1,\"\")","v":""}]
[null,null,null,null,null,null,null,null,null,null,null,null,null,null,null,null,null,null,null,null,null,null,null,null,null,null,null,null,null,null,null,null,null,null,null,null,null,null,null,null,null,null,null,{"$f":"IF(Indtastning!Y:Y=\"Ikke Aflagt\",1,\"\")","v":""},null,null,{"$f":"IF(Indtastning!U:U=\"Positiv\",1,\"\")","v":""},null,null,null,{"$f":"IF(Indtastning!Y:Y=\"Positiv\",1,\"\")","v":""},null,null,null,{"$f":"IF(Indtastning!AC:AC=\"Positiv\",1,\"\")","v":""}]
[null,null,null,null,null,null,null,null,null,null,null,null,null,null,null,null,null,null,null,null,null,null,null,null,null,null,null,null,null,null,null,null,null,null,null,null,null,null,null,null,null,null,null,{"$f":"IF(Indtastning!Y:Y=\"Ikke Aflagt\",1,\"\")","v":""},null,null,{"$f":"IF(Indtastning!U:U=\"Positiv\",1,\"\")","v":""},null,null,null,{"$f":"IF(Indtastning!Y:Y=\"Positiv\",1,\"\")","v":""},null,null,null,{"$f":"IF(Indtastning!AC:AC=\"Positiv\",1,\"\")","v":""}]
[null,null,null,null,null,null,null,null,null,null,null,null,null,null,null,null,null,null,null,null,null,null,null,null,null,null,null,null,null,null,null,null,null,null,null,null,null,null,null,null,null,null,null,{"$f":"IF(Indtastning!Y:Y=\"Ikke Aflagt\",1,\"\")","v":""},null,null,{"$f":"IF(Indtastning!U:U=\"Positiv\",1,\"\")","v":""},null,null,null,{"$f":"IF(Indtastning!Y:Y=\"Positiv\",1,\"\")","v":""},null,null,null,{"$f":"IF(Indtastning!AC:AC=\"Positiv\",1,\"\")","v":""}]
[null,null,null,null,null,null,null,null,null,null,null,null,null,null,null,null,null,null,null,null,null,null,null,null,null,null,null,null,null,null,null,null,null,null,null,null,null,null,null,null,null,null,null,{"$f":"IF(Indtastning!Y:Y=\"Ikke Aflagt\",1,\"\")","v":""},null,null,{"$f":"IF(Indtastning!U:U=\"Positiv\",1,\"\")","v":""},null,null,null,{"$f":"IF(Indtastning!Y:Y=\"Positiv\",1,\"\")","v":""},null,null,null,{"$f":"IF(Indtastning!AC:AC=\"Positiv\",1,\"\")","v":""}]
[null,null,null,null,null,null,null,null,null,null,null,null,null,null,null,null,null,null,null,null,null,null,null,null,null,null,null,null,null,null,null,null,null,null,null,null,null,null,null,null,null,null,null,{"$f":"IF(Indtastning!Y:Y=\"Ikke Aflagt\",1,\"\")","v":""},null,null,{"$f":"IF(Indtastning!U:U=\"Positiv\",1,\"\")","v":""},null,null,null,{"$f":"IF(Indtastning!Y:Y=\"Positiv\",1,\"\")","v":""},null,null,null,{"$f":"IF(Indtastning!AC:AC=\"Positiv\",1,\"\")","v":""}]
[null,null,null,null,null,null,null,null,null,null,null,null,null,null,null,null,null,null,null,null,null,null,null,null,null,null,null,null,null,null,null,null,null,null,null,null,null,null,null,null,null,null,null,{"$f":"IF(Indtastning!Y:Y=\"Ikke Aflagt\",1,\"\")","v":""},null,null,{"$f":"IF(Indtastning!U:U=\"Positiv\",1,\"\")","v":""},null,null,null,{"$f":"IF(Indtastning!Y:Y=\"Positiv\",1,\"\")","v":""},null,null,null,{"$f":"IF(Indtastning!AC:AC=\"Positiv\",1,\"\")","v":""}]
[null,null,null,null,null,null,null,null,null,null,null,null,null,null,null,null,null,null,null,null,null,null,null,null,null,null,null,null,null,null,null,null,null,null,null,null,null,null,null,null,null,null,null,{"$f":"IF(Indtastning!Y:Y=\"Ikke Aflagt\",1,\"\")","v":""},null,null,{"$f":"IF(Indtastning!U:U=\"Positiv\",1,\"\")","v":""},null,null,null,{"$f":"IF(Indtastning!Y:Y=\"Positiv\",1,\"\")","v":""},null,null,null,{"$f":"IF(Indtastning!AC:AC=\"Positiv\",1,\"\")","v":""}]
[null,null,null,null,null,null,null,null,null,null,null,null,null,null,null,null,null,null,null,null,null,null,null,null,null,null,null,null,null,null,null,null,null,null,null,null,null,null,null,null,null,null,null,{"$f":"IF(Indtastning!Y:Y=\"Ikke Aflagt\",1,\"\")","v":""},null,null,{"$f":"IF(Indtastning!U:U=\"Positiv\",1,\"\")","v":""},null,null,null,{"$f":"IF(Indtastning!Y:Y=\"Positiv\",1,\"\")","v":""},null,null,null,{"$f":"IF(Indtastning!AC:AC=\"Positiv\",1,\"\")","v":""}]
[null,null,null,null,null,null,null,null,null,null,null,null,null,null,null,null,null,null,null,null,null,null,null,null,null,null,null,null,null,null,null,null,null,null,null,null,null,null,null,null,null,null,null,{"$f":"IF(Indtastning!Y:Y=\"Ikke Aflagt\",1,\"\")","v":""},null,null,{"$f":"IF(Indtastning!U:U=\"Positiv\",1,\"\")","v":""},null,null,null,{"$f":"IF(Indtastning!Y:Y=\"Positiv\",1,\"\")","v":""},null,null,null,{"$f":"IF(Indtastning!AC:AC=\"Positiv\",1,\"\")","v":""}]
[null,null,null,null,null,null,null,null,null,null,null,null,null,null,null,null,null,null,null,null,null,null,null,null,null,null,null,null,null,null,null,null,null,null,null,null,null,null,null,null,null,null,null,{"$f":"IF(Indtastning!Y:Y=\"Ikke Aflagt\",1,\"\")","v":""},null,null,{"$f":"IF(Indtastning!U:U=\"Positiv\",1,\"\")","v":""},null,null,null,{"$f":"IF(Indtastning!Y:Y=\"Positiv\",1,\"\")","v":""},null,null,null,{"$f":"IF(Indtastning!AC:AC=\"Positiv\",1,\"\")","v":""}]
[null,null,null,null,null,null,null,null,null,null,null,null,null,null,null,null,null,null,null,null,null,null,null,null,null,null,null,null,null,null,null,null,null,null,null,null,null,null,null,null,null,null,null,{"$f":"IF(Indtastning!Y:Y=\"Ikke Aflagt\",1,\"\")","v":""},null,null,{"$f":"IF(Indtastning!U:U=\"Positiv\",1,\"\")","v":""},null,null,null,{"$f":"IF(Indtastning!Y:Y=\"Positiv\",1,\"\")","v":""},null,null,null,{"$f":"IF(Indtastning!AC:AC=\"Positiv\",1,\"\")","v":""}]
[null,null,null,null,null,null,null,null,null,null,null,null,null,null,null,null,null,null,null,null,null,null,null,null,null,null,null,null,null,null,null,null,null,null,null,null,null,null,null,null,null,null,null,{"$f":"IF(Indtastning!Y:Y=\"Ikke Aflagt\",1,\"\")","v":""},null,null,{"$f":"IF(Indtastning!U:U=\"Positiv\",1,\"\")","v":""},null,null,null,{"$f":"IF(Indtastning!Y:Y=\"Positiv\",1,\"\")","v":""},null,null,null,{"$f":"IF(Indtastning!AC:AC=\"Positiv\",1,\"\")","v":""}]
[null,null,null,null,null,null,null,null,null,null,null,null,null,null,null,null,null,null,null,null,null,null,null,null,null,null,null,null,null,null,null,null,null,null,null,null,null,null,null,null,null,null,null,{"$f":"IF(Indtastning!Y:Y=\"Ikke Aflagt\",1,\"\")","v":""},null,null,{"$f":"IF(Indtastning!U:U=\"Positiv\",1,\"\")","v":""},null,null,null,{"$f":"IF(Indtastning!Y:Y=\"Positiv\",1,\"\")","v":""},null,null,null,{"$f":"IF(Indtastning!AC:AC=\"Positiv\",1,\"\")","v":""}]
[null,null,null,null,null,null,null,null,null,null,null,null,null,null,null,null,null,null,null,null,null,null,null,null,null,null,null,null,null,null,null,null,null,null,null,null,null,null,null,null,null,null,null,{"$f":"IF(Indtastning!Y:Y=\"Ikke Aflagt\",1,\"\")","v":""},null,null,{"$f":"IF(Indtastning!U:U=\"Positiv\",1,\"\")","v":""},null,null,null,{"$f":"IF(Indtastning!Y:Y=\"Positiv\",1,\"\")","v":""},null,null,null,{"$f":"IF(Indtastning!AC:AC=\"Positiv\",1,\"\")","v":""}]
[null,null,null,null,null,null,null,null,null,null,null,null,null,null,null,null,null,null,null,null,null,null,null,null,null,null,null,null,null,null,null,null,null,null,null,null,null,null,null,null,null,null,null,{"$f":"IF(Indtastning!Y:Y=\"Ikke Aflagt\",1,\"\")","v":""},null,null,{"$f":"IF(Indtastning!U:U=\"Positiv\",1,\"\")","v":""},null,null,null,{"$f":"IF(Indtastning!Y:Y=\"Positiv\",1,\"\")","v":""},null,null,null,{"$f":"IF(Indtastning!AC:AC=\"Positiv\",1,\"\")","v":""}]
[null,null,null,null,null,null,null,null,null,null,null,null,null,null,null,null,null,null,null,null,null,null,null,null,null,null,null,null,null,null,null,null,null,null,null,null,null,null,null,null,null,null,null,{"$f":"IF(Indtastning!Y:Y=\"Ikke Aflagt\",1,\"\")","v":""},null,null,{"$f":"IF(Indtastning!U:U=\"Positiv\",1,\"\")","v":""},null,null,null,{"$f":"IF(Indtastning!Y:Y=\"Positiv\",1,\"\")","v":""},null,null,null,{"$f":"IF(Indtastning!AC:AC=\"Positiv\",1,\"\")","v":""}]
[null,null,null,null,null,null,null,null,null,null,null,null,null,null,null,null,null,null,null,null,null,null,null,null,null,null,null,null,null,null,null,null,null,null,null,null,null,null,null,null,null,null,null,{"$f":"IF(Indtastning!Y:Y=\"Ikke Aflagt\",1,\"\")","v":""},null,null,{"$f":"IF(Indtastning!U:U=\"Positiv\",1,\"\")","v":""},null,null,null,{"$f":"IF(Indtastning!Y:Y=\"Positiv\",1,\"\")","v":""},null,null,null,{"$f":"IF(Indtastning!AC:AC=\"Positiv\",1,\"\")","v":""}]
[null,null,null,null,null,null,null,null,null,null,null,null,null,null,null,null,null,null,null,null,null,null,null,null,null,null,null,null,null,null,null,null,null,null,null,null,null,null,null,null,null,null,null,{"$f":"IF(Indtastning!Y:Y=\"Ikke Aflagt\",1,\"\")","v":""},null,null,{"$f":"IF(Indtastning!U:U=\"Positiv\",1,\"\")","v":""},null,null,null,{"$f":"IF(Indtastning!Y:Y=\"Positiv\",1,\"\")","v":""},null,null,null,{"$f":"IF(Indtastning!AC:AC=\"Positiv\",1,\"\")","v":""}]
[null,null,null,null,null,null,null,null,null,null,null,null,null,null,null,null,null,null,null,null,null,null,null,null,null,null,null,null,null,null,null,null,null,null,null,null,null,null,null,null,null,null,null,{"$f":"IF(Indtastning!Y:Y=\"Ikke Aflagt\",1,\"\")","v":""},null,null,{"$f":"IF(Indtastning!U:U=\"Positiv\",1,\"\")","v":""},null,null,null,{"$f":"IF(Indtastning!Y:Y=\"Positiv\",1,\"\")","v":""},null,null,null,{"$f":"IF(Indtastning!AC:AC=\"Positiv\",1,\"\")","v":""}]
[null,null,null,null,null,null,null,null,null,null,null,null,null,null,null,null,null,null,null,null,null,null,null,null,null,null,null,null,null,null,null,null,null,null,null,null,null,null,null,null,null,null,null,{"$f":"IF(Indtastning!Y:Y=\"Ikke Aflagt\",1,\"\")","v":""},null,null,{"$f":"IF(Indtastning!U:U=\"Positiv\",1,\"\")","v":""},null,null,null,{"$f":"IF(Indtastning!Y:Y=\"Positiv\",1,\"\")","v":""},null,null,null,{"$f":"IF(Indtastning!AC:AC=\"Positiv\",1,\"\")","v":""}]
[null,null,null,null,null,null,null,null,null,null,null,null,null,null,null,null,null,null,null,null,null,null,null,null,null,null,null,null,null,null,null,null,null,null,null,null,null,null,null,null,null,null,null,{"$f":"IF(Indtastning!Y:Y=\"Ikke Aflagt\",1,\"\")","v":""},null,null,{"$f":"IF(Indtastning!U:U=\"Positiv\",1,\"\")","v":""},null,null,null,{"$f":"IF(Indtastning!Y:Y=\"Positiv\",1,\"\")","v":""},null,null,null,{"$f":"IF(Indtastning!AC:AC=\"Positiv\",1,\"\")","v":""}]
[null,null,null,null,null,null,null,null,null,null,null,null,null,null,null,null,null,null,null,null,null,null,null,null,null,null,null,null,null,null,null,null,null,null,null,null,null,null,null,null,null,null,null,{"$f":"IF(Indtastning!Y:Y=\"Ikke Aflagt\",1,\"\")","v":""},null,null,{"$f":"IF(Indtastning!U:U=\"Positiv\",1,\"\")","v":""},null,null,null,{"$f":"IF(Indtastning!Y:Y=\"Positiv\",1,\"\")","v":""},null,null,null,{"$f":"IF(Indtastning!AC:AC=\"Positiv\",1,\"\")","v":""}]
[null,null,null,null,null,null,null,null,null,null,null,null,null,null,null,null,null,null,null,null,null,null,null,null,null,null,null,null,null,null,null,null,null,null,null,null,null,null,null,null,null,null,null,{"$f":"IF(Indtastning!Y:Y=\"Ikke Aflagt\",1,\"\")","v":""},null,null,{"$f":"IF(Indtastning!U:U=\"Positiv\",1,\"\")","v":""},null,null,null,{"$f":"IF(Indtastning!Y:Y=\"Positiv\",1,\"\")","v":""},null,null,null,{"$f":"IF(Indtastning!AC:AC=\"Positiv\",1,\"\")","v":""}]

{"sheet":"Depot","index":11,"n_rows":81,"n_cols":11,"rows_kept":81,"cut":false,"hidden":false,"merged":[]}
[]
[null,null,null,null,null,null,null,null,null,{"$f":"PatientNavn & \" - X2 i forhold til BVC og SOAS\"","v":"Testpatient i perioden fra d. 13-11-2023 til 18-12-2023 - X2 i forhold til BVC og SOAS"}]
[]
[]
[]
[]
[]
[null,null,null,null,null,"Rækkenavne","BVC","SOAS","Positiv","Negativ","Ikke Afgivet"]
[null,null,null,null,null,"2023-11-13"]
[null,null,null,null,null,"Mandag",0,0,-2,-2,-2]
[null,null,null,null,null,"2023-11-14"]
[null,null,null,null,null,"Tirsdag",2,0,-2,-2,-2]
[null,null,null,null,null,"2023-11-15"]
[null,null,null,null,null,"Onsdag",1,0,1,-2,-2]
[null,null,null,null,null,"2023-11-16"]
[null,null,null,null,null,"Torsdag",0,0,-2,-2,-2]
[null,null,null,null,null,"2023-11-17"]
[null,null,null,null,null,"Fredag",0,0,-2,-2,-2]
[null,null,null,null,null,"2023-11-18"]
[null,null,null,null,null,"Lørdag",3,1,-2,-2,-2]
[null,null,null,null,null,"2023-11-19"]
[null,null,null,null,null,"Søndag",0,0,-2,-2,-2]
[null,null,null,null,null,"2023-11-20"]
[null,null,null,null,null,"Mandag",0,0,-2,-2,-2]
[null,null,null,null,null,"2023-11-21"]
[null,null,null,null,null,"Tirsdag",0,0,-2,-2,-2]
[null,null,null,null,null,"2023-11-22"]
[null,null,null,null,null,"Onsdag",0,0,-2,-2,-2]
[null,null,null,null,null,"2023-11-23"]
[null,null,null,null,null,"Torsdag",0,0,-2,-2,-2]
[null,null,null,null,null,"2023-11-24"]
[null,null,null,null,null,"Fredag",0,0,-2,-2,-2]
[null,null,null,null,null,"2023-11-25"]
[null,null,null,null,null,"Lørdag",1,0,-2,-2,-2]
[null,null,null,null,null,"2023-11-26"]
[null,null,null,null,null,"Søndag",0,0,-2,-2,-2]
[null,null,null,null,null,"2023-11-27"]
[null,null,null,null,null,"Mandag",0,0,-2,-2,-2]
[null,null,null,null,null,"2023-11-28"]
[null,null,null,null,null,"Tirsdag",2,0,-2,-2,-2]
[null,null,null,null,null,"2023-11-29"]
[null,null,null,null,null,"Onsdag",0,0,1,-2,-2]
[null,null,null,null,null,"2023-11-30"]
[null,null,null,null,null,"Torsdag",0,0,-2,-2,-2]
[null,null,null,null,null,"2023-12-01"]
[null,null,null,null,null,"Fredag",0,0,-2,-2,-2]
[null,null,null,null,null,"2023-12-02"]
[null,null,null,null,null,"Lørdag",0,0,-2,-2,-2]
[null,null,null,null,null,"2023-12-03"]
[null,null,null,null,null,"Søndag",0,0,-2,-2,-2]
[null,null,null,null,null,"2023-12-04"]
[null,null,null,null,null,"Mandag",0,0,-2,-2,-2]
[null,null,null,null,null,"2023-12-05"]
[null,null,null,null,null,"Tirsdag",1,0,-2,-2,-2]
[null,null,null,null,null,"2023-12-06"]
[null,null,null,null,null,"Onsdag",0,0,-2,-2,-2]
[null,null,null,null,null,"2023-12-07"]
[null,null,null,null,null,"Torsdag",4,2,-2,-2,-2]
[null,null,null,null,null,"2023-12-08"]
[null,null,null,null,null,"Fredag",0,0,-2,-2,-2]
[null,null,null,null,null,"2023-12-09"]
[null,null,null,null,null,"Lørdag",0,0,-2,-2,-2]
[null,null,null,null,null,"2023-12-10"]
[null,null,null,null,null,"Søndag",0,0,-2,-2,-2]
[null,null,null,null,null,"2023-12-11"]
[null,null,null,null,null,"Mandag",0,0,-2,-2,-2]
[null,null,null,null,null,"2023-12-12"]
[null,null,null,null,null,"Tirsdag",0,0,-2,-2,-2]
[null,null,null,null,null,"2023-12-13"]
[null,null,null,null,null,"Onsdag",0,0,1,-2,-2]
[null,null,null,null,null,"2023-12-14"]
[null,null,null,null,null,"Torsdag",0,0,-2,-2,-2]
[null,null,null,null,null,"2023-12-15"]
[null,null,null,null,null,"Fredag",0,0,-2,-2,-2]
[null,null,null,null,null,"2023-12-16"]
[null,null,null,null,null,"Lørdag",0,0,-2,-2,-2]
[null,null,null,null,null,"2023-12-17"]
[null,null,null,null,null,"Søndag",0,0,-2,-2,-2]
[null,null,null,null,null,"2023-12-18"]
[null,null,null,null,null,"Mandag",0,0,-2,-2,-2]
[null,null,null,null,null,"Hovedtotal",14,3,-63,-72,-72]

{"sheet":"PopUp variabler","index":12,"n_rows":20,"n_cols":5,"rows_kept":20,"cut":false,"hidden":false,"merged":[[1,3,1,4]]}
["Pop Up liste med BVC-udløsende temaer (triggere)","SOAS Niveauer"]
["Psykotisk","6  Drab",null,"Prøvetagning"]
["Medicin ","5  Overfald med farlig genstand / Forsøg på kvælning",null,"Positiv",1]
["Behovsudsættelse","4  Trusler med farlig genstand / Fysisk vold med forhåndenværende midler*",null,"Negativ",-1]
["Korrigering af adfærd","3  Korporlig truende attitude / Personrettede verbale trusler** / Selvmordsforsøg",null,"Ikke Aflagt",-2]
["Rammerne","2  Aggression rettet mod inventar / Selvskade",null,"Ikke ordineret",0]
["Behandlingen","1  Nedgørende skældsord / Verbale trusler - generaliserede eller personligt rettet  "]
["Irritabilitet på personalet","  mod nogen ikke tilstede"]
["Udgang"," *  Slag, Spark, Benspænd, Skaller, Bid, Spyt, Kras eller udfald med kasteskyts af mindre alvorlig karakter"]
["Medpatient","** Trusler kan udtrykkes gennem grove devaluerende ytringer, eller uden ord; f.eks. ved knyttede "]
["Økonomi","      næver, bevægelse af en finger hen over halsen eller gennem tegninger."]
["Udefrakommende faktorer","Husk at plotte tallet ind i rette vagtlag"]
["Personaleudløst"]
["Patientens ejendele"]
["Somatisk"]
["Vækning/søvn"]
["Indlæggelse/udskrivelse"]
["Årsager kan ikke bestemmes"]
[" Listen kan tilpasses ved indledende opsætning af ny patient/periode. Vagtlag ændres her…"]
["OBS Trigger \"Medpatient\" samt Trigger \"Irritabilitet på personale\" indgår i Risiko Algoritme (RA) og bør derfor ikke ændres"]

{"sheet":"Manualer","index":13,"n_rows":2,"n_cols":5,"rows_kept":2,"cut":false,"hidden":false,"merged":[]}
["BVC","SOAS","Positiv","Negativ","Ikke Afgivet"]
[14,3,{"$error":"#N/A"},-65.599999999999994,-72]

{"sheet":"CC","index":14,"n_rows":0,"n_cols":0,"rows_kept":0,"cut":false,"hidden":false,"merged":[]}