{"text_format":"1","workbook":"xlsx","n_sheets":15,"sheets":["Indtastning","Samlet BVC","RA","Risikoprofil","Belastende ugedage","Triggere","Cannabis","Amfetamin","Kokain","X1","X2","Samlet Misbrug","PopUp variabler","Manualer","CC"],"not_rendered":{"charts":22,"images":39,"macros":1,"external_links":0,"defined_names":13,"comments":0,"pivot_tables":10},"unopened":[],"bounds":{"document_bytes":16777216,"sheet_cells":100000,"rows_first":2000,"rows_last":500,"rows_between":2000,"halvings":0,"cell_chars":16384,"cell_head_chars":4096},"cells_cut":0,"cells_raw":0,"read":"whole","date_system":"1900"}

{"sheet":"Indtastning","index":0,"n_rows":62,"n_cols":1954,"rows_kept":62,"cut":false,"hidden":false,"merged":[[1,0,1,2],[3,46,3,51],[3,52,3,57],[3,11,3,15],[3,3,3,10],[3,16,3,36],[3,40,3,45],[1,3,1,6]]}
[null,null,null,null,null,null,null,null,null,null,null,null,null,null,null,null,null,null,null,null,null,null,null,null,null,null,null,null,null,null,null,null,null,null,null,null,null,null,null,null,null,null,null,null,null,null,null,null,null,null,null,null,null,null,null,null,null,null,"Hjørnet i første celle","trækkes til slutdato",null,null,"Også her",null,null,"Og her"]
["Patient: ",null,null,"Testpatient i perioden fra d. 01-01-2024 til 26-02-2024",null,null,null,null,"OS Risiko Manager 2",null,null,null,null,null,null,{"$f":"RA!$G$30","v":5},null,null,null,null,null,null,null,null,null,null,null,null,null,null,null,null,null,null,null,null,null,null,null,null,null,null,null,null,null,null,null,null,null,null,null,null,null,null,null,null,null,null,null,"                  ↓",null,null,"                  ↓",null,null,"                   ↓",null,null,null,null,null,null,null,null,null,null,null,null,null,null,null,null,null,null,null,null,null,null,null,null,null,null,null,null,null,null,null,null,null,null,null,null,null,null,null,null,null,null,null,null,null,null,null,null,null,null,null,null,null,null,null,null,null,null,null,null,null,null,null,null,null,null,null,null,null,null,null,null,null,null,null,null,null,null,null,null,null,null,null,null,null,null,null,null,null,null,null,null,null,null,null,null,null,null,null,null,null,null,null,null,null,null,null,null,null,null,null,null,null,null,null,null,null,null,null,null,null,null,null,null,null,null,null,null,null,null,null,null,null,null,null,null,null,null,null,null,null,null,null,null,null,null,null,null,null,null,null,null,null,null,null,null,null,null,null,null,null,null,null,null,null,null,null,null,null,null,null,null,null,null,null,null,null,null,null,null,null,null,null,null,null,null,null,null,null,null,null,null,null,null,null,null,null,null,null,null,null,null,null,null,null,null,null,null,null,null,null,null,null,null,null,null,null,null,null,null,null,null,null,null,null,null,null,null,null,null,null,null,null,null,null,null,null,null,null,null,null,null,null,null,null,null,null,null,null,null,null,null,null,null,null,null,null,null,null,null,null,null,null,null,null,null,null,null,null,null,null,null,null,null,null,null,null,null,null,null,null,null,null,null,null,null,null,null,null,null,null,null,null,null,null,null,null,null,null,null,null,null,null,null,null,null,null,null,null,null,null,null,null,null,null,null,null,null,null,null,null,null,null,null,null,null,null,null,null,null,null,null,null,null,null,null,null,null,null,null,null,null,null,null,null,null,null,null,null,null,null,null,null,null,null,null,null,null,null,null,null,null,null,null,null,null,null,null,null,null,null,null,null,null,null,null,null,null,null,null,null,null,null,null,null,null,null,null,null,null,null,null,null,null,null,null,null,null,null,null,null,null,null,null,null,null,null,null,null,null,null,null,null,null,null,null,null,null,null,null,null,null,null,null,null,null,null,null,null,null,null,null,null,null,null,null,null,null,null,null,null,null,null,null,null,null,null,null,null,null,null,null,null,null,null,null,null,null,null,null,null,null,null,null,null,null,null,null,null,null,null,null,null,null,null,null,null,null,null,null,null,null,null,null,null,null,null,null,null,null,null,null,null,null,null,null,null,null,null,null,null,null,null,null,null,null,null,null,null,null,null,null,null,null,null,null,null,null,null,null,null,null,null,null,null,null,null,null,null,null,null,null,null,null,null,null,null,null,null,null,null,null,null,null,null,null,null,null,null,null,null,null,null,null,null,null,null,null,null,null,null,null,null,null,null,null,null,null,null,null,null,null,null,null,null,null,null,null,null,null,null,null,null,null,null,null,null,null,null,null,null,null,null,null,null,null,null,null,null,null,null,null,null,null,null,null,null,null,null,null,null,null,null,null,null,null,null,null,null,null,null,null,null,null,null,null,null,null,null,null,null,null,null,null,null,null,null,null,null,null,null,null,null,null,null,null,null,null,null,null,null,null,null,null,null,null,null,null,null,null,null,null,null,null,null,null,null,null,null,null,null,null,null,null,null,null,null,null,null,null,null,null,null,null,null,null,null,null,null,null,null,null,null,null,null,null,null,null,null,null,null,null,null,null,null,null,null,null,null,null,null,null,null,null,null,null,null,null,null,null,null,null,null,null,null,null,null,null,null,null,null,null,null,null,null,null,null,null,null,null,null,null,null,null,null,null,null,null,null,null,null,null,null,null,null,null,null,null,null,null,null,null,null,null,null,null,null,null,null,null,null,null,null,null,null,null,null,null,null,null,null,null,null,null,null,null,null,null,null,null,null,null,null,null,null,null,null,null,null,null,null,null,null,null,null,null,null,null,null,null,null,null,null,null,null,null,null,null,null,null,null,null,null,null,null,null,null,null,null,null,null,null,null,null,null,null,null,null,null,null,null,null,null,null,null,null,null,null,null,null,null,null,null,null,null,null,null,null,null,null,null,null,null,null,null,null,null,null,null,null,null,null,null,null,null,null,null,null,null,null,null,null,null,null,null,null,null,null,null,null,null,null,null,null,null,null,null,null,null,null,null,null,null,null,null,null,null,null,null,null,null,null,null,null,null,null,null,null,null,null,null,null,null,null,null,null,null,null,null,null,null,null,null,null,null,null,null,null,null,null,null,null,null,null,null,null,null,null,null,null,null,null,null,null,null,null,null,null,null,null,null,null,null,null,null,null,null,null,null,null,null,null,null,null,null,null,null,null,null,null,null,null,null,null,null,null,null,null,null,null,null,null,null,null,null,null,null,null,null,null,null,null,null,null,null,null,null,null,null,null,null,null,null,null,null,null,null,null,null,null,null,null,null,null,null,null,null,null,null,null,null,null,null,null,null,null,null,null,null,null,null,null,null,null,null,null,null,null,null,null,null,null,null,null,null,null,null,null,null,null,null,null,null,null,null,null,null,null,null,null,null,null,null,null,null,null,null,null,null,null,null,null,null,null,null,null,null,null,null,null,null,null,null,null,null,null,null,null,null,null,null,null,null,null,null,null,null,null,null,null,null,null,null,null,null,null,null,null,null,null,null,null,null,null,null,null,null,null,null,null,null,null,null,null,null,null,null,null,null,null,null,null,null,null,null,null,null,null,null,null,null,null,null,null,null,null,null,null,null,null,null,null,null,null,null,null,null,null,null,null,null,null,null,null,null,null,null,null,null,null,null,null,null,null,null,null,null,null,null,null,null,null,null,null,null,null,null,null,null,null,null,null,null,null,null,null,null,null,null,null,null,null,null,null,null,null,null,null,null,null,null,null,null,null,null,null,null,null,null,null,null,null,null,null,null,null,null,null,null,null,null,null,null,null,null,null,null,null,null,null,null,null,null,null,null,null,null,null,null,null,null,null,null,null,null,null,null,null,null,null,null,null,null,null,null,null,null,null,null,null,null,null,null,null,null,null,null,null,null,null,null,null,null,null,null,null,null,null,null,null,null,null,null,null,null,null,null,null,null,null,null,null,null,null,null,null,null,null,null,null,null,null,null,null,null,null,null,null,null,null,null,null,null,null,null,null,null,null,null,null,null,null,null,null,null,null,null,null,null,null,null,null,null,null,null,null,null,null,null,null,null,null,null,null,null,null,null,null,null,null,null,null,null,null,null,null,null,null,null,null,null,null,null,null,null,null,null,null,null,null,null,null,null,null,null,null,null,null,null,null,null,null,null,null,null,null,null,null,null,null,null,null,null,null,null,null,null,null,null,null,null,null,null,null,null,null,null,null,null,null,null,null,null,null,null,null,null,null,null,null,null,null,null,null,null,null,null,null,null,null,null,null,null,null,null,null,null,null,null,null,null,null,null,null,null,null,null,null,null,null,null,null,null,null,null,null,null,null,null,null,null,null,null,null,null,null,null,null,null,null,null,null,null,null,null,null,null,null,null,null,null,null,null,null,null,null,null,null,null,null,null,null,null,null,null,null,null,null,null,null,null,null,null,null,null,null,null,null,null,null,null,null,null,null,null,null,null,null,null,null,null,null,null,null,null,null,null,null,null,null,null,null,null,null,null,null,null,null,null,null,null,null,null,null,null,null,null,null,null,null,null,null,null,null,null,null,null,null,null,null,null,null,null,null,null,null,null,null,null,null,null,null,null,null,null,null,null,null,null,null,null,null,null,null,null,null,null,null,null,null,null,null,null,null,null,null,null,null,null,null,null,null,null,null,null,null,null,null,null,null,null,null,null,null,null,null,null,null,null,null,null,null,null,null,null,null,null,null,null,null,null,null,null,null,null,null,null,null,null,null,null,null,null,null,null,null,null,null,null,null,null,null,null,null,null,null,null,null,null,null,null,null,null,null,null,null,null,null,null,null,null,null,null,null,null,null,null,null,null,null,null,null,null,null,null,null,null,null,null,null,null,null,null,null,null,null,null,null,null,null,null,null,null,null,null,null,null,null,null,null,null,null,null,null,null,null,null,null,null,null,null,null,null,null,null,null,null,null,null,null,null,null,null,null,null,null,null,null,null,null,null,null,null,null,null,null,null,null,null,null,null,null,null,null,null,null,null,null,null,null,null,null,null,null,null,null,null,null,null,null,null,null,null,null,null,null,null,null,null,null,null,null,null,null,null,null,null,null,null,null,null,null,null,null,null,null,null,null,null,null,null,null,null,null,null,null,null,null,null,null,null,null,null,null,null,null,null,null,null,null,null,null,null,null,null,null,null,null,null,null,null,null,null,null,null,null,null,null,null,null,null,null,null,null,null,null,null,null,null,null,null,null,null,null,null,null,null,null,null,null,null,null,null,null,null,null,null,"#I/T"]
[null,null,null,null,null,null,null,null,null,null,{"$f":"MAX(J:J)","v":3},null,null,null,{"$f":"MAX(L:N)","v":1},"MAX 15",null,null,null,null,null,null,null,null,null,null,null,null,null,null,null,null,null,null,null,null,null,null,null,null,"Den videre del af fanebladet er forbundet med databehandling"]
[null,"Dag for prøve",null,"BVC Score",null,null,null,null,null,null,null,"SOAS-R",null,null,null,null,"Urinprøvesvar",null,null,null,null,null,null,null,null,null,null,null,null,null,null,null,null,null,null,null,null,null,null,null,"BVC Dag",null,null,null,null,null,"BVC Aften",null,null,null,null,null,"BVC Nat"]
["Dato","Uge","ugedag","BVC dag","Dagvagt","BVC aften","Aftenvagt","BVC nat","Nattevagt","BVC Højeste","BVC Sum","SOAS dag","SOAS aften","SOAS nat","SOAS Sum","SOAS Højeste","Cannabis","CanPos","CanNeg","CanIkke","Amfetamin","AmfPos","AmfNeg","AmfIkke","Kokain","KokPos","KokNeg","KokIkke","X1","X1Pos","X1Neg","X1Ikke","   X2","X2Pos","X2Neg","X2Ikke","Manualer","ManPos","ManNeg","ManIkke","BvcDagFor","BvcDagIrr","BvcDagStoj","BvcDagFys","BvcDagVer","BvcDagAng","BvcAftFor","BvcAftIrr","BvcAftStoj","BvcAftFys","BvcAftVer","BvcAftAng","BvcNatFor","BvcNatIrr","BvcNatStoj","BvcNatFys","BvcNatVer","BvcNatAng",null,"BvcDagSum","BvcDagSit>2","BvcDagSit<3","BvcAftenSum","BvcAftenSit>2","BvcAftenSit<3","BvcNatSum","BvcNatSit>2","BvcNatSit<3",null,null,null,"BvcDagSit(1-2) i alt",{"$f":"SUM(BJ:BJ)","v":1}]
["2024-01-01",{"$f":"WEEKNUM(A6,21)","v":1},{"$f":"PROPER(TEXT(A6, \"DDDD\"))","v":"Mandag"},null,null,null,null,null,null,{"$f":"MAX(D6,F6,H6)","v":0},{"$f":"SUM(D6,F6,H6)","v":0},null,null,null,{"$f":"SUM(L6:N6)","v":0},{"$f":"MAX(L6,M6,N6)","v":0},null,{"$error":"#N/A"},{"$f":"IF(Q6=\"Negativ\",1.2,-2)","v":-2},{"$f":"IF(Q6=\"Ikke Aflagt\",2.8,-2)","v":-2},null,{"$f":"IF(U6=\"Positiv\",1,-2)","v":-2},{"$f":"IF(U6=\"Negativ\",-1,-2)","v":-2},{"$f":"IF(U6=\"Ikke Aflagt\",0,-2)","v":-2},null,{"$f":"IF(Y6=\"Positiv\",1,-2)","v":-2},{"$f":"IF(Y6=\"Negativ\",-1,-2)","v":-2},{"$f":"IF(Y6=\"Ikke Aflagt\",0,-2)","v":-2},null,{"$f":"IF(AC6=\"Positiv\",1,-2)","v":-2},{"$f":"IF(AC6=\"Negativ\",-1,-2)","v":-2},{"$f":"IF(AC6=\"Ikke Aflagt\",0,-2)","v":-2},null,{"$f":"IF(AG6=\"Positiv\",1,-2)","v":-2},{"$f":"IF(AG6=\"Negativ\",-1,-2)","v":-2},{"$f":"IF(AG6=\"Ikke Aflagt\",0,-2)","v":-2},null,{"$f":"IF(AK6=\"Positiv\",1,-2)","v":-2},{"$f":"IF(AK6=\"Negativ\",-1,-2)","v":-2},{"$f":"IF(AK6=\"Ikke Aflagt\",0,-2)","v":-2},null,null,null,null,null,null,null,null,null,null,null,null,null,null,null,null,null,null,null,{"$f":"SUM(AO6,AP6,AQ6,AR6,AS6,AT6)","v":0},{"$f":"IF(BH6>2,1,0)","v":0},{"$f":"IF(BH6=0,0,IF((BH6)>2,0,1))","v":0},{"$f":"SUM(AU6,AV6,AW6,AX6,AY6,AZ6,)","v":0},{"$f":"IF(BK6>2,1,0)","v":0},{"$f":"IF(BK6=0,0,IF((BK6)>2,0,1))","v":0},{"$f":"SUM(BA6,BB6,BC6,BD6,BE6,BF6)","v":0},{"$f":"IF(BN6>2,1,0)","v":0},{"$f":"IF(BN6=0,0,IF((BN6)>2,0,1))","v":0},null,null,null,"BvcDagSit(3-6) i alt",{"$f":"SUM(BI:BI)","v":1}]
["2024-01-02",{"$f":"WEEKNUM(A7,21)","v":1},{"$f":"PROPER(TEXT(A7, \"DDDD\"))","v":"Tirsdag"},null,null,null,null,null,null,{"$f":"MAX(D7,F7,H7)","v":0},{"$f":"SUM(D7,F7,H7)","v":0},null,null,null,{"$f":"SUM(L7:N7)","v":0},{"$f":"MAX(L7,M7,N7)","v":0},"Ikke Aflagt",{"$error":"#N/A"},{"$f":"IF(Q7=\"Negativ\",1.2,-2)","v":-2},{"$f":"IF(Q7=\"Ikke Aflagt\",2.8,-2)","v":2.8},"Ikke Aflagt",{"$f":"IF(U7=\"Positiv\",1,-2)","v":-2},{"$f":"IF(U7=\"Negativ\",-1,-2)","v":-2},{"$f":"IF(U7=\"Ikke Aflagt\",0,-2)","v":0},"Ikke Aflagt",{"$f":"IF(Y7=\"Positiv\",1,-2)","v":-2},{"$f":"IF(Y7=\"Negativ\",-1,-2)","v":-2},{"$f":"IF(Y7=\"Ikke Aflagt\",0,-2)","v":0},"Ikke Aflagt",{"$f":"IF(AC7=\"Positiv\",1,-2)","v":-2},{"$f":"IF(AC7=\"Negativ\",-1,-2)","v":-2},{"$f":"IF(AC7=\"Ikke Aflagt\",0,-2)","v":0},"Ikke Aflagt",{"$f":"IF(AG7=\"Positiv\",1,-2)","v":-2},{"$f":"IF(AG7=\"Negativ\",-1,-2)","v":-2},{"$f":"IF(AG7=\"Ikke Aflagt\",0,-2)","v":0},"Ikke Aflagt",{"$f":"IF(AK7=\"Positiv\",1,-2)","v":-2},{"$f":"IF(AK7=\"Negativ\",-1,-2)","v":-2},{"$f":"IF(AK7=\"Ikke Aflagt\",0,-2)","v":0},null,null,null,null,null,null,null,null,null,null,null,null,null,null,null,null,null,null,null,{"$f":"SUM(AO7,AP7,AQ7,AR7,AS7,AT7)","v":0},{"$f":"IF(BH7>2,1,0)","v":0},{"$f":"IF(BH7=0,0,IF((BH7)>2,0,1))","v":0},{"$f":"SUM(AU7,AV7,AW7,AX7,AY7,AZ7,)","v":0},{"$f":"IF(BK7>2,1,0)","v":0},{"$f":"IF(BK7=0,0,IF((BK7)>2,0,1))","v":0},{"$f":"SUM(BA7,BB7,BC7,BD7,BE7,BF7)","v":0},{"$f":"IF(BN7>2,1,0)","v":0},{"$f":"IF(BN7=0,0,IF((BN7)>2,0,1))","v":0}]
["2024-01-03",1,"Onsdag",null,null,null,null,null,null,0,0,null,null,null,0,0,null,{"$error":"#N/A"},-2,-2,null,-2,-2,-2,null,-2,-2,-2,null,-2,-2,-2,null,-2,-2,-2,null,-2,-2,-2,null,null,null,null,null,null,null,null,null,null,null,null,null,null,null,null,null,null,null,0,0,0,0,0,0,0,0,0,null,null,null,"BvcAftenSit(1-2) i alt",{"$f":"SUM(BM:BM)","v":1}]
["2024-01-04",1,"Torsdag",2,"Psykotisk",null,null,null,null,2,2,null,null,null,0,0,null,{"$error":"#N/A"},-2,-2,null,-2,-2,-2,null,-2,-2,-2,null,-2,-2,-2,null,-2,-2,-2,null,-2,-2,-2,1,1,0,0,0,0,null,null,null,null,null,null,null,null,null,null,null,null,null,2,0,1,0,0,0,0,0,0,null,null,null,"BvcAftenSit(3-6) i alt",{"$f":"SUM(BL:BL)","v":0}]
["2024-01-05",1,"Fredag",null,null,null,null,null,null,0,0,null,null,null,0,0,null,{"$error":"#N/A"},-2,-2,null,-2,-2,-2,null,-2,-2,-2,null,-2,-2,-2,null,-2,-2,-2,null,-2,-2,-2,null,null,null,null,null,null,null,null,null,null,null,null,null,null,null,null,null,null,null,0,0,0,0,0,0,0,0,0]
["2024-01-06",1,"Lørdag",null,null,null,null,null,null,0,0,null,null,null,0,0,null,{"$error":"#N/A"},-2,-2,null,-2,-2,-2,null,-2,-2,-2,null,-2,-2,-2,null,-2,-2,-2,null,-2,-2,-2,null,null,null,null,null,null,null,null,null,null,null,null,null,null,null,null,null,null,null,0,0,0,0,0,0,0,0,0,null,null,null,"BvcNatSit(1-2) i alt",{"$f":"SUM(BP:BP)","v":0}]
["2024-01-07",1,"Søndag",null,null,null,null,null,null,0,0,null,null,null,0,0,null,{"$error":"#N/A"},-2,-2,null,-2,-2,-2,null,-2,-2,-2,null,-2,-2,-2,null,-2,-2,-2,null,-2,-2,-2,null,null,null,null,null,null,null,null,null,null,null,null,null,null,null,null,null,null,null,0,0,0,0,0,0,0,0,0,null,null,null,"BvcNatSit(3-6) i alt",{"$f":"SUM(BO:BO)","v":0}]
["2024-01-08",2,"Mandag",null,null,null,null,null,null,0,0,null,null,null,0,0,null,{"$error":"#N/A"},-2,-2,null,-2,-2,-2,null,-2,-2,-2,null,-2,-2,-2,null,-2,-2,-2,null,-2,-2,-2,null,null,null,null,null,null,null,null,null,null,null,null,null,null,null,null,null,null,null,0,0,0,0,0,0,0,0,0]
["2024-01-09",2,"Tirsdag",null,null,null,null,null,null,0,0,null,null,null,0,0,"Ikke Aflagt",{"$error":"#N/A"},-2,2.8,"Ikke Aflagt",-2,-2,0,"Ikke Aflagt",-2,-2,0,"Ikke Aflagt",-2,-2,0,"Ikke Aflagt",-2,-2,0,"Ikke Aflagt",-2,-2,0,null,null,null,null,null,null,null,null,null,null,null,null,null,null,null,null,null,null,null,0,0,0,0,0,0,0,0,0]
["2024-01-10",2,"Onsdag",null,null,null,null,null,null,0,0,null,null,null,0,0,null,{"$error":"#N/A"},-2,-2,null,-2,-2,-2,null,-2,-2,-2,null,-2,-2,-2,null,-2,-2,-2,null,-2,-2,-2,null,null,null,null,null,null,null,null,null,null,null,null,null,null,null,null,null,null,null,0,0,0,0,0,0,0,0,0,null,null,null,"BVC episoder i perioden",{"$f":"SUM(BU5:BU12)","v":3}]
["2024-01-11",2,"Torsdag",null,null,null,null,null,null,0,0,null,null,null,0,0,null,{"$error":"#N/A"},-2,-2,null,-2,-2,-2,null,-2,-2,-2,null,-2,-2,-2,null,-2,-2,-2,null,-2,-2,-2,null,null,null,null,null,null,null,null,null,null,null,null,null,null,null,null,null,null,null,0,0,0,0,0,0,0,0,0]
["2024-01-12",2,"Fredag",null,null,null,null,null,null,0,0,null,null,null,0,0,null,{"$error":"#N/A"},-2,-2,null,-2,-2,-2,null,-2,-2,-2,null,-2,-2,-2,null,-2,-2,-2,null,-2,-2,-2,null,null,null,null,null,null,null,null,null,null,null,null,null,null,null,null,null,null,null,0,0,0,0,0,0,0,0,0,null,null,null,"BVC 3 eller derover",{"$f":"SUM((BU6),(BU9),(BU12))","v":1}]
["2024-01-13",2,"Lørdag",null,null,null,null,null,null,0,0,null,null,null,0,0,null,{"$error":"#N/A"},-2,-2,null,-2,-2,-2,null,-2,-2,-2,null,-2,-2,-2,null,-2,-2,-2,null,-2,-2,-2,null,null,null,null,null,null,null,null,null,null,null,null,null,null,null,null,null,null,null,0,0,0,0,0,0,0,0,0,null,null,null,null,null,null,null,null,null,null,null,null,null,null,null,null,null,null,null,null,null,null,null,null,null,null,null,null,null,null,null,null,null,null,null,null,null,null,null,null,null,null,null,null,null,null,null,null,null,null,null,null,null,null,null,null,null,null,null,null,null,null,null,null,null,null,null,null,null,null,null,null,null,null,null,null,null,null,null,null,null,null,null,null,null,null,null,null,null,null,null,null,null,null,null,null,null,null,null,null,null,null,null,null,null,null,null,null,null,null,null,null,null,null,null,null,null,null,null,null,null,null,null,null,null,null,null,null,null,null,null,null,null,null,null,null,null,null,null,null,null,null,null,null,null,null,null,null,null,null,null,null,null,null,null,null,null,null,null,null,null,null,null,null,null,null,null,null,null,null,null,null,null,null,null,null,null,null,null,null,null,null,null,null,null,null,null,null,null,null,null,null,null,null,null,null,null,null,null,null,null,null,null,null,null,null,null,null,null,null,null,null,null,null,null,null,null,null,null,null,null,null,null,null,null,null,null,null,null,null,null,null,null,null,null,null,null,null,null,null,null,null,null,null,null,null,null,null,null,null,null,null,null,null,null,null,null,null,null,null,null,null,null,null,null,null,null,null,"#I/T"]
["2024-01-14",2,"Søndag",null,null,1,"Rammerne",null,null,1,1,null,null,null,0,0,null,{"$error":"#N/A"},-2,-2,null,-2,-2,-2,null,-2,-2,-2,null,-2,-2,-2,null,-2,-2,-2,null,-2,-2,-2,null,null,null,null,null,null,0,1,0,0,0,0,null,null,null,null,null,null,null,0,0,0,1,0,1,0,0,0,null,null,null,"BVC 1-2 hændelser",{"$f":"SUM((BU5),(BU8),(BU11))","v":2}]
["2024-01-15",3,"Mandag",null,null,null,null,null,null,0,0,null,null,null,0,0,null,{"$error":"#N/A"},-2,-2,null,-2,-2,-2,null,-2,-2,-2,null,-2,-2,-2,null,-2,-2,-2,null,-2,-2,-2,null,null,null,null,null,null,null,null,null,null,null,null,null,null,null,null,null,null,null,0,0,0,0,0,0,0,0,0]
["2024-01-16",3,"Tirsdag",null,null,null,null,null,null,0,0,null,null,null,0,0,null,{"$error":"#N/A"},-2,-2,null,-2,-2,-2,null,-2,-2,-2,"Negativ",-2,-1,-2,null,-2,-2,-2,null,-2,-2,-2,null,null,null,null,null,null,null,null,null,null,null,null,null,null,null,null,null,null,null,0,0,0,0,0,0,0,0,0]
["2024-01-17",3,"Onsdag",null,null,null,null,null,null,0,0,null,null,null,0,0,null,{"$error":"#N/A"},-2,-2,null,-2,-2,-2,null,-2,-2,-2,null,-2,-2,-2,"Positiv",1,-2,-2,null,-2,-2,-2,null,null,null,null,null,null,null,null,null,null,null,null,null,null,null,null,null,null,null,0,0,0,0,0,0,0,0,0]
["2024-01-18",3,"Torsdag",null,null,null,null,null,null,0,0,null,null,null,0,0,null,{"$error":"#N/A"},-2,-2,null,-2,-2,-2,null,-2,-2,-2,null,-2,-2,-2,null,-2,-2,-2,null,-2,-2,-2,null,null,null,null,null,null,null,null,null,null,null,null,null,null,null,null,null,null,null,0,0,0,0,0,0,0,0,0]
["2024-01-19",3,"Fredag",null,null,null,null,null,null,0,0,null,null,null,0,0,null,{"$error":"#N/A"},-2,-2,null,-2,-2,-2,null,-2,-2,-2,null,-2,-2,-2,null,-2,-2,-2,null,-2,-2,-2,null,null,null,null,null,null,null,null,null,null,null,null,null,null,null,null,null,null,null,0,0,0,0,0,0,0,0,0]
["2024-01-20",3,"Lørdag",null,null,null,null,null,null,0,0,null,null,null,0,0,null,{"$error":"#N/A"},-2,-2,null,-2,-2,-2,null,-2,-2,-2,null,-2,-2,-2,null,-2,-2,-2,null,-2,-2,-2,null,null,null,null,null,null,null,null,null,null,null,null,null,null,null,null,null,null,null,0,0,0,0,0,0,0,0,0]
["2024-01-21",3,"Søndag",3,"Medpatient",null,null,null,null,3,3,1,null,null,1,1,null,{"$error":"#N/A"},-2,-2,null,-2,-2,-2,null,-2,-2,-2,null,-2,-2,-2,null,-2,-2,-2,null,-2,-2,-2,1,1,0,1,0,0,null,null,null,null,null,null,null,null,null,null,null,null,null,3,1,0,0,0,0,0,0,0]
["2024-01-22",4,"Mandag",null,null,null,null,null,null,0,0,null,null,null,0,0,null,{"$error":"#N/A"},-2,-2,null,-2,-2,-2,null,-2,-2,-2,null,-2,-2,-2,null,-2,-2,-2,null,-2,-2,-2,null,null,null,null,null,null,null,null,null,null,null,null,null,null,null,null,null,null,null,0,0,0,0,0,0,0,0,0]
["2024-01-23",4,"Tirsdag",null,null,null,null,null,null,0,0,null,null,null,0,0,null,{"$error":"#N/A"},-2,-2,null,-2,-2,-2,null,-2,-2,-2,null,-2,-2,-2,"Positiv",1,-2,-2,null,-2,-2,-2,null,null,null,null,null,null,null,null,null,null,null,null,null,null,null,null,null,null,null,0,0,0,0,0,0,0,0,0]
["2024-01-24",4,"Onsdag",null,null,null,null,null,null,0,0,null,null,null,0,0,null,{"$error":"#N/A"},-2,-2,null,-2,-2,-2,null,-2,-2,-2,null,-2,-2,-2,null,-2,-2,-2,null,-2,-2,-2,null,null,null,null,null,null,null,null,null,null,null,null,null,null,null,null,null,null,null,0,0,0,0,0,0,0,0,0]
["2024-01-25",4,"Torsdag",null,null,null,null,null,null,0,0,null,null,null,0,0,null,{"$error":"#N/A"},-2,-2,null,-2,-2,-2,null,-2,-2,-2,null,-2,-2,-2,null,-2,-2,-2,null,-2,-2,-2,null,null,null,null,null,null,null,null,null,null,null,null,null,null,null,null,null,null,null,0,0,0,0,0,0,0,0,0]
["2024-01-26",4,"Fredag",null,null,null,null,null,null,0,0,null,null,null,0,0,null,{"$error":"#N/A"},-2,-2,null,-2,-2,-2,null,-2,-2,-2,null,-2,-2,-2,null,-2,-2,-2,null,-2,-2,-2,null,null,null,null,null,null,null,null,null,null,null,null,null,null,null,null,null,null,null,0,0,0,0,0,0,0,0,0]
["2024-01-27",4,"Lørdag",null,null,null,null,null,null,0,0,null,null,null,0,0,null,{"$error":"#N/A"},-2,-2,"Negativ",-2,-1,-2,null,-2,-2,-2,null,-2,-2,-2,null,-2,-2,-2,null,-2,-2,-2,null,null,null,null,null,null,null,null,null,null,null,null,null,null,null,null,null,null,null,0,0,0,0,0,0,0,0,0]
["2024-01-28",4,"Søndag",null,null,null,null,null,null,0,0,null,null,null,0,0,null,{"$error":"#N/A"},-2,-2,null,-2,-2,-2,null,-2,-2,-2,null,-2,-2,-2,null,-2,-2,-2,null,-2,-2,-2,null,null,null,null,null,null,null,null,null,null,null,null,null,null,null,null,null,null,null,0,0,0,0,0,0,0,0,0]
["2024-01-29",5,"Mandag",null,null,null,null,null,null,0,0,null,null,null,0,0,null,{"$error":"#N/A"},-2,-2,null,-2,-2,-2,null,-2,-2,-2,null,-2,-2,-2,null,-2,-2,-2,null,-2,-2,-2,null,null,null,null,null,null,null,null,null,null,null,null,null,null,null,null,null,null,null,0,0,0,0,0,0,0,0,0]
["2024-01-30",5,"Tirsdag",null,null,null,null,null,null,0,0,null,null,null,0,0,null,{"$error":"#N/A"},-2,-2,null,-2,-2,-2,null,-2,-2,-2,null,-2,-2,-2,null,-2,-2,-2,null,-2,-2,-2,null,null,null,null,null,null,null,null,null,null,null,null,null,null,null,null,null,null,null,0,0,0,0,0,0,0,0,0]
["2024-01-31",5,"Onsdag",null,null,null,null,null,null,0,0,null,null,null,0,0,null,{"$error":"#N/A"},-2,-2,null,-2,-2,-2,null,-2,-2,-2,null,-2,-2,-2,null,-2,-2,-2,null,-2,-2,-2,null,null,null,null,null,null,null,null,null,null,null,null,null,null,null,null,null,null,null,0,0,0,0,0,0,0,0,0]
["2024-02-01",5,"Torsdag",null,null,null,null,null,null,0,0,null,null,null,0,0,null,{"$error":"#N/A"},-2,-2,null,-2,-2,-2,null,-2,-2,-2,null,-2,-2,-2,null,-2,-2,-2,null,-2,-2,-2,null,null,null,null,null,null,null,null,null,null,null,null,null,null,null,null,null,null,null,0,0,0,0,0,0,0,0,0]
["2024-02-02",5,"Fredag",null,null,null,null,null,null,0,0,null,null,null,0,0,null,{"$error":"#N/A"},-2,-2,null,-2,-2,-2,null,-2,-2,-2,null,-2,-2,-2,null,-2,-2,-2,null,-2,-2,-2,null,null,null,null,null,null,null,null,null,null,null,null,null,null,null,null,null,null,null,0,0,0,0,0,0,0,0,0]
["2024-02-03",5,"Lørdag",null,null,null,null,null,null,0,0,null,null,null,0,0,null,{"$error":"#N/A"},-2,-2,null,-2,-2,-2,null,-2,-2,-2,null,-2,-2,-2,null,-2,-2,-2,null,-2,-2,-2,null,null,null,null,null,null,null,null,null,null,null,null,null,null,null,null,null,null,null,0,0,0,0,0,0,0,0,0]
["2024-02-04",5,"Søndag",null,null,null,null,null,null,0,0,null,null,null,0,0,null,{"$error":"#N/A"},-2,-2,null,-2,-2,-2,null,-2,-2,-2,null,-2,-2,-2,null,-2,-2,-2,null,-2,-2,-2,null,null,null,null,null,null,null,null,null,null,null,null,null,null,null,null,null,null,null,0,0,0,0,0,0,0,0,0]
["2024-02-05",6,"Mandag",null,null,null,null,null,null,0,0,null,null,null,0,0,null,{"$error":"#N/A"},-2,-2,null,-2,-2,-2,null,-2,-2,-2,null,-2,-2,-2,null,-2,-2,-2,null,-2,-2,-2,null,null,null,null,null,null,null,null,null,null,null,null,null,null,null,null,null,null,null,0,0,0,0,0,0,0,0,0]
["2024-02-06",6,"Tirsdag",null,null,null,null,null,null,0,0,null,null,null,0,0,null,{"$error":"#N/A"},-2,-2,null,-2,-2,-2,null,-2,-2,-2,null,-2,-2,-2,null,-2,-2,-2,null,-2,-2,-2,null,null,null,null,null,null,null,null,null,null,null,null,null,null,null,null,null,null,null,0,null,null,0,null,null,0]
["2024-02-07",6,"Onsdag",null,null,null,null,null,null,0,0,null,null,null,0,0,null,{"$error":"#N/A"},-2,-2,null,-2,-2,-2,null,-2,-2,-2,null,-2,-2,-2,null,-2,-2,-2,null,-2,-2,-2,null,null,null,null,null,null,null,null,null,null,null,null,null,null,null,null,null,null,null,0,null,null,0,null,null,0]
["2024-02-08",6,"Torsdag",null,null,null,null,null,null,0,0,null,null,null,0,0,null,{"$error":"#N/A"},-2,-2,null,-2,-2,-2,null,-2,-2,-2,null,-2,-2,-2,null,-2,-2,-2,null,-2,-2,-2,null,null,null,null,null,null,null,null,null,null,null,null,null,null,null,null,null,null,null,0,null,null,0,null,null,0]
["2024-02-09",6,"Fredag",null,null,null,null,null,null,0,0,null,null,null,0,0,null,{"$error":"#N/A"},-2,-2,null,-2,-2,-2,null,-2,-2,-2,null,-2,-2,-2,null,-2,-2,-2,null,-2,-2,-2,null,null,null,null,null,null,null,null,null,null,null,null,null,null,null,null,null,null,null,0,null,null,0,null,null,0]
["2024-02-10",6,"Lørdag",null,null,null,null,null,null,0,0,null,null,null,0,0,null,{"$error":"#N/A"},-2,-2,null,-2,-2,-2,null,-2,-2,-2,null,-2,-2,-2,null,-2,-2,-2,null,-2,-2,-2,null,null,null,null,null,null,null,null,null,null,null,null,null,null,null,null,null,null,null,0,null,null,0,null,null,0]
["2024-02-11",6,"Søndag",null,null,null,null,null,null,0,0,null,null,null,0,0,null,{"$error":"#N/A"},-2,-2,null,-2,-2,-2,null,-2,-2,-2,null,-2,-2,-2,null,-2,-2,-2,null,-2,-2,-2,null,null,null,null,null,null,null,null,null,null,null,null,null,null,null,null,null,null,null,0,null,null,0,null,null,0]
["2024-02-12",7,"Mandag",null,null,null,null,null,null,0,0,null,null,null,0,0,null,{"$error":"#N/A"},-2,-2,null,-2,-2,-2,null,-2,-2,-2,null,-2,-2,-2,null,-2,-2,-2,null,-2,-2,-2,null,null,null,null,null,null,null,null,null,null,null,null,null,null,null,null,null,null,null,0,null,null,0,null,null,0]
["2024-02-13",7,"Tirsdag",null,null,null,null,null,null,0,0,null,null,null,0,0,null,{"$error":"#N/A"},-2,-2,null,-2,-2,-2,null,-2,-2,-2,null,-2,-2,-2,null,-2,-2,-2,null,-2,-2,-2,null,null,null,null,null,null,null,null,null,null,null,null,null,null,null,null,null,null,null,0,null,null,0,null,null,0]
["2024-02-14",7,"Onsdag",null,null,null,null,null,null,0,0,null,null,null,0,0,null,{"$error":"#N/A"},-2,-2,null,-2,-2,-2,null,-2,-2,-2,null,-2,-2,-2,null,-2,-2,-2,null,-2,-2,-2,null,null,null,null,null,null,null,null,null,null,null,null,null,null,null,null,null,null,null,0,null,null,0,null,null,0]
["2024-02-15",7,"Torsdag",null,null,null,null,null,null,0,0,null,null,null,0,0,null,{"$error":"#N/A"},-2,-2,null,-2,-2,-2,null,-2,-2,-2,null,-2,-2,-2,null,-2,-2,-2,null,-2,-2,-2,null,null,null,null,null,null,null,null,null,null,null,null,null,null,null,null,null,null,null,0,null,null,0,null,null,0]
["2024-02-16",7,"Fredag",null,null,null,null,null,null,0,0,null,null,null,0,0,null,{"$error":"#N/A"},-2,-2,null,-2,-2,-2,null,-2,-2,-2,null,-2,-2,-2,null,-2,-2,-2,null,-2,-2,-2,null,null,null,null,null,null,null,null,null,null,null,null,null,null,null,null,null,null,null,0,null,null,0,null,null,0]
["2024-02-17",7,"Lørdag",null,null,null,null,null,null,0,0,null,null,null,0,0,null,{"$error":"#N/A"},-2,-2,null,-2,-2,-2,null,-2,-2,-2,null,-2,-2,-2,null,-2,-2,-2,null,-2,-2,-2,null,null,null,null,null,null,null,null,null,null,null,null,null,null,null,null,null,null,null,0,null,null,0,null,null,0]
["2024-02-18",7,"Søndag",null,null,null,null,null,null,0,0,null,null,null,0,0,null,{"$error":"#N/A"},-2,-2,null,-2,-2,-2,null,-2,-2,-2,null,-2,-2,-2,null,-2,-2,-2,null,-2,-2,-2,null,null,null,null,null,null,null,null,null,null,null,null,null,null,null,null,null,null,null,0,null,null,0,null,null,0]
["2024-02-19",8,"Mandag",null,null,null,null,null,null,0,0,null,null,null,0,0,null,{"$error":"#N/A"},-2,-2,null,-2,-2,-2,null,-2,-2,-2,null,-2,-2,-2,null,-2,-2,-2,null,-2,-2,-2,null,null,null,null,null,null,null,null,null,null,null,null,null,null,null,null,null,null,null,0,null,null,0,null,null,0]
["2024-02-20",8,"Tirsdag",null,null,null,null,null,null,0,0,null,null,null,0,0,null,{"$error":"#N/A"},-2,-2,null,-2,-2,-2,null,-2,-2,-2,null,-2,-2,-2,null,-2,-2,-2,null,-2,-2,-2,null,null,null,null,null,null,null,null,null,null,null,null,null,null,null,null,null,null,null,0,null,null,0,null,null,0]
["2024-02-21",8,"Onsdag",null,null,null,null,null,null,0,0,null,null,null,0,0,null,{"$error":"#N/A"},-2,-2,null,-2,-2,-2,null,-2,-2,-2,null,-2,-2,-2,null,-2,-2,-2,null,-2,-2,-2,null,null,null,null,null,null,null,null,null,null,null,null,null,null,null,null,null,null,null,0,null,null,0,null,null,0]
["2024-02-22",8,"Torsdag",null,null,null,null,null,null,0,0,null,null,null,0,0,null,{"$error":"#N/A"},-2,-2,null,-2,-2,-2,null,-2,-2,-2,null,-2,-2,-2,null,-2,-2,-2,null,-2,-2,-2,null,null,null,null,null,null,null,null,null,null,null,null,null,null,null,null,null,null,null,0,null,null,0,null,null,0]
["2024-02-23",8,"Fredag",null,null,null,null,null,null,0,0,null,null,null,0,0,null,{"$error":"#N/A"},-2,-2,null,-2,-2,-2,null,-2,-2,-2,null,-2,-2,-2,null,-2,-2,-2,null,-2,-2,-2,null,null,null,null,null,null,null,null,null,null,null,null,null,null,null,null,null,null,null,0,null,null,0,null,null,0]
["2024-02-24",8,"Lørdag",null,null,null,null,null,null,0,0,null,null,null,0,0,null,{"$error":"#N/A"},-2,-2,null,-2,-2,-2,null,-2,-2,-2,null,-2,-2,-2,null,-2,-2,-2,null,-2,-2,-2,null,null,null,null,null,null,null,null,null,null,null,null,null,null,null,null,null,null,null,0,null,null,0,null,null,0]
["2024-02-25",8,"Søndag",null,null,null,null,null,null,0,0,null,null,null,0,0,null,{"$error":"#N/A"},-2,-2,null,-2,-2,-2,null,-2,-2,-2,null,-2,-2,-2,null,-2,-2,-2,null,-2,-2,-2,null,null,null,null,null,null,null,null,null,null,null,null,null,null,null,null,null,null,null,0,null,null,0,null,null,0]
["2024-02-26",9,"Mandag",null,null,null,null,null,null,0,0,null,null,null,0,0,null,{"$error":"#N/A"},-2,-2,null,-2,-2,-2,null,-2,-2,-2,null,-2,-2,-2,null,-2,-2,-2,null,-2,-2,-2,null,null,null,null,null,null,null,null,null,null,null,null,null,null,null,null,null,null,null,0,null,null,0,null,null,0]

{"sheet":"Samlet BVC","index":1,"n_rows":10,"n_cols":4,"rows_kept":10,"cut":false,"hidden":false,"merged":[[2,1,2,3]]}
[]
[]
[null,"BVC Scoren fordeler sig således"]
[]
[null,"Forvirret",null,{"$f":"SUM(Indtastning!AO6:AO62)+SUM(Indtastning!AU6:AU62)+SUM(Indtastning!BA6:BA62)","v":2}]
[null,"Irritabilitet",null,{"$f":"SUM(Indtastning!AP6:AP62)+SUM(Indtastning!AV6:AV62)+SUM(Indtastning!BB6:BB62)","v":3}]
[null,"Støjende adfærd",null,{"$f":"SUM(Indtastning!AQ6:AQ62)+SUM(Indtastning!AW6:AW62)+SUM(Indtastning!BC6:BC62)","v":0}]
[null,"Verbale trusler",null,{"$f":"SUM(Indtastning!AR6:AR62)+SUM(Indtastning!AX6:AX62)+SUM(Indtastning!BD6:BD62)","v":1}]
[null,"Fysiske trusler",null,{"$f":"SUM(Indtastning!AS6:AS62)+SUM(Indtastning!AY6:AY62)+SUM(Indtastning!BE6:BE62)","v":0}]
[null,"Angreb på ting eller genstande",null,{"$f":"SUM(Indtastning!AT6:AT62)+SUM(Indtastning!AZ6:AZ62)+SUM(Indtastning!BF6:BF62)","v":0}]

{"sheet":"RA","index":2,"n_rows":30,"n_cols":18,"rows_kept":30,"cut":false,"hidden":false,"merged":[[1,1,1,3]]}
[]
[null,"Automatiserede data",null,null,null,"Risiko Algoritme (RA)","Risikofaktorer","Manuel input",null,"  Beskrivelse af risikofaktorer i almindelig sprog",null,null,null,null,null,"RA",{"$f":"G30","v":5},"ud af max 15"]
[null,"BVC episoder i alt",null,{"$f":"Indtastning!$BU$15","v":3},null,null,null,null,null,null,null,null,null,null,null,null,null,"Skærmbillede af dette felt"]
[null,"Forvirret",null,{"$f":"'Samlet BVC'!D5","v":2},null,null,"  Til næste gang….",null,null,null,null,null,null,null,null,"Bekymringstallet"]
[null,"Irritabilitet",null,{"$f":"'Samlet BVC'!D6","v":3},null,null,null,null,null,null,null,null,null,null,null,null,{"$f":"Q2","v":5}]
[null,"Støjende adfærd",null,{"$f":"'Samlet BVC'!D7","v":0},null,null,null,null,null,null,null,null,null,null,null,null,"Max 15"]
[null,"Verbale trusler",null,{"$f":"'Samlet BVC'!D8","v":1}]
[null,"Fysiske trusler",null,{"$f":"'Samlet BVC'!D9","v":0}]
[null,"Angreb på ting eller genstande",null,{"$f":"'Samlet BVC'!D10","v":0}]
[null,"BVC-tegn i alt",null,{"$f":"SUM(D4:D9)","v":6},null,"Antal BVC divideret med antal uger >2 =  +0,5",{"$f":"IF((D3/I10)>2,0.5,0)","v":0},"Uger i perioden",5,"Mange BVC"]
[null,null,null,{"$f":"SUM(D7:D8)","v":1},null,"SUM verbale+fysiske trusler/antal uger >0 = + 1",{"$f":"IF((D11-I10)>0,1,0)","v":0},null,null,"Ugentlige trusler"]
[null,null,null,null,{"$f":"Indtastning!K3","v":3},"BVC>2 tilstede = +1",{"$f":"IF(E12>2,1,0)","v":1},null,null,"Høje BVC-scorer"]
[null,null,null,null,null,"SOAS-R Maksimum (stiger +1 for hver alvorsgrad)",{"$f":"Indtastning!O3","v":1},null,null,"Alvorsgrad af aggression"]
[null,null,null,null,null,"Ikke-aflagte urinprøver >1 = +1",{"$f":"'Samlet Misbrug'!$BX$2","v":1},null,null,"Mindst 2 urinprøver ikke aflagt"]
[null,null,null,null,null,"Tilbagefald i rusmidler (enkeltstående +0,5 - >1=+2)",{"$f":"'Samlet Misbrug'!$BX$5","v":2},null,null,"Misbrug"]
[null,null,null,null,null,"Antal rusmidler >1 = +1",{"$f":"'Samlet Misbrug'!$BX$3","v":0},null,null,"Blandingsmisbrug"]
[null,null,null,null,null,"Personrettede triggere > 50 % af totale Irritabel = +1",{"$f":"IF(D25=0,0,IF((D5/D25)<2,1,0))","v":0},null,null,"Irritabel især mod personale el. medpatienter"]
[null,null,null,null,null,"SOAS-R stigende siden seneste opgørelse = +0,5",{"$f":"IF(I18=FALSE,0, 0.5)","v":0},{"$f":"IF(I18=FALSE,\"Sæt kryds\", \"Ja\")","v":"Sæt kryds"},false]
[null,null,null,null,null,"Flere BVC-hændelser indenfor enkelte vagtlag = +1",{"$f":"IF(I19=FALSE,0, 1)","v":0},{"$f":"IF(I19=FALSE,\"Sæt kryds\", \"Ja\")","v":"Sæt kryds"},false]
[]
[]
[]
[null,"Trigger \"Irritation på Personale\"",null,{"$f":"Triggere!I10","v":0}]
[null,"Trigger \"Medpatienter\"",null,{"$f":"Triggere!I12","v":1}]
[null,"Trigger i alt som er personrettede",null,{"$f":"SUM(D23,D24)","v":1}]
[]
[]
[]
[]
[null,null,null,null,null,"Sammentælling af faktorer",{"$f":"SUM(G10:G28)","v":5}]

{"sheet":"Risikoprofil","index":3,"n_rows":128,"n_cols":49,"rows_kept":128,"cut":false,"hidden":false,"merged":[]}
[]
["Rækkenavne","Sum af BVC dag","Sum af BVC aften","Sum af BVC nat","Sum af SOAS dag","Sum af SOAS aften","Sum af SOAS nat",{"$f":"Indtastning!$D$2 & \" - Risikoprofil\"","v":"Testpatient i perioden fra d. 01-01-2024 til 26-02-2024 - Risikoprofil"}]
[1]
["Mandag",null,null,null,null,null,null,null,null,"I alt",null,"Dag","Aften","Nat",null,null,"I alt",null,"SOAS Dag","SOAS Aften","SOAS Nat",null,"Score","BVC","SOAS",null,null,"BVC Dag","BVC Aften","BVC Nat","SOAS Dag","SOAS Aften","SOAS Nat"]
["Tirsdag",null,null,null,null,null,null,null,"BVC 1",{"$f":"COUNTIF(B:D,\"=1\")","v":1},"BVC 1",{"$f":"COUNTIF(B:B,\"=1\")","v":0},{"$f":"COUNTIF(C:C,\"=1\")","v":1},{"$f":"COUNTIF(D:D,\"=1\")","v":0},null,"SOAS 1",{"$f":"COUNTIF(E:G,\"=1\")","v":1},"SOAS 1",{"$f":"COUNTIF(E:E,\"=1\")","v":1},{"$f":"COUNTIF(F:F,\"=1\")","v":0},{"$f":"COUNTIF(G:G,\"=1\")","v":0},null,1,{"$f":"J5","v":1},{"$f":"Q5","v":1},null,"BVC og SOAS 1",{"$f":"L5","v":0},1,0,{"$f":"S5","v":1},0,0]
["Onsdag",null,null,null,null,null,null,null,"BVC 2",{"$f":"COUNTIF(B:D,\"=2\")","v":1},"BVC 2",{"$f":"COUNTIF(B:B,\"=2\")","v":1},{"$f":"COUNTIF(C:C,\"=2\")","v":0},{"$f":"COUNTIF(D:D,\"=2\")","v":0},null,"SOAS 2",{"$f":"COUNTIF(E:G,\"=2\")","v":0},"SOAS 2",{"$f":"COUNTIF(E:E,\"=2\")","v":0},{"$f":"COUNTIF(F:F,\"=2\")","v":0},{"$f":"COUNTIF(G:G,\"=2\")","v":0},null,2,1,0,null,"BVC og SOAS 2",1,0,0,0,0,0]
["Torsdag",2,null,null,null,null,null,null,"BVC 3",{"$f":"COUNTIF(B:D,\"=3\")","v":1},"BVC 3",{"$f":"COUNTIF(B:B,\"=3\")","v":1},{"$f":"COUNTIF(C:C,\"=3\")","v":0},{"$f":"COUNTIF(D:D,\"=3\")","v":0},null,"SOAS 3",{"$f":"COUNTIF(E:G,\"=3\")","v":0},"SOAS 3",{"$f":"COUNTIF(E:E,\"=3\")","v":0},{"$f":"COUNTIF(F:F,\"=3\")","v":0},{"$f":"COUNTIF(G:G,\"=3\")","v":0},null,3,1,0,null,"BVC og SOAS 3",1,0,0,0,0,0]
["Fredag",null,null,null,null,null,null,null,"BVC 4",{"$f":"COUNTIF(B:D,\"=4\")","v":0},"BVC 4",{"$f":"COUNTIF(B:B,\"=4\")","v":0},{"$f":"COUNTIF(C:C,\"=4\")","v":0},{"$f":"COUNTIF(D:D,\"=4\")","v":0},null,"SOAS 4",{"$f":"COUNTIF(E:G,\"=4\")","v":0},"SOAS 4",{"$f":"COUNTIF(E:E,\"=4\")","v":0},{"$f":"COUNTIF(F:F,\"=4\")","v":0},{"$f":"COUNTIF(G:G,\"=4\")","v":0},null,4,0,0,null,"BVC og SOAS 4",0,0,0,0,0,0]
["Lørdag",null,null,null,null,null,null,null,"BVC 5",{"$f":"COUNTIF(B:D,\"=5\")","v":0},"BVC 5",{"$f":"COUNTIF(B:B,\"=5\")","v":0},{"$f":"COUNTIF(C:C,\"=5\")","v":0},{"$f":"COUNTIF(D:D,\"=5\")","v":0},null,"SOAS 5",{"$f":"COUNTIF(E:G,\"=5\")","v":0},"SOAS 5",{"$f":"COUNTIF(E:E,\"=5\")","v":0},{"$f":"COUNTIF(F:F,\"=5\")","v":0},{"$f":"COUNTIF(G:G,\"=5\")","v":0},null,5,0,0,null,"BVC og SOAS 5",0,0,0,0,0,0]
["Søndag",null,null,null,null,null,null,null,"BVC 6",{"$f":"COUNTIF(B:D,\"=6\")","v":0},"BVC 6",{"$f":"COUNTIF(B:B,\"=6\")","v":0},{"$f":"COUNTIF(C:C,\"=6\")","v":0},{"$f":"COUNTIF(D:D,\"=6\")","v":0},null,"SOAS 6",{"$f":"COUNTIF(E:G,\"=6\")","v":0},"SOAS 6",{"$f":"COUNTIF(E:E,\"=6\")","v":0},{"$f":"COUNTIF(F:F,\"=6\")","v":0},{"$f":"COUNTIF(G:G,\"=6\")","v":0},null,6,0,0,null,"BVC og SOAS 6",0,0,0,0,0,0]
[2]
["Mandag"]
["Tirsdag",null,null,null,null,null,null,null,null,null,null,null,null,null,null,null,null,null,null,null,null,null,null,null,null,null,null,null,null,null,null,null,null,null,null,null,null,null,null,null,null,null,null,null,null,null,"Rækkenavne","Højeste BVC","Højeste SOAS"]
["Onsdag",null,null,null,null,null,null,null,null,null,null,null,null,null,null,null,null,null,null,null,null,null,null,null,null,null,null,null,null,null,null,null,null,null,null,null,null,null,null,null,null,null,null,null,null,null,"2024-01-01",0,0]
["Torsdag",null,null,null,null,null,null,null,null,null,null,null,null,null,null,null,null,null,null,null,null,null,null,null,null,null,null,null,null,null,null,null,null,null,null,null,null,null,null,null,null,null,null,null,null,null,"Mandag",0,0]
["Fredag",null,null,null,null,null,null,null,null,null,null,null,null,null,null,null,null,null,null,null,null,null,null,null,null,null,null,null,null,null,null,null,null,null,null,null,null,null,null,null,null,null,null,null,null,null,"2024-01-02",0,0]
["Lørdag",null,null,null,null,null,null,null,null,null,null,null,null,null,null,null,null,null,null,null,null,null,null,null,null,null,null,null,null,null,null,null,null,null,null,null,null,null,null,null,null,null,null,null,null,null,"Tirsdag",0,0]
["Søndag",null,1,null,null,null,null,null,null,null,null,null,null,null,null,null,null,null,null,null,null,null,null,null,null,null,null,null,null,null,null,null,null,null,null,null,null,null,null,null,null,null,null,null,null,null,"2024-01-03",0,0]
[3,null,null,null,null,null,null,null,null,null,null,null,null,null,null,null,null,null,null,null,null,null,null,null,null,null,null,null,null,null,null,null,null,null,null,null,null,null,null,null,null,null,null,null,null,null,"Onsdag",0,0]
["Mandag",null,null,null,null,null,null,null,null,null,null,null,null,null,null,null,null,null,null,null,null,null,null,null,null,null,null,null,null,null,null,null,null,null,null,null,null,null,null,null,null,null,null,null,null,null,"2024-01-04",2,0]
["Tirsdag",null,null,null,null,null,null,null,null,null,null,null,null,null,null,null,null,null,null,null,null,null,null,null,null,null,null,null,null,null,null,null,null,null,null,null,null,null,null,null,null,null,null,null,null,null,"Torsdag",2,0]
["Onsdag",null,null,null,null,null,null,null,null,null,null,null,null,null,null,null,null,null,null,null,null,null,null,null,null,null,null,null,null,null,null,null,null,null,null,null,null,null,null,null,null,null,null,null,null,null,"2024-01-05",0,0]
["Torsdag",null,null,null,null,null,null,null,null,null,null,null,null,null,null,null,null,null,null,null,null,null,null,null,null,null,null,null,null,null,null,null,null,null,null,null,null,null,null,null,null,null,null,null,null,null,"Fredag",0,0]
["Fredag",null,null,null,null,null,null,null,null,null,null,null,null,null,null,null,null,null,null,null,null,null,null,null,null,null,null,null,null,null,null,null,null,null,null,null,null,null,null,null,null,null,null,null,null,null,"2024-01-06",0,0]
["Lørdag",null,null,null,null,null,null,null,null,null,null,null,null,null,null,null,null,null,null,null,null,null,null,null,null,null,null,null,null,null,null,null,null,null,null,null,null,null,null,null,null,null,null,null,null,null,"Lørdag",0,0]
["Søndag",3,null,null,1,null,null,null,null,null,null,null,null,null,null,null,null,null,null,null,null,null,null,null,null,null,null,null,null,null,null,null,null,null,null,null,null,null,null,null,null,null,null,null,null,null,"2024-01-07",0,0]
[4,null,null,null,null,null,null,null,null,null,null,null,null,null,null,null,null,null,null,null,null,null,null,null,null,null,null,null,null,null,null,null,null,null,null,null,null,null,null,null,null,null,null,null,null,null,"Søndag",0,0]
["Mandag",null,null,null,null,null,null,null,null,null,null,null,null,null,null,null,null,null,null,null,null,null,null,null,null,null,null,null,null,null,null,null,null,null,null,null,null,null,null,null,null,null,null,null,null,null,"2024-01-08",0,0]
["Tirsdag",null,null,null,null,null,null,null,null,null,null,null,null,null,null,null,null,null,null,null,null,null,null,null,null,null,null,null,null,null,null,null,null,null,null,null,null,null,null,null,null,null,null,null,null,null,"Mandag",0,0]
["Onsdag",null,null,null,null,null,null,null,null,null,null,null,null,null,null,null,null,null,null,null,null,null,null,null,null,null,null,null,null,null,null,null,null,null,null,null,null,null,null,null,null,null,null,null,null,null,"2024-01-09",0,0]
["Torsdag",null,null,null,null,null,null,null,null,null,null,null,null,null,null,null,null,null,null,null,null,null,null,null,null,null,null,null,null,null,null,null,null,null,null,null,null,null,null,null,null,null,null,null,null,null,"Tirsdag",0,0]
["Fredag",null,null,null,null,null,null,null,null,null,null,null,null,null,null,null,null,null,null,null,null,null,null,null,null,null,null,null,null,null,null,null,null,null,null,null,null,null,null,null,null,null,null,null,null,null,"2024-01-10",0,0]
["Lørdag",null,null,null,null,null,null,null,null,null,null,null,null,null,null,null,null,null,null,null,null,null,null,null,null,null,null,null,null,null,null,null,null,null,null,null,null,null,null,null,null,null,null,null,null,null,"Onsdag",0,0]
["Søndag",null,null,null,null,null,null,null,null,null,null,null,null,null,null,null,null,null,null,null,null,null,null,null,null,null,null,null,null,null,null,null,null,null,null,null,null,null,null,null,null,null,null,null,null,null,"2024-01-11",0,0]
[5,null,null,null,null,null,null,null,null,null,null,null,null,null,null,null,null,null,null,null,null,null,null,null,null,null,null,null,null,null,null,null,null,null,null,null,null,null,null,null,null,null,null,null,null,null,"Torsdag",0,0]
["Mandag",null,null,null,null,null,null,null,null,null,null,null,null,null,null,null,null,null,null,null,null,null,null,null,null,null,null,null,null,null,null,null,null,null,null,null,null,null,null,null,null,null,null,null,null,null,"2024-01-12",0,0]
["Tirsdag",null,null,null,null,null,null,null,null,null,null,null,null,null,null,null,null,null,null,null,null,null,null,null,null,null,null,null,null,null,null,null,null,null,null,null,null,null,null,null,null,null,null,null,null,null,"Fredag",0,0]
["Onsdag",null,null,null,null,null,null,null,null,null,null,null,null,null,null,null,null,null,null,null,null,null,null,null,null,null,null,null,null,null,null,null,null,null,null,null,null,null,null,null,null,null,null,null,null,null,"2024-01-13",0,0]
["Torsdag",null,null,null,null,null,null,null,null,null,null,null,null,null,null,null,null,null,null,null,null,null,null,null,null,null,null,null,null,null,null,null,null,null,null,null,null,null,null,null,null,null,null,null,null,null,"Lørdag",0,0]
["Fredag",null,null,null,null,null,null,null,null,null,null,null,null,null,null,null,null,null,null,null,null,null,null,null,null,null,null,null,null,null,null,null,null,null,null,null,null,null,null,null,null,null,null,null,null,null,"2024-01-14",1,0]
["Lørdag",null,null,null,null,null,null,null,null,null,null,null,null,null,null,null,null,null,null,null,null,null,null,null,null,null,null,null,null,null,null,null,null,null,null,null,null,null,null,null,null,null,null,null,null,null,"Søndag",1,0]
["Søndag",null,null,null,null,null,null,null,null,null,null,null,null,null,null,null,null,null,null,null,null,null,null,null,null,null,null,null,null,null,null,null,null,null,null,null,null,null,null,null,null,null,null,null,null,null,"2024-01-15",0,0]
[6,null,null,null,null,null,null,null,null,null,null,null,null,null,null,null,null,null,null,null,null,null,null,null,null,null,null,null,null,null,null,null,null,null,null,null,null,null,null,null,null,null,null,null,null,null,"Mandag",0,0]
["Mandag",null,null,null,null,null,null,null,null,null,null,null,null,null,null,null,null,null,null,null,null,null,null,null,null,null,null,null,null,null,null,null,null,null,null,null,null,null,null,null,null,null,null,null,null,null,"2024-01-16",0,0]
["Tirsdag",null,null,null,null,null,null,null,null,null,null,null,null,null,null,null,null,null,null,null,null,null,null,null,null,null,null,null,null,null,null,null,null,null,null,null,null,null,null,null,null,null,null,null,null,null,"Tirsdag",0,0]
["Onsdag",null,null,null,null,null,null,null,null,null,null,null,null,null,null,null,null,null,null,null,null,null,null,null,null,null,null,null,null,null,null,null,null,null,null,null,null,null,null,null,null,null,null,null,null,null,"2024-01-17",0,0]
["Torsdag",null,null,null,null,null,null,null,null,null,null,null,null,null,null,null,null,null,null,null,null,null,null,null,null,null,null,null,null,null,null,null,null,null,null,null,null,null,null,null,null,null,null,null,null,null,"Onsdag",0,0]
["Fredag",null,null,null,null,null,null,null,null,null,null,null,null,null,null,null,null,null,null,null,null,null,null,null,null,null,null,null,null,null,null,null,null,null,null,null,null,null,null,null,null,null,null,null,null,null,"2024-01-18",0,0]
["Lørdag",null,null,null,null,null,null,null,null,null,null,null,null,null,null,null,null,null,null,null,null,null,null,null,null,null,null,null,null,null,null,null,null,null,null,null,null,null,null,null,null,null,null,null,null,null,"Torsdag",0,0]
["Søndag",null,null,null,null,null,null,null,null,null,null,null,null,null,null,null,null,null,null,null,null,null,null,null,null,null,null,null,null,null,null,null,null,null,null,null,null,null,null,null,null,null,null,null,null,null,"2024-01-19",0,0]
[7,null,null,null,null,null,null,null,null,null,null,null,null,null,null,null,null,null,null,null,null,null,null,null,null,null,null,null,null,null,null,null,null,null,null,null,null,null,null,null,null,null,null,null,null,null,"Fredag",0,0]
["Mandag",null,null,null,null,null,null,null,null,null,null,null,null,null,null,null,null,null,null,null,null,null,null,null,null,null,null,null,null,null,null,null,null,null,null,null,null,null,null,null,null,null,null,null,null,null,"2024-01-20",0,0]
["Tirsdag",null,null,null,null,null,null,null,null,null,null,null,null,null,null,null,null,null,null,null,null,null,null,null,null,null,null,null,null,null,null,null,null,null,null,null,null,null,null,null,null,null,null,null,null,null,"Lørdag",0,0]
["Onsdag",null,null,null,null,null,null,null,null,null,null,null,null,null,null,null,null,null,null,null,null,null,null,null,null,null,null,null,null,null,null,null,null,null,null,null,null,null,null,null,null,null,null,null,null,null,"2024-01-21",3,1]
["Torsdag",null,null,null,null,null,null,null,null,null,null,null,null,null,null,null,null,null,null,null,null,null,null,null,null,null,null,null,null,null,null,null,null,null,null,null,null,null,null,null,null,null,null,null,null,null,"Søndag",3,1]
["Fredag",null,null,null,null,null,null,null,null,null,null,null,null,null,null,null,null,null,null,null,null,null,null,null,null,null,null,null,null,null,null,null,null,null,null,null,null,null,null,null,null,null,null,null,null,null,"2024-01-22",0,0]
["Lørdag",null,null,null,null,null,null,null,null,null,null,null,null,null,null,null,null,null,null,null,null,null,null,null,null,null,null,null,null,null,null,null,null,null,null,null,null,null,null,null,null,null,null,null,null,null,"Mandag",0,0]
["Søndag",null,null,null,null,null,null,null,null,null,null,null,null,null,null,null,null,null,null,null,null,null,null,null,null,null,null,null,null,null,null,null,null,null,null,null,null,null,null,null,null,null,null,null,null,null,"2024-01-23",0,0]
[8,null,null,null,null,null,null,null,null,null,null,null,null,null,null,null,null,null,null,null,null,null,null,null,null,null,null,null,null,null,null,null,null,null,null,null,null,null,null,null,null,null,null,null,null,null,"Tirsdag",0,0]
["Mandag",null,null,null,null,null,null,null,null,null,null,null,null,null,null,null,null,null,null,null,null,null,null,null,null,null,null,null,null,null,null,null,null,null,null,null,null,null,null,null,null,null,null,null,null,null,"2024-01-24",0,0]
["Tirsdag",null,null,null,null,null,null,null,null,null,null,null,null,null,null,null,null,null,null,null,null,null,null,null,null,null,null,null,null,null,null,null,null,null,null,null,null,null,null,null,null,null,null,null,null,null,"Onsdag",0,0]
["Onsdag",null,null,null,null,null,null,null,null,null,null,null,null,null,null,null,null,null,null,null,null,null,null,null,null,null,null,null,null,null,null,null,null,null,null,null,null,null,null,null,null,null,null,null,null,null,"2024-01-25",0,0]
["Torsdag",null,null,null,null,null,null,null,null,null,null,null,null,null,null,null,null,null,null,null,null,null,null,null,null,null,null,null,null,null,null,null,null,null,null,null,null,null,null,null,null,null,null,null,null,null,"Torsdag",0,0]
["Fredag",null,null,null,null,null,null,null,null,null,null,null,null,null,null,null,null,null,null,null,null,null,null,null,null,null,null,null,null,null,null,null,null,null,null,null,null,null,null,null,null,null,null,null,null,null,"2024-01-26",0,0]
["Lørdag",null,null,null,null,null,null,null,null,null,null,null,null,null,null,null,null,null,null,null,null,null,null,null,null,null,null,null,null,null,null,null,null,null,null,null,null,null,null,null,null,null,null,null,null,null,"Fredag",0,0]
["Søndag",null,null,null,null,null,null,null,null,null,null,null,null,null,null,null,null,null,null,null,null,null,null,null,null,null,null,null,null,null,null,null,null,null,null,null,null,null,null,null,null,null,null,null,null,null,"2024-01-27",0,0]
[9,null,null,null,null,null,null,null,null,null,null,null,null,null,null,null,null,null,null,null,null,null,null,null,null,null,null,null,null,null,null,null,null,null,null,null,null,null,null,null,null,null,null,null,null,null,"Lørdag",0,0]
["Mandag",null,null,null,null,null,null,null,null,null,null,null,null,null,null,null,null,null,null,null,null,null,null,null,null,null,null,null,null,null,null,null,null,null,null,null,null,null,null,null,null,null,null,null,null,null,"2024-01-28",0,0]
[null,null,null,null,null,null,null,null,null,null,null,null,null,null,null,null,null,null,null,null,null,null,null,null,null,null,null,null,null,null,null,null,null,null,null,null,null,null,null,null,null,null,null,null,null,null,"Søndag",0,0]
[null,null,null,null,null,null,null,null,null,null,null,null,null,null,null,null,null,null,null,null,null,null,null,null,null,null,null,null,null,null,null,null,null,null,null,null,null,null,null,null,null,null,null,null,null,null,"2024-01-29",0,0]
[null,null,null,null,null,null,null,null,null,null,null,null,null,null,null,null,null,null,null,null,null,null,null,null,null,null,null,null,null,null,null,null,null,null,null,null,null,null,null,null,null,null,null,null,null,null,"Mandag",0,0]
[null,null,null,null,null,null,null,null,null,null,null,null,null,null,null,null,null,null,null,null,null,null,null,null,null,null,null,null,null,null,null,null,null,null,null,null,null,null,null,null,null,null,null,null,null,null,"2024-01-30",0,0]
[null,null,null,null,null,null,null,null,null,null,null,null,null,null,null,null,null,null,null,null,null,null,null,null,null,null,null,null,null,null,null,null,null,null,null,null,null,null,null,null,null,null,null,null,null,null,"Tirsdag",0,0]
[null,null,null,null,null,null,null,null,null,null,null,null,null,null,null,null,null,null,null,null,null,null,null,null,null,null,null,null,null,null,null,null,null,null,null,null,null,null,null,null,null,null,null,null,null,null,"2024-01-31",0,0]
[null,null,null,null,null,null,null,null,null,null,null,null,null,null,null,null,null,null,null,null,null,null,null,null,null,null,null,null,null,null,null,null,null,null,null,null,null,null,null,null,null,null,null,null,null,null,"Onsdag",0,0]
[null,null,null,null,null,null,null,null,null,null,null,null,null,null,null,null,null,null,null,null,null,null,null,null,null,null,null,null,null,null,null,null,null,null,null,null,null,null,null,null,null,null,null,null,null,null,"2024-02-01",0,0]
[null,null,null,null,null,null,null,null,null,null,null,null,null,null,null,null,null,null,null,null,null,null,null,null,null,null,null,null,null,null,null,null,null,null,null,null,null,null,null,null,null,null,null,null,null,null,"Torsdag",0,0]
[null,null,null,null,null,null,null,null,null,null,null,null,null,null,null,null,null,null,null,null,null,null,null,null,null,null,null,null,null,null,null,null,null,null,null,null,null,null,null,null,null,null,null,null,null,null,"2024-02-02",0,0]
[null,null,null,null,null,null,null,null,null,null,null,null,null,null,null,null,null,null,null,null,null,null,null,null,null,null,null,null,null,null,null,null,null,null,null,null,null,null,null,null,null,null,null,null,null,null,"Fredag",0,0]
[null,null,null,null,null,null,null,null,null,null,null,null,null,null,null,null,null,null,null,null,null,null,null,null,null,null,null,null,null,null,null,null,null,null,null,null,null,null,null,null,null,null,null,null,null,null,"2024-02-03",0,0]
[null,null,null,null,null,null,null,null,null,null,null,null,null,null,null,null,null,null,null,null,null,null,null,null,null,null,null,null,null,null,null,null,null,null,null,null,null,null,null,null,null,null,null,null,null,null,"Lørdag",0,0]
[null,null,null,null,null,null,null,null,null,null,null,null,null,null,null,null,null,null,null,null,null,null,null,null,null,null,null,null,null,null,null,null,null,null,null,null,null,null,null,null,null,null,null,null,null,null,"2024-02-04",0,0]
[null,null,null,null,null,null,null,null,null,null,null,null,null,null,null,null,null,null,null,null,null,null,null,null,null,null,null,null,null,null,null,null,null,null,null,null,null,null,null,null,null,null,null,null,null,null,"Søndag",0,0]
[null,null,null,null,null,null,null,null,null,null,null,null,null,null,null,null,null,null,null,null,null,null,null,null,null,null,null,null,null,null,null,null,null,null,null,null,null,null,null,null,null,null,null,null,null,null,"2024-02-05",0,0]
[null,null,null,null,null,null,null,null,null,null,null,null,null,null,null,null,null,null,null,null,null,null,null,null,null,null,null,null,null,null,null,null,null,null,null,null,null,null,null,null,null,null,null,null,null,null,"Mandag",0,0]
[null,null,null,null,null,null,null,null,null,null,null,null,null,null,null,null,null,null,null,null,null,null,null,null,null,null,null,null,null,null,null,null,null,null,null,null,null,null,null,null,null,null,null,null,null,null,"2024-02-06",0,0]
[null,null,null,null,null,null,null,null,null,null,null,null,null,null,null,null,null,null,null,null,null,null,null,null,null,null,null,null,null,null,null,null,null,null,null,null,null,null,null,null,null,null,null,null,null,null,"Tirsdag",0,0]
[null,null,null,null,null,null,null,null,null,null,null,null,null,null,null,null,null,null,null,null,null,null,null,null,null,null,null,null,null,null,null,null,null,null,null,null,null,null,null,null,null,null,null,null,null,null,"2024-02-07",0,0]
[null,null,null,null,null,null,null,null,null,null,null,null,null,null,null,null,null,null,null,null,null,null,null,null,null,null,null,null,null,null,null,null,null,null,null,null,null,null,null,null,null,null,null,null,null,null,"Onsdag",0,0]
[null,null,null,null,null,null,null,null,null,null,null,null,null,null,null,null,null,null,null,null,null,null,null,null,null,null,null,null,null,null,null,null,null,null,null,null,null,null,null,null,null,null,null,null,null,null,"2024-02-08",0,0]
[null,null,null,null,null,null,null,null,null,null,null,null,null,null,null,null,null,null,null,null,null,null,null,null,null,null,null,null,null,null,null,null,null,null,null,null,null,null,null,null,null,null,null,null,null,null,"Torsdag",0,0]
[null,null,null,null,null,null,null,null,null,null,null,null,null,null,null,null,null,null,null,null,null,null,null,null,null,null,null,null,null,null,null,null,null,null,null,null,null,null,null,null,null,null,null,null,null,null,"2024-02-09",0,0]
[null,null,null,null,null,null,null,null,null,null,null,null,null,null,null,null,null,null,null,null,null,null,null,null,null,null,null,null,null,null,null,null,null,null,null,null,null,null,null,null,null,null,null,null,null,null,"Fredag",0,0]
[null,null,null,null,null,null,null,null,null,null,null,null,null,null,null,null,null,null,null,null,null,null,null,null,null,null,null,null,null,null,null,null,null,null,null,null,null,null,null,null,null,null,null,null,null,null,"2024-02-10",0,0]
[null,null,null,null,null,null,null,null,null,null,null,null,null,null,null,null,null,null,null,null,null,null,null,null,null,null,null,null,null,null,null,null,null,null,null,null,null,null,null,null,null,null,null,null,null,null,"Lørdag",0,0]
[null,null,null,null,null,null,null,null,null,null,null,null,null,null,null,null,null,null,null,null,null,null,null,null,null,null,null,null,null,null,null,null,null,null,null,null,null,null,null,null,null,null,null,null,null,null,"2024-02-11",0,0]
[null,null,null,null,null,null,null,null,null,null,null,null,null,null,null,null,null,null,null,null,null,null,null,null,null,null,null,null,null,null,null,null,null,null,null,null,null,null,null,null,null,null,null,null,null,null,"Søndag",0,0]
[null,null,null,null,null,null,null,null,null,null,null,null,null,null,null,null,null,null,null,null,null,null,null,null,null,null,null,null,null,null,null,null,null,null,null,null,null,null,null,null,null,null,null,null,null,null,"2024-02-12",0,0]
[null,null,null,null,null,null,null,null,null,null,null,null,null,null,null,null,null,null,null,null,null,null,null,null,null,null,null,null,null,null,null,null,null,null,null,null,null,null,null,null,null,null,null,null,null,null,"Mandag",0,0]
[null,null,null,null,null,null,null,null,null,null,null,null,null,null,null,null,null,null,null,null,null,null,null,null,null,null,null,null,null,null,null,null,null,null,null,null,null,null,null,null,null,null,null,null,null,null,"2024-02-13",0,0]
[null,null,null,null,null,null,null,null,null,null,null,null,null,null,null,null,null,null,null,null,null,null,null,null,null,null,null,null,null,null,null,null,null,null,null,null,null,null,null,null,null,null,null,null,null,null,"Tirsdag",0,0]
[null,null,null,null,null,null,null,null,null,null,null,null,null,null,null,null,null,null,null,null,null,null,null,null,null,null,null,null,null,null,null,null,null,null,null,null,null,null,null,null,null,null,null,null,null,null,"2024-02-14",0,0]
[null,null,null,null,null,null,null,null,null,null,null,null,null,null,null,null,null,null,null,null,null,null,null,null,null,null,null,null,null,null,null,null,null,null,null,null,null,null,null,null,null,null,null,null,null,null,"Onsdag",0,0]
[null,null,null,null,null,null,null,null,null,null,null,null,null,null,null,null,null,null,null,null,null,null,null,null,null,null,null,null,null,null,null,null,null,null,null,null,null,null,null,null,null,null,null,null,null,null,"2024-02-15",0,0]
[null,null,null,null,null,null,null,null,null,null,null,null,null,null,null,null,null,null,null,null,null,null,null,null,null,null,null,null,null,null,null,null,null,null,null,null,null,null,null,null,null,null,null,null,null,null,"Torsdag",0,0]
[null,null,null,null,null,null,null,null,null,null,null,null,null,null,null,null,null,null,null,null,null,null,null,null,null,null,null,null,null,null,null,null,null,null,null,null,null,null,null,null,null,null,null,null,null,null,"2024-02-16",0,0]
[null,null,null,null,null,null,null,null,null,null,null,null,null,null,null,null,null,null,null,null,null,null,null,null,null,null,null,null,null,null,null,null,null,null,null,null,null,null,null,null,null,null,null,null,null,null,"Fredag",0,0]
[null,null,null,null,null,null,null,null,null,null,null,null,null,null,null,null,null,null,null,null,null,null,null,null,null,null,null,null,null,null,null,null,null,null,null,null,null,null,null,null,null,null,null,null,null,null,"2024-02-17",0,0]
[null,null,null,null,null,null,null,null,null,null,null,null,null,null,null,null,null,null,null,null,null,null,null,null,null,null,null,null,null,null,null,null,null,null,null,null,null,null,null,null,null,null,null,null,null,null,"Lørdag",0,0]
[null,null,null,null,null,null,null,null,null,null,null,null,null,null,null,null,null,null,null,null,null,null,null,null,null,null,null,null,null,null,null,null,null,null,null,null,null,null,null,null,null,null,null,null,null,null,"2024-02-18",0,0]
[null,null,null,null,null,null,null,null,null,null,null,null,null,null,null,null,null,null,null,null,null,null,null,null,null,null,null,null,null,null,null,null,null,null,null,null,null,null,null,null,null,null,null,null,null,null,"Søndag",0,0]
[null,null,null,null,null,null,null,null,null,null,null,null,null,null,null,null,null,null,null,null,null,null,null,null,null,null,null,null,null,null,null,null,null,null,null,null,null,null,null,null,null,null,null,null,null,null,"2024-02-19",0,0]
[null,null,null,null,null,null,null,null,null,null,null,null,null,null,null,null,null,null,null,null,null,null,null,null,null,null,null,null,null,null,null,null,null,null,null,null,null,null,null,null,null,null,null,null,null,null,"Mandag",0,0]
[null,null,null,null,null,null,null,null,null,null,null,null,null,null,null,null,null,null,null,null,null,null,null,null,null,null,null,null,null,null,null,null,null,null,null,null,null,null,null,null,null,null,null,null,null,null,"2024-02-20",0,0]
[null,null,null,null,null,null,null,null,null,null,null,null,null,null,null,null,null,null,null,null,null,null,null,null,null,null,null,null,null,null,null,null,null,null,null,null,null,null,null,null,null,null,null,null,null,null,"Tirsdag",0,0]
[null,null,null,null,null,null,null,null,null,null,null,null,null,null,null,null,null,null,null,null,null,null,null,null,null,null,null,null,null,null,null,null,null,null,null,null,null,null,null,null,null,null,null,null,null,null,"2024-02-21",0,0]
[null,null,null,null,null,null,null,null,null,null,null,null,null,null,null,null,null,null,null,null,null,null,null,null,null,null,null,null,null,null,null,null,null,null,null,null,null,null,null,null,null,null,null,null,null,null,"Onsdag",0,0]
[null,null,null,null,null,null,null,null,null,null,null,null,null,null,null,null,null,null,null,null,null,null,null,null,null,null,null,null,null,null,null,null,null,null,null,null,null,null,null,null,null,null,null,null,null,null,"2024-02-22",0,0]
[null,null,null,null,null,null,null,null,null,null,null,null,null,null,null,null,null,null,null,null,null,null,null,null,null,null,null,null,null,null,null,null,null,null,null,null,null,null,null,null,null,null,null,null,null,null,"Torsdag",0,0]
[null,null,null,null,null,null,null,null,null,null,null,null,null,null,null,null,null,null,null,null,null,null,null,null,null,null,null,null,null,null,null,null,null,null,null,null,null,null,null,null,null,null,null,null,null,null,"2024-02-23",0,0]
[null,null,null,null,null,null,null,null,null,null,null,null,null,null,null,null,null,null,null,null,null,null,null,null,null,null,null,null,null,null,null,null,null,null,null,null,null,null,null,null,null,null,null,null,null,null,"Fredag",0,0]
[null,null,null,null,null,null,null,null,null,null,null,null,null,null,null,null,null,null,null,null,null,null,null,null,null,null,null,null,null,null,null,null,null,null,null,null,null,null,null,null,null,null,null,null,null,null,"2024-02-24",0,0]
[null,null,null,null,null,null,null,null,null,null,null,null,null,null,null,null,null,null,null,null,null,null,null,null,null,null,null,null,null,null,null,null,null,null,null,null,null,null,null,null,null,null,null,null,null,null,"Lørdag",0,0]
[null,null,null,null,null,null,null,null,null,null,null,null,null,null,null,null,null,null,null,null,null,null,null,null,null,null,null,null,null,null,null,null,null,null,null,null,null,null,null,null,null,null,null,null,null,null,"2024-02-25",0,0]
[null,null,null,null,null,null,null,null,null,null,null,null,null,null,null,null,null,null,null,null,null,null,null,null,null,null,null,null,null,null,null,null,null,null,null,null,null,null,null,null,null,null,null,null,null,null,"Søndag",0,0]
[null,null,null,null,null,null,null,null,null,null,null,null,null,null,null,null,null,null,null,null,null,null,null,null,null,null,null,null,null,null,null,null,null,null,null,null,null,null,null,null,null,null,null,null,null,null,"2024-02-26",0,0]
[null,null,null,null,null,null,null,null,null,null,null,null,null,null,null,null,null,null,null,null,null,null,null,null,null,null,null,null,null,null,null,null,null,null,null,null,null,null,null,null,null,null,null,null,null,null,"Mandag",0,0]
[null,null,null,null,null,null,null,null,null,null,null,null,null,null,null,null,null,null,null,null,null,null,null,null,null,null,null,null,null,null,null,null,null,null,null,null,null,null,null,null,null,null,null,null,null,null,"Hovedtotal",6,1]

{"sheet":"Belastende ugedage","index":4,"n_rows":67,"n_cols":15,"rows_kept":67,"cut":false,"hidden":false,"merged":[]}
["Rækkenavne","Sum af BVC dag","Sum af BVC aften","Sum af BVC nat"]
[1,null,null,null,null,null,null,{"$f":"Indtastning!$D$2 & \" - Belastende ugedage\"","v":"Testpatient i perioden fra d. 01-01-2024 til 26-02-2024 - Belastende ugedage"}]
["Mandag"]
["Tirsdag",null,null,null,null,null,null,null,null,"Dag","Aften","Nat","Samlet"]
["Onsdag",null,null,null,null,null,null,null,"Mandag",{"$f":"SUMPRODUCT(-- (A:A = I5),-- (B:B > 0))","v":0},{"$f":"SUMPRODUCT(-- (A:A = I5),-- (C:C > 0))","v":0},{"$f":"SUMPRODUCT(-- (A:A = I5),-- (D:D > 0))","v":0},{"$f":"SUM(J5:L5)","v":0},"Mandag",{"$f":"M5","v":0}]
["Torsdag",2,null,null,null,null,null,null,"Tirsdag",0,0,0,{"$f":"SUM(J6:L6)","v":0},"Tirsdag",0]
["Fredag",null,null,null,null,null,null,null,"Onsdag",0,0,0,0,"Onsdag",0]
["Lørdag",null,null,null,null,null,null,null,"Torsdag",1,0,0,1,"Torsdag",1]
["Søndag",null,null,null,null,null,null,null,"Fredag",0,0,0,0,"Fredag",0]
[2,null,null,null,null,null,null,null,"Lørdag",0,0,0,0,"Lørdag",0]
["Mandag",null,null,null,null,null,null,null,"Søndag",1,1,0,2,"Søndag",2]
["Tirsdag"]
["Onsdag"]
["Torsdag"]
["Fredag"]
["Lørdag"]
["Søndag",null,1]
[3]
["Mandag"]
["Tirsdag"]
["Onsdag"]
["Torsdag"]
["Fredag"]
["Lørdag"]
["Søndag",3]
[4]
["Mandag"]
["Tirsdag"]
["Onsdag"]
["Torsdag"]
["Fredag"]
["Lørdag"]
["Søndag"]
[5]
["Mandag"]
["Tirsdag"]
["Onsdag"]
["Torsdag"]
["Fredag"]
["Lørdag"]
["Søndag"]
[6]
["Mandag"]
["Tirsdag"]
["Onsdag"]
["Torsdag"]
["Fredag"]
["Lørdag"]
["Søndag"]
[7]
["Mandag"]
["Tirsdag"]
["Onsdag"]
["Torsdag"]
["Fredag"]
["Lørdag"]
["Søndag"]
[8]
["Mandag"]
["Tirsdag"]
["Onsdag"]
["Torsdag"]
["Fredag"]
["Lørdag"]
["Søndag"]
[9]
["Mandag"]

{"sheet":"Triggere","index":5,"n_rows":25,"n_cols":9,"rows_kept":25,"cut":false,"hidden":false,"merged":[]}
["  Husk  triggere skal ændres i alle 3 vagtlag",null,null,{"$f":"Indtastning!$D$2 & \" - Triggere\"","v":"Testpatient i perioden fra d. 01-01-2024 til 26-02-2024 - Triggere"}]
[]
["Triggere dag","Antal",null,"Triggere aften","Antal",null,"Triggere nat","Antal","I alt"]
["Psykotisk",1,null,"Psykotisk",null,null,"Psykotisk",0,{"$f":"SUM(B4,E4,H4)","v":1}]
["Medicin ",null,null,"Medicin ",null,null,"Medicin ",0,{"$f":"SUM(B5,E5,H5)","v":0}]
["Behovsudsættelse",null,null,"Behovsudsættelse",null,null,"Behovsudsættelse",0,0]
["korrigering af adfærd",null,null,"korrigering af adfærd",null,null,"korrigering af adfærd",0,0]
["Rammerne",null,null,"Rammerne",1,null,"Rammerne",0,1]
["Behandling",null,null,"Behandling",null,null,"Behandling",0,0]
["Irritabilitet på personalet",null,null,"Irritabilitet på personalet",null,null,"Irritabilitet på personalet",0,0]
["Udgang",null,null,"Udgang",null,null,"Udgang",0,0]
["Medpatient",1,null,"Medpatient",null,null,"Medpatient",0,1]
["Økonomi",null,null,"Økonomi",null,null,"Økonomi",0,0]
["Udefrakommende faktorer",null,null,"Udefrakommende faktorer",null,null,"Udefrakommende faktorer",0,0]
["Personaleudløst",null,null,"Personaleudløst",null,null,"Personaleudløst",0,0]
["Patientens ejendele",null,null,"Patientens ejendele",null,null,"Patientens ejendele",0,0]
["Somatisk",null,null,"Somatisk",null,null,"Somatisk",0,0]
["Vækning/søvn",null,null,"Vækning/søvn",null,null,"Vækning/søvn",0,0]
["Indlæggelse/udskrivelse",null,null,"Indlæggelse/udskrivelse",null,null,"Indlæggelse/udskrivelse",0,0]
["Årsager kan ikke bestemmes",null,null,"Årsager kan ikke bestemmes",null,null,"Årsager kan ikke bestemmes",0,0]
[]
[]
[null,null,null,null," "]
[null,null,null,"Indtast fra dato","2024-01-01"]
[null,null,null,"Indtast til dato","26-02-2024"]

{"sheet":"Cannabis","index":6,"n_rows":116,"n_cols":8,"rows_kept":116,"cut":false,"hidden":false,"merged":[]}
[]
["Rækkenavne","BVC","SOAS-R","Positiv","Negativ","Ikke Aflagt",null,{"$f":"Indtastning!$D$2 & \" - Cannabis i forhold til BVC og SOAS-R\"","v":"Testpatient i perioden fra d. 01-01-2024 til 26-02-2024 - Cannabis i forhold til BVC og SOAS-R"}]
["2024-01-01"]
["Mandag",0,0,{"$error":"#N/A"},-2,-2]
["2024-01-02"]
["Tirsdag",0,0,{"$error":"#N/A"},-2,2.8]
["2024-01-03"]
["Onsdag",0,0,{"$error":"#N/A"},-2,-2]
["2024-01-04"]
["Torsdag",2,0,{"$error":"#N/A"},-2,-2]
["2024-01-05"]
["Fredag",0,0,{"$error":"#N/A"},-2,-2]
["2024-01-06"]
["Lørdag",0,0,{"$error":"#N/A"},-2,-2]
["2024-01-07"]
["Søndag",0,0,{"$error":"#N/A"},-2,-2]
["2024-01-08"]
["Mandag",0,0,{"$error":"#N/A"},-2,-2]
["2024-01-09"]
["Tirsdag",0,0,{"$error":"#N/A"},-2,2.8]
["2024-01-10"]
["Onsdag",0,0,{"$error":"#N/A"},-2,-2]
["2024-01-11"]
["Torsdag",0,0,{"$error":"#N/A"},-2,-2]
["2024-01-12"]
["Fredag",0,0,{"$error":"#N/A"},-2,-2]
["2024-01-13"]
["Lørdag",0,0,{"$error":"#N/A"},-2,-2]
["2024-01-14"]
["Søndag",1,0,{"$error":"#N/A"},-2,-2]
["2024-01-15"]
["Mandag",0,0,{"$error":"#N/A"},-2,-2]
["2024-01-16"]
["Tirsdag",0,0,{"$error":"#N/A"},-2,-2]
["2024-01-17"]
["Onsdag",0,0,{"$error":"#N/A"},-2,-2]
["2024-01-18"]
["Torsdag",0,0,{"$error":"#N/A"},-2,-2]
["2024-01-19"]
["Fredag",0,0,{"$error":"#N/A"},-2,-2]
["2024-01-20"]
["Lørdag",0,0,{"$error":"#N/A"},-2,-2]
["2024-01-21"]
["Søndag",3,1,{"$error":"#N/A"},-2,-2]
["2024-01-22"]
["Mandag",0,0,{"$error":"#N/A"},-2,-2]
["2024-01-23"]
["Tirsdag",0,0,{"$error":"#N/A"},-2,-2]
["2024-01-24"]
["Onsdag",0,0,{"$error":"#N/A"},-2,-2]
["2024-01-25"]
["Torsdag",0,0,{"$error":"#N/A"},-2,-2]
["2024-01-26"]
["Fredag",0,0,{"$error":"#N/A"},-2,-2]
["2024-01-27"]
["Lørdag",0,0,{"$error":"#N/A"},-2,-2]
["2024-01-28"]
["Søndag",0,0,{"$error":"#N/A"},-2,-2]
["2024-01-29"]
["Mandag",0,0,{"$error":"#N/A"},-2,-2]
["2024-01-30"]
["Tirsdag",0,0,{"$error":"#N/A"},-2,-2]
["2024-01-31"]
["Onsdag",0,0,{"$error":"#N/A"},-2,-2]
["2024-02-01"]
["Torsdag",0,0,{"$error":"#N/A"},-2,-2]
["2024-02-02"]
["Fredag",0,0,{"$error":"#N/A"},-2,-2]
["2024-02-03"]
["Lørdag",0,0,{"$error":"#N/A"},-2,-2]
["2024-02-04"]
["Søndag",0,0,{"$error":"#N/A"},-2,-2]
["2024-02-05"]
["Mandag",0,0,{"$error":"#N/A"},-2,-2]
["2024-02-06"]
["Tirsdag",0,0,{"$error":"#N/A"},-2,-2]
["2024-02-07"]
["Onsdag",0,0,{"$error":"#N/A"},-2,-2]
["2024-02-08"]
["Torsdag",0,0,{"$error":"#N/A"},-2,-2]
["2024-02-09"]
["Fredag",0,0,{"$error":"#N/A"},-2,-2]
["2024-02-10"]
["Lørdag",0,0,{"$error":"#N/A"},-2,-2]
["2024-02-11"]
["Søndag",0,0,{"$error":"#N/A"},-2,-2]
["2024-02-12"]
["Mandag",0,0,{"$error":"#N/A"},-2,-2]
["2024-02-13"]
["Tirsdag",0,0,{"$error":"#N/A"},-2,-2]
["2024-02-14"]
["Onsdag",0,0,{"$error":"#N/A"},-2,-2]
["2024-02-15"]
["Torsdag",0,0,{"$error":"#N/A"},-2,-2]
["2024-02-16"]
["Fredag",0,0,{"$error":"#N/A"},-2,-2]
["2024-02-17"]
["Lørdag",0,0,{"$error":"#N/A"},-2,-2]
["2024-02-18"]
["Søndag",0,0,{"$error":"#N/A"},-2,-2]
["2024-02-19"]
["Mandag",0,0,{"$error":"#N/A"},-2,-2]
["2024-02-20"]
["Tirsdag",0,0,{"$error":"#N/A"},-2,-2]
["2024-02-21"]
["Onsdag",0,0,{"$error":"#N/A"},-2,-2]
["2024-02-22"]
["Torsdag",0,0,{"$error":"#N/A"},-2,-2]
["2024-02-23"]
["Fredag",0,0,{"$error":"#N/A"},-2,-2]
["2024-02-24"]
["Lørdag",0,0,{"$error":"#N/A"},-2,-2]
["2024-02-25"]
["Søndag",0,0,{"$error":"#N/A"},-2,-2]
["2024-02-26"]
["Mandag",0,0,{"$error":"#N/A"},-2,-2]

{"sheet":"Amfetamin","index":7,"n_rows":116,"n_cols":14,"rows_kept":116,"cut":false,"hidden":false,"merged":[]}
["Rækkenavne","BVC","SOAS","Positiv","Ikke Afgivet","Negativ"]
["2024-01-01",null,null,null,null,null,null,null,null,null,null,null,null,{"$f":"Indtastning!$D$2 & \" - Amfetamin i forhold til BVC og SOAS\"","v":"Testpatient i perioden fra d. 01-01-2024 til 26-02-2024 - Amfetamin i forhold til BVC og SOAS"}]
["Mandag",0,0,-2,-2,-2]
["2024-01-02"]
["Tirsdag",0,0,-2,0,-2]
["2024-01-03"]
["Onsdag",0,0,-2,-2,-2]
["2024-01-04"]
["Torsdag",2,0,-2,-2,-2]
["2024-01-05"]
["Fredag",0,0,-2,-2,-2]
["2024-01-06"]
["Lørdag",0,0,-2,-2,-2]
["2024-01-07"]
["Søndag",0,0,-2,-2,-2]
["2024-01-08"]
["Mandag",0,0,-2,-2,-2]
["2024-01-09"]
["Tirsdag",0,0,-2,0,-2]
["2024-01-10"]
["Onsdag",0,0,-2,-2,-2]
["2024-01-11"]
["Torsdag",0,0,-2,-2,-2]
["2024-01-12"]
["Fredag",0,0,-2,-2,-2]
["2024-01-13"]
["Lørdag",0,0,-2,-2,-2]
["2024-01-14"]
["Søndag",1,0,-2,-2,-2]
["2024-01-15"]
["Mandag",0,0,-2,-2,-2]
["2024-01-16"]
["Tirsdag",0,0,-2,-2,-2]
["2024-01-17"]
["Onsdag",0,0,-2,-2,-2]
["2024-01-18"]
["Torsdag",0,0,-2,-2,-2]
["2024-01-19"]
["Fredag",0,0,-2,-2,-2]
["2024-01-20"]
["Lørdag",0,0,-2,-2,-2]
["2024-01-21"]
["Søndag",3,1,-2,-2,-2]
["2024-01-22"]
["Mandag",0,0,-2,-2,-2]
["2024-01-23"]
["Tirsdag",0,0,-2,-2,-2]
["2024-01-24"]
["Onsdag",0,0,-2,-2,-2]
["2024-01-25"]
["Torsdag",0,0,-2,-2,-2]
["2024-01-26"]
["Fredag",0,0,-2,-2,-2]
["2024-01-27"]
["Lørdag",0,0,-2,-2,-1]
["2024-01-28"]
["Søndag",0,0,-2,-2,-2]
["2024-01-29"]
["Mandag",0,0,-2,-2,-2]
["2024-01-30"]
["Tirsdag",0,0,-2,-2,-2]
["2024-01-31"]
["Onsdag",0,0,-2,-2,-2]
["2024-02-01"]
["Torsdag",0,0,-2,-2,-2]
["2024-02-02"]
["Fredag",0,0,-2,-2,-2]
["2024-02-03"]
["Lørdag",0,0,-2,-2,-2]
["2024-02-04"]
["Søndag",0,0,-2,-2,-2]
["2024-02-05"]
["Mandag",0,0,-2,-2,-2]
["2024-02-06"]
["Tirsdag",0,0,-2,-2,-2]
["2024-02-07"]
["Onsdag",0,0,-2,-2,-2]
["2024-02-08"]
["Torsdag",0,0,-2,-2,-2]
["2024-02-09"]
["Fredag",0,0,-2,-2,-2]
["2024-02-10"]
["Lørdag",0,0,-2,-2,-2]
["2024-02-11"]
["Søndag",0,0,-2,-2,-2]
["2024-02-12"]
["Mandag",0,0,-2,-2,-2]
["2024-02-13"]
["Tirsdag",0,0,-2,-2,-2]
["2024-02-14"]
["Onsdag",0,0,-2,-2,-2]
["2024-02-15"]
["Torsdag",0,0,-2,-2,-2]
["2024-02-16"]
["Fredag",0,0,-2,-2,-2]
["2024-02-17"]
["Lørdag",0,0,-2,-2,-2]
["2024-02-18"]
["Søndag",0,0,-2,-2,-2]
["2024-02-19"]
["Mandag",0,0,-2,-2,-2]
["2024-02-20"]
["Tirsdag",0,0,-2,-2,-2]
["2024-02-21"]
["Onsdag",0,0,-2,-2,-2]
["2024-02-22"]
["Torsdag",0,0,-2,-2,-2]
["2024-02-23"]
["Fredag",0,0,-2,-2,-2]
["2024-02-24"]
["Lørdag",0,0,-2,-2,-2]
["2024-02-25"]
["Søndag",0,0,-2,-2,-2]
["2024-02-26"]
["Mandag",0,0,-2,-2,-2]
["Hovedtotal",6,1,-114,-110,-113]

{"sheet":"Kokain","index":8,"n_rows":116,"n_cols":9,"rows_kept":116,"cut":false,"hidden":false,"merged":[]}
[]
["Rækkenavne","BVC","SOAS-R","Positiv","Negativ","Ikke taget",null,null,{"$f":"Indtastning!$D$2 & \" - Kokain i forhold til BVC og SOAS\"","v":"Testpatient i perioden fra d. 01-01-2024 til 26-02-2024 - Kokain i forhold til BVC og SOAS"}]
["2024-01-01"]
["Mandag",0,0,-2,-2,-2]
["2024-01-02"]
["Tirsdag",0,0,-2,-2,0]
["2024-01-03"]
["Onsdag",0,0,-2,-2,-2]
["2024-01-04"]
["Torsdag",2,0,-2,-2,-2]
["2024-01-05"]
["Fredag",0,0,-2,-2,-2]
["2024-01-06"]
["Lørdag",0,0,-2,-2,-2]
["2024-01-07"]
["Søndag",0,0,-2,-2,-2]
["2024-01-08"]
["Mandag",0,0,-2,-2,-2]
["2024-01-09"]
["Tirsdag",0,0,-2,-2,0]
["2024-01-10"]
["Onsdag",0,0,-2,-2,-2]
["2024-01-11"]
["Torsdag",0,0,-2,-2,-2]
["2024-01-12"]
["Fredag",0,0,-2,-2,-2]
["2024-01-13"]
["Lørdag",0,0,-2,-2,-2]
["2024-01-14"]
["Søndag",1,0,-2,-2,-2]
["2024-01-15"]
["Mandag",0,0,-2,-2,-2]
["2024-01-16"]
["Tirsdag",0,0,-2,-2,-2]
["2024-01-17"]
["Onsdag",0,0,-2,-2,-2]
["2024-01-18"]
["Torsdag",0,0,-2,-2,-2]
["2024-01-19"]
["Fredag",0,0,-2,-2,-2]
["2024-01-20"]
["Lørdag",0,0,-2,-2,-2]
["2024-01-21"]
["Søndag",3,1,-2,-2,-2]
["2024-01-22"]
["Mandag",0,0,-2,-2,-2]
["2024-01-23"]
["Tirsdag",0,0,-2,-2,-2]
["2024-01-24"]
["Onsdag",0,0,-2,-2,-2]
["2024-01-25"]
["Torsdag",0,0,-2,-2,-2]
["2024-01-26"]
["Fredag",0,0,-2,-2,-2]
["2024-01-27"]
["Lørdag",0,0,-2,-2,-2]
["2024-01-28"]
["Søndag",0,0,-2,-2,-2]
["2024-01-29"]
["Mandag",0,0,-2,-2,-2]
["2024-01-30"]
["Tirsdag",0,0,-2,-2,-2]
["2024-01-31"]
["Onsdag",0,0,-2,-2,-2]
["2024-02-01"]
["Torsdag",0,0,-2,-2,-2]
["2024-02-02"]
["Fredag",0,0,-2,-2,-2]
["2024-02-03"]
["Lørdag",0,0,-2,-2,-2]
["2024-02-04"]
["Søndag",0,0,-2,-2,-2]
["2024-02-05"]
["Mandag",0,0,-2,-2,-2]
["2024-02-06"]
["Tirsdag",0,0,-2,-2,-2]
["2024-02-07"]
["Onsdag",0,0,-2,-2,-2]
["2024-02-08"]
["Torsdag",0,0,-2,-2,-2]
["2024-02-09"]
["Fredag",0,0,-2,-2,-2]
["2024-02-10"]
["Lørdag",0,0,-2,-2,-2]
["2024-02-11"]
["Søndag",0,0,-2,-2,-2]
["2024-02-12"]
["Mandag",0,0,-2,-2,-2]
["2024-02-13"]
["Tirsdag",0,0,-2,-2,-2]
["2024-02-14"]
["Onsdag",0,0,-2,-2,-2]
["2024-02-15"]
["Torsdag",0,0,-2,-2,-2]
["2024-02-16"]
["Fredag",0,0,-2,-2,-2]
["2024-02-17"]
["Lørdag",0,0,-2,-2,-2]
["2024-02-18"]
["Søndag",0,0,-2,-2,-2]
["2024-02-19"]
["Mandag",0,0,-2,-2,-2]
["2024-02-20"]
["Tirsdag",0,0,-2,-2,-2]
["2024-02-21"]
["Onsdag",0,0,-2,-2,-2]
["2024-02-22"]
["Torsdag",0,0,-2,-2,-2]
["2024-02-23"]
["Fredag",0,0,-2,-2,-2]
["2024-02-24"]
["Lørdag",0,0,-2,-2,-2]
["2024-02-25"]
["Søndag",0,0,-2,-2,-2]
["2024-02-26"]
["Mandag",0,0,-2,-2,-2]

{"sheet":"X1","index":9,"n_rows":153,"n_cols":11,"rows_kept":153,"cut":false,"hidden":false,"merged":[]}
[]
[null,null,null,null,null,null,null,null,null,{"$f":"Indtastning!$D$2 & \" - X1 i forhold til BVC og SOAS\"","v":"Testpatient i perioden fra d. 01-01-2024 til 26-02-2024 - X1 i forhold til BVC og SOAS"}]
[]
[]
[]
[]
[]
[]
[]
[]
[]
[]
[]
[]
[]
[]
[]
[]
[]
[]
[]
[]
[]
[]
[]
[]
[]
[]
[]
[]
[]
[]
[]
[]
[]
[]
[]
[null,null,null,null,null,"Rækkenavne","BVC","SOAS","Positiv","Negativ","Ikke Afgivet"]
[null,null,null,null,null,"2024-01-01"]
[null,null,null,null,null,"Mandag",0,0,-2,-2,-2]
[null,null,null,null,null,"2024-01-02"]
[null,null,null,null,null,"Tirsdag",0,0,-2,-2,0]
[null,null,null,null,null,"2024-01-03"]
[null,null,null,null,null,"Onsdag",0,0,-2,-2,-2]
[null,null,null,null,null,"2024-01-04"]
[null,null,null,null,null,"Torsdag",2,0,-2,-2,-2]
[null,null,null,null,null,"2024-01-05"]
[null,null,null,null,null,"Fredag",0,0,-2,-2,-2]
[null,null,null,null,null,"2024-01-06"]
[null,null,null,null,null,"Lørdag",0,0,-2,-2,-2]
[null,null,null,null,null,"2024-01-07"]
[null,null,null,null,null,"Søndag",0,0,-2,-2,-2]
[null,null,null,null,null,"2024-01-08"]
[null,null,null,null,null,"Mandag",0,0,-2,-2,-2]
[null,null,null,null,null,"2024-01-09"]
[null,null,null,null,null,"Tirsdag",0,0,-2,-2,0]
[null,null,null,null,null,"2024-01-10"]
[null,null,null,null,null,"Onsdag",0,0,-2,-2,-2]
[null,null,null,null,null,"2024-01-11"]
[null,null,null,null,null,"Torsdag",0,0,-2,-2,-2]
[null,null,null,null,null,"2024-01-12"]
[null,null,null,null,null,"Fredag",0,0,-2,-2,-2]
[null,null,null,null,null,"2024-01-13"]
[null,null,null,null,null,"Lørdag",0,0,-2,-2,-2]
[null,null,null,null,null,"2024-01-14"]
[null,null,null,null,null,"Søndag",1,0,-2,-2,-2]
[null,null,null,null,null,"2024-01-15"]
[null,null,null,null,null,"Mandag",0,0,-2,-2,-2]
[null,null,null,null,null,"2024-01-16"]
[null,null,null,null,null,"Tirsdag",0,0,-2,-1,-2]
[null,null,null,null,null,"2024-01-17"]
[null,null,null,null,null,"Onsdag",0,0,-2,-2,-2]
[null,null,null,null,null,"2024-01-18"]
[null,null,null,null,null,"Torsdag",0,0,-2,-2,-2]
[null,null,null,null,null,"2024-01-19"]
[null,null,null,null,null,"Fredag",0,0,-2,-2,-2]
[null,null,null,null,null,"2024-01-20"]
[null,null,null,null,null,"Lørdag",0,0,-2,-2,-2]
[null,null,null,null,null,"2024-01-21"]
[null,null,null,null,null,"Søndag",3,1,-2,-2,-2]
[null,null,null,null,null,"2024-01-22"]
[null,null,null,null,null,"Mandag",0,0,-2,-2,-2]
[null,null,null,null,null,"2024-01-23"]
[null,null,null,null,null,"Tirsdag",0,0,-2,-2,-2]
[null,null,null,null,null,"2024-01-24"]
[null,null,null,null,null,"Onsdag",0,0,-2,-2,-2]
[null,null,null,null,null,"2024-01-25"]
[null,null,null,null,null,"Torsdag",0,0,-2,-2,-2]
[null,null,null,null,null,"2024-01-26"]
[null,null,null,null,null,"Fredag",0,0,-2,-2,-2]
[null,null,null,null,null,"2024-01-27"]
[null,null,null,null,null,"Lørdag",0,0,-2,-2,-2]
[null,null,null,null,null,"2024-01-28"]
[null,null,null,null,null,"Søndag",0,0,-2,-2,-2]
[null,null,null,null,null,"2024-01-29"]
[null,null,null,null,null,"Mandag",0,0,-2,-2,-2]
[null,null,null,null,null,"2024-01-30"]
[null,null,null,null,null,"Tirsdag",0,0,-2,-2,-2]
[null,null,null,null,null,"2024-01-31"]
[null,null,null,null,null,"Onsdag",0,0,-2,-2,-2]
[null,null,null,null,null,"2024-02-01"]
[null,null,null,null,null,"Torsdag",0,0,-2,-2,-2]
[null,null,null,null,null,"2024-02-02"]
[null,null,null,null,null,"Fredag",0,0,-2,-2,-2]
[null,null,null,null,null,"2024-02-03"]
[null,null,null,null,null,"Lørdag",0,0,-2,-2,-2]
[null,null,null,null,null,"2024-02-04"]
[null,null,null,null,null,"Søndag",0,0,-2,-2,-2]
[null,null,null,null,null,"2024-02-05"]
[null,null,null,null,null,"Mandag",0,0,-2,-2,-2]
[null,null,null,null,null,"2024-02-06"]
[null,null,null,null,null,"Tirsdag",0,0,-2,-2,-2]
[null,null,null,null,null,"2024-02-07"]
[null,null,null,null,null,"Onsdag",0,0,-2,-2,-2]
[null,null,null,null,null,"2024-02-08"]
[null,null,null,null,null,"Torsdag",0,0,-2,-2,-2]
[null,null,null,null,null,"2024-02-09"]
[null,null,null,null,null,"Fredag",0,0,-2,-2,-2]
[null,null,null,null,null,"2024-02-10"]
[null,null,null,null,null,"Lørdag",0,0,-2,-2,-2]
[null,null,null,null,null,"2024-02-11"]
[null,null,null,null,null,"Søndag",0,0,-2,-2,-2]
[null,null,null,null,null,"2024-02-12"]
[null,null,null,null,null,"Mandag",0,0,-2,-2,-2]
[null,null,null,null,null,"2024-02-13"]
[null,null,null,null,null,"Tirsdag",0,0,-2,-2,-2]
[null,null,null,null,null,"2024-02-14"]
[null,null,null,null,null,"Onsdag",0,0,-2,-2,-2]
[null,null,null,null,null,"2024-02-15"]
[null,null,null,null,null,"Torsdag",0,0,-2,-2,-2]
[null,null,null,null,null,"2024-02-16"]
[null,null,null,null,null,"Fredag",0,0,-2,-2,-2]
[null,null,null,null,null,"2024-02-17"]
[null,null,null,null,null,"Lørdag",0,0,-2,-2,-2]
[null,null,null,null,null,"2024-02-18"]
[null,null,null,null,null,"Søndag",0,0,-2,-2,-2]
[null,null,null,null,null,"2024-02-19"]
[null,null,null,null,null,"Mandag",0,0,-2,-2,-2]
[null,null,null,null,null,"2024-02-20"]
[null,null,null,null,null,"Tirsdag",0,0,-2,-2,-2]
[null,null,null,null,null,"2024-02-21"]
[null,null,null,null,null,"Onsdag",0,0,-2,-2,-2]
[null,null,null,null,null,"2024-02-22"]
[null,null,null,null,null,"Torsdag",0,0,-2,-2,-2]
[null,null,null,null,null,"2024-02-23"]
[null,null,null,null,null,"Fredag",0,0,-2,-2,-2]
[null,null,null,null,null,"2024-02-24"]
[null,null,null,null,null,"Lørdag",0,0,-2,-2,-2]
[null,null,null,null,null,"2024-02-25"]
[null,null,null,null,null,"Søndag",0,0,-2,-2,-2]
[null,null,null,null,null,"2024-02-26"]
[null,null,null,null,null,"Mandag",0,0,-2,-2,-2]
[null,null,null,null,null,"Hovedtotal",6,1,-114,-113,-110]

{"sheet":"X2","index":10,"n_rows":123,"n_cols":11,"rows_kept":123,"cut":false,"hidden":false,"merged":[]}
[]
[null,null,null,null,null,null,null,null,null,{"$f":"PatientNavn & \" - X2 i forhold til BVC og SOAS\"","v":"Testpatient i perioden fra d. 01-01-2024 til 26-02-2024 - X2 i forhold til BVC og SOAS"}]
[]
[]
[]
[]
[]
[null,null,null,null,null,"Rækkenavne","BVC","SOAS","Positiv","Negativ","Ikke Afgivet"]
[null,null,null,null,null,"2024-01-01"]
[null,null,null,null,null,"Mandag",0,0,-2,-2,-2]
[null,null,null,null,null,"2024-01-02"]
[null,null,null,null,null,"Tirsdag",0,0,-2,-2,0]
[null,null,null,null,null,"2024-01-03"]
[null,null,null,null,null,"Onsdag",0,0,-2,-2,-2]
[null,null,null,null,null,"2024-01-04"]
[null,null,null,null,null,"Torsdag",2,0,-2,-2,-2]
[null,null,null,null,null,"2024-01-05"]
[null,null,null,null,null,"Fredag",0,0,-2,-2,-2]
[null,null,null,null,null,"2024-01-06"]
[null,null,null,null,null,"Lørdag",0,0,-2,-2,-2]
[null,null,null,null,null,"2024-01-07"]
[null,null,null,null,null,"Søndag",0,0,-2,-2,-2]
[null,null,null,null,null,"2024-01-08"]
[null,null,null,null,null,"Mandag",0,0,-2,-2,-2]
[null,null,null,null,null,"2024-01-09"]
[null,null,null,null,null,"Tirsdag",0,0,-2,-2,0]
[null,null,null,null,null,"2024-01-10"]
[null,null,null,null,null,"Onsdag",0,0,-2,-2,-2]
[null,null,null,null,null,"2024-01-11"]
[null,null,null,null,null,"Torsdag",0,0,-2,-2,-2]
[null,null,null,null,null,"2024-01-12"]
[null,null,null,null,null,"Fredag",0,0,-2,-2,-2]
[null,null,null,null,null,"2024-01-13"]
[null,null,null,null,null,"Lørdag",0,0,-2,-2,-2]
[null,null,null,null,null,"2024-01-14"]
[null,null,null,null,null,"Søndag",1,0,-2,-2,-2]
[null,null,null,null,null,"2024-01-15"]
[null,null,null,null,null,"Mandag",0,0,-2,-2,-2]
[null,null,null,null,null,"2024-01-16"]
[null,null,null,null,null,"Tirsdag",0,0,-2,-2,-2]
[null,null,null,null,null,"2024-01-17"]
[null,null,null,null,null,"Onsdag",0,0,1,-2,-2]
[null,null,null,null,null,"2024-01-18"]
[null,null,null,null,null,"Torsdag",0,0,-2,-2,-2]
[null,null,null,null,null,"2024-01-19"]
[null,null,null,null,null,"Fredag",0,0,-2,-2,-2]
[null,null,null,null,null,"2024-01-20"]
[null,null,null,null,null,"Lørdag",0,0,-2,-2,-2]
[null,null,null,null,null,"2024-01-21"]
[null,null,null,null,null,"Søndag",3,1,-2,-2,-2]
[null,null,null,null,null,"2024-01-22"]
[null,null,null,null,null,"Mandag",0,0,-2,-2,-2]
[null,null,null,null,null,"2024-01-23"]
[null,null,null,null,null,"Tirsdag",0,0,1,-2,-2]
[null,null,null,null,null,"2024-01-24"]
[null,null,null,null,null,"Onsdag",0,0,-2,-2,-2]
[null,null,null,null,null,"2024-01-25"]
[null,null,null,null,null,"Torsdag",0,0,-2,-2,-2]
[null,null,null,null,null,"2024-01-26"]
[null,null,null,null,null,"Fredag",0,0,-2,-2,-2]
[null,null,null,null,null,"2024-01-27"]
[null,null,null,null,null,"Lørdag",0,0,-2,-2,-2]
[null,null,null,null,null,"2024-01-28"]
[null,null,null,null,null,"Søndag",0,0,-2,-2,-2]
[null,null,null,null,null,"2024-01-29"]
[null,null,null,null,null,"Mandag",0,0,-2,-2,-2]
[null,null,null,null,null,"2024-01-30"]
[null,null,null,null,null,"Tirsdag",0,0,-2,-2,-2]
[null,null,null,null,null,"2024-01-31"]
[null,null,null,null,null,"Onsdag",0,0,-2,-2,-2]
[null,null,null,null,null,"2024-02-01"]
[null,null,null,null,null,"Torsdag",0,0,-2,-2,-2]
[null,null,null,null,null,"2024-02-02"]
[null,null,null,null,null,"Fredag",0,0,-2,-2,-2]
[null,null,null,null,null,"2024-02-03"]
[null,null,null,null,null,"Lørdag",0,0,-2,-2,-2]
[null,null,null,null,null,"2024-02-04"]
[null,null,null,null,null,"Søndag",0,0,-2,-2,-2]
[null,null,null,null,null,"2024-02-05"]
[null,null,null,null,null,"Mandag",0,0,-2,-2,-2]
[null,null,null,null,null,"2024-02-06"]
[null,null,null,null,null,"Tirsdag",0,0,-2,-2,-2]
[null,null,null,null,null,"2024-02-07"]
[null,null,null,null,null,"Onsdag",0,0,-2,-2,-2]
[null,null,null,null,null,"2024-02-08"]
[null,null,null,null,null,"Torsdag",0,0,-2,-2,-2]
[null,null,null,null,null,"2024-02-09"]
[null,null,null,null,null,"Fredag",0,0,-2,-2,-2]
[null,null,null,null,null,"2024-02-10"]
[null,null,null,null,null,"Lørdag",0,0,-2,-2,-2]
[null,null,null,null,null,"2024-02-11"]
[null,null,null,null,null,"Søndag",0,0,-2,-2,-2]
[null,null,null,null,null,"2024-02-12"]
[null,null,null,null,null,"Mandag",0,0,-2,-2,-2]
[null,null,null,null,null,"2024-02-13"]
[null,null,null,null,null,"Tirsdag",0,0,-2,-2,-2]
[null,null,null,null,null,"2024-02-14"]
[null,null,null,null,null,"Onsdag",0,0,-2,-2,-2]
[null,null,null,null,null,"2024-02-15"]
[null,null,null,null,null,"Torsdag",0,0,-2,-2,-2]
[null,null,null,null,null,"2024-02-16"]
[null,null,null,null,null,"Fredag",0,0,-2,-2,-2]
[null,null,null,null,null,"2024-02-17"]
[null,null,null,null,null,"Lørdag",0,0,-2,-2,-2]
[null,null,null,null,null,"2024-02-18"]
[null,null,null,null,null,"Søndag",0,0,-2,-2,-2]
[null,null,null,null,null,"2024-02-19"]
[null,null,null,null,null,"Mandag",0,0,-2,-2,-2]
[null,null,null,null,null,"2024-02-20"]
[null,null,null,null,null,"Tirsdag",0,0,-2,-2,-2]
[null,null,null,null,null,"2024-02-21"]
[null,null,null,null,null,"Onsdag",0,0,-2,-2,-2]
[null,null,null,null,null,"2024-02-22"]
[null,null,null,null,null,"Torsdag",0,0,-2,-2,-2]
[null,null,null,null,null,"2024-02-23"]
[null,null,null,null,null,"Fredag",0,0,-2,-2,-2]
[null,null,null,null,null,"2024-02-24"]
[null,null,null,null,null,"Lørdag",0,0,-2,-2,-2]
[null,null,null,null,null,"2024-02-25"]
[null,null,null,null,null,"Søndag",0,0,-2,-2,-2]
[null,null,null,null,null,"2024-02-26"]
[null,null,null,null,null,"Mandag",0,0,-2,-2,-2]
[null,null,null,null,null,"Hovedtotal",6,1,-108,-114,-110]

{"sheet":"Samlet Misbrug","index":11,"n_rows":1400,"n_cols":76,"rows_kept":1400,"cut":false,"hidden":false,"merged":[]}
["Rækkenavne","Sum af BVC Højeste","Sum af SOAS Højeste","Sum af AmfPos","Sum af AmfNeg","Sum af AmfIkke","Sum af KokPos","Sum af KokNeg","Sum af KokIkke","Sum af X1Pos","Sum af X1Neg","Sum af X1Ikke","Sum af X2Pos","Sum af X2Neg","Sum af X2Ikke",null,null,null,null,null,null,null,null,null,null,null,null,null,null,null,null,null,null,null,null,null,null,null,null,null,null,null,null,null,"Antal Ikke Aflagt urinprøver",{"$f":"IF(Indtastning!Y:Y=\"Ikke Aflagt\",1,\"\")","v":""},{"$f":"SUM(AT:AT)","v":2},"Amfetamin",{"$f":"IF(Indtastning!U:U=\"Positiv\",1,\"\")","v":""},{"$f":"SUM(AW:AW)","v":0},{"$f":"IF(SUM(AX:AX)>0,1,0)","v":0},"Kokain",{"$f":"IF(Indtastning!Y:Y=\"Positiv\",1,\"\")","v":""},{"$f":"SUM(BA:BA)","v":0},{"$f":"IF(SUM(BB:BB)>0,1,0)","v":0},"Rusmiddel X1",{"$f":"IF(Indtastning!AC:AC=\"Positiv\",1,\"\")","v":""},{"$f":"SUM(BE:BE)","v":0},{"$f":"IF(SUM(BF:BF)>0,1,0)","v":0},"Rusmiddel X2",{"$f":"IF(Indtastning!AG:AG=\"Positiv\",1,\"\")","v":""},{"$f":"SUM(BI:BI)","v":2},{"$f":"IF(SUM(BJ:BJ)>0,1,0)","v":1},"Blandingsmisbrug",{"$f":"IF(SUM(AX:AX)>0,1,0)","v":0},{"$f":"IF(SUM(BB:BB)>0,1,0)","v":0},{"$f":"IF(SUM(BF:BF)>0,1,0)","v":0},{"$f":"IF(SUM(BJ:BJ)>0,1,0)","v":1},"Positive urinprøver i alt",{"$f":"SUM(AX1)+(BB1)+(BF1)+(BJ1)","v":2},{"$f":"SUM(AY1)+(BC1)+(BG1)+(BK1)","v":1},null,null,"Opmærksomhed ","Antal","RA faktor"]
["2024-01-01",null,null,null,null,null,null,null,null,null,null,null,null,null,null,null,null,null,null,null,null,null,null,null,null,null,{"$f":"[0]!PatientNavn & \" - Samlet misbrug i forhold til BVC og SOAS\"","v":"Testpatient i perioden fra d. 01-01-2024 til 26-02-2024 - Samlet misbrug i forhold til BVC og SOAS"},null,null,null,null,null,null,null,null,null,null,null,null,null,null,null,null,null,null,{"$f":"IF(Indtastning!Y:Y=\"Ikke Aflagt\",1,\"\")","v":""},null,null,{"$f":"IF(Indtastning!U:U=\"Positiv\",1,\"\")","v":""},null,null,null,{"$f":"IF(Indtastning!Y:Y=\"Positiv\",1,\"\")","v":""},null,null,null,{"$f":"IF(Indtastning!AC:AC=\"Positiv\",1,\"\")","v":""},null,null,null,{"$f":"IF(Indtastning!AG:AG=\"Positiv\",1,\"\")","v":""},null,null,null,null,null,null,null,null,null,null,null,null,"Flere ikke-aflagte urinprøver ",{"$f":"AU1","v":2},{"$f":"IF(BW2>1,1,0)","v":1}]
["Mandag",0,0,-2,-2,-2,-2,-2,-2,-2,-2,-2,-2,-2,-2,{"$f":"SUM(J3:O3)","v":-12},{"$f":"IF(SUM(J3:O3)>-10,1,0)","v":0},null,null,null,null,null,null,null,null,null,null,null,null,null,null,null,null,null,null,null,null,null,null,null,null,null,null,null,null,{"$f":"IF(Indtastning!Y:Y=\"Ikke Aflagt\",1,\"\")","v":""},null,null,{"$f":"IF(Indtastning!U:U=\"Positiv\",1,\"\")","v":""},null,null,null,{"$f":"IF(Indtastning!Y:Y=\"Positiv\",1,\"\")","v":""},null,null,null,{"$f":"IF(Indtastning!AC:AC=\"Positiv\",1,\"\")","v":""},null,null,null,{"$f":"IF(Indtastning!AG:AG=\"Positiv\",1,\"\")","v":""},null,null,null,null,null,null,null,null,null,null,null,null,"Flere rusmidler i perioden",{"$f":"(SUM(BM1:BP1))","v":1},{"$f":"IF(SUM(BM1:BP1)>1,1,0)","v":0}]
["2024-01-02",null,null,null,null,null,null,null,null,null,null,null,null,null,null,{"$f":"SUM(J4:O4)","v":0},{"$f":"IF(SUM(J4:O4)>-10,1,0)","v":1},null,null,null,null,null,null,null,null,null,null,null,null,null,null,null,null,null,null,null,null,null,null,null,null,null,null,null,null,{"$f":"IF(Indtastning!Y:Y=\"Ikke Aflagt\",1,\"\")","v":""},null,null,{"$f":"IF(Indtastning!U:U=\"Positiv\",1,\"\")","v":""},null,null,null,{"$f":"IF(Indtastning!Y:Y=\"Positiv\",1,\"\")","v":""},null,null,null,{"$f":"IF(Indtastning!AC:AC=\"Positiv\",1,\"\")","v":""},null,null,null,{"$f":"IF(Indtastning!AG:AG=\"Positiv\",1,\"\")","v":""}]
["Tirsdag",0,0,-2,-2,0,-2,-2,0,-2,-2,0,-2,-2,0,{"$f":"SUM(J5:O5)","v":-8},{"$f":"IF(SUM(J5:O5)>-10,1,0)","v":1},null,null,null,null,null,null,null,null,null,null,null,null,null,null,null,null,null,null,null,null,null,null,null,null,null,null,null,null,{"$f":"IF(Indtastning!Y:Y=\"Ikke Aflagt\",1,\"\")","v":""},null,null,{"$f":"IF(Indtastning!U:U=\"Positiv\",1,\"\")","v":""},null,null,null,{"$f":"IF(Indtastning!Y:Y=\"Positiv\",1,\"\")","v":""},null,null,null,{"$f":"IF(Indtastning!AC:AC=\"Positiv\",1,\"\")","v":""},null,null,null,{"$f":"IF(Indtastning!AG:AG=\"Positiv\",1,\"\")","v":""},null,null,null,null,null,null,null,null,null,null,"         Tilbagefald i perioden",null,null,{"$f":"BR1","v":2},{"$f":"IF(BR1>1,2,IF(BR1>0,0.5,0))","v":2}]
["2024-01-03",null,null,null,null,null,null,null,null,null,null,null,null,null,null,{"$f":"SUM(J6:O6)","v":0},1,null,null,null,null,null,null,null,null,null,null,null,null,null,null,null,null,null,null,null,null,null,null,null,null,null,null,null,null,{"$f":"IF(Indtastning!Y:Y=\"Ikke Aflagt\",1,\"\")","v":""},null,null,{"$f":"IF(Indtastning!U:U=\"Positiv\",1,\"\")","v":""},null,null,null,{"$f":"IF(Indtastning!Y:Y=\"Positiv\",1,\"\")","v":""},null,null,null,{"$f":"IF(Indtastning!AC:AC=\"Positiv\",1,\"\")","v":""},null,null,null,{"$f":"IF(Indtastning!AG:AG=\"Positiv\",1,\"\")","v":""}]
["Onsdag",0,0,-2,-2,-2,-2,-2,-2,-2,-2,-2,-2,-2,-2,-12,0,null,null,null,null,null,null,null,null,null,null,null,null,null,null,null,null,null,null,null,null,null,null,null,null,null,null,null,null,{"$f":"IF(Indtastning!Y:Y=\"Ikke Aflagt\",1,\"\")","v":1},null,null,{"$f":"IF(Indtastning!U:U=\"Positiv\",1,\"\")","v":""},null,null,null,{"$f":"IF(Indtastning!Y:Y=\"Positiv\",1,\"\")","v":""},null,null,null,{"$f":"IF(Indtastning!AC:AC=\"Positiv\",1,\"\")","v":""},null,null,null,{"$f":"IF(Indtastning!AG:AG=\"Positiv\",1,\"\")","v":""}]
["2024-01-04",null,null,null,null,null,null,null,null,null,null,null,null,null,null,0,1,null,null,null,null,null,null,null,null,null,null,null,null,null,null,null,null,null,null,null,null,null,null,null,null,null,null,null,null,{"$f":"IF(Indtastning!Y:Y=\"Ikke Aflagt\",1,\"\")","v":""},null,null,{"$f":"IF(Indtastning!U:U=\"Positiv\",1,\"\")","v":""},null,null,null,{"$f":"IF(Indtastning!Y:Y=\"Positiv\",1,\"\")","v":""},null,null,null,{"$f":"IF(Indtastning!AC:AC=\"Positiv\",1,\"\")","v":""},null,null,null,{"$f":"IF(Indtastning!AG:AG=\"Positiv\",1,\"\")","v":""}]
["Torsdag",2,0,-2,-2,-2,-2,-2,-2,-2,-2,-2,-2,-2,-2,-12,0,null,null,null,null,null,null,null,null,null,null,null,null,null,null,null,null,null,null,null,null,null,null,null,null,null,null,null,null,{"$f":"IF(Indtastning!Y:Y=\"Ikke Aflagt\",1,\"\")","v":""},null,null,{"$f":"IF(Indtastning!U:U=\"Positiv\",1,\"\")","v":""},null,null,null,{"$f":"IF(Indtastning!Y:Y=\"Positiv\",1,\"\")","v":""},null,null,null,{"$f":"IF(Indtastning!AC:AC=\"Positiv\",1,\"\")","v":""},null,null,null,{"$f":"IF(Indtastning!AG:AG=\"Positiv\",1,\"\")","v":""}]
["2024-01-05",null,null,null,null,null,null,null,null,null,null,null,null,null,null,null,null,null,null,null,null,null,null,null,null,null,null,null,null,null,null,null,null,null,null,null,null,null,null,null,null,null,null,null,null,{"$f":"IF(Indtastning!Y:Y=\"Ikke Aflagt\",1,\"\")","v":""},null,null,{"$f":"IF(Indtastning!U:U=\"Positiv\",1,\"\")","v":""},null,null,null,{"$f":"IF(Indtastning!Y:Y=\"Positiv\",1,\"\")","v":""},null,null,null,{"$f":"IF(Indtastning!AC:AC=\"Positiv\",1,\"\")","v":""},null,null,null,{"$f":"IF(Indtastning!AG:AG=\"Positiv\",1,\"\")","v":""}]
["Fredag",0,0,-2,-2,-2,-2,-2,-2,-2,-2,-2,-2,-2,-2,null,null,null,null,null,null,null,null,null,null,null,null,null,null,null,null,null,null,null,null,null,null,null,null,null,null,null,null,null,null,{"$f":"IF(Indtastning!Y:Y=\"Ikke Aflagt\",1,\"\")","v":""},null,null,{"$f":"IF(Indtastning!U:U=\"Positiv\",1,\"\")","v":""},null,null,null,{"$f":"IF(Indtastning!Y:Y=\"Positiv\",1,\"\")","v":""},null,null,null,{"$f":"IF(Indtastning!AC:AC=\"Positiv\",1,\"\")","v":""},null,null,null,{"$f":"IF(Indtastning!AG:AG=\"Positiv\",1,\"\")","v":""}]
["2024-01-06",null,null,null,null,null,null,null,null,null,null,null,null,null,null,null,null,null,null,null,null,null,null,null,null,null,null,null,null,null,null,null,null,null,null,null,null,null,null,null,null,null,null,null,null,{"$f":"IF(Indtastning!Y:Y=\"Ikke Aflagt\",1,\"\")","v":""},null,null,{"$f":"IF(Indtastning!U:U=\"Positiv\",1,\"\")","v":""},null,null,null,{"$f":"IF(Indtastning!Y:Y=\"Positiv\",1,\"\")","v":""},null,null,null,{"$f":"IF(Indtastning!AC:AC=\"Positiv\",1,\"\")","v":""},null,null,null,{"$f":"IF(Indtastning!AG:AG=\"Positiv\",1,\"\")","v":""}]
["Lørdag",0,0,-2,-2,-2,-2,-2,-2,-2,-2,-2,-2,-2,-2,null,null,null,null,null,null,null,null,null,null,null,null,null,null,null,null,null,null,null,null,null,null,null,null,null,null,null,null,null,null,{"$f":"IF(Indtastning!Y:Y=\"Ikke Aflagt\",1,\"\")","v":""},null,null,{"$f":"IF(Indtastning!U:U=\"Positiv\",1,\"\")","v":""},null,null,null,{"$f":"IF(Indtastning!Y:Y=\"Positiv\",1,\"\")","v":""},null,null,null,{"$f":"IF(Indtastning!AC:AC=\"Positiv\",1,\"\")","v":""},null,null,null,{"$f":"IF(Indtastning!AG:AG=\"Positiv\",1,\"\")","v":""}]
["2024-01-07",null,null,null,null,null,null,null,null,null,null,null,null,null,null,null,null,null,null,null,null,null,null,null,null,null,null,null,null,null,null,null,null,null,null,null,null,null,null,null,null,null,null,null,null,{"$f":"IF(Indtastning!Y:Y=\"Ikke Aflagt\",1,\"\")","v":1},null,null,{"$f":"IF(Indtastning!U:U=\"Positiv\",1,\"\")","v":""},null,null,null,{"$f":"IF(Indtastning!Y:Y=\"Positiv\",1,\"\")","v":""},null,null,null,{"$f":"IF(Indtastning!AC:AC=\"Positiv\",1,\"\")","v":""},null,null,null,{"$f":"IF(Indtastning!AG:AG=\"Positiv\",1,\"\")","v":""}]
["Søndag",0,0,-2,-2,-2,-2,-2,-2,-2,-2,-2,-2,-2,-2,null,null,null,null,null,null,null,null,null,null,null,null,null,null,null,null,null,null,null,null,null,null,null,null,null,null,null,null,null,null,{"$f":"IF(Indtastning!Y:Y=\"Ikke Aflagt\",1,\"\")","v":""},null,null,{"$f":"IF(Indtastning!U:U=\"Positiv\",1,\"\")","v":""},null,null,null,{"$f":"IF(Indtastning!Y:Y=\"Positiv\",1,\"\")","v":""},null,null,null,{"$f":"IF(Indtastning!AC:AC=\"Positiv\",1,\"\")","v":""},null,null,null,{"$f":"IF(Indtastning!AG:AG=\"Positiv\",1,\"\")","v":""}]
["2024-01-08",null,null,null,null,null,null,null,null,null,null,null,null,null,null,null,null,null,null,null,null,null,null,null,null,null,null,null,null,null,null,null,null,null,null,null,null,null,null,null,null,null,null,null,null,{"$f":"IF(Indtastning!Y:Y=\"Ikke Aflagt\",1,\"\")","v":""},null,null,{"$f":"IF(Indtastning!U:U=\"Positiv\",1,\"\")","v":""},null,null,null,{"$f":"IF(Indtastning!Y:Y=\"Positiv\",1,\"\")","v":""},null,null,null,{"$f":"IF(Indtastning!AC:AC=\"Positiv\",1,\"\")","v":""},null,null,null,{"$f":"IF(Indtastning!AG:AG=\"Positiv\",1,\"\")","v":""}]
["Mandag",0,0,-2,-2,-2,-2,-2,-2,-2,-2,-2,-2,-2,-2,null,null,null,null,null,null,null,null,null,null,null,null,null,null,null,null,null,null,null,null,null,null,null,null,null,null,null,null,null,null,{"$f":"IF(Indtastning!Y:Y=\"Ikke Aflagt\",1,\"\")","v":""},null,null,{"$f":"IF(Indtastning!U:U=\"Positiv\",1,\"\")","v":""},null,null,null,{"$f":"IF(Indtastning!Y:Y=\"Positiv\",1,\"\")","v":""},null,null,null,{"$f":"IF(Indtastning!AC:AC=\"Positiv\",1,\"\")","v":""},null,null,null,{"$f":"IF(Indtastning!AG:AG=\"Positiv\",1,\"\")","v":""}]
["2024-01-09",null,null,null,null,null,null,null,null,null,null,null,null,null,null,null,null,null,null,null,null,null,null,null,null,null,null,null,null,null,null,null,null,null,null,null,null,null,null,null,null,null,null,null,null,{"$f":"IF(Indtastning!Y:Y=\"Ikke Aflagt\",1,\"\")","v":""},null,null,{"$f":"IF(Indtastning!U:U=\"Positiv\",1,\"\")","v":""},null,null,null,{"$f":"IF(Indtastning!Y:Y=\"Positiv\",1,\"\")","v":""},null,null,null,{"$f":"IF(Indtastning!AC:AC=\"Positiv\",1,\"\")","v":""},null,null,null,{"$f":"IF(Indtastning!AG:AG=\"Positiv\",1,\"\")","v":""}]
["Tirsdag",0,0,-2,-2,0,-2,-2,0,-2,-2,0,-2,-2,0,null,null,null,null,null,null,null,null,null,null,null,null,null,null,null,null,null,null,null,null,null,null,null,null,null,null,null,null,null,null,{"$f":"IF(Indtastning!Y:Y=\"Ikke Aflagt\",1,\"\")","v":""},null,null,{"$f":"IF(Indtastning!U:U=\"Positiv\",1,\"\")","v":""},null,null,null,{"$f":"IF(Indtastning!Y:Y=\"Positiv\",1,\"\")","v":""},null,null,null,{"$f":"IF(Indtastning!AC:AC=\"Positiv\",1,\"\")","v":""},null,null,null,{"$f":"IF(Indtastning!AG:AG=\"Positiv\",1,\"\")","v":""}]
["2024-01-10",null,null,null,null,null,null,null,null,null,null,null,null,null,null,null,null,null,null,null,null,null,null,null,null,null,null,null,null,null,null,null,null,null,null,null,null,null,null,null,null,null,null,null,null,{"$f":"IF(Indtastning!Y:Y=\"Ikke Aflagt\",1,\"\")","v":""},null,null,{"$f":"IF(Indtastning!U:U=\"Positiv\",1,\"\")","v":""},null,null,null,{"$f":"IF(Indtastning!Y:Y=\"Positiv\",1,\"\")","v":""},null,null,null,{"$f":"IF(Indtastning!AC:AC=\"Positiv\",1,\"\")","v":""},null,null,null,{"$f":"IF(Indtastning!AG:AG=\"Positiv\",1,\"\")","v":""}]
["Onsdag",0,0,-2,-2,-2,-2,-2,-2,-2,-2,-2,-2,-2,-2,null,null,null,null,null,null,null,null,null,null,null,null,null,null,null,null,null,null,null,null,null,null,null,null,null,null,null,null,null,null,{"$f":"IF(Indtastning!Y:Y=\"Ikke Aflagt\",1,\"\")","v":""},null,null,{"$f":"IF(Indtastning!U:U=\"Positiv\",1,\"\")","v":""},null,null,null,{"$f":"IF(Indtastning!Y:Y=\"Positiv\",1,\"\")","v":""},null,null,null,{"$f":"IF(Indtastning!AC:AC=\"Positiv\",1,\"\")","v":""},null,null,null,{"$f":"IF(Indtastning!AG:AG=\"Positiv\",1,\"\")","v":""}]
["2024-01-11",null,null,null,null,null,null,null,null,null,null,null,null,null,null,null,null,null,null,null,null,null,null,null,null,null,null,null,null,null,null,null,null,null,null,null,null,null,null,null,null,null,null,null,null,{"$f":"IF(Indtastning!Y:Y=\"Ikke Aflagt\",1,\"\")","v":""},null,null,{"$f":"IF(Indtastning!U:U=\"Positiv\",1,\"\")","v":""},null,null,null,{"$f":"IF(Indtastning!Y:Y=\"Positiv\",1,\"\")","v":""},null,null,null,{"$f":"IF(Indtastning!AC:AC=\"Positiv\",1,\"\")","v":""},null,null,null,{"$f":"IF(Indtastning!AG:AG=\"Positiv\",1,\"\")","v":1}]
["Torsdag",0,0,-2,-2,-2,-2,-2,-2,-2,-2,-2,-2,-2,-2,null,null,null,null,null,null,null,null,null,null,null,null,null,null,null,null,null,null,null,null,null,null,null,null,null,null,null,null,null,null,{"$f":"IF(Indtastning!Y:Y=\"Ikke Aflagt\",1,\"\")","v":""},null,null,{"$f":"IF(Indtastning!U:U=\"Positiv\",1,\"\")","v":""},null,null,null,{"$f":"IF(Indtastning!Y:Y=\"Positiv\",1,\"\")","v":""},null,null,null,{"$f":"IF(Indtastning!AC:AC=\"Positiv\",1,\"\")","v":""},null,null,null,{"$f":"IF(Indtastning!AG:AG=\"Positiv\",1,\"\")","v":""}]
["2024-01-12",null,null,null,null,null,null,null,null,null,null,null,null,null,null,null,null,null,null,null,null,null,null,null,null,null,null,null,null,null,null,null,null,null,null,null,null,null,null,null,null,null,null,null,null,{"$f":"IF(Indtastning!Y:Y=\"Ikke Aflagt\",1,\"\")","v":""},null,null,{"$f":"IF(Indtastning!U:U=\"Positiv\",1,\"\")","v":""},null,null,null,{"$f":"IF(Indtastning!Y:Y=\"Positiv\",1,\"\")","v":""},null,null,null,{"$f":"IF(Indtastning!AC:AC=\"Positiv\",1,\"\")","v":""},null,null,null,{"$f":"IF(Indtastning!AG:AG=\"Positiv\",1,\"\")","v":""}]
["Fredag",0,0,-2,-2,-2,-2,-2,-2,-2,-2,-2,-2,-2,-2,null,null,null,null,null,null,null,null,null,null,null,null,null,null,null,null,null,null,null,null,null,null,null,null,null,null,null,null,null,null,{"$f":"IF(Indtastning!Y:Y=\"Ikke Aflagt\",1,\"\")","v":""},null,null,{"$f":"IF(Indtastning!U:U=\"Positiv\",1,\"\")","v":""},null,null,null,{"$f":"IF(Indtastning!Y:Y=\"Positiv\",1,\"\")","v":""},null,null,null,{"$f":"IF(Indtastning!AC:AC=\"Positiv\",1,\"\")","v":""},null,null,null,{"$f":"IF(Indtastning!AG:AG=\"Positiv\",1,\"\")","v":""}]
["2024-01-13",null,null,null,null,null,null,null,null,null,null,null,null,null,null,null,null,null,null,null,null,null,null,null,null,null,null,null,null,null,null,null,null,null,null,null,null,null,null,null,null,null,null,null,null,{"$f":"IF(Indtastning!Y:Y=\"Ikke Aflagt\",1,\"\")","v":""},null,null,{"$f":"IF(Indtastning!U:U=\"Positiv\",1,\"\")","v":""},null,null,null,{"$f":"IF(Indtastning!Y:Y=\"Positiv\",1,\"\")","v":""},null,null,null,{"$f":"IF(Indtastning!AC:AC=\"Positiv\",1,\"\")","v":""},null,null,null,{"$f":"IF(Indtastning!AG:AG=\"Positiv\",1,\"\")","v":""}]
["Lørdag",0,0,-2,-2,-2,-2,-2,-2,-2,-2,-2,-2,-2,-2,null,null,null,null,null,null,null,null,null,null,null,null,null,null,null,null,null,null,null,null,null,null,null,null,null,null,null,null,null,null,{"$f":"IF(Indtastning!Y:Y=\"Ikke Aflagt\",1,\"\")","v":""},null,null,{"$f":"IF(Indtastning!U:U=\"Positiv\",1,\"\")","v":""},null,null,null,{"$f":"IF(Indtastning!Y:Y=\"Positiv\",1,\"\")","v":""},null,null,null,{"$f":"IF(Indtastning!AC:AC=\"Positiv\",1,\"\")","v":""},null,null,null,{"$f":"IF(Indtastning!AG:AG=\"Positiv\",1,\"\")","v":""}]
["2024-01-14",null,null,null,null,null,null,null,null,null,null,null,null,null,null,null,null,null,null,null,null,null,null,null,null,null,null,null,null,null,null,null,null,null,null,null,null,null,null,null,null,null,null,null,null,{"$f":"IF(Indtastning!Y:Y=\"Ikke Aflagt\",1,\"\")","v":""},null,null,{"$f":"IF(Indtastning!U:U=\"Positiv\",1,\"\")","v":""},null,null,null,{"$f":"IF(Indtastning!Y:Y=\"Positiv\",1,\"\")","v":""},null,null,null,{"$f":"IF(Indtastning!AC:AC=\"Positiv\",1,\"\")","v":""},null,null,null,{"$f":"IF(Indtastning!AG:AG=\"Positiv\",1,\"\")","v":1}]
["Søndag",1,0,-2,-2,-2,-2,-2,-2,-2,-2,-2,-2,-2,-2,null,null,null,null,null,null,null,null,null,null,null,null,null,null,null,null,null,null,null,null,null,null,null,null,null,null,null,null,null,null,{"$f":"IF(Indtastning!Y:Y=\"Ikke Aflagt\",1,\"\")","v":""},null,null,{"$f":"IF(Indtastning!U:U=\"Positiv\",1,\"\")","v":""},null,null,null,{"$f":"IF(Indtastning!Y:Y=\"Positiv\",1,\"\")","v":""},null,null,null,{"$f":"IF(Indtastning!AC:AC=\"Positiv\",1,\"\")","v":""},null,null,null,{"$f":"IF(Indtastning!AG:AG=\"Positiv\",1,\"\")","v":""}]
["2024-01-15",null,null,null,null,null,null,null,null,null,null,null,null,null,null,null,null,null,null,null,null,null,null,null,null,null,null,null,null,null,null,null,null,null,null,null,null,null,null,null,null,null,null,null,null,{"$f":"IF(Indtastning!Y:Y=\"Ikke Aflagt\",1,\"\")","v":""},null,null,{"$f":"IF(Indtastning!U:U=\"Positiv\",1,\"\")","v":""},null,null,null,{"$f":"IF(Indtastning!Y:Y=\"Positiv\",1,\"\")","v":""},null,null,null,{"$f":"IF(Indtastning!AC:AC=\"Positiv\",1,\"\")","v":""},null,null,null,{"$f":"IF(Indtastning!AG:AG=\"Positiv\",1,\"\")","v":""}]
["Mandag",0,0,-2,-2,-2,-2,-2,-2,-2,-2,-2,-2,-2,-2,null,null,null,null,null,null,null,null,null,null,null,null,null,null,null,null,null,null,null,null,null,null,null,null,null,null,null,null,null,null,{"$f":"IF(Indtastning!Y:Y=\"Ikke Aflagt\",1,\"\")","v":""},null,null,{"$f":"IF(Indtastning!U:U=\"Positiv\",1,\"\")","v":""},null,null,null,{"$f":"IF(Indtastning!Y:Y=\"Positiv\",1,\"\")","v":""},null,null,null,{"$f":"IF(Indtastning!AC:AC=\"Positiv\",1,\"\")","v":""},null,null,null,{"$f":"IF(Indtastning!AG:AG=\"Positiv\",1,\"\")","v":""}]
["2024-01-16",null,null,null,null,null,null,null,null,null,null,null,null,null,null,null,null,null,null,null,null,null,null,null,null,null,null,null,null,null,null,null,null,null,null,null,null,null,null,null,null,null,null,null,null,{"$f":"IF(Indtastning!Y:Y=\"Ikke Aflagt\",1,\"\")","v":""},null,null,{"$f":"IF(Indtastning!U:U=\"Positiv\",1,\"\")","v":""},null,null,null,{"$f":"IF(Indtastning!Y:Y=\"Positiv\",1,\"\")","v":""},null,null,null,{"$f":"IF(Indtastning!AC:AC=\"Positiv\",1,\"\")","v":""},null,null,null,{"$f":"IF(Indtastning!AG:AG=\"Positiv\",1,\"\")","v":""}]
["Tirsdag",0,0,-2,-2,-2,-2,-2,-2,-2,-1,-2,-2,-2,-2,null,null,null,null,null,null,null,null,null,null,null,null,null,null,null,null,null,null,null,null,null,null,null,null,null,null,null,null,null,null,{"$f":"IF(Indtastning!Y:Y=\"Ikke Aflagt\",1,\"\")","v":""},null,null,{"$f":"IF(Indtastning!U:U=\"Positiv\",1,\"\")","v":""},null,null,null,{"$f":"IF(Indtastning!Y:Y=\"Positiv\",1,\"\")","v":""},null,null,null,{"$f":"IF(Indtastning!AC:AC=\"Positiv\",1,\"\")","v":""},null,null,null,{"$f":"IF(Indtastning!AG:AG=\"Positiv\",1,\"\")","v":""}]
["2024-01-17",null,null,null,null,null,null,null,null,null,null,null,null,null,null,null,null,null,null,null,null,null,null,null,null,null,null,null,null,null,null,null,null,null,null,null,null,null,null,null,null,null,null,null,null,{"$f":"IF(Indtastning!Y:Y=\"Ikke Aflagt\",1,\"\")","v":""},null,null,{"$f":"IF(Indtastning!U:U=\"Positiv\",1,\"\")","v":""},null,null,null,{"$f":"IF(Indtastning!Y:Y=\"Positiv\",1,\"\")","v":""},null,null,null,{"$f":"IF(Indtastning!AC:AC=\"Positiv\",1,\"\")","v":""},null,null,null,{"$f":"IF(Indtastning!AG:AG=\"Positiv\",1,\"\")","v":""}]
["Onsdag",0,0,-2,-2,-2,-2,-2,-2,-2,-2,-2,1,-2,-2,null,null,null,null,null,null,null,null,null,null,null,null,null,null,null,null,null,null,null,null,null,null,null,null,null,null,null,null,null,null,{"$f":"IF(Indtastning!Y:Y=\"Ikke Aflagt\",1,\"\")","v":""},null,null,{"$f":"IF(Indtastning!U:U=\"Positiv\",1,\"\")","v":""},null,null,null,{"$f":"IF(Indtastning!Y:Y=\"Positiv\",1,\"\")","v":""},null,null,null,{"$f":"IF(Indtastning!AC:AC=\"Positiv\",1,\"\")","v":""},null,null,null,{"$f":"IF(Indtastning!AG:AG=\"Positiv\",1,\"\")","v":""}]
["2024-01-18",null,null,null,null,null,null,null,null,null,null,null,null,null,null,null,null,null,null,null,null,null,null,null,null,null,null,null,null,null,null,null,null,null,null,null,null,null,null,null,null,null,null,null,null,{"$f":"IF(Indtastning!Y:Y=\"Ikke Aflagt\",1,\"\")","v":""},null,null,{"$f":"IF(Indtastning!U:U=\"Positiv\",1,\"\")","v":""},null,null,null,{"$f":"IF(Indtastning!Y:Y=\"Positiv\",1,\"\")","v":""},null,null,null,{"$f":"IF(Indtastning!AC:AC=\"Positiv\",1,\"\")","v":""},null,null,null,{"$f":"IF(Indtastning!AG:AG=\"Positiv\",1,\"\")","v":""}]
["Torsdag",0,0,-2,-2,-2,-2,-2,-2,-2,-2,-2,-2,-2,-2,null,null,null,null,null,null,null,null,null,null,null,null,null,null,null,null,null,null,null,null,null,null,null,null,null,null,null,null,null,null,{"$f":"IF(Indtastning!Y:Y=\"Ikke Aflagt\",1,\"\")","v":""},null,null,{"$f":"IF(Indtastning!U:U=\"Positiv\",1,\"\")","v":""},null,null,null,{"$f":"IF(Indtastning!Y:Y=\"Positiv\",1,\"\")","v":""},null,null,null,{"$f":"IF(Indtastning!AC:AC=\"Positiv\",1,\"\")","v":""},null,null,null,{"$f":"IF(Indtastning!AG:AG=\"Positiv\",1,\"\")","v":""}]
["2024-01-19",null,null,null,null,null,null,null,null,null,null,null,null,null,null,null,null,null,null,null,null,null,null,null,null,null,null,null,null,null,null,null,null,null,null,null,null,null,null,null,null,null,null,null,null,{"$f":"IF(Indtastning!Y:Y=\"Ikke Aflagt\",1,\"\")","v":""},null,null,{"$f":"IF(Indtastning!U:U=\"Positiv\",1,\"\")","v":""},null,null,null,{"$f":"IF(Indtastning!Y:Y=\"Positiv\",1,\"\")","v":""},null,null,null,{"$f":"IF(Indtastning!AC:AC=\"Positiv\",1,\"\")","v":""},null,null,null,{"$f":"IF(Indtastning!AG:AG=\"Positiv\",1,\"\")","v":""}]
["Fredag",0,0,-2,-2,-2,-2,-2,-2,-2,-2,-2,-2,-2,-2,null,null,null,null,null,null,null,null,null,null,null,null,null,null,null,null,null,null,null,null,null,null,null,null,null,null,null,null,null,null,{"$f":"IF(Indtastning!Y:Y=\"Ikke Aflagt\",1,\"\")","v":""},null,null,{"$f":"IF(Indtastning!U:U=\"Positiv\",1,\"\")","v":""},null,null,null,{"$f":"IF(Indtastning!Y:Y=\"Positiv\",1,\"\")","v":""},null,null,null,{"$f":"IF(Indtastning!AC:AC=\"Positiv\",1,\"\")","v":""},null,null,null,{"$f":"IF(Indtastning!AG:AG=\"Positiv\",1,\"\")","v":""}]
["2024-01-20",null,null,null,null,null,null,null,null,null,null,null,null,null,null,null,null,null,null,null,null,null,null,null,null,null,null,null,null,null,null,null,null,null,null,null,null,null,null,null,null,null,null,null,null,{"$f":"IF(Indtastning!Y:Y=\"Ikke Aflagt\",1,\"\")","v":""},null,null,{"$f":"IF(Indtastning!U:U=\"Positiv\",1,\"\")","v":""},null,null,null,{"$f":"IF(Indtastning!Y:Y=\"Positiv\",1,\"\")","v":""},null,null,null,{"$f":"IF(Indtastning!AC:AC=\"Positiv\",1,\"\")","v":""},null,null,null,{"$f":"IF(Indtastning!AG:AG=\"Positiv\",1,\"\")","v":""}]
["Lørdag",0,0,-2,-2,-2,-2,-2,-2,-2,-2,-2,-2,-2,-2,null,null,null,null,null,null,null,null,null,null,null,null,null,null,null,null,null,null,null,null,null,null,null,null,null,null,null,null,null,null,{"$f":"IF(Indtastning!Y:Y=\"Ikke Aflagt\",1,\"\")","v":""},null,null,{"$f":"IF(Indtastning!U:U=\"Positiv\",1,\"\")","v":""},null,null,null,{"$f":"IF(Indtastning!Y:Y=\"Positiv\",1,\"\")","v":""},null,null,null,{"$f":"IF(Indtastning!AC:AC=\"Positiv\",1,\"\")","v":""},null,null,null,{"$f":"IF(Indtastning!AG:AG=\"Positiv\",1,\"\")","v":""}]
["2024-01-21",null,null,null,null,null,null,null,null,null,null,null,null,null,null,null,null,null,null,null,null,null,null,null,null,null,null,null,null,null,null,null,null,null,null,null,null,null,null,null,null,null,null,null,null,{"$f":"IF(Indtastning!Y:Y=\"Ikke Aflagt\",1,\"\")","v":""},null,null,{"$f":"IF(Indtastning!U:U=\"Positiv\",1,\"\")","v":""},null,null,null,{"$f":"IF(Indtastning!Y:Y=\"Positiv\",1,\"\")","v":""},null,null,null,{"$f":"IF(Indtastning!AC:AC=\"Positiv\",1,\"\")","v":""},null,null,null,{"$f":"IF(Indtastning!AG:AG=\"Positiv\",1,\"\")","v":""}]
["Søndag",3,1,-2,-2,-2,-2,-2,-2,-2,-2,-2,-2,-2,-2,null,null,null,null,null,null,null,null,null,null,null,null,null,null,null,null,null,null,null,null,null,null,null,null,null,null,null,null,null,null,{"$f":"IF(Indtastning!Y:Y=\"Ikke Aflagt\",1,\"\")","v":""},null,null,{"$f":"IF(Indtastning!U:U=\"Positiv\",1,\"\")","v":""},null,null,null,{"$f":"IF(Indtastning!Y:Y=\"Positiv\",1,\"\")","v":""},null,null,null,{"$f":"IF(Indtastning!AC:AC=\"Positiv\",1,\"\")","v":""},null,null,null,{"$f":"IF(Indtastning!AG:AG=\"Positiv\",1,\"\")","v":""}]
["2024-01-22",null,null,null,null,null,null,null,null,null,null,null,null,null,null,null,null,null,null,null,null,null,null,null,null,null,null,null,null,null,null,null,null,null,null,null,null,null,null,null,null,null,null,null,null,{"$f":"IF(Indtastning!Y:Y=\"Ikke Aflagt\",1,\"\")","v":""},null,null,{"$f":"IF(Indtastning!U:U=\"Positiv\",1,\"\")","v":""},null,null,null,{"$f":"IF(Indtastning!Y:Y=\"Positiv\",1,\"\")","v":""},null,null,null,{"$f":"IF(Indtastning!AC:AC=\"Positiv\",1,\"\")","v":""},null,null,null,{"$f":"IF(Indtastning!AG:AG=\"Positiv\",1,\"\")","v":""}]
["Mandag",0,0,-2,-2,-2,-2,-2,-2,-2,-2,-2,-2,-2,-2,null,null,null,null,null,null,null,null,null,null,null,null,null,null,null,null,null,null,null,null,null,null,null,null,null,null,null,null,null,null,{"$f":"IF(Indtastning!Y:Y=\"Ikke Aflagt\",1,\"\")","v":""},null,null,{"$f":"IF(Indtastning!U:U=\"Positiv\",1,\"\")","v":""},null,null,null,{"$f":"IF(Indtastning!Y:Y=\"Positiv\",1,\"\")","v":""},null,null,null,{"$f":"IF(Indtastning!AC:AC=\"Positiv\",1,\"\")","v":""},null,null,null,{"$f":"IF(Indtastning!AG:AG=\"Positiv\",1,\"\")","v":""}]
["2024-01-23",null,null,null,null,null,null,null,null,null,null,null,null,null,null,null,null,null,null,null,null,null,null,null,null,null,null,null,null,null,null,null,null,null,null,null,null,null,null,null,null,null,null,null,null,{"$f":"IF(Indtastning!Y:Y=\"Ikke Aflagt\",1,\"\")","v":""},null,null,{"$f":"IF(Indtastning!U:U=\"Positiv\",1,\"\")","v":""},null,null,null,{"$f":"IF(Indtastning!Y:Y=\"Positiv\",1,\"\")","v":""},null,null,null,{"$f":"IF(Indtastning!AC:AC=\"Positiv\",1,\"\")","v":""},null,null,null,{"$f":"IF(Indtastning!AG:AG=\"Positiv\",1,\"\")","v":""}]
["Tirsdag",0,0,-2,-2,-2,-2,-2,-2,-2,-2,-2,1,-2,-2,null,null,null,null,null,null,null,null,null,null,null,null,null,null,null,null,null,null,null,null,null,null,null,null,null,null,null,null,null,null,{"$f":"IF(Indtastning!Y:Y=\"Ikke Aflagt\",1,\"\")","v":""},null,null,{"$f":"IF(Indtastning!U:U=\"Positiv\",1,\"\")","v":""},null,null,null,{"$f":"IF(Indtastning!Y:Y=\"Positiv\",1,\"\")","v":""},null,null,null,{"$f":"IF(Indtastning!AC:AC=\"Positiv\",1,\"\")","v":""},null,null,null,{"$f":"IF(Indtastning!AG:AG=\"Positiv\",1,\"\")","v":""}]
["2024-01-24",null,null,null,null,null,null,null,null,null,null,null,null,null,null,null,null,null,null,null,null,null,null,null,null,null,null,null,null,null,null,null,null,null,null,null,null,null,null,null,null,null,null,null,null,{"$f":"IF(Indtastning!Y:Y=\"Ikke Aflagt\",1,\"\")","v":""},null,null,{"$f":"IF(Indtastning!U:U=\"Positiv\",1,\"\")","v":""},null,null,null,{"$f":"IF(Indtastning!Y:Y=\"Positiv\",1,\"\")","v":""},null,null,null,{"$f":"IF(Indtastning!AC:AC=\"Positiv\",1,\"\")","v":""},null,null,null,{"$f":"IF(Indtastning!AG:AG=\"Positiv\",1,\"\")","v":""}]
["Onsdag",0,0,-2,-2,-2,-2,-2,-2,-2,-2,-2,-2,-2,-2,null,null,null,null,null,null,null,null,null,null,null,null,null,null,null,null,null,null,null,null,null,null,null,null,null,null,null,null,null,null,{"$f":"IF(Indtastning!Y:Y=\"Ikke Aflagt\",1,\"\")","v":""},null,null,{"$f":"IF(Indtastning!U:U=\"Positiv\",1,\"\")","v":""},null,null,null,{"$f":"IF(Indtastning!Y:Y=\"Positiv\",1,\"\")","v":""},null,null,null,{"$f":"IF(Indtastning!AC:AC=\"Positiv\",1,\"\")","v":""},null,null,null,{"$f":"IF(Indtastning!AG:AG=\"Positiv\",1,\"\")","v":""}]
["2024-01-25",null,null,null,null,null,null,null,null,null,null,null,null,null,null,null,null,null,null,null,null,null,null,null,null,null,null,null,null,null,null,null,null,null,null,null,null,null,null,null,null,null,null,null,null,{"$f":"IF(Indtastning!Y:Y=\"Ikke Aflagt\",1,\"\")","v":""},null,null,{"$f":"IF(Indtastning!U:U=\"Positiv\",1,\"\")","v":""},null,null,null,{"$f":"IF(Indtastning!Y:Y=\"Positiv\",1,\"\")","v":""},null,null,null,{"$f":"IF(Indtastning!AC:AC=\"Positiv\",1,\"\")","v":""},null,null,null,{"$f":"IF(Indtastning!AG:AG=\"Positiv\",1,\"\")","v":""}]
["Torsdag",0,0,-2,-2,-2,-2,-2,-2,-2,-2,-2,-2,-2,-2,null,null,null,null,null,null,null,null,null,null,null,null,null,null,null,null,null,null,null,null,null,null,null,null,null,null,null,null,null,null,{"$f":"IF(Indtastning!Y:Y=\"Ikke Aflagt\",1,\"\")","v":""},null,null,{"$f":"IF(Indtastning!U:U=\"Positiv\",1,\"\")","v":""},null,null,null,{"$f":"IF(Indtastning!Y:Y=\"Positiv\",1,\"\")","v":""},null,null,null,{"$f":"IF(Indtastning!AC:AC=\"Positiv\",1,\"\")","v":""},null,null,null,{"$f":"IF(Indtastning!AG:AG=\"Positiv\",1,\"\")","v":""}]
["2024-01-26",null,null,null,null,null,null,null,null,null,null,null,null,null,null,null,null,null,null,null,null,null,null,null,null,null,null,null,null,null,null,null,null,null,null,null,null,null,null,null,null,null,null,null,null,{"$f":"IF(Indtastning!Y:Y=\"Ikke Aflagt\",1,\"\")","v":""},null,null,{"$f":"IF(Indtastning!U:U=\"Positiv\",1,\"\")","v":""},null,null,null,{"$f":"IF(Indtastning!Y:Y=\"Positiv\",1,\"\")","v":""},null,null,null,{"$f":"IF(Indtastning!AC:AC=\"Positiv\",1,\"\")","v":""},null,null,null,{"$f":"IF(Indtastning!AG:AG=\"Positiv\",1,\"\")","v":""}]
["Fredag",0,0,-2,-2,-2,-2,-2,-2,-2,-2,-2,-2,-2,-2,null,null,null,null,null,null,null,null,null,null,null,null,null,null,null,null,null,null,null,null,null,null,null,null,null,null,null,null,null,null,{"$f":"IF(Indtastning!Y:Y=\"Ikke Aflagt\",1,\"\")","v":""},null,null,{"$f":"IF(Indtastning!U:U=\"Positiv\",1,\"\")","v":""},null,null,null,{"$f":"IF(Indtastning!Y:Y=\"Positiv\",1,\"\")","v":""},null,null,null,{"$f":"IF(Indtastning!AC:AC=\"Positiv\",1,\"\")","v":""},null,null,null,{"$f":"IF(Indtastning!AG:AG=\"Positiv\",1,\"\")","v":""}]
["2024-01-27",null,null,null,null,null,null,null,null,null,null,null,null,null,null,null,null,null,null,null,null,null,null,null,null,null,null,null,null,null,null,null,null,null,null,null,null,null,null,null,null,null,null,null,null,{"$f":"IF(Indtastning!Y:Y=\"Ikke Aflagt\",1,\"\")","v":""},null,null,{"$f":"IF(Indtastning!U:U=\"Positiv\",1,\"\")","v":""},null,null,null,{"$f":"IF(Indtastning!Y:Y=\"Positiv\",1,\"\")","v":""},null,null,null,{"$f":"IF(Indtastning!AC:AC=\"Positiv\",1,\"\")","v":""},null,null,null,{"$f":"IF(Indtastning!AG:AG=\"Positiv\",1,\"\")","v":""}]
["Lørdag",0,0,-2,-1,-2,-2,-2,-2,-2,-2,-2,-2,-2,-2,null,null,null,null,null,null,null,null,null,null,null,null,null,null,null,null,null,null,null,null,null,null,null,null,null,null,null,null,null,null,{"$f":"IF(Indtastning!Y:Y=\"Ikke Aflagt\",1,\"\")","v":""},null,null,{"$f":"IF(Indtastning!U:U=\"Positiv\",1,\"\")","v":""},null,null,null,{"$f":"IF(Indtastning!Y:Y=\"Positiv\",1,\"\")","v":""},null,null,null,{"$f":"IF(Indtastning!AC:AC=\"Positiv\",1,\"\")","v":""},null,null,null,{"$f":"IF(Indtastning!AG:AG=\"Positiv\",1,\"\")","v":""}]
["2024-01-28",null,null,null,null,null,null,null,null,null,null,null,null,null,null,null,null,null,null,null,null,null,null,null,null,null,null,null,null,null,null,null,null,null,null,null,null,null,null,null,null,null,null,null,null,{"$f":"IF(Indtastning!Y:Y=\"Ikke Aflagt\",1,\"\")","v":""},null,null,{"$f":"IF(Indtastning!U:U=\"Positiv\",1,\"\")","v":""},null,null,null,{"$f":"IF(Indtastning!Y:Y=\"Positiv\",1,\"\")","v":""},null,null,null,{"$f":"IF(Indtastning!AC:AC=\"Positiv\",1,\"\")","v":""},null,null,null,{"$f":"IF(Indtastning!AG:AG=\"Positiv\",1,\"\")","v":""}]
["Søndag",0,0,-2,-2,-2,-2,-2,-2,-2,-2,-2,-2,-2,-2,null,null,null,null,null,null,null,null,null,null,null,null,null,null,null,null,null,null,null,null,null,null,null,null,null,null,null,null,null,null,{"$f":"IF(Indtastning!Y:Y=\"Ikke Aflagt\",1,\"\")","v":""},null,null,{"$f":"IF(Indtastning!U:U=\"Positiv\",1,\"\")","v":""},null,null,null,{"$f":"IF(Indtastning!Y:Y=\"Positiv\",1,\"\")","v":""},null,null,null,{"$f":"IF(Indtastning!AC:AC=\"Positiv\",1,\"\")","v":""},null,null,null,{"$f":"IF(Indtastning!AG:AG=\"Positiv\",1,\"\")","v":""}]
["2024-01-29",null,null,null,null,null,null,null,null,null,null,null,null,null,null,null,null,null,null,null,null,null,null,null,null,null,null,null,null,null,null,null,null,null,null,null,null,null,null,null,null,null,null,null,null,{"$f":"IF(Indtastning!Y:Y=\"Ikke Aflagt\",1,\"\")","v":""},null,null,{"$f":"IF(Indtastning!U:U=\"Positiv\",1,\"\")","v":""},null,null,null,{"$f":"IF(Indtastning!Y:Y=\"Positiv\",1,\"\")","v":""},null,null,null,{"$f":"IF(Indtastning!AC:AC=\"Positiv\",1,\"\")","v":""},null,null,null,{"$f":"IF(Indtastning!AG:AG=\"Positiv\",1,\"\")","v":""}]
["Mandag",0,0,-2,-2,-2,-2,-2,-2,-2,-2,-2,-2,-2,-2,null,null,null,null,null,null,null,null,null,null,null,null,null,null,null,null,null,null,null,null,null,null,null,null,null,null,null,null,null,null,{"$f":"IF(Indtastning!Y:Y=\"Ikke Aflagt\",1,\"\")","v":""},null,null,{"$f":"IF(Indtastning!U:U=\"Positiv\",1,\"\")","v":""},null,null,null,{"$f":"IF(Indtastning!Y:Y=\"Positiv\",1,\"\")","v":""},null,null,null,{"$f":"IF(Indtastning!AC:AC=\"Positiv\",1,\"\")","v":""},null,null,null,{"$f":"IF(Indtastning!AG:AG=\"Positiv\",1,\"\")","v":""}]
["2024-01-30",null,null,null,null,null,null,null,null,null,null,null,null,null,null,null,null,null,null,null,null,null,null,null,null,null,null,null,null,null,null,null,null,null,null,null,null,null,null,null,null,null,null,null,null,{"$f":"IF(Indtastning!Y:Y=\"Ikke Aflagt\",1,\"\")","v":""},null,null,{"$f":"IF(Indtastning!U:U=\"Positiv\",1,\"\")","v":""},null,null,null,{"$f":"IF(Indtastning!Y:Y=\"Positiv\",1,\"\")","v":""},null,null,null,{"$f":"IF(Indtastning!AC:AC=\"Positiv\",1,\"\")","v":""},null,null,null,{"$f":"IF(Indtastning!AG:AG=\"Positiv\",1,\"\")","v":""}]
["Tirsdag",0,0,-2,-2,-2,-2,-2,-2,-2,-2,-2,-2,-2,-2,null,null,null,null,null,null,null,null,null,null,null,null,null,null,null,null,null,null,null,null,null,null,null,null,null,null,null,null,null,null,{"$f":"IF(Indtastning!Y:Y=\"Ikke Aflagt\",1,\"\")","v":""},null,null,{"$f":"IF(Indtastning!U:U=\"Positiv\",1,\"\")","v":""},null,null,null,{"$f":"IF(Indtastning!Y:Y=\"Positiv\",1,\"\")","v":""},null,null,null,{"$f":"IF(Indtastning!AC:AC=\"Positiv\",1,\"\")","v":""},null,null,null,{"$f":"IF(Indtastning!AG:AG=\"Positiv\",1,\"\")","v":""}]
["2024-01-31",null,null,null,null,null,null,null,null,null,null,null,null,null,null,null,null,null,null,null,null,null,null,null,null,null,null,null,null,null,null,null,null,null,null,null,null,null,null,null,null,null,null,null,null,{"$f":"IF(Indtastning!Y:Y=\"Ikke Aflagt\",1,\"\")","v":""},null,null,{"$f":"IF(Indtastning!U:U=\"Positiv\",1,\"\")","v":""},null,null,null,{"$f":"IF(Indtastning!Y:Y=\"Positiv\",1,\"\")","v":""},null,null,null,{"$f":"IF(Indtastning!AC:AC=\"Positiv\",1,\"\")","v":""},null,null,null,{"$f":"IF(Indtastning!AG:AG=\"Positiv\",1,\"\")","v":""}]
["Onsdag",0,0,-2,-2,-2,-2,-2,-2,-2,-2,-2,-2,-2,-2,null,null,null,null,null,null,null,null,null,null,null,null,null,null,null,null,null,null,null,null,null,null,null,null,null,null,null,null,null,null,{"$f":"IF(Indtastning!Y:Y=\"Ikke Aflagt\",1,\"\")","v":""},null,null,{"$f":"IF(Indtastning!U:U=\"Positiv\",1,\"\")","v":""},null,null,null,{"$f":"IF(Indtastning!Y:Y=\"Positiv\",1,\"\")","v":""},null,null,null,{"$f":"IF(Indtastning!AC:AC=\"Positiv\",1,\"\")","v":""},null,null,null,{"$f":"IF(Indtastning!AG:AG=\"Positiv\",1,\"\")","v":""}]
["2024-02-01",null,null,null,null,null,null,null,null,null,null,null,null,null,null,null,null,null,null,null,null,null,null,null,null,null,null,null,null,null,null,null,null,null,null,null,null,null,null,null,null,null,null,null,null,{"$f":"IF(Indtastning!Y:Y=\"Ikke Aflagt\",1,\"\")","v":""},null,null,{"$f":"IF(Indtastning!U:U=\"Positiv\",1,\"\")","v":""},null,null,null,{"$f":"IF(Indtastning!Y:Y=\"Positiv\",1,\"\")","v":""},null,null,null,{"$f":"IF(Indtastning!AC:AC=\"Positiv\",1,\"\")","v":""},null,null,null,{"$f":"IF(Indtastning!AG:AG=\"Positiv\",1,\"\")","v":""}]
["Torsdag",0,0,-2,-2,-2,-2,-2,-2,-2,-2,-2,-2,-2,-2,null,null,null,null,null,null,null,null,null,null,null,null,null,null,null,null,null,null,null,null,null,null,null,null,null,null,null,null,null,null,{"$f":"IF(Indtastning!Y:Y=\"Ikke Aflagt\",1,\"\")","v":""},null,null,{"$f":"IF(Indtastning!U:U=\"Positiv\",1,\"\")","v":""},null,null,null,{"$f":"IF(Indtastning!Y:Y=\"Positiv\",1,\"\")","v":""},null,null,null,{"$f":"IF(Indtastning!AC:AC=\"Positiv\",1,\"\")","v":""},null,null,null,{"$f":"IF(Indtastning!AG:AG=\"Positiv\",1,\"\")","v":""}]
["2024-02-02",null,null,null,null,null,null,null,null,null,null,null,null,null,null,null,null,null,null,null,null,null,null,null,null,null,null,null,null,null,null,null,null,null,null,null,null,null,null,null,null,null,null,null,null,{"$f":"IF(Indtastning!Y:Y=\"Ikke Aflagt\",1,\"\")","v":""},null,null,{"$f":"IF(Indtastning!U:U=\"Positiv\",1,\"\")","v":""},null,null,null,{"$f":"IF(Indtastning!Y:Y=\"Positiv\",1,\"\")","v":""},null,null,null,{"$f":"IF(Indtastning!AC:AC=\"Positiv\",1,\"\")","v":""},null,null,null,{"$f":"IF(Indtastning!AG:AG=\"Positiv\",1,\"\")","v":""}]
["Fredag",0,0,-2,-2,-2,-2,-2,-2,-2,-2,-2,-2,-2,-2,null,null,null,null,null,null,null,null,null,null,null,null,null,null,null,null,null,null,null,null,null,null,null,null,null,null,null,null,null,null,{"$f":"IF(Indtastning!Y:Y=\"Ikke Aflagt\",1,\"\")","v":""},null,null,{"$f":"IF(Indtastning!U:U=\"Positiv\",1,\"\")","v":""},null,null,null,{"$f":"IF(Indtastning!Y:Y=\"Positiv\",1,\"\")","v":""},null,null,null,{"$f":"IF(Indtastning!AC:AC=\"Positiv\",1,\"\")","v":""},null,null,null,{"$f":"IF(Indtastning!AG:AG=\"Positiv\",1,\"\")","v":""}]
["2024-02-03",null,null,null,null,null,null,null,null,null,null,null,null,null,null,null,null,null,null,null,null,null,null,null,null,null,null,null,null,null,null,null,null,null,null,null,null,null,null,null,null,null,null,null,null,{"$f":"IF(Indtastning!Y:Y=\"Ikke Aflagt\",1,\"\")","v":""},null,null,{"$f":"IF(Indtastning!U:U=\"Positiv\",1,\"\")","v":""},null,null,null,{"$f":"IF(Indtastning!Y:Y=\"Positiv\",1,\"\")","v":""},null,null,null,{"$f":"IF(Indtastning!AC:AC=\"Positiv\",1,\"\")","v":""},null,null,null,{"$f":"IF(Indtastning!AG:AG=\"Positiv\",1,\"\")","v":""}]
["Lørdag",0,0,-2,-2,-2,-2,-2,-2,-2,-2,-2,-2,-2,-2,null,null,null,null,null,null,null,null,null,null,null,null,null,null,null,null,null,null,null,null,null,null,null,null,null,null,null,null,null,null,{"$f":"IF(Indtastning!Y:Y=\"Ikke Aflagt\",1,\"\")","v":""},null,null,{"$f":"IF(Indtastning!U:U=\"Positiv\",1,\"\")","v":""},null,null,null,{"$f":"IF(Indtastning!Y:Y=\"Positiv\",1,\"\")","v":""},null,null,null,{"$f":"IF(Indtastning!AC:AC=\"Positiv\",1,\"\")","v":""},null,null,null,{"$f":"IF(Indtastning!AG:AG=\"Positiv\",1,\"\")","v":""}]
["2024-02-04",null,null,null,null,null,null,null,null,null,null,null,null,null,null,null,null,null,null,null,null,null,null,null,null,null,null,null,null,null,null,null,null,null,null,null,null,null,null,null,null,null,null,null,null,{"$f":"IF(Indtastning!Y:Y=\"Ikke Aflagt\",1,\"\")","v":""},null,null,{"$f":"IF(Indtastning!U:U=\"Positiv\",1,\"\")","v":""},null,null,null,{"$f":"IF(Indtastning!Y:Y=\"Positiv\",1,\"\")","v":""},null,null,null,{"$f":"IF(Indtastning!AC:AC=\"Positiv\",1,\"\")","v":""},null,null,null,{"$f":"IF(Indtastning!AG:AG=\"Positiv\",1,\"\")","v":""}]
["Søndag",0,0,-2,-2,-2,-2,-2,-2,-2,-2,-2,-2,-2,-2,null,null,null,null,null,null,null,null,null,null,null,null,null,null,null,null,null,null,null,null,null,null,null,null,null,null,null,null,null,null,{"$f":"IF(Indtastning!Y:Y=\"Ikke Aflagt\",1,\"\")","v":""},null,null,{"$f":"IF(Indtastning!U:U=\"Positiv\",1,\"\")","v":""},null,null,null,{"$f":"IF(Indtastning!Y:Y=\"Positiv\",1,\"\")","v":""},null,null,null,{"$f":"IF(Indtastning!AC:AC=\"Positiv\",1,\"\")","v":""},null,null,null,{"$f":"IF(Indtastning!AG:AG=\"Positiv\",1,\"\")","v":""}]
["2024-02-05",null,null,null,null,null,null,null,null,null,null,null,null,null,null,null,null,null,null,null,null,null,null,null,null,null,null,null,null,null,null,null,null,null,null,null,null,null,null,null,null,null,null,null,null,{"$f":"IF(Indtastning!Y:Y=\"Ikke Aflagt\",1,\"\")","v":""},null,null,{"$f":"IF(Indtastning!U:U=\"Positiv\",1,\"\")","v":""},null,null,null,{"$f":"IF(Indtastning!Y:Y=\"Positiv\",1,\"\")","v":""},null,null,null,{"$f":"IF(Indtastning!AC:AC=\"Positiv\",1,\"\")","v":""},null,null,null,{"$f":"IF(Indtastning!AG:AG=\"Positiv\",1,\"\")","v":""}]
["Mandag",0,0,-2,-2,-2,-2,-2,-2,-2,-2,-2,-2,-2,-2,null,null,null,null,null,null,null,null,null,null,null,null,null,null,null,null,null,null,null,null,null,null,null,null,null,null,null,null,null,null,{"$f":"IF(Indtastning!Y:Y=\"Ikke Aflagt\",1,\"\")","v":""},null,null,{"$f":"IF(Indtastning!U:U=\"Positiv\",1,\"\")","v":""},null,null,null,{"$f":"IF(Indtastning!Y:Y=\"Positiv\",1,\"\")","v":""},null,null,null,{"$f":"IF(Indtastning!AC:AC=\"Positiv\",1,\"\")","v":""},null,null,null,{"$f":"IF(Indtastning!AG:AG=\"Positiv\",1,\"\")","v":""}]
["2024-02-06",null,null,null,null,null,null,null,null,null,null,null,null,null,null,null,null,null,null,null,null,null,null,null,null,null,null,null,null,null,null,null,null,null,null,null,null,null,null,null,null,null,null,null,null,{"$f":"IF(Indtastning!Y:Y=\"Ikke Aflagt\",1,\"\")","v":""},null,null,{"$f":"IF(Indtastning!U:U=\"Positiv\",1,\"\")","v":""},null,null,null,{"$f":"IF(Indtastning!Y:Y=\"Positiv\",1,\"\")","v":""},null,null,null,{"$f":"IF(Indtastning!AC:AC=\"Positiv\",1,\"\")","v":""},null,null,null,{"$f":"IF(Indtastning!AG:AG=\"Positiv\",1,\"\")","v":""}]
["Tirsdag",0,0,-2,-2,-2,-2,-2,-2,-2,-2,-2,-2,-2,-2,null,null,null,null,null,null,null,null,null,null,null,null,null,null,null,null,null,null,null,null,null,null,null,null,null,null,null,null,null,null,{"$f":"IF(Indtastning!Y:Y=\"Ikke Aflagt\",1,\"\")","v":""},null,null,{"$f":"IF(Indtastning!U:U=\"Positiv\",1,\"\")","v":""},null,null,null,{"$f":"IF(Indtastning!Y:Y=\"Positiv\",1,\"\")","v":""},null,null,null,{"$f":"IF(Indtastning!AC:AC=\"Positiv\",1,\"\")","v":""},null,null,null,{"$f":"IF(Indtastning!AG:AG=\"Positiv\",1,\"\")","v":""}]
["2024-02-07",null,null,null,null,null,null,null,null,null,null,null,null,null,null,null,null,null,null,null,null,null,null,null,null,null,null,null,null,null,null,null,null,null,null,null,null,null,null,null,null,null,null,null,null,{"$f":"IF(Indtastning!Y:Y=\"Ikke Aflagt\",1,\"\")","v":""},null,null,{"$f":"IF(Indtastning!U:U=\"Positiv\",1,\"\")","v":""},null,null,null,{"$f":"IF(Indtastning!Y:Y=\"Positiv\",1,\"\")","v":""},null,null,null,{"$f":"IF(Indtastning!AC:AC=\"Positiv\",1,\"\")","v":""},null,null,null,{"$f":"IF(Indtastning!AG:AG=\"Positiv\",1,\"\")","v":""}]
["Onsdag",0,0,-2,-2,-2,-2,-2,-2,-2,-2,-2,-2,-2,-2,null,null,null,null,null,null,null,null,null,null,null,null,null,null,null,null,null,null,null,null,null,null,null,null,null,null,null,null,null,null,{"$f":"IF(Indtastning!Y:Y=\"Ikke Aflagt\",1,\"\")","v":""},null,null,{"$f":"IF(Indtastning!U:U=\"Positiv\",1,\"\")","v":""},null,null,null,{"$f":"IF(Indtastning!Y:Y=\"Positiv\",1,\"\")","v":""},null,null,null,{"$f":"IF(Indtastning!AC:AC=\"Positiv\",1,\"\")","v":""},null,null,null,{"$f":"IF(Indtastning!AG:AG=\"Positiv\",1,\"\")","v":""}]
["2024-02-08",null,null,null,null,null,null,null,null,null,null,null,null,null,null,null,null,null,null,null,null,null,null,null,null,null,null,null,null,null,null,null,null,null,null,null,null,null,null,null,null,null,null,null,null,{"$f":"IF(Indtastning!Y:Y=\"Ikke Aflagt\",1,\"\")","v":""},null,null,{"$f":"IF(Indtastning!U:U=\"Positiv\",1,\"\")","v":""},null,null,null,{"$f":"IF(Indtastning!Y:Y=\"Positiv\",1,\"\")","v":""},null,null,null,{"$f":"IF(Indtastning!AC:AC=\"Positiv\",1,\"\")","v":""},null,null,null,{"$f":"IF(Indtastning!AG:AG=\"Positiv\",1,\"\")","v":""}]
["Torsdag",0,0,-2,-2,-2,-2,-2,-2,-2,-2,-2,-2,-2,-2,null,null,null,null,null,null,null,null,null,null,null,null,null,null,null,null,null,null,null,null,null,null,null,null,null,null,null,null,null,null,{"$f":"IF(Indtastning!Y:Y=\"Ikke Aflagt\",1,\"\")","v":""},null,null,{"$f":"IF(Indtastning!U:U=\"Positiv\",1,\"\")","v":""},null,null,null,{"$f":"IF(Indtastning!Y:Y=\"Positiv\",1,\"\")","v":""},null,null,null,{"$f":"IF(Indtastning!AC:AC=\"Positiv\",1,\"\")","v":""},null,null,null,{"$f":"IF(Indtastning!AG:AG=\"Positiv\",1,\"\")","v":""}]
["2024-02-09",null,null,null,null,null,null,null,null,null,null,null,null,null,null,null,null,null,null,null,null,null,null,null,null,null,null,null,null,null,null,null,null,null,null,null,null,null,null,null,null,null,null,null,null,{"$f":"IF(Indtastning!Y:Y=\"Ikke Aflagt\",1,\"\")","v":""},null,null,{"$f":"IF(Indtastning!U:U=\"Positiv\",1,\"\")","v":""},null,null,null,{"$f":"IF(Indtastning!Y:Y=\"Positiv\",1,\"\")","v":""},null,null,null,{"$f":"IF(Indtastning!AC:AC=\"Positiv\",1,\"\")","v":""},null,null,null,{"$f":"IF(Indtastning!AG:AG=\"Positiv\",1,\"\")","v":""}]
["Fredag",0,0,-2,-2,-2,-2,-2,-2,-2,-2,-2,-2,-2,-2,null,null,null,null,null,null,null,null,null,null,null,null,null,null,null,null,null,null,null,null,null,null,null,null,null,null,null,null,null,null,{"$f":"IF(Indtastning!Y:Y=\"Ikke Aflagt\",1,\"\")","v":""},null,null,{"$f":"IF(Indtastning!U:U=\"Positiv\",1,\"\")","v":""},null,null,null,{"$f":"IF(Indtastning!Y:Y=\"Positiv\",1,\"\")","v":""},null,null,null,{"$f":"IF(Indtastning!AC:AC=\"Positiv\",1,\"\")","v":""},null,null,null,{"$f":"IF(Indtastning!AG:AG=\"Positiv\",1,\"\")","v":""}]
["2024-02-10",null,null,null,null,null,null,null,null,null,null,null,null,null,null,null,null,null,null,null,null,null,null,null,null,null,null,null,null,null,null,null,null,null,null,null,null,null,null,null,null,null,null,null,null,{"$f":"IF(Indtastning!Y:Y=\"Ikke Aflagt\",1,\"\")","v":""},null,null,{"$f":"IF(Indtastning!U:U=\"Positiv\",1,\"\")","v":""},null,null,null,{"$f":"IF(Indtastning!Y:Y=\"Positiv\",1,\"\")","v":""},null,null,null,{"$f":"IF(Indtastning!AC:AC=\"Positiv\",1,\"\")","v":""},null,null,null,{"$f":"IF(Indtastning!AG:AG=\"Positiv\",1,\"\")","v":""}]
["Lørdag",0,0,-2,-2,-2,-2,-2,-2,-2,-2,-2,-2,-2,-2,null,null,null,null,null,null,null,null,null,null,null,null,null,null,null,null,null,null,null,null,null,null,null,null,null,null,null,null,null,null,{"$f":"IF(Indtastning!Y:Y=\"Ikke Aflagt\",1,\"\")","v":""},null,null,{"$f":"IF(Indtastning!U:U=\"Positiv\",1,\"\")","v":""},null,null,null,{"$f":"IF(Indtastning!Y:Y=\"Positiv\",1,\"\")","v":""},null,null,null,{"$f":"IF(Indtastning!AC:AC=\"Positiv\",1,\"\")","v":""},null,null,null,{"$f":"IF(Indtastning!AG:AG=\"Positiv\",1,\"\")","v":""}]
["2024-02-11",null,null,null,null,null,null,null,null,null,null,null,null,null,null,null,null,null,null,null,null,null,null,null,null,null,null,null,null,null,null,null,null,null,null,null,null,null,null,null,null,null,null,null,null,{"$f":"IF(Indtastning!Y:Y=\"Ikke Aflagt\",1,\"\")","v":""},null,null,{"$f":"IF(Indtastning!U:U=\"Positiv\",1,\"\")","v":""},null,null,null,{"$f":"IF(Indtastning!Y:Y=\"Positiv\",1,\"\")","v":""},null,null,null,{"$f":"IF(Indtastning!AC:AC=\"Positiv\",1,\"\")","v":""},null,null,null,{"$f":"IF(Indtastning!AG:AG=\"Positiv\",1,\"\")","v":""}]
["Søndag",0,0,-2,-2,-2,-2,-2,-2,-2,-2,-2,-2,-2,-2,null,null,null,null,null,null,null,null,null,null,null,null,null,null,null,null,null,null,null,null,null,null,null,null,null,null,null,null,null,null,{"$f":"IF(Indtastning!Y:Y=\"Ikke Aflagt\",1,\"\")","v":""},null,null,{"$f":"IF(Indtastning!U:U=\"Positiv\",1,\"\")","v":""},null,null,null,{"$f":"IF(Indtastning!Y:Y=\"Positiv\",1,\"\")","v":""},null,null,null,{"$f":"IF(Indtastning!AC:AC=\"Positiv\",1,\"\")","v":""},null,null,null,{"$f":"IF(Indtastning!AG:AG=\"Positiv\",1,\"\")","v":""}]
["2024-02-12",null,null,null,null,null,null,null,null,null,null,null,null,null,null,null,null,null,null,null,null,null,null,null,null,null,null,null,null,null,null,null,null,null,null,null,null,null,null,null,null,null,null,null,null,{"$f":"IF(Indtastning!Y:Y=\"Ikke Aflagt\",1,\"\")","v":""},null,null,{"$f":"IF(Indtastning!U:U=\"Positiv\",1,\"\")","v":""},null,null,null,{"$f":"IF(Indtastning!Y:Y=\"Positiv\",1,\"\")","v":""},null,null,null,{"$f":"IF(Indtastning!AC:AC=\"Positiv\",1,\"\")","v":""},null,null,null,{"$f":"IF(Indtastning!AG:AG=\"Positiv\",1,\"\")","v":""}]
["Mandag",0,0,-2,-2,-2,-2,-2,-2,-2,-2,-2,-2,-2,-2,null,null,null,null,null,null,null,null,null,null,null,null,null,null,null,null,null,null,null,null,null,null,null,null,null,null,null,null,null,null,{"$f":"IF(Indtastning!Y:Y=\"Ikke Aflagt\",1,\"\")","v":""},null,null,{"$f":"IF(Indtastning!U:U=\"Positiv\",1,\"\")","v":""},null,null,null,{"$f":"IF(Indtastning!Y:Y=\"Positiv\",1,\"\")","v":""},null,null,null,{"$f":"IF(Indtastning!AC:AC=\"Positiv\",1,\"\")","v":""},null,null,null,{"$f":"IF(Indtastning!AG:AG=\"Positiv\",1,\"\")","v":""}]
["2024-02-13",null,null,null,null,null,null,null,null,null,null,null,null,null,null,null,null,null,null,null,null,null,null,null,null,null,null,null,null,null,null,null,null,null,null,null,null,null,null,null,null,null,null,null,null,{"$f":"IF(Indtastning!Y:Y=\"Ikke Aflagt\",1,\"\")","v":""},null,null,{"$f":"IF(Indtastning!U:U=\"Positiv\",1,\"\")","v":""},null,null,null,{"$f":"IF(Indtastning!Y:Y=\"Positiv\",1,\"\")","v":""},null,null,null,{"$f":"IF(Indtastning!AC:AC=\"Positiv\",1,\"\")","v":""},null,null,null,{"$f":"IF(Indtastning!AG:AG=\"Positiv\",1,\"\")","v":""}]
["Tirsdag",0,0,-2,-2,-2,-2,-2,-2,-2,-2,-2,-2,-2,-2,null,null,null,null,null,null,null,null,null,null,null,null,null,null,null,null,null,null,null,null,null,null,null,null,null,null,null,null,null,null,{"$f":"IF(Indtastning!Y:Y=\"Ikke Aflagt\",1,\"\")","v":""},null,null,{"$f":"IF(Indtastning!U:U=\"Positiv\",1,\"\")","v":""},null,null,null,{"$f":"IF(Indtastning!Y:Y=\"Positiv\",1,\"\")","v":""},null,null,null,{"$f":"IF(Indtastning!AC:AC=\"Positiv\",1,\"\")","v":""},null,null,null,{"$f":"IF(Indtastning!AG:AG=\"Positiv\",1,\"\")","v":""}]
["2024-02-14",null,null,null,null,null,null,null,null,null,null,null,null,null,null,null,null,null,null,null,null,null,null,null,null,null,null,null,null,null,null,null,null,null,null,null,null,null,null,null,null,null,null,null,null,{"$f":"IF(Indtastning!Y:Y=\"Ikke Aflagt\",1,\"\")","v":""},null,null,{"$f":"IF(Indtastning!U:U=\"Positiv\",1,\"\")","v":""},null,null,null,{"$f":"IF(Indtastning!Y:Y=\"Positiv\",1,\"\")","v":""},null,null,null,{"$f":"IF(Indtastning!AC:AC=\"Positiv\",1,\"\")","v":""},null,null,null,{"$f":"IF(Indtastning!AG:AG=\"Positiv\",1,\"\")","v":""}]
["Onsdag",0,0,-2,-2,-2,-2,-2,-2,-2,-2,-2,-2,-2,-2,null,null,null,null,null,null,null,null,null,null,null,null,null,null,null,null,null,null,null,null,null,null,null,null,null,null,null,null,null,null,{"$f":"IF(Indtastning!Y:Y=\"Ikke Aflagt\",1,\"\")","v":""},null,null,{"$f":"IF(Indtastning!U:U=\"Positiv\",1,\"\")","v":""},null,null,null,{"$f":"IF(Indtastning!Y:Y=\"Positiv\",1,\"\")","v":""},null,null,null,{"$f":"IF(Indtastning!AC:AC=\"Positiv\",1,\"\")","v":""},null,null,null,{"$f":"IF(Indtastning!AG:AG=\"Positiv\",1,\"\")","v":""}]
["2024-02-15",null,null,null,null,null,null,null,null,null,null,null,null,null,null,null,null,null,null,null,null,null,null,null,null,null,null,null,null,null,null,null,null,null,null,null,null,null,null,null,null,null,null,null,null,{"$f":"IF(Indtastning!Y:Y=\"Ikke Aflagt\",1,\"\")","v":""},null,null,{"$f":"IF(Indtastning!U:U=\"Positiv\",1,\"\")","v":""},null,null,null,{"$f":"IF(Indtastning!Y:Y=\"Positiv\",1,\"\")","v":""},null,null,null,{"$f":"IF(Indtastning!AC:AC=\"Positiv\",1,\"\")","v":""},null,null,null,{"$f":"IF(Indtastning!AG:AG=\"Positiv\",1,\"\")","v":""}]
["Torsdag",0,0,-2,-2,-2,-2,-2,-2,-2,-2,-2,-2,-2,-2,null,null,null,null,null,null,null,null,null,null,null,null,null,null,null,null,null,null,null,null,null,null,null,null,null,null,null,null,null,null,{"$f":"IF(Indtastning!Y:Y=\"Ikke Aflagt\",1,\"\")","v":""},null,null,{"$f":"IF(Indtastning!U:U=\"Positiv\",1,\"\")","v":""},null,null,null,{"$f":"IF(Indtastning!Y:Y=\"Positiv\",1,\"\")","v":""},null,null,null,{"$f":"IF(Indtastning!AC:AC=\"Positiv\",1,\"\")","v":""},null,null,null,{"$f":"IF(Indtastning!AG:AG=\"Positiv\",1,\"\")","v":""}]
["2024-02-16",null,null,null,null,null,null,null,null,null,null,null,null,null,null,null,null,null,null,null,null,null,null,null,null,null,null,null,null,null,null,null,null,null,null,null,null,null,null,null,null,null,null,null,null,{"$f":"IF(Indtastning!Y:Y=\"Ikke Aflagt\",1,\"\")","v":""},null,null,{"$f":"IF(Indtastning!U:U=\"Positiv\",1,\"\")","v":""},null,null,null,{"$f":"IF(Indtastning!Y:Y=\"Positiv\",1,\"\")","v":""},null,null,null,{"$f":"IF(Indtastning!AC:AC=\"Positiv\",1,\"\")","v":""},null,null,null,{"$f":"IF(Indtastning!AG:AG=\"Positiv\",1,\"\")","v":""}]
["Fredag",0,0,-2,-2,-2,-2,-2,-2,-2,-2,-2,-2,-2,-2,null,null,null,null,null,null,null,null,null,null,null,null,null,null,null,null,null,null,null,null,null,null,null,null,null,null,null,null,null,null,{"$f":"IF(Indtastning!Y:Y=\"Ikke Aflagt\",1,\"\")","v":""},null,null,{"$f":"IF(Indtastning!U:U=\"Positiv\",1,\"\")","v":""},null,null,null,{"$f":"IF(Indtastning!Y:Y=\"Positiv\",1,\"\")","v":""},null,null,null,{"$f":"IF(Indtastning!AC:AC=\"Positiv\",1,\"\")","v":""},null,null,null,{"$f":"IF(Indtastning!AG:AG=\"Positiv\",1,\"\")","v":""}]
["2024-02-17",null,null,null,null,null,null,null,null,null,null,null,null,null,null,null,null,null,null,null,null,null,null,null,null,null,null,null,null,null,null,null,null,null,null,null,null,null,null,null,null,null,null,null,null,{"$f":"IF(Indtastning!Y:Y=\"Ikke Aflagt\",1,\"\")","v":""},null,null,{"$f":"IF(Indtastning!U:U=\"Positiv\",1,\"\")","v":""},null,null,null,{"$f":"IF(Indtastning!Y:Y=\"Positiv\",1,\"\")","v":""},null,null,null,{"$f":"IF(Indtastning!AC:AC=\"Positiv\",1,\"\")","v":""},null,null,null,{"$f":"IF(Indtastning!AG:AG=\"Positiv\",1,\"\")","v":""}]
["Lørdag",0,0,-2,-2,-2,-2,-2,-2,-2,-2,-2,-2,-2,-2,null,null,null,null,null,null,null,null,null,null,null,null,null,null,null,null,null,null,null,null,null,null,null,null,null,null,null,null,null,null,{"$f":"IF(Indtastning!Y:Y=\"Ikke Aflagt\",1,\"\")","v":""},null,null,{"$f":"IF(Indtastning!U:U=\"Positiv\",1,\"\")","v":""},null,null,null,{"$f":"IF(Indtastning!Y:Y=\"Positiv\",1,\"\")","v":""},null,null,null,{"$f":"IF(Indtastning!AC:AC=\"Positiv\",1,\"\")","v":""},null,null,null,{"$f":"IF(Indtastning!AG:AG=\"Positiv\",1,\"\")","v":""}]
["2024-02-18",null,null,null,null,null,null,null,null,null,null,null,null,null,null,null,null,null,null,null,null,null,null,null,null,null,null,null,null,null,null,null,null,null,null,null,null,null,null,null,null,null,null,null,null,{"$f":"IF(Indtastning!Y:Y=\"Ikke Aflagt\",1,\"\")","v":""},null,null,{"$f":"IF(Indtastning!U:U=\"Positiv\",1,\"\")","v":""},null,null,null,{"$f":"IF(Indtastning!Y:Y=\"Positiv\",1,\"\")","v":""},null,null,null,{"$f":"IF(Indtastning!AC:AC=\"Positiv\",1,\"\")","v":""},null,null,null,{"$f":"IF(Indtastning!AG:AG=\"Positiv\",1,\"\")","v":""}]
["Søndag",0,0,-2,-2,-2,-2,-2,-2,-2,-2,-2,-2,-2,-2,null,null,null,null,null,null,null,null,null,null,null,null,null,null,null,null,null,null,null,null,null,null,null,null,null,null,null,null,null,null,{"$f":"IF(Indtastning!Y:Y=\"Ikke Aflagt\",1,\"\")","v":""},null,null,{"$f":"IF(Indtastning!U:U=\"Positiv\",1,\"\")","v":""},null,null,null,{"$f":"IF(Indtastning!Y:Y=\"Positiv\",1,\"\")","v":""},null,null,null,{"$f":"IF(Indtastning!AC:AC=\"Positiv\",1,\"\")","v":""},null,null,null,{"$f":"IF(Indtastning!AG:AG=\"Positiv\",1,\"\")","v":""}]
["2024-02-19",null,null,null,null,null,null,null,null,null,null,null,null,null,null,null,null,null,null,null,null,null,null,null,null,null,null,null,null,null,null,null,null,null,null,null,null,null,null,null,null,null,null,null,null,{"$f":"IF(Indtastning!Y:Y=\"Ikke Aflagt\",1,\"\")","v":""},null,null,{"$f":"IF(Indtastning!U:U=\"Positiv\",1,\"\")","v":""},null,null,null,{"$f":"IF(Indtastning!Y:Y=\"Positiv\",1,\"\")","v":""},null,null,null,{"$f":"IF(Indtastning!AC:AC=\"Positiv\",1,\"\")","v":""},null,null,null,{"$f":"IF(Indtastning!AG:AG=\"Positiv\",1,\"\")","v":""}]
["Mandag",0,0,-2,-2,-2,-2,-2,-2,-2,-2,-2,-2,-2,-2,null,null,null,null,null,null,null,null,null,null,null,null,null,null,null,null,null,null,null,null,null,null,null,null,null,null,null,null,null,null,{"$f":"IF(Indtastning!Y:Y=\"Ikke Aflagt\",1,\"\")","v":""},null,null,{"$f":"IF(Indtastning!U:U=\"Positiv\",1,\"\")","v":""},null,null,null,{"$f":"IF(Indtastning!Y:Y=\"Positiv\",1,\"\")","v":""},null,null,null,{"$f":"IF(Indtastning!AC:AC=\"Positiv\",1,\"\")","v":""},null,null,null,{"$f":"IF(Indtastning!AG:AG=\"Positiv\",1,\"\")","v":""}]
["2024-02-20",null,null,null,null,null,null,null,null,null,null,null,null,null,null,null,null,null,null,null,null,null,null,null,null,null,null,null,null,null,null,null,null,null,null,null,null,null,null,null,null,null,null,null,null,{"$f":"IF(Indtastning!Y:Y=\"Ikke Aflagt\",1,\"\")","v":""},null,null,{"$f":"IF(Indtastning!U:U=\"Positiv\",1,\"\")","v":""},null,null,null,{"$f":"IF(Indtastning!Y:Y=\"Positiv\",1,\"\")","v":""},null,null,null,{"$f":"IF(Indtastning!AC:AC=\"Positiv\",1,\"\")","v":""},null,null,null,{"$f":"IF(Indtastning!AG:AG=\"Positiv\",1,\"\")","v":""}]
["Tirsdag",0,0,-2,-2,-2,-2,-2,-2,-2,-2,-2,-2,-2,-2,null,null,null,null,null,null,null,null,null,null,null,null,null,null,null,null,null,null,null,null,null,null,null,null,null,null,null,null,null,null,{"$f":"IF(Indtastning!Y:Y=\"Ikke Aflagt\",1,\"\")","v":""},null,null,{"$f":"IF(Indtastning!U:U=\"Positiv\",1,\"\")","v":""},null,null,null,{"$f":"IF(Indtastning!Y:Y=\"Positiv\",1,\"\")","v":""},null,null,null,{"$f":"IF(Indtastning!AC:AC=\"Positiv\",1,\"\")","v":""},null,null,null,{"$f":"IF(Indtastning!AG:AG=\"Positiv\",1,\"\")","v":""}]
["2024-02-21",null,null,null,null,null,null,null,null,null,null,null,null,null,null,null,null,null,null,null,null,null,null,null,null,null,null,null,null,null,null,null,null,null,null,null,null,null,null,null,null,null,null,null,null,{"$f":"IF(Indtastning!Y:Y=\"Ikke Aflagt\",1,\"\")","v":""},null,null,{"$f":"IF(Indtastning!U:U=\"Positiv\",1,\"\")","v":""},null,null,null,{"$f":"IF(Indtastning!Y:Y=\"Positiv\",1,\"\")","v":""},null,null,null,{"$f":"IF(Indtastning!AC:AC=\"Positiv\",1,\"\")","v":""},null,null,null,{"$f":"IF(Indtastning!AG:AG=\"Positiv\",1,\"\")","v":""}]
["Onsdag",0,0,-2,-2,-2,-2,-2,-2,-2,-2,-2,-2,-2,-2,null,null,null,null,null,null,null,null,null,null,null,null,null,null,null,null,null,null,null,null,null,null,null,null,null,null,null,null,null,null,{"$f":"IF(Indtastning!Y:Y=\"Ikke Aflagt\",1,\"\")","v":""},null,null,{"$f":"IF(Indtastning!U:U=\"Positiv\",1,\"\")","v":""},null,null,null,{"$f":"IF(Indtastning!Y:Y=\"Positiv\",1,\"\")","v":""},null,null,null,{"$f":"IF(Indtastning!AC:AC=\"Positiv\",1,\"\")","v":""},null,null,null,{"$f":"IF(Indtastning!AG:AG=\"Positiv\",1,\"\")","v":""}]
["2024-02-22",null,null,null,null,null,null,null,null,null,null,null,null,null,null,null,null,null,null,null,null,null,null,null,null,null,null,null,null,null,null,null,null,null,null,null,null,null,null,null,null,null,null,null,null,{"$f":"IF(Indtastning!Y:Y=\"Ikke Aflagt\",1,\"\")","v":""},null,null,{"$f":"IF(Indtastning!U:U=\"Positiv\",1,\"\")","v":""},null,null,null,{"$f":"IF(Indtastning!Y:Y=\"Positiv\",1,\"\")","v":""},null,null,null,{"$f":"IF(Indtastning!AC:AC=\"Positiv\",1,\"\")","v":""},null,null,null,{"$f":"IF(Indtastning!AG:AG=\"Positiv\",1,\"\")","v":""}]
["Torsdag",0,0,-2,-2,-2,-2,-2,-2,-2,-2,-2,-2,-2,-2,null,null,null,null,null,null,null,null,null,null,null,null,null,null,null,null,null,null,null,null,null,null,null,null,null,null,null,null,null,null,{"$f":"IF(Indtastning!Y:Y=\"Ikke Aflagt\",1,\"\")","v":""},null,null,{"$f":"IF(Indtastning!U:U=\"Positiv\",1,\"\")","v":""},null,null,null,{"$f":"IF(Indtastning!Y:Y=\"Positiv\",1,\"\")","v":""},null,null,null,{"$f":"IF(Indtastning!AC:AC=\"Positiv\",1,\"\")","v":""},null,null,null,{"$f":"IF(Indtastning!AG:AG=\"Positiv\",1,\"\")","v":""}]
["2024-02-23",null,null,null,null,null,null,null,null,null,null,null,null,null,null,null,null,null,null,null,null,null,null,null,null,null,null,null,null,null,null,null,null,null,null,null,null,null,null,null,null,null,null,null,null,{"$f":"IF(Indtastning!Y:Y=\"Ikke Aflagt\",1,\"\")","v":""},null,null,{"$f":"IF(Indtastning!U:U=\"Positiv\",1,\"\")","v":""},null,null,null,{"$f":"IF(Indtastning!Y:Y=\"Positiv\",1,\"\")","v":""},null,null,null,{"$f":"IF(Indtastning!AC:AC=\"Positiv\",1,\"\")","v":""},null,null,null,{"$f":"IF(Indtastning!AG:AG=\"Positiv\",1,\"\")","v":""}]
["Fredag",0,0,-2,-2,-2,-2,-2,-2,-2,-2,-2,-2,-2,-2,null,null,null,null,null,null,null,null,null,null,null,null,null,null,null,null,null,null,null,null,null,null,null,null,null,null,null,null,null,null,{"$f":"IF(Indtastning!Y:Y=\"Ikke Aflagt\",1,\"\")","v":""},null,null,{"$f":"IF(Indtastning!U:U=\"Positiv\",1,\"\")","v":""},null,null,null,{"$f":"IF(Indtastning!Y:Y=\"Positiv\",1,\"\")","v":""},null,null,null,{"$f":"IF(Indtastning!AC:AC=\"Positiv\",1,\"\")","v":""},null,null,null,{"$f":"IF(Indtastning!AG:AG=\"Positiv\",1,\"\")","v":""}]
["2024-02-24",null,null,null,null,null,null,null,null,null,null,null,null,null,null,null,null,null,null,null,null,null,null,null,null,null,null,null,null,null,null,null,null,null,null,null,null,null,null,null,null,null,null,null,null,{"$f":"IF(Indtastning!Y:Y=\"Ikke Aflagt\",1,\"\")","v":""},null,null,{"$f":"IF(Indtastning!U:U=\"Positiv\",1,\"\")","v":""},null,null,null,{"$f":"IF(Indtastning!Y:Y=\"Positiv\",1,\"\")","v":""},null,null,null,{"$f":"IF(Indtastning!AC:AC=\"Positiv\",1,\"\")","v":""},null,null,null,{"$f":"IF(Indtastning!AG:AG=\"Positiv\",1,\"\")","v":""}]
["Lørdag",0,0,-2,-2,-2,-2,-2,-2,-2,-2,-2,-2,-2,-2,null,null,null,null,null,null,null,null,null,null,null,null,null,null,null,null,null,null,null,null,null,null,null,null,null,null,null,null,null,null,{"$f":"IF(Indtastning!Y:Y=\"Ikke Aflagt\",1,\"\")","v":""},null,null,{"$f":"IF(Indtastning!U:U=\"Positiv\",1,\"\")","v":""},null,null,null,{"$f":"IF(Indtastning!Y:Y=\"Positiv\",1,\"\")","v":""},null,null,null,{"$f":"IF(Indtastning!AC:AC=\"Positiv\",1,\"\")","v":""},null,null,null,{"$f":"IF(Indtastning!AG:AG=\"Positiv\",1,\"\")","v":""}]
["2024-02-25",null,null,null,null,null,null,null,null,null,null,null,null,null,null,null,null,null,null,null,null,null,null,null,null,null,null,null,null,null,null,null,null,null,null,null,null,null,null,null,null,null,null,null,null,{"$f":"IF(Indtastning!Y:Y=\"Ikke Aflagt\",1,\"\")","v":""},null,null,{"$f":"IF(Indtastning!U:U=\"Positiv\",1,\"\")","v":""},null,null,null,{"$f":"IF(Indtastning!Y:Y=\"Positiv\",1,\"\")","v":""},null,null,null,{"$f":"IF(Indtastning!AC:AC=\"Positiv\",1,\"\")","v":""},null,null,null,{"$f":"IF(Indtastning!AG:AG=\"Positiv\",1,\"\")","v":""}]
["Søndag",0,0,-2,-2,-2,-2,-2,-2,-2,-2,-2,-2,-2,-2,null,null,null,null,null,null,null,null,null,null,null,null,null,null,null,null,null,null,null,null,null,null,null,null,null,null,null,null,null,null,{"$f":"IF(Indtastning!Y:Y=\"Ikke Aflagt\",1,\"\")","v":""},null,null,{"$f":"IF(Indtastning!U:U=\"Positiv\",1,\"\")","v":""},null,null,null,{"$f":"IF(Indtastning!Y:Y=\"Positiv\",1,\"\")","v":""},null,null,null,{"$f":"IF(Indtastning!AC:AC=\"Positiv\",1,\"\")","v":""},null,null,null,{"$f":"IF(Indtastning!AG:AG=\"Positiv\",1,\"\")","v":""}]
["2024-02-26",null,null,null,null,null,null,null,null,null,null,null,null,null,null,null,null,null,null,null,null,null,null,null,null,null,null,null,null,null,null,null,null,null,null,null,null,null,null,null,null,null,null,null,null,{"$f":"IF(Indtastning!Y:Y=\"Ikke Aflagt\",1,\"\")","v":""},null,null,{"$f":"IF(Indtastning!U:U=\"Positiv\",1,\"\")","v":""},null,null,null,{"$f":"IF(Indtastning!Y:Y=\"Positiv\",1,\"\")","v":""},null,null,null,{"$f":"IF(Indtastning!AC:AC=\"Positiv\",1,\"\")","v":""},null,null,null,{"$f":"IF(Indtastning!AG:AG=\"Positiv\",1,\"\")","v":""}]
["Mandag",0,0,-2,-2,-2,-2,-2,-2,-2,-2,-2,-2,-2,-2,null,null,null,null,null,null,null,null,null,null,null,null,null,null,null,null,null,null,null,null,null,null,null,null,null,null,null,null,null,null,{"$f":"IF(Indtastning!Y:Y=\"Ikke Aflagt\",1,\"\")","v":""},null,null,{"$f":"IF(Indtastning!U:U=\"Positiv\",1,\"\")","v":""},null,null,null,{"$f":"IF(Indtastning!Y:Y=\"Positiv\",1,\"\")","v":""},null,null,null,{"$f":"IF(Indtastning!AC:AC=\"Positiv\",1,\"\")","v":""},null,null,null,{"$f":"IF(Indtastning!AG:AG=\"Positiv\",1,\"\")","v":""}]
["Hovedtotal",6,1,-114,-113,-110,-114,-114,-110,-114,-113,-110,-108,-114,-110,null,null,null,null,null,null,null,null,null,null,null,null,null,null,null,null,null,null,null,null,null,null,null,null,null,null,null,null,null,null,{"$f":"IF(Indtastning!Y:Y=\"Ikke Aflagt\",1,\"\")","v":""},null,null,{"$f":"IF(Indtastning!U:U=\"Positiv\",1,\"\")","v":""},null,null,null,{"$f":"IF(Indtastning!Y:Y=\"Positiv\",1,\"\")","v":""},null,null,null,{"$f":"IF(Indtastning!AC:AC=\"Positiv\",1,\"\")","v":""},null,null,null,{"$f":"IF(Indtastning!AG:AG=\"Positiv\",1,\"\")","v":""}]
[null,null,null,null,null,null,null,null,null,null,null,null,null,null,null,null,null,null,null,null,null,null,null,null,null,null,null,null,null,null,null,null,null,null,null,null,null,null,null,null,null,null,null,null,null,{"$f":"IF(Indtastning!Y:Y=\"Ikke Aflagt\",1,\"\")","v":""},null,null,{"$f":"IF(Indtastning!U:U=\"Positiv\",1,\"\")","v":""},null,null,null,{"$f":"IF(Indtastning!Y:Y=\"Positiv\",1,\"\")","v":""},null,null,null,{"$f":"IF(Indtastning!AC:AC=\"Positiv\",1,\"\")","v":""},null,null,null,{"$f":"IF(Indtastning!AG:AG=\"Positiv\",1,\"\")","v":""}]
[null,null,null,null,null,null,null,null,null,null,null,null,null,null,null,null,null,null,null,null,null,null,null,null,null,null,null,null,null,null,null,null,null,null,null,null,null,null,null,null,null,null,null,null,null,{"$f":"IF(Indtastning!Y:Y=\"Ikke Aflagt\",1,\"\")","v":""},null,null,{"$f":"IF(Indtastning!U:U=\"Positiv\",1,\"\")","v":""},null,null,null,{"$f":"IF(Indtastning!Y:Y=\"Positiv\",1,\"\")","v":""},null,null,null,{"$f":"IF(Indtastning!AC:AC=\"Positiv\",1,\"\")","v":""},null,null,null,{"$f":"IF(Indtastning!AG:AG=\"Positiv\",1,\"\")","v":""}]
[null,null,null,null,null,null,null,null,null,null,null,null,null,null,null,null,null,null,null,null,null,null,null,null,null,null,null,null,null,null,null,null,null,null,null,null,null,null,null,null,null,null,null,null,null,{"$f":"IF(Indtastning!Y:Y=\"Ikke Aflagt\",1,\"\")","v":""},null,null,{"$f":"IF(Indtastning!U:U=\"Positiv\",1,\"\")","v":""},null,null,null,{"$f":"IF(Indtastning!Y:Y=\"Positiv\",1,\"\")","v":""},null,null,null,{"$f":"IF(Indtastning!AC:AC=\"Positiv\",1,\"\")","v":""},null,null,null,{"$f":"IF(Indtastning!AG:AG=\"Positiv\",1,\"\")","v":""}]
[null,null,null,null,null,null,null,null,null,null,null,null,null,null,null,null,null,null,null,null,null,null,null,null,null,null,null,null,null,null,null,null,null,null,null,null,null,null,null,null,null,null,null,null,null,{"$f":"IF(Indtastning!Y:Y=\"Ikke Aflagt\",1,\"\")","v":""},null,null,{"$f":"IF(Indtastning!U:U=\"Positiv\",1,\"\")","v":""},null,null,null,{"$f":"IF(Indtastning!Y:Y=\"Positiv\",1,\"\")","v":""},null,null,null,{"$f":"IF(Indtastning!AC:AC=\"Positiv\",1,\"\")","v":""},null,null,null,{"$f":"IF(Indtastning!AG:AG=\"Positiv\",1,\"\")","v":""}]
[null,null,null,null,null,null,null,null,null,null,null,null,null,null,null,null,null,null,null,null,null,null,null,null,null,null,null,null,null,null,null,null,null,null,null,null,null,null,null,null,null,null,null,null,null,{"$f":"IF(Indtastning!Y:Y=\"Ikke Aflagt\",1,\"\")","v":""},null,null,{"$f":"IF(Indtastning!U:U=\"Positiv\",1,\"\")","v":""},null,null,null,{"$f":"IF(Indtastning!Y:Y=\"Positiv\",1,\"\")","v":""},null,null,null,{"$f":"IF(Indtastning!AC:AC=\"Positiv\",1,\"\")","v":""},null,null,null,{"$f":"IF(Indtastning!AG:AG=\"Positiv\",1,\"\")","v":""}]
[null,null,null,null,null,null,null,null,null,null,null,null,null,null,null,null,null,null,null,null,null,null,null,null,null,null,null,null,null,null,null,null,null,null,null,null,null,null,null,null,null,null,null,null,null,{"$f":"IF(Indtastning!Y:Y=\"Ikke Aflagt\",1,\"\")","v":""},null,null,{"$f":"IF(Indtastning!U:U=\"Positiv\",1,\"\")","v":""},null,null,null,{"$f":"IF(Indtastning!Y:Y=\"Positiv\",1,\"\")","v":""},null,null,null,{"$f":"IF(Indtastning!AC:AC=\"Positiv\",1,\"\")","v":""},null,null,null,{"$f":"IF(Indtastning!AG:AG=\"Positiv\",1,\"\")","v":""}]
[null,null,null,null,null,null,null,null,null,null,null,null,null,null,null,null,null,null,null,null,null,null,null,null,null,null,null,null,null,null,null,null,null,null,null,null,null,null,null,null,null,null,null,null,null,{"$f":"IF(Indtastning!Y:Y=\"Ikke Aflagt\",1,\"\")","v":""},null,null,{"$f":"IF(Indtastning!U:U=\"Positiv\",1,\"\")","v":""},null,null,null,{"$f":"IF(Indtastning!Y:Y=\"Positiv\",1,\"\")","v":""},null,null,null,{"$f":"IF(Indtastning!AC:AC=\"Positiv\",1,\"\")","v":""},null,null,null,{"$f":"IF(Indtastning!AG:AG=\"Positiv\",1,\"\")","v":""}]
[null,null,null,null,null,null,null,null,null,null,null,null,null,null,null,null,null,null,null,null,null,null,null,null,null,null,null,null,null,null,null,null,null,null,null,null,null,null,null,null,null,null,null,null,null,{"$f":"IF(Indtastning!Y:Y=\"Ikke Aflagt\",1,\"\")","v":""},null,null,{"$f":"IF(Indtastning!U:U=\"Positiv\",1,\"\")","v":""},null,null,null,{"$f":"IF(Indtastning!Y:Y=\"Positiv\",1,\"\")","v":""},null,null,null,{"$f":"IF(Indtastning!AC:AC=\"Positiv\",1,\"\")","v":""},null,null,null,{"$f":"IF(Indtastning!AG:AG=\"Positiv\",1,\"\")","v":""}]
[null,null,null,null,null,null,null,null,null,null,null,null,null,null,null,null,null,null,null,null,null,null,null,null,null,null,null,null,null,null,null,null,null,null,null,null,null,null,null,null,null,null,null,null,null,{"$f":"IF(Indtastning!Y:Y=\"Ikke Aflagt\",1,\"\")","v":""},null,null,{"$f":"IF(Indtastning!U:U=\"Positiv\",1,\"\")","v":""},null,null,null,{"$f":"IF(Indtastning!Y:Y=\"Positiv\",1,\"\")","v":""},null,null,null,{"$f":"IF(Indtastning!AC:AC=\"Positiv\",1,\"\")","v":""},null,null,null,{"$f":"IF(Indtastning!AG:AG=\"Positiv\",1,\"\")","v":""}]
[null,null,null,null,null,null,null,null,null,null,null,null,null,null,null,null,null,null,null,null,null,null,null,null,null,null,null,null,null,null,null,null,null,null,null,null,null,null,null,null,null,null,null,null,null,{"$f":"IF(Indtastning!Y:Y=\"Ikke Aflagt\",1,\"\")","v":""},null,null,{"$f":"IF(Indtastning!U:U=\"Positiv\",1,\"\")","v":""},null,null,null,{"$f":"IF(Indtastning!Y:Y=\"Positiv\",1,\"\")","v":""},null,null,null,{"$f":"IF(Indtastning!AC:AC=\"Positiv\",1,\"\")","v":""},null,null,null,{"$f":"IF(Indtastning!AG:AG=\"Positiv\",1,\"\")","v":""}]
[null,null,null,null,null,null,null,null,null,null,null,null,null,null,null,null,null,null,null,null,null,null,null,null,null,null,null,null,null,null,null,null,null,null,null,null,null,null,null,null,null,null,null,null,null,{"$f":"IF(Indtastning!Y:Y=\"Ikke Aflagt\",1,\"\")","v":""},null,null,{"$f":"IF(Indtastning!U:U=\"Positiv\",1,\"\")","v":""},null,null,null,{"$f":"IF(Indtastning!Y:Y=\"Positiv\",1,\"\")","v":""},null,null,null,{"$f":"IF(Indtastning!AC:AC=\"Positiv\",1,\"\")","v":""},null,null,null,{"$f":"IF(Indtastning!AG:AG=\"Positiv\",1,\"\")","v":""}]
[null,null,null,null,null,null,null,null,null,null,null,null,null,null,null,null,null,null,null,null,null,null,null,null,null,null,null,null,null,null,null,null,null,null,null,null,null,null,null,null,null,null,null,null,null,{"$f":"IF(Indtastning!Y:Y=\"Ikke Aflagt\",1,\"\")","v":""},null,null,{"$f":"IF(Indtastning!U:U=\"Positiv\",1,\"\")","v":""},null,null,null,{"$f":"IF(Indtastning!Y:Y=\"Positiv\",1,\"\")","v":""},null,null,null,{"$f":"IF(Indtastning!AC:AC=\"Positiv\",1,\"\")","v":""},null,null,null,{"$f":"IF(Indtastning!AG:AG=\"Positiv\",1,\"\")","v":""}]
[null,null,null,null,null,null,null,null,null,null,null,null,null,null,null,null,null,null,null,null,null,null,null,null,null,null,null,null,null,null,null,null,null,null,null,null,null,null,null,null,null,null,null,null,null,{"$f":"IF(Indtastning!Y:Y=\"Ikke Aflagt\",1,\"\")","v":""},null,null,{"$f":"IF(Indtastning!U:U=\"Positiv\",1,\"\")","v":""},null,null,null,{"$f":"IF(Indtastning!Y:Y=\"Positiv\",1,\"\")","v":""},null,null,null,{"$f":"IF(Indtastning!AC:AC=\"Positiv\",1,\"\")","v":""},null,null,null,{"$f":"IF(Indtastning!AG:AG=\"Positiv\",1,\"\")","v":""}]
[null,null,null,null,null,null,null,null,null,null,null,null,null,null,null,null,null,null,null,null,null,null,null,null,null,null,null,null,null,null,null,null,null,null,null,null,null,null,null,null,null,null,null,null,null,{"$f":"IF(Indtastning!Y:Y=\"Ikke Aflagt\",1,\"\")","v":""},null,null,{"$f":"IF(Indtastning!U:U=\"Positiv\",1,\"\")","v":""},null,null,null,{"$f":"IF(Indtastning!Y:Y=\"Positiv\",1,\"\")","v":""},null,null,null,{"$f":"IF(Indtastning!AC:AC=\"Positiv\",1,\"\")","v":""},null,null,null,{"$f":"IF(Indtastning!AG:AG=\"Positiv\",1,\"\")","v":""}]
[null,null,null,null,null,null,null,null,null,null,null,null,null,null,null,null,null,null,null,null,null,null,null,null,null,null,null,null,null,null,null,null,null,null,null,null,null,null,null,null,null,null,null,null,null,{"$f":"IF(Indtastning!Y:Y=\"Ikke Aflagt\",1,\"\")","v":""},null,null,{"$f":"IF(Indtastning!U:U=\"Positiv\",1,\"\")","v":""},null,null,null,{"$f":"IF(Indtastning!Y:Y=\"Positiv\",1,\"\")","v":""},null,null,null,{"$f":"IF(Indtastning!AC:AC=\"Positiv\",1,\"\")","v":""},null,null,null,{"$f":"IF(Indtastning!AG:AG=\"Positiv\",1,\"\")","v":""}]
[null,null,null,null,null,null,null,null,null,null,null,null,null,null,null,null,null,null,null,null,null,null,null,null,null,null,null,null,null,null,null,null,null,null,null,null,null,null,null,null,null,null,null,null,null,{"$f":"IF(Indtastning!Y:Y=\"Ikke Aflagt\",1,\"\")","v":""},null,null,{"$f":"IF(Indtastning!U:U=\"Positiv\",1,\"\")","v":""},null,null,null,{"$f":"IF(Indtastning!Y:Y=\"Positiv\",1,\"\")","v":""},null,null,null,{"$f":"IF(Indtastning!AC:AC=\"Positiv\",1,\"\")","v":""},null,null,null,{"$f":"IF(Indtastning!AG:AG=\"Positiv\",1,\"\")","v":""}]
[null,null,null,null,null,null,null,null,null,null,null,null,null,null,null,null,null,null,null,null,null,null,null,null,null,null,null,null,null,null,null,null,null,null,null,null,null,null,null,null,null,null,null,null,null,{"$f":"IF(Indtastning!Y:Y=\"Ikke Aflagt\",1,\"\")","v":""},null,null,{"$f":"IF(Indtastning!U:U=\"Positiv\",1,\"\")","v":""},null,null,null,{"$f":"IF(Indtastning!Y:Y=\"Positiv\",1,\"\")","v":""},null,null,null,{"$f":"IF(Indtastning!AC:AC=\"Positiv\",1,\"\")","v":""},null,null,null,{"$f":"IF(Indtastning!AG:AG=\"Positiv\",1,\"\")","v":""}]
[null,null,null,null,null,null,null,null,null,null,null,null,null,null,null,null,null,null,null,null,null,null,null,null,null,null,null,null,null,null,null,null,null,null,null,null,null,null,null,null,null,null,null,null,null,{"$f":"IF(Indtastning!Y:Y=\"Ikke Aflagt\",1,\"\")","v":""},null,null,{"$f":"IF(Indtastning!U:U=\"Positiv\",1,\"\")","v":""},null,null,null,{"$f":"IF(Indtastning!Y:Y=\"Positiv\",1,\"\")","v":""},null,null,null,{"$f":"IF(Indtastning!AC:AC=\"Positiv\",1,\"\")","v":""},null,null,null,{"$f":"IF(Indtastning!AG:AG=\"Positiv\",1,\"\")","v":""}]
[null,null,null,null,null,null,null,null,null,null,null,null,null,null,null,null,null,null,null,null,null,null,null,null,null,null,null,null,null,null,null,null,null,null,null,null,null,null,null,null,null,null,null,null,null,{"$f":"IF(Indtastning!Y:Y=\"Ikke Aflagt\",1,\"\")","v":""},null,null,{"$f":"IF(Indtastning!U:U=\"Positiv\",1,\"\")","v":""},null,null,null,{"$f":"IF(Indtastning!Y:Y=\"Positiv\",1,\"\")","v":""},null,null,null,{"$f":"IF(Indtastning!AC:AC=\"Positiv\",1,\"\")","v":""},null,null,null,{"$f":"IF(Indtastning!AG:AG=\"Positiv\",1,\"\")","v":""}]
[null,null,null,null,null,null,null,null,null,null,null,null,null,null,null,null,null,null,null,null,null,null,null,null,null,null,null,null,null,null,null,null,null,null,null,null,null,null,null,null,null,null,null,null,null,{"$f":"IF(Indtastning!Y:Y=\"Ikke Aflagt\",1,\"\")","v":""},null,null,{"$f":"IF(Indtastning!U:U=\"Positiv\",1,\"\")","v":""},null,null,null,{"$f":"IF(Indtastning!Y:Y=\"Positiv\",1,\"\")","v":""},null,null,null,{"$f":"IF(Indtastning!AC:AC=\"Positiv\",1,\"\")","v":""},null,null,null,{"$f":"IF(Indtastning!AG:AG=\"Positiv\",1,\"\")","v":""}]
[null,null,null,null,null,null,null,null,null,null,null,null,null,null,null,null,null,null,null,null,null,null,null,null,null,null,null,null,null,null,null,null,null,null,null,null,null,null,null,null,null,null,null,null,null,{"$f":"IF(Indtastning!Y:Y=\"Ikke Aflagt\",1,\"\")","v":""},null,null,{"$f":"IF(Indtastning!U:U=\"Positiv\",1,\"\")","v":""},null,null,null,{"$f":"IF(Indtastning!Y:Y=\"Positiv\",1,\"\")","v":""},null,null,null,{"$f":"IF(Indtastning!AC:AC=\"Positiv\",1,\"\")","v":""},null,null,null,{"$f":"IF(Indtastning!AG:AG=\"Positiv\",1,\"\")","v":""}]
[null,null,null,null,null,null,null,null,null,null,null,null,null,null,null,null,null,null,null,null,null,null,null,null,null,null,null,null,null,null,null,null,null,null,null,null,null,null,null,null,null,null,null,null,null,{"$f":"IF(Indtastning!Y:Y=\"Ikke Aflagt\",1,\"\")","v":""},null,null,{"$f":"IF(Indtastning!U:U=\"Positiv\",1,\"\")","v":""},null,null,null,{"$f":"IF(Indtastning!Y:Y=\"Positiv\",1,\"\")","v":""},null,null,null,{"$f":"IF(Indtastning!AC:AC=\"Positiv\",1,\"\")","v":""},null,null,null,{"$f":"IF(Indtastning!AG:AG=\"Positiv\",1,\"\")","v":""}]
[null,null,null,null,null,null,null,null,null,null,null,null,null,null,null,null,null,null,null,null,null,null,null,null,null,null,null,null,null,null,null,null,null,null,null,null,null,null,null,null,null,null,null,null,null,{"$f":"IF(Indtastning!Y:Y=\"Ikke Aflagt\",1,\"\")","v":""},null,null,{"$f":"IF(Indtastning!U:U=\"Positiv\",1,\"\")","v":""},null,null,null,{"$f":"IF(Indtastning!Y:Y=\"Positiv\",1,\"\")","v":""},null,null,null,{"$f":"IF(Indtastning!AC:AC=\"Positiv\",1,\"\")","v":""},null,null,null,{"$f":"IF(Indtastning!AG:AG=\"Positiv\",1,\"\")","v":""}]
[null,null,null,null,null,null,null,null,null,null,null,null,null,null,null,null,null,null,null,null,null,null,null,null,null,null,null,null,null,null,null,null,null,null,null,null,null,null,null,null,null,null,null,null,null,{"$f":"IF(Indtastning!Y:Y=\"Ikke Aflagt\",1,\"\")","v":""},null,null,{"$f":"IF(Indtastning!U:U=\"Positiv\",1,\"\")","v":""},null,null,null,{"$f":"IF(Indtastning!Y:Y=\"Positiv\",1,\"\")","v":""},null,null,null,{"$f":"IF(Indtastning!AC:AC=\"Positiv\",1,\"\")","v":""},null,null,null,{"$f":"IF(Indtastning!AG:AG=\"Positiv\",1,\"\")","v":""}]
[null,null,null,null,null,null,null,null,null,null,null,null,null,null,null,null,null,null,null,null,null,null,null,null,null,null,null,null,null,null,null,null,null,null,null,null,null,null,null,null,null,null,null,null,null,{"$f":"IF(Indtastning!Y:Y=\"Ikke Aflagt\",1,\"\")","v":""},null,null,{"$f":"IF(Indtastning!U:U=\"Positiv\",1,\"\")","v":""},null,null,null,{"$f":"IF(Indtastning!Y:Y=\"Positiv\",1,\"\")","v":""},null,null,null,{"$f":"IF(Indtastning!AC:AC=\"Positiv\",1,\"\")","v":""},null,null,null,{"$f":"IF(Indtastning!AG:AG=\"Positiv\",1,\"\")","v":""}]
[null,null,null,null,null,null,null,null,null,null,null,null,null,null,null,null,null,null,null,null,null,null,null,null,null,null,null,null,null,null,null,null,null,null,null,null,null,null,null,null,null,null,null,null,null,{"$f":"IF(Indtastning!Y:Y=\"Ikke Aflagt\",1,\"\")","v":""},null,null,{"$f":"IF(Indtastning!U:U=\"Positiv\",1,\"\")","v":""},null,null,null,{"$f":"IF(Indtastning!Y:Y=\"Positiv\",1,\"\")","v":""},null,null,null,{"$f":"IF(Indtastning!AC:AC=\"Positiv\",1,\"\")","v":""},null,null,null,{"$f":"IF(Indtastning!AG:AG=\"Positiv\",1,\"\")","v":""}]
[null,null,null,null,null,null,null,null,null,null,null,null,null,null,null,null,null,null,null,null,null,null,null,null,null,null,null,null,null,null,null,null,null,null,null,null,null,null,null,null,null,null,null,null,null,{"$f":"IF(Indtastning!Y:Y=\"Ikke Aflagt\",1,\"\")","v":""},null,null,{"$f":"IF(Indtastning!U:U=\"Positiv\",1,\"\")","v":""},null,null,null,{"$f":"IF(Indtastning!Y:Y=\"Positiv\",1,\"\")","v":""},null,null,null,{"$f":"IF(Indtastning!AC:AC=\"Positiv\",1,\"\")","v":""},null,null,null,{"$f":"IF(Indtastning!AG:AG=\"Positiv\",1,\"\")","v":""}]
[null,null,null,null,null,null,null,null,null,null,null,null,null,null,null,null,null,null,null,null,null,null,null,null,null,null,null,null,null,null,null,null,null,null,null,null,null,null,null,null,null,null,null,null,null,{"$f":"IF(Indtastning!Y:Y=\"Ikke Aflagt\",1,\"\")","v":""},null,null,{"$f":"IF(Indtastning!U:U=\"Positiv\",1,\"\")","v":""},null,null,null,{"$f":"IF(Indtastning!Y:Y=\"Positiv\",1,\"\")","v":""},null,null,null,{"$f":"IF(Indtastning!AC:AC=\"Positiv\",1,\"\")","v":""},null,null,null,{"$f":"IF(Indtastning!AG:AG=\"Positiv\",1,\"\")","v":""}]
[null,null,null,null,null,null,null,null,null,null,null,null,null,null,null,null,null,null,null,null,null,null,null,null,null,null,null,null,null,null,null,null,null,null,null,null,null,null,null,null,null,null,null,null,null,{"$f":"IF(Indtastning!Y:Y=\"Ikke Aflagt\",1,\"\")","v":""},null,null,{"$f":"IF(Indtastning!U:U=\"Positiv\",1,\"\")","v":""},null,null,null,{"$f":"IF(Indtastning!Y:Y=\"Positiv\",1,\"\")","v":""},null,null,null,{"$f":"IF(Indtastning!AC:AC=\"Positiv\",1,\"\")","v":""},null,null,null,{"$f":"IF(Indtastning!AG:AG=\"Positiv\",1,\"\")","v":""}]
[null,null,null,null,null,null,null,null,null,null,null,null,null,null,null,null,null,null,null,null,null,null,null,null,null,null,null,null,null,null,null,null,null,null,null,null,null,null,null,null,null,null,null,null,null,{"$f":"IF(Indtastning!Y:Y=\"Ikke Aflagt\",1,\"\")","v":""},null,null,{"$f":"IF(Indtastning!U:U=\"Positiv\",1,\"\")","v":""},null,null,null,{"$f":"IF(Indtastning!Y:Y=\"Positiv\",1,\"\")","v":""},null,null,null,{"$f":"IF(Indtastning!AC:AC=\"Positiv\",1,\"\")","v":""},null,null,null,{"$f":"IF(Indtastning!AG:AG=\"Positiv\",1,\"\")","v":""}]
[null,null,null,null,null,null,null,null,null,null,null,null,null,null,null,null,null,null,null,null,null,null,null,null,null,null,null,null,null,null,null,null,null,null,null,null,null,null,null,null,null,null,null,null,null,{"$f":"IF(Indtastning!Y:Y=\"Ikke Aflagt\",1,\"\")","v":""},null,null,{"$f":"IF(Indtastning!U:U=\"Positiv\",1,\"\")","v":""},null,null,null,{"$f":"IF(Indtastning!Y:Y=\"Positiv\",1,\"\")","v":""},null,null,null,{"$f":"IF(Indtastning!AC:AC=\"Positiv\",1,\"\")","v":""},null,null,null,{"$f":"IF(Indtastning!AG:AG=\"Positiv\",1,\"\")","v":""}]
[null,null,null,null,null,null,null,null,null,null,null,null,null,null,null,null,null,null,null,null,null,null,null,null,null,null,null,null,null,null,null,null,null,null,null,null,null,null,null,null,null,null,null,null,null,{"$f":"IF(Indtastning!Y:Y=\"Ikke Aflagt\",1,\"\")","v":""},null,null,{"$f":"IF(Indtastning!U:U=\"Positiv\",1,\"\")","v":""},null,null,null,{"$f":"IF(Indtastning!Y:Y=\"Positiv\",1,\"\")","v":""},null,null,null,{"$f":"IF(Indtastning!AC:AC=\"Positiv\",1,\"\")","v":""},null,null,null,{"$f":"IF(Indtastning!AG:AG=\"Positiv\",1,\"\")","v":""}]
[null,null,null,null,null,null,null,null,null,null,null,null,null,null,null,null,null,null,null,null,null,null,null,null,null,null,null,null,null,null,null,null,null,null,null,null,null,null,null,null,null,null,null,null,null,{"$f":"IF(Indtastning!Y:Y=\"Ikke Aflagt\",1,\"\")","v":""},null,null,{"$f":"IF(Indtastning!U:U=\"Positiv\",1,\"\")","v":""},null,null,null,{"$f":"IF(Indtastning!Y:Y=\"Positiv\",1,\"\")","v":""},null,null,null,{"$f":"IF(Indtastning!AC:AC=\"Positiv\",1,\"\")","v":""},null,null,null,{"$f":"IF(Indtastning!AG:AG=\"Positiv\",1,\"\")","v":""}]
[null,null,null,null,null,null,null,null,null,null,null,null,null,null,null,null,null,null,null,null,null,null,null,null,null,null,null,null,null,null,null,null,null,null,null,null,null,null,null,null,null,null,null,null,null,{"$f":"IF(Indtastning!Y:Y=\"Ikke Aflagt\",1,\"\")","v":""},null,null,{"$f":"IF(Indtastning!U:U=\"Positiv\",1,\"\")","v":""},null,null,null,{"$f":"IF(Indtastning!Y:Y=\"Positiv\",1,\"\")","v":""},null,null,null,{"$f":"IF(Indtastning!AC:AC=\"Positiv\",1,\"\")","v":""},null,null,null,{"$f":"IF(Indtastning!AG:AG=\"Positiv\",1,\"\")","v":""}]
[null,null,null,null,null,null,null,null,null,null,null,null,null,null,null,null,null,null,null,null,null,null,null,null,null,null,null,null,null,null,null,null,null,null,null,null,null,null,null,null,null,null,null,null,null,{"$f":"IF(Indtastning!Y:Y=\"Ikke Aflagt\",1,\"\")","v":""},null,null,{"$f":"IF(Indtastning!U:U=\"Positiv\",1,\"\")","v":""},null,null,null,{"$f":"IF(Indtastning!Y:Y=\"Positiv\",1,\"\")","v":""},null,null,null,{"$f":"IF(Indtastning!AC:AC=\"Positiv\",1,\"\")","v":""},null,null,null,{"$f":"IF(Indtastning!AG:AG=\"Positiv\",1,\"\")","v":""}]
[null,null,null,null,null,null,null,null,null,null,null,null,null,null,null,null,null,null,null,null,null,null,null,null,null,null,null,null,null,null,null,null,null,null,null,null,null,null,null,null,null,null,null,null,null,{"$f":"IF(Indtastning!Y:Y=\"Ikke Aflagt\",1,\"\")","v":""},null,null,{"$f":"IF(Indtastning!U:U=\"Positiv\",1,\"\")","v":""},null,null,null,{"$f":"IF(Indtastning!Y:Y=\"Positiv\",1,\"\")","v":""},null,null,null,{"$f":"IF(Indtastning!AC:AC=\"Positiv\",1,\"\")","v":""},null,null,null,{"$f":"IF(Indtastning!AG:AG=\"Positiv\",1,\"\")","v":""}]
[null,null,null,null,null,null,null,null,null,null,null,null,null,null,null,null,null,null,null,null,null,null,null,null,null,null,null,null,null,null,null,null,null,null,null,null,null,null,null,null,null,null,null,null,null,{"$f":"IF(Indtastning!Y:Y=\"Ikke Aflagt\",1,\"\")","v":""},null,null,{"$f":"IF(Indtastning!U:U=\"Positiv\",1,\"\")","v":""},null,null,null,{"$f":"IF(Indtastning!Y:Y=\"Positiv\",1,\"\")","v":""},null,null,null,{"$f":"IF(Indtastning!AC:AC=\"Positiv\",1,\"\")","v":""},null,null,null,{"$f":"IF(Indtastning!AG:AG=\"Positiv\",1,\"\")","v":""}]
[null,null,null,null,null,null,null,null,null,null,null,null,null,null,null,null,null,null,null,null,null,null,null,null,null,null,null,null,null,null,null,null,null,null,null,null,null,null,null,null,null,null,null,null,null,{"$f":"IF(Indtastning!Y:Y=\"Ikke Aflagt\",1,\"\")","v":""},null,null,{"$f":"IF(Indtastning!U:U=\"Positiv\",1,\"\")","v":""},null,null,null,{"$f":"IF(Indtastning!Y:Y=\"Positiv\",1,\"\")","v":""},null,null,null,{"$f":"IF(Indtastning!AC:AC=\"Positiv\",1,\"\")","v":""},null,null,null,{"$f":"IF(Indtastning!AG:AG=\"Positiv\",1,\"\")","v":""}]
[null,null,null,null,null,null,null,null,null,null,null,null,null,null,null,null,null,null,null,null,null,null,null,null,null,null,null,null,null,null,null,null,null,null,null,null,null,null,null,null,null,null,null,null,null,{"$f":"IF(Indtastning!Y:Y=\"Ikke Aflagt\",1,\"\")","v":""},null,null,{"$f":"IF(Indtastning!U:U=\"Positiv\",1,\"\")","v":""},null,null,null,{"$f":"IF(Indtastning!Y:Y=\"Positiv\",1,\"\")","v":""},null,null,null,{"$f":"IF(Indtastning!AC:AC=\"Positiv\",1,\"\")","v":""},null,null,null,{"$f":"IF(Indtastning!AG:AG=\"Positiv\",1,\"\")","v":""}]
[null,null,null,null,null,null,null,null,null,null,null,null,null,null,null,null,null,null,null,null,null,null,null,null,null,null,null,null,null,null,null,null,null,null,null,null,null,null,null,null,null,null,null,null,null,{"$f":"IF(Indtastning!Y:Y=\"Ikke Aflagt\",1,\"\")","v":""},null,null,{"$f":"IF(Indtastning!U:U=\"Positiv\",1,\"\")","v":""},null,null,null,{"$f":"IF(Indtastning!Y:Y=\"Positiv\",1,\"\")","v":""},null,null,null,{"$f":"IF(Indtastning!AC:AC=\"Positiv\",1,\"\")","v":""},null,null,null,{"$f":"IF(Indtastning!AG:AG=\"Positiv\",1,\"\")","v":""}]
[null,null,null,null,null,null,null,null,null,null,null,null,null,null,null,null,null,null,null,null,null,null,null,null,null,null,null,null,null,null,null,null,null,null,null,null,null,null,null,null,null,null,null,null,null,{"$f":"IF(Indtastning!Y:Y=\"Ikke Aflagt\",1,\"\")","v":""},null,null,{"$f":"IF(Indtastning!U:U=\"Positiv\",1,\"\")","v":""},null,null,null,{"$f":"IF(Indtastning!Y:Y=\"Positiv\",1,\"\")","v":""},null,null,null,{"$f":"IF(Indtastning!AC:AC=\"Positiv\",1,\"\")","v":""},null,null,null,{"$f":"IF(Indtastning!AG:AG=\"Positiv\",1,\"\")","v":""}]
[null,null,null,null,null,null,null,null,null,null,null,null,null,null,null,null,null,null,null,null,null,null,null,null,null,null,null,null,null,null,null,null,null,null,null,null,null,null,null,null,null,null,null,null,null,{"$f":"IF(Indtastning!Y:Y=\"Ikke Aflagt\",1,\"\")","v":""},null,null,{"$f":"IF(Indtastning!U:U=\"Positiv\",1,\"\")","v":""},null,null,null,{"$f":"IF(Indtastning!Y:Y=\"Positiv\",1,\"\")","v":""},null,null,null,{"$f":"IF(Indtastning!AC:AC=\"Positiv\",1,\"\")","v":""},null,null,null,{"$f":"IF(Indtastning!AG:AG=\"Positiv\",1,\"\")","v":""}]
[null,null,null,null,null,null,null,null,null,null,null,null,null,null,null,null,null,null,null,null,null,null,null,null,null,null,null,null,null,null,null,null,null,null,null,null,null,null,null,null,null,null,null,null,null,{"$f":"IF(Indtastning!Y:Y=\"Ikke Aflagt\",1,\"\")","v":""},null,null,{"$f":"IF(Indtastning!U:U=\"Positiv\",1,\"\")","v":""},null,null,null,{"$f":"IF(Indtastning!Y:Y=\"Positiv\",1,\"\")","v":""},null,null,null,{"$f":"IF(Indtastning!AC:AC=\"Positiv\",1,\"\")","v":""},null,null,null,{"$f":"IF(Indtastning!AG:AG=\"Positiv\",1,\"\")","v":""}]
[null,null,null,null,null,null,null,null,null,null,null,null,null,null,null,null,null,null,null,null,null,null,null,null,null,null,null,null,null,null,null,null,null,null,null,null,null,null,null,null,null,null,null,null,null,{"$f":"IF(Indtastning!Y:Y=\"Ikke Aflagt\",1,\"\")","v":""},null,null,{"$f":"IF(Indtastning!U:U=\"Positiv\",1,\"\")","v":""},null,null,null,{"$f":"IF(Indtastning!Y:Y=\"Positiv\",1,\"\")","v":""},null,null,null,{"$f":"IF(Indtastning!AC:AC=\"Positiv\",1,\"\")","v":""},null,null,null,{"$f":"IF(Indtastning!AG:AG=\"Positiv\",1,\"\")","v":""}]
[null,null,null,null,null,null,null,null,null,null,null,null,null,null,null,null,null,null,null,null,null,null,null,null,null,null,null,null,null,null,null,null,null,null,null,null,null,null,null,null,null,null,null,null,null,{"$f":"IF(Indtastning!Y:Y=\"Ikke Aflagt\",1,\"\")","v":""},null,null,{"$f":"IF(Indtastning!U:U=\"Positiv\",1,\"\")","v":""},null,null,null,{"$f":"IF(Indtastning!Y:Y=\"Positiv\",1,\"\")","v":""},null,null,null,{"$f":"IF(Indtastning!AC:AC=\"Positiv\",1,\"\")","v":""},null,null,null,{"$f":"IF(Indtastning!AG:AG=\"Positiv\",1,\"\")","v":""}]
[null,null,null,null,null,null,null,null,null,null,null,null,null,null,null,null,null,null,null,null,null,null,null,null,null,null,null,null,null,null,null,null,null,null,null,null,null,null,null,null,null,null,null,null,null,{"$f":"IF(Indtastning!Y:Y=\"Ikke Aflagt\",1,\"\")","v":""},null,null,{"$f":"IF(Indtastning!U:U=\"Positiv\",1,\"\")","v":""},null,null,null,{"$f":"IF(Indtastning!Y:Y=\"Positiv\",1,\"\")","v":""},null,null,null,{"$f":"IF(Indtastning!AC:AC=\"Positiv\",1,\"\")","v":""},null,null,null,{"$f":"IF(Indtastning!AG:AG=\"Positiv\",1,\"\")","v":""}]
[null,null,null,null,null,null,null,null,null,null,null,null,null,null,null,null,null,null,null,null,null,null,null,null,null,null,null,null,null,null,null,null,null,null,null,null,null,null,null,null,null,null,null,null,null,{"$f":"IF(Indtastning!Y:Y=\"Ikke Aflagt\",1,\"\")","v":""},null,null,{"$f":"IF(Indtastning!U:U=\"Positiv\",1,\"\")","v":""},null,null,null,{"$f":"IF(Indtastning!Y:Y=\"Positiv\",1,\"\")","v":""},null,null,null,{"$f":"IF(Indtastning!AC:AC=\"Positiv\",1,\"\")","v":""},null,null,null,{"$f":"IF(Indtastning!AG:AG=\"Positiv\",1,\"\")","v":""}]
[null,null,null,null,null,null,null,null,null,null,null,null,null,null,null,null,null,null,null,null,null,null,null,null,null,null,null,null,null,null,null,null,null,null,null,null,null,null,null,null,null,null,null,null,null,{"$f":"IF(Indtastning!Y:Y=\"Ikke Aflagt\",1,\"\")","v":""},null,null,{"$f":"IF(Indtastning!U:U=\"Positiv\",1,\"\")","v":""},null,null,null,{"$f":"IF(Indtastning!Y:Y=\"Positiv\",1,\"\")","v":""},null,null,null,{"$f":"IF(Indtastning!AC:AC=\"Positiv\",1,\"\")","v":""},null,null,null,{"$f":"IF(Indtastning!AG:AG=\"Positiv\",1,\"\")","v":""}]
[null,null,null,null,null,null,null,null,null,null,null,null,null,null,null,null,null,null,null,null,null,null,null,null,null,null,null,null,null,null,null,null,null,null,null,null,null,null,null,null,null,null,null,null,null,{"$f":"IF(Indtastning!Y:Y=\"Ikke Aflagt\",1,\"\")","v":""},null,null,{"$f":"IF(Indtastning!U:U=\"Positiv\",1,\"\")","v":""},null,null,null,{"$f":"IF(Indtastning!Y:Y=\"Positiv\",1,\"\")","v":""},null,null,null,{"$f":"IF(Indtastning!AC:AC=\"Positiv\",1,\"\")","v":""},null,null,null,{"$f":"IF(Indtastning!AG:AG=\"Positiv\",1,\"\")","v":""}]
[null,null,null,null,null,null,null,null,null,null,null,null,null,null,null,null,null,null,null,null,null,null,null,null,null,null,null,null,null,null,null,null,null,null,null,null,null,null,null,null,null,null,null,null,null,{"$f":"IF(Indtastning!Y:Y=\"Ikke Aflagt\",1,\"\")","v":""},null,null,{"$f":"IF(Indtastning!U:U=\"Positiv\",1,\"\")","v":""},null,null,null,{"$f":"IF(Indtastning!Y:Y=\"Positiv\",1,\"\")","v":""},null,null,null,{"$f":"IF(Indtastning!AC:AC=\"Positiv\",1,\"\")","v":""},null,null,null,{"$f":"IF(Indtastning!AG:AG=\"Positiv\",1,\"\")","v":""}]
[null,null,null,null,null,null,null,null,null,null,null,null,null,null,null,null,null,null,null,null,null,null,null,null,null,null,null,null,null,null,null,null,null,null,null,null,null,null,null,null,null,null,null,null,null,{"$f":"IF(Indtastning!Y:Y=\"Ikke Aflagt\",1,\"\")","v":""},null,null,{"$f":"IF(Indtastning!U:U=\"Positiv\",1,\"\")","v":""},null,null,null,{"$f":"IF(Indtastning!Y:Y=\"Positiv\",1,\"\")","v":""},null,null,null,{"$f":"IF(Indtastning!AC:AC=\"Positiv\",1,\"\")","v":""},null,null,null,{"$f":"IF(Indtastning!AG:AG=\"Positiv\",1,\"\")","v":""}]
[null,null,null,null,null,null,null,null,null,null,null,null,null,null,null,null,null,null,null,null,null,null,null,null,null,null,null,null,null,null,null,null,null,null,null,null,null,null,null,null,null,null,null,null,null,{"$f":"IF(Indtastning!Y:Y=\"Ikke Aflagt\",1,\"\")","v":""},null,null,{"$f":"IF(Indtastning!U:U=\"Positiv\",1,\"\")","v":""},null,null,null,{"$f":"IF(Indtastning!Y:Y=\"Positiv\",1,\"\")","v":""},null,null,null,{"$f":"IF(Indtastning!AC:AC=\"Positiv\",1,\"\")","v":""},null,null,null,{"$f":"IF(Indtastning!AG:AG=\"Positiv\",1,\"\")","v":""}]
[null,null,null,null,null,null,null,null,null,null,null,null,null,null,null,null,null,null,null,null,null,null,null,null,null,null,null,null,null,null,null,null,null,null,null,null,null,null,null,null,null,null,null,null,null,{"$f":"IF(Indtastning!Y:Y=\"Ikke Aflagt\",1,\"\")","v":""},null,null,{"$f":"IF(Indtastning!U:U=\"Positiv\",1,\"\")","v":""},null,null,null,{"$f":"IF(Indtastning!Y:Y=\"Positiv\",1,\"\")","v":""},null,null,null,{"$f":"IF(Indtastning!AC:AC=\"Positiv\",1,\"\")","v":""},null,null,null,{"$f":"IF(Indtastning!AG:AG=\"Positiv\",1,\"\")","v":""}]
[null,null,null,null,null,null,null,null,null,null,null,null,null,null,null,null,null,null,null,null,null,null,null,null,null,null,null,null,null,null,null,null,null,null,null,null,null,null,null,null,null,null,null,null,null,{"$f":"IF(Indtastning!Y:Y=\"Ikke Aflagt\",1,\"\")","v":""},null,null,{"$f":"IF(Indtastning!U:U=\"Positiv\",1,\"\")","v":""},null,null,null,{"$f":"IF(Indtastning!Y:Y=\"Positiv\",1,\"\")","v":""},null,null,null,{"$f":"IF(Indtastning!AC:AC=\"Positiv\",1,\"\")","v":""},null,null,null,{"$f":"IF(Indtastning!AG:AG=\"Positiv\",1,\"\")","v":""}]
[null,null,null,null,null,null,null,null,null,null,null,null,null,null,null,null,null,null,null,null,null,null,null,null,null,null,null,null,null,null,null,null,null,null,null,null,null,null,null,null,null,null,null,null,null,{"$f":"IF(Indtastning!Y:Y=\"Ikke Aflagt\",1,\"\")","v":""},null,null,{"$f":"IF(Indtastning!U:U=\"Positiv\",1,\"\")","v":""},null,null,null,{"$f":"IF(Indtastning!Y:Y=\"Positiv\",1,\"\")","v":""},null,null,null,{"$f":"IF(Indtastning!AC:AC=\"Positiv\",1,\"\")","v":""},null,null,null,{"$f":"IF(Indtastning!AG:AG=\"Positiv\",1,\"\")","v":""}]
[null,null,null,null,null,null,null,null,null,null,null,null,null,null,null,null,null,null,null,null,null,null,null,null,null,null,null,null,null,null,null,null,null,null,null,null,null,null,null,null,null,null,null,null,null,{"$f":"IF(Indtastning!Y:Y=\"Ikke Aflagt\",1,\"\")","v":""},null,null,{"$f":"IF(Indtastning!U:U=\"Positiv\",1,\"\")","v":""},null,null,null,{"$f":"IF(Indtastning!Y:Y=\"Positiv\",1,\"\")","v":""},null,null,null,{"$f":"IF(Indtastning!AC:AC=\"Positiv\",1,\"\")","v":""},null,null,null,{"$f":"IF(Indtastning!AG:AG=\"Positiv\",1,\"\")","v":""}]
[null,null,null,null,null,null,null,null,null,null,null,null,null,null,null,null,null,null,null,null,null,null,null,null,null,null,null,null,null,null,null,null,null,null,null,null,null,null,null,null,null,null,null,null,null,{"$f":"IF(Indtastning!Y:Y=\"Ikke Aflagt\",1,\"\")","v":""},null,null,{"$f":"IF(Indtastning!U:U=\"Positiv\",1,\"\")","v":""},null,null,null,{"$f":"IF(Indtastning!Y:Y=\"Positiv\",1,\"\")","v":""},null,null,null,{"$f":"IF(Indtastning!AC:AC=\"Positiv\",1,\"\")","v":""},null,null,null,{"$f":"IF(Indtastning!AG:AG=\"Positiv\",1,\"\")","v":""}]
[null,null,null,null,null,null,null,null,null,null,null,null,null,null,null,null,null,null,null,null,null,null,null,null,null,null,null,null,null,null,null,null,null,null,null,null,null,null,null,null,null,null,null,null,null,{"$f":"IF(Indtastning!Y:Y=\"Ikke Aflagt\",1,\"\")","v":""},null,null,{"$f":"IF(Indtastning!U:U=\"Positiv\",1,\"\")","v":""},null,null,null,{"$f":"IF(Indtastning!Y:Y=\"Positiv\",1,\"\")","v":""},null,null,null,{"$f":"IF(Indtastning!AC:AC=\"Positiv\",1,\"\")","v":""},null,null,null,{"$f":"IF(Indtastning!AG:AG=\"Positiv\",1,\"\")","v":""}]
[null,null,null,null,null,null,null,null,null,null,null,null,null,null,null,null,null,null,null,null,null,null,null,null,null,null,null,null,null,null,null,null,null,null,null,null,null,null,null,null,null,null,null,null,null,{"$f":"IF(Indtastning!Y:Y=\"Ikke Aflagt\",1,\"\")","v":""},null,null,{"$f":"IF(Indtastning!U:U=\"Positiv\",1,\"\")","v":""},null,null,null,{"$f":"IF(Indtastning!Y:Y=\"Positiv\",1,\"\")","v":""},null,null,null,{"$f":"IF(Indtastning!AC:AC=\"Positiv\",1,\"\")","v":""},null,null,null,{"$f":"IF(Indtastning!AG:AG=\"Positiv\",1,\"\")","v":""}]
[null,null,null,null,null,null,null,null,null,null,null,null,null,null,null,null,null,null,null,null,null,null,null,null,null,null,null,null,null,null,null,null,null,null,null,null,null,null,null,null,null,null,null,null,null,{"$f":"IF(Indtastning!Y:Y=\"Ikke Aflagt\",1,\"\")","v":""},null,null,{"$f":"IF(Indtastning!U:U=\"Positiv\",1,\"\")","v":""},null,null,null,{"$f":"IF(Indtastning!Y:Y=\"Positiv\",1,\"\")","v":""},null,null,null,{"$f":"IF(Indtastning!AC:AC=\"Positiv\",1,\"\")","v":""},null,null,null,{"$f":"IF(Indtastning!AG:AG=\"Positiv\",1,\"\")","v":""}]
[null,null,null,null,null,null,null,null,null,null,null,null,null,null,null,null,null,null,null,null,null,null,null,null,null,null,null,null,null,null,null,null,null,null,null,null,null,null,null,null,null,null,null,null,null,{"$f":"IF(Indtastning!Y:Y=\"Ikke Aflagt\",1,\"\")","v":""},null,null,{"$f":"IF(Indtastning!U:U=\"Positiv\",1,\"\")","v":""},null,null,null,{"$f":"IF(Indtastning!Y:Y=\"Positiv\",1,\"\")","v":""},null,null,null,{"$f":"IF(Indtastning!AC:AC=\"Positiv\",1,\"\")","v":""},null,null,null,{"$f":"IF(Indtastning!AG:AG=\"Positiv\",1,\"\")","v":""}]
[null,null,null,null,null,null,null,null,null,null,null,null,null,null,null,null,null,null,null,null,null,null,null,null,null,null,null,null,null,null,null,null,null,null,null,null,null,null,null,null,null,null,null,null,null,{"$f":"IF(Indtastning!Y:Y=\"Ikke Aflagt\",1,\"\")","v":""},null,null,{"$f":"IF(Indtastning!U:U=\"Positiv\",1,\"\")","v":""},null,null,null,{"$f":"IF(Indtastning!Y:Y=\"Positiv\",1,\"\")","v":""},null,null,null,{"$f":"IF(Indtastning!AC:AC=\"Positiv\",1,\"\")","v":""},null,null,null,{"$f":"IF(Indtastning!AG:AG=\"Positiv\",1,\"\")","v":""}]
[null,null,null,null,null,null,null,null,null,null,null,null,null,null,null,null,null,null,null,null,null,null,null,null,null,null,null,null,null,null,null,null,null,null,null,null,null,null,null,null,null,null,null,null,null,{"$f":"IF(Indtastning!Y:Y=\"Ikke Aflagt\",1,\"\")","v":""},null,null,{"$f":"IF(Indtastning!U:U=\"Positiv\",1,\"\")","v":""},null,null,null,{"$f":"IF(Indtastning!Y:Y=\"Positiv\",1,\"\")","v":""},null,null,null,{"$f":"IF(Indtastning!AC:AC=\"Positiv\",1,\"\")","v":""},null,null,null,{"$f":"IF(Indtastning!AG:AG=\"Positiv\",1,\"\")","v":""}]
[null,null,null,null,null,null,null,null,null,null,null,null,null,null,null,null,null,null,null,null,null,null,null,null,null,null,null,null,null,null,null,null,null,null,null,null,null,null,null,null,null,null,null,null,null,{"$f":"IF(Indtastning!Y:Y=\"Ikke Aflagt\",1,\"\")","v":""},null,null,{"$f":"IF(Indtastning!U:U=\"Positiv\",1,\"\")","v":""},null,null,null,{"$f":"IF(Indtastning!Y:Y=\"Positiv\",1,\"\")","v":""},null,null,null,{"$f":"IF(Indtastning!AC:AC=\"Positiv\",1,\"\")","v":""},null,null,null,{"$f":"IF(Indtastning!AG:AG=\"Positiv\",1,\"\")","v":""}]
[null,null,null,null,null,null,null,null,null,null,null,null,null,null,null,null,null,null,null,null,null,null,null,null,null,null,null,null,null,null,null,null,null,null,null,null,null,null,null,null,null,null,null,null,null,{"$f":"IF(Indtastning!Y:Y=\"Ikke Aflagt\",1,\"\")","v":""},null,null,{"$f":"IF(Indtastning!U:U=\"Positiv\",1,\"\")","v":""},null,null,null,{"$f":"IF(Indtastning!Y:Y=\"Positiv\",1,\"\")","v":""},null,null,null,{"$f":"IF(Indtastning!AC:AC=\"Positiv\",1,\"\")","v":""},null,null,null,{"$f":"IF(Indtastning!AG:AG=\"Positiv\",1,\"\")","v":""}]
[null,null,null,null,null,null,null,null,null,null,null,null,null,null,null,null,null,null,null,null,null,null,null,null,null,null,null,null,null,null,null,null,null,null,null,null,null,null,null,null,null,null,null,null,null,{"$f":"IF(Indtastning!Y:Y=\"Ikke Aflagt\",1,\"\")","v":""},null,null,{"$f":"IF(Indtastning!U:U=\"Positiv\",1,\"\")","v":""},null,null,null,{"$f":"IF(Indtastning!Y:Y=\"Positiv\",1,\"\")","v":""},null,null,null,{"$f":"IF(Indtastning!AC:AC=\"Positiv\",1,\"\")","v":""},null,null,null,{"$f":"IF(Indtastning!AG:AG=\"Positiv\",1,\"\")","v":""}]
[null,null,null,null,null,null,null,null,null,null,null,null,null,null,null,null,null,null,null,null,null,null,null,null,null,null,null,null,null,null,null,null,null,null,null,null,null,null,null,null,null,null,null,null,null,{"$f":"IF(Indtastning!Y:Y=\"Ikke Aflagt\",1,\"\")","v":""},null,null,{"$f":"IF(Indtastning!U:U=\"Positiv\",1,\"\")","v":""},null,null,null,{"$f":"IF(Indtastning!Y:Y=\"Positiv\",1,\"\")","v":""},null,null,null,{"$f":"IF(Indtastning!AC:AC=\"Positiv\",1,\"\")","v":""},null,null,null,{"$f":"IF(Indtastning!AG:AG=\"Positiv\",1,\"\")","v":""}]
[null,null,null,null,null,null,null,null,null,null,null,null,null,null,null,null,null,null,null,null,null,null,null,null,null,null,null,null,null,null,null,null,null,null,null,null,null,null,null,null,null,null,null,null,null,{"$f":"IF(Indtastning!Y:Y=\"Ikke Aflagt\",1,\"\")","v":""},null,null,{"$f":"IF(Indtastning!U:U=\"Positiv\",1,\"\")","v":""},null,null,null,{"$f":"IF(Indtastning!Y:Y=\"Positiv\",1,\"\")","v":""},null,null,null,{"$f":"IF(Indtastning!AC:AC=\"Positiv\",1,\"\")","v":""},null,null,null,{"$f":"IF(Indtastning!AG:AG=\"Positiv\",1,\"\")","v":""}]
[null,null,null,null,null,null,null,null,null,null,null,null,null,null,null,null,null,null,null,null,null,null,null,null,null,null,null,null,null,null,null,null,null,null,null,null,null,null,null,null,null,null,null,null,null,{"$f":"IF(Indtastning!Y:Y=\"Ikke Aflagt\",1,\"\")","v":""},null,null,{"$f":"IF(Indtastning!U:U=\"Positiv\",1,\"\")","v":""},null,null,null,{"$f":"IF(Indtastning!Y:Y=\"Positiv\",1,\"\")","v":""},null,null,null,{"$f":"IF(Indtastning!AC:AC=\"Positiv\",1,\"\")","v":""},null,null,null,{"$f":"IF(Indtastning!AG:AG=\"Positiv\",1,\"\")","v":""}]
[null,null,null,null,null,null,null,null,null,null,null,null,null,null,null,null,null,null,null,null,null,null,null,null,null,null,null,null,null,null,null,null,null,null,null,null,null,null,null,null,null,null,null,null,null,{"$f":"IF(Indtastning!Y:Y=\"Ikke Aflagt\",1,\"\")","v":""},null,null,{"$f":"IF(Indtastning!U:U=\"Positiv\",1,\"\")","v":""},null,null,null,{"$f":"IF(Indtastning!Y:Y=\"Positiv\",1,\"\")","v":""},null,null,null,{"$f":"IF(Indtastning!AC:AC=\"Positiv\",1,\"\")","v":""},null,null,null,{"$f":"IF(Indtastning!AG:AG=\"Positiv\",1,\"\")","v":""}]
[null,null,null,null,null,null,null,null,null,null,null,null,null,null,null,null,null,null,null,null,null,null,null,null,null,null,null,null,null,null,null,null,null,null,null,null,null,null,null,null,null,null,null,null,null,{"$f":"IF(Indtastning!Y:Y=\"Ikke Aflagt\",1,\"\")","v":""},null,null,{"$f":"IF(Indtastning!U:U=\"Positiv\",1,\"\")","v":""},null,null,null,{"$f":"IF(Indtastning!Y:Y=\"Positiv\",1,\"\")","v":""},null,null,null,{"$f":"IF(Indtastning!AC:AC=\"Positiv\",1,\"\")","v":""},null,null,null,{"$f":"IF(Indtastning!AG:AG=\"Positiv\",1,\"\")","v":""}]
[null,null,null,null,null,null,null,null,null,null,null,null,null,null,null,null,null,null,null,null,null,null,null,null,null,null,null,null,null,null,null,null,null,null,null,null,null,null,null,null,null,null,null,null,null,{"$f":"IF(Indtastning!Y:Y=\"Ikke Aflagt\",1,\"\")","v":""},null,null,{"$f":"IF(Indtastning!U:U=\"Positiv\",1,\"\")","v":""},null,null,null,{"$f":"IF(Indtastning!Y:Y=\"Positiv\",1,\"\")","v":""},null,null,null,{"$f":"IF(Indtastning!AC:AC=\"Positiv\",1,\"\")","v":""},null,null,null,{"$f":"IF(Indtastning!AG:AG=\"Positiv\",1,\"\")","v":""}]
[null,null,null,null,null,null,null,null,null,null,null,null,null,null,null,null,null,null,null,null,null,null,null,null,null,null,null,null,null,null,null,null,null,null,null,null,null,null,null,null,null,null,null,null,null,{"$f":"IF(Indtastning!Y:Y=\"Ikke Aflagt\",1,\"\")","v":""},null,null,{"$f":"IF(Indtastning!U:U=\"Positiv\",1,\"\")","v":""},null,null,null,{"$f":"IF(Indtastning!Y:Y=\"Positiv\",1,\"\")","v":""},null,null,null,{"$f":"IF(Indtastning!AC:AC=\"Positiv\",1,\"\")","v":""},null,null,null,{"$f":"IF(Indtastning!AG:AG=\"Positiv\",1,\"\")","v":""}]
[null,null,null,null,null,null,null,null,null,null,null,null,null,null,null,null,null,null,null,null,null,null,null,null,null,null,null,null,null,null,null,null,null,null,null,null,null,null,null,null,null,null,null,null,null,{"$f":"IF(Indtastning!Y:Y=\"Ikke Aflagt\",1,\"\")","v":""},null,null,{"$f":"IF(Indtastning!U:U=\"Positiv\",1,\"\")","v":""},null,null,null,{"$f":"IF(Indtastning!Y:Y=\"Positiv\",1,\"\")","v":""},null,null,null,{"$f":"IF(Indtastning!AC:AC=\"Positiv\",1,\"\")","v":""},null,null,null,{"$f":"IF(Indtastning!AG:AG=\"Positiv\",1,\"\")","v":""}]
[null,null,null,null,null,null,null,null,null,null,null,null,null,null,null,null,null,null,null,null,null,null,null,null,null,null,null,null,null,null,null,null,null,null,null,null,null,null,null,null,null,null,null,null,null,{"$f":"IF(Indtastning!Y:Y=\"Ikke Aflagt\",1,\"\")","v":""},null,null,{"$f":"IF(Indtastning!U:U=\"Positiv\",1,\"\")","v":""},null,null,null,{"$f":"IF(Indtastning!Y:Y=\"Positiv\",1,\"\")","v":""},null,null,null,{"$f":"IF(Indtastning!AC:AC=\"Positiv\",1,\"\")","v":""},null,null,null,{"$f":"IF(Indtastning!AG:AG=\"Positiv\",1,\"\")","v":""}]
[null,null,null,null,null,null,null,null,null,null,null,null,null,null,null,null,null,null,null,null,null,null,null,null,null,null,null,null,null,null,null,null,null,null,null,null,null,null,null,null,null,null,null,null,null,{"$f":"IF(Indtastning!Y:Y=\"Ikke Aflagt\",1,\"\")","v":""},null,null,{"$f":"IF(Indtastning!U:U=\"Positiv\",1,\"\")","v":""},null,null,null,{"$f":"IF(Indtastning!Y:Y=\"Positiv\",1,\"\")","v":""},null,null,null,{"$f":"IF(Indtastning!AC:AC=\"Positiv\",1,\"\")","v":""},null,null,null,{"$f":"IF(Indtastning!AG:AG=\"Positiv\",1,\"\")","v":""}]
[null,null,null,null,null,null,null,null,null,null,null,null,null,null,null,null,null,null,null,null,null,null,null,null,null,null,null,null,null,null,null,null,null,null,null,null,null,null,null,null,null,null,null,null,null,{"$f":"IF(Indtastning!Y:Y=\"Ikke Aflagt\",1,\"\")","v":""},null,null,{"$f":"IF(Indtastning!U:U=\"Positiv\",1,\"\")","v":""},null,null,null,{"$f":"IF(Indtastning!Y:Y=\"Positiv\",1,\"\")","v":""},null,null,null,{"$f":"IF(Indtastning!AC:AC=\"Positiv\",1,\"\")","v":""},null,null,null,{"$f":"IF(Indtastning!AG:AG=\"Positiv\",1,\"\")","v":""}]
[null,null,null,null,null,null,null,null,null,null,null,null,null,null,null,null,null,null,null,null,null,null,null,null,null,null,null,null,null,null,null,null,null,null,null,null,null,null,null,null,null,null,null,null,null,{"$f":"IF(Indtastning!Y:Y=\"Ikke Aflagt\",1,\"\")","v":""},null,null,{"$f":"IF(Indtastning!U:U=\"Positiv\",1,\"\")","v":""},null,null,null,{"$f":"IF(Indtastning!Y:Y=\"Positiv\",1,\"\")","v":""},null,null,null,{"$f":"IF(Indtastning!AC:AC=\"Positiv\",1,\"\")","v":""},null,null,null,{"$f":"IF(Indtastning!AG:AG=\"Positiv\",1,\"\")","v":""}]
[null,null,null,null,null,null,null,null,null,null,null,null,null,null,null,null,null,null,null,null,null,null,null,null,null,null,null,null,null,null,null,null,null,null,null,null,null,null,null,null,null,null,null,null,null,{"$f":"IF(Indtastning!Y:Y=\"Ikke Aflagt\",1,\"\")","v":""},null,null,{"$f":"IF(Indtastning!U:U=\"Positiv\",1,\"\")","v":""},null,null,null,{"$f":"IF(Indtastning!Y:Y=\"Positiv\",1,\"\")","v":""},null,null,null,{"$f":"IF(Indtastning!AC:AC=\"Positiv\",1,\"\")","v":""},null,null,null,{"$f":"IF(Indtastning!AG:AG=\"Positiv\",1,\"\")","v":""}]
[null,null,null,null,null,null,null,null,null,null,null,null,null,null,null,null,null,null,null,null,null,null,null,null,null,null,null,null,null,null,null,null,null,null,null,null,null,null,null,null,null,null,null,null,null,{"$f":"IF(Indtastning!Y:Y=\"Ikke Aflagt\",1,\"\")","v":""},null,null,{"$f":"IF(Indtastning!U:U=\"Positiv\",1,\"\")","v":""},null,null,null,{"$f":"IF(Indtastning!Y:Y=\"Positiv\",1,\"\")","v":""},null,null,null,{"$f":"IF(Indtastning!AC:AC=\"Positiv\",1,\"\")","v":""},null,null,null,{"$f":"IF(Indtastning!AG:AG=\"Positiv\",1,\"\")","v":""}]
[null,null,null,null,null,null,null,null,null,null,null,null,null,null,null,null,null,null,null,null,null,null,null,null,null,null,null,null,null,null,null,null,null,null,null,null,null,null,null,null,null,null,null,null,null,{"$f":"IF(Indtastning!Y:Y=\"Ikke Aflagt\",1,\"\")","v":""},null,null,{"$f":"IF(Indtastning!U:U=\"Positiv\",1,\"\")","v":""},null,null,null,{"$f":"IF(Indtastning!Y:Y=\"Positiv\",1,\"\")","v":""},null,null,null,{"$f":"IF(Indtastning!AC:AC=\"Positiv\",1,\"\")","v":""},null,null,null,{"$f":"IF(Indtastning!AG:AG=\"Positiv\",1,\"\")","v":""}]
[null,null,null,null,null,null,null,null,null,null,null,null,null,null,null,null,null,null,null,null,null,null,null,null,null,null,null,null,null,null,null,null,null,null,null,null,null,null,null,null,null,null,null,null,null,{"$f":"IF(Indtastning!Y:Y=\"Ikke Aflagt\",1,\"\")","v":""},null,null,{"$f":"IF(Indtastning!U:U=\"Positiv\",1,\"\")","v":""},null,null,null,{"$f":"IF(Indtastning!Y:Y=\"Positiv\",1,\"\")","v":""},null,null,null,{"$f":"IF(Indtastning!AC:AC=\"Positiv\",1,\"\")","v":""},null,null,null,{"$f":"IF(Indtastning!AG:AG=\"Positiv\",1,\"\")","v":""}]
[null,null,null,null,null,null,null,null,null,null,null,null,null,null,null,null,null,null,null,null,null,null,null,null,null,null,null,null,null,null,null,null,null,null,null,null,null,null,null,null,null,null,null,null,null,{"$f":"IF(Indtastning!Y:Y=\"Ikke Aflagt\",1,\"\")","v":""},null,null,{"$f":"IF(Indtastning!U:U=\"Positiv\",1,\"\")","v":""},null,null,null,{"$f":"IF(Indtastning!Y:Y=\"Positiv\",1,\"\")","v":""},null,null,null,{"$f":"IF(Indtastning!AC:AC=\"Positiv\",1,\"\")","v":""},null,null,null,{"$f":"IF(Indtastning!AG:AG=\"Positiv\",1,\"\")","v":""}]
[null,null,null,null,null,null,null,null,null,null,null,null,null,null,null,null,null,null,null,null,null,null,null,null,null,null,null,null,null,null,null,null,null,null,null,null,null,null,null,null,null,null,null,null,null,{"$f":"IF(Indtastning!Y:Y=\"Ikke Aflagt\",1,\"\")","v":""},null,null,{"$f":"IF(Indtastning!U:U=\"Positiv\",1,\"\")","v":""},null,null,null,{"$f":"IF(Indtastning!Y:Y=\"Positiv\",1,\"\")","v":""},null,null,null,{"$f":"IF(Indtastning!AC:AC=\"Positiv\",1,\"\")","v":""},null,null,null,{"$f":"IF(Indtastning!AG:AG=\"Positiv\",1,\"\")","v":""}]
[null,null,null,null,null,null,null,null,null,null,null,null,null,null,null,null,null,null,null,null,null,null,null,null,null,null,null,null,null,null,null,null,null,null,null,null,null,null,null,null,null,null,null,null,null,{"$f":"IF(Indtastning!Y:Y=\"Ikke Aflagt\",1,\"\")","v":""},null,null,{"$f":"IF(Indtastning!U:U=\"Positiv\",1,\"\")","v":""},null,null,null,{"$f":"IF(Indtastning!Y:Y=\"Positiv\",1,\"\")","v":""},null,null,null,{"$f":"IF(Indtastning!AC:AC=\"Positiv\",1,\"\")","v":""},null,null,null,{"$f":"IF(Indtastning!AG:AG=\"Positiv\",1,\"\")","v":""}]
[null,null,null,null,null,null,null,null,null,null,null,null,null,null,null,null,null,null,null,null,null,null,null,null,null,null,null,null,null,null,null,null,null,null,null,null,null,null,null,null,null,null,null,null,null,{"$f":"IF(Indtastning!Y:Y=\"Ikke Aflagt\",1,\"\")","v":""},null,null,{"$f":"IF(Indtastning!U:U=\"Positiv\",1,\"\")","v":""},null,null,null,{"$f":"IF(Indtastning!Y:Y=\"Positiv\",1,\"\")","v":""},null,null,null,{"$f":"IF(Indtastning!AC:AC=\"Positiv\",1,\"\")","v":""},null,null,null,{"$f":"IF(Indtastning!AG:AG=\"Positiv\",1,\"\")","v":""}]
[null,null,null,null,null,null,null,null,null,null,null,null,null,null,null,null,null,null,null,null,null,null,null,null,null,null,null,null,null,null,null,null,null,null,null,null,null,null,null,null,null,null,null,null,null,{"$f":"IF(Indtastning!Y:Y=\"Ikke Aflagt\",1,\"\")","v":""},null,null,{"$f":"IF(Indtastning!U:U=\"Positiv\",1,\"\")","v":""},null,null,null,{"$f":"IF(Indtastning!Y:Y=\"Positiv\",1,\"\")","v":""},null,null,null,{"$f":"IF(Indtastning!AC:AC=\"Positiv\",1,\"\")","v":""},null,null,null,{"$f":"IF(Indtastning!AG:AG=\"Positiv\",1,\"\")","v":""}]
[null,null,null,null,null,null,null,null,null,null,null,null,null,null,null,null,null,null,null,null,null,null,null,null,null,null,null,null,null,null,null,null,null,null,null,null,null,null,null,null,null,null,null,null,null,{"$f":"IF(Indtastning!Y:Y=\"Ikke Aflagt\",1,\"\")","v":""},null,null,{"$f":"IF(Indtastning!U:U=\"Positiv\",1,\"\")","v":""},null,null,null,{"$f":"IF(Indtastning!Y:Y=\"Positiv\",1,\"\")","v":""},null,null,null,{"$f":"IF(Indtastning!AC:AC=\"Positiv\",1,\"\")","v":""},null,null,null,{"$f":"IF(Indtastning!AG:AG=\"Positiv\",1,\"\")","v":""}]
[null,null,null,null,null,null,null,null,null,null,null,null,null,null,null,null,null,null,null,null,null,null,null,null,null,null,null,null,null,null,null,null,null,null,null,null,null,null,null,null,null,null,null,null,null,{"$f":"IF(Indtastning!Y:Y=\"Ikke Aflagt\",1,\"\")","v":""},null,null,{"$f":"IF(Indtastning!U:U=\"Positiv\",1,\"\")","v":""},null,null,null,{"$f":"IF(Indtastning!Y:Y=\"Positiv\",1,\"\")","v":""},null,null,null,{"$f":"IF(Indtastning!AC:AC=\"Positiv\",1,\"\")","v":""},null,null,null,{"$f":"IF(Indtastning!AG:AG=\"Positiv\",1,\"\")","v":""}]
[null,null,null,null,null,null,null,null,null,null,null,null,null,null,null,null,null,null,null,null,null,null,null,null,null,null,null,null,null,null,null,null,null,null,null,null,null,null,null,null,null,null,null,null,null,{"$f":"IF(Indtastning!Y:Y=\"Ikke Aflagt\",1,\"\")","v":""},null,null,{"$f":"IF(Indtastning!U:U=\"Positiv\",1,\"\")","v":""},null,null,null,{"$f":"IF(Indtastning!Y:Y=\"Positiv\",1,\"\")","v":""},null,null,null,{"$f":"IF(Indtastning!AC:AC=\"Positiv\",1,\"\")","v":""},null,null,null,{"$f":"IF(Indtastning!AG:AG=\"Positiv\",1,\"\")","v":""}]
[null,null,null,null,null,null,null,null,null,null,null,null,null,null,null,null,null,null,null,null,null,null,null,null,null,null,null,null,null,null,null,null,null,null,null,null,null,null,null,null,null,null,null,null,null,{"$f":"IF(Indtastning!Y:Y=\"Ikke Aflagt\",1,\"\")","v":""},null,null,{"$f":"IF(Indtastning!U:U=\"Positiv\",1,\"\")","v":""},null,null,null,{"$f":"IF(Indtastning!Y:Y=\"Positiv\",1,\"\")","v":""},null,null,null,{"$f":"IF(Indtastning!AC:AC=\"Positiv\",1,\"\")","v":""},null,null,null,{"$f":"IF(Indtastning!AG:AG=\"Positiv\",1,\"\")","v":""}]
[null,null,null,null,null,null,null,null,null,null,null,null,null,null,null,null,null,null,null,null,null,null,null,null,null,null,null,null,null,null,null,null,null,null,null,null,null,null,null,null,null,null,null,null,null,{"$f":"IF(Indtastning!Y:Y=\"Ikke Aflagt\",1,\"\")","v":""},null,null,{"$f":"IF(Indtastning!U:U=\"Positiv\",1,\"\")","v":""},null,null,null,{"$f":"IF(Indtastning!Y:Y=\"Positiv\",1,\"\")","v":""},null,null,null,{"$f":"IF(Indtastning!AC:AC=\"Positiv\",1,\"\")","v":""},null,null,null,{"$f":"IF(Indtastning!AG:AG=\"Positiv\",1,\"\")","v":""}]
[null,null,null,null,null,null,null,null,null,null,null,null,null,null,null,null,null,null,null,null,null,null,null,null,null,null,null,null,null,null,null,null,null,null,null,null,null,null,null,null,null,null,null,null,null,{"$f":"IF(Indtastning!Y:Y=\"Ikke Aflagt\",1,\"\")","v":""},null,null,{"$f":"IF(Indtastning!U:U=\"Positiv\",1,\"\")","v":""},null,null,null,{"$f":"IF(Indtastning!Y:Y=\"Positiv\",1,\"\")","v":""},null,null,null,{"$f":"IF(Indtastning!AC:AC=\"Positiv\",1,\"\")","v":""},null,null,null,{"$f":"IF(Indtastning!AG:AG=\"Positiv\",1,\"\")","v":""}]
[null,null,null,null,null,null,null,null,null,null,null,null,null,null,null,null,null,null,null,null,null,null,null,null,null,null,null,null,null,null,null,null,null,null,null,null,null,null,null,null,null,null,null,null,null,{"$f":"IF(Indtastning!Y:Y=\"Ikke Aflagt\",1,\"\")","v":""},null,null,{"$f":"IF(Indtastning!U:U=\"Positiv\",1,\"\")","v":""},null,null,null,{"$f":"IF(Indtastning!Y:Y=\"Positiv\",1,\"\")","v":""},null,null,null,{"$f":"IF(Indtastning!AC:AC=\"Positiv\",1,\"\")","v":""},null,null,null,{"$f":"IF(Indtastning!AG:AG=\"Positiv\",1,\"\")","v":""}]
[null,null,null,null,null,null,null,null,null,null,null,null,null,null,null,null,null,null,null,null,null,null,null,null,null,null,null,null,null,null,null,null,null,null,null,null,null,null,null,null,null,null,null,null,null,{"$f":"IF(Indtastning!Y:Y=\"Ikke Aflagt\",1,\"\")","v":""},null,null,{"$f":"IF(Indtastning!U:U=\"Positiv\",1,\"\")","v":""},null,null,null,{"$f":"IF(Indtastning!Y:Y=\"Positiv\",1,\"\")","v":""},null,null,null,{"$f":"IF(Indtastning!AC:AC=\"Positiv\",1,\"\")","v":""},null,null,null,{"$f":"IF(Indtastning!AG:AG=\"Positiv\",1,\"\")","v":""}]
[null,null,null,null,null,null,null,null,null,null,null,null,null,null,null,null,null,null,null,null,null,null,null,null,null,null,null,null,null,null,null,null,null,null,null,null,null,null,null,null,null,null,null,null,null,{"$f":"IF(Indtastning!Y:Y=\"Ikke Aflagt\",1,\"\")","v":""},null,null,{"$f":"IF(Indtastning!U:U=\"Positiv\",1,\"\")","v":""},null,null,null,{"$f":"IF(Indtastning!Y:Y=\"Positiv\",1,\"\")","v":""},null,null,null,{"$f":"IF(Indtastning!AC:AC=\"Positiv\",1,\"\")","v":""},null,null,null,{"$f":"IF(Indtastning!AG:AG=\"Positiv\",1,\"\")","v":""}]
[null,null,null,null,null,null,null,null,null,null,null,null,null,null,null,null,null,null,null,null,null,null,null,null,null,null,null,null,null,null,null,null,null,null,null,null,null,null,null,null,null,null,null,null,null,{"$f":"IF(Indtastning!Y:Y=\"Ikke Aflagt\",1,\"\")","v":""},null,null,{"$f":"IF(Indtastning!U:U=\"Positiv\",1,\"\")","v":""},null,null,null,{"$f":"IF(Indtastning!Y:Y=\"Positiv\",1,\"\")","v":""},null,null,null,{"$f":"IF(Indtastning!AC:AC=\"Positiv\",1,\"\")","v":""},null,null,null,{"$f":"IF(Indtastning!AG:AG=\"Positiv\",1,\"\")","v":""}]
[null,null,null,null,null,null,null,null,null,null,null,null,null,null,null,null,null,null,null,null,null,null,null,null,null,null,null,null,null,null,null,null,null,null,null,null,null,null,null,null,null,null,null,null,null,{"$f":"IF(Indtastning!Y:Y=\"Ikke Aflagt\",1,\"\")","v":""},null,null,{"$f":"IF(Indtastning!U:U=\"Positiv\",1,\"\")","v":""},null,null,null,{"$f":"IF(Indtastning!Y:Y=\"Positiv\",1,\"\")","v":""},null,null,null,{"$f":"IF(Indtastning!AC:AC=\"Positiv\",1,\"\")","v":""},null,null,null,{"$f":"IF(Indtastning!AG:AG=\"Positiv\",1,\"\")","v":""}]
[null,null,null,null,null,null,null,null,null,null,null,null,null,null,null,null,null,null,null,null,null,null,null,null,null,null,null,null,null,null,null,null,null,null,null,null,null,null,null,null,null,null,null,null,null,{"$f":"IF(Indtastning!Y:Y=\"Ikke Aflagt\",1,\"\")","v":""},null,null,{"$f":"IF(Indtastning!U:U=\"Positiv\",1,\"\")","v":""},null,null,null,{"$f":"IF(Indtastning!Y:Y=\"Positiv\",1,\"\")","v":""},null,null,null,{"$f":"IF(Indtastning!AC:AC=\"Positiv\",1,\"\")","v":""},null,null,null,{"$f":"IF(Indtastning!AG:AG=\"Positiv\",1,\"\")","v":""}]
[null,null,null,null,null,null,null,null,null,null,null,null,null,null,null,null,null,null,null,null,null,null,null,null,null,null,null,null,null,null,null,null,null,null,null,null,null,null,null,null,null,null,null,null,null,{"$f":"IF(Indtastning!Y:Y=\"Ikke Aflagt\",1,\"\")","v":""},null,null,{"$f":"IF(Indtastning!U:U=\"Positiv\",1,\"\")","v":""},null,null,null,{"$f":"IF(Indtastning!Y:Y=\"Positiv\",1,\"\")","v":""},null,null,null,{"$f":"IF(Indtastning!AC:AC=\"Positiv\",1,\"\")","v":""},null,null,null,{"$f":"IF(Indtastning!AG:AG=\"Positiv\",1,\"\")","v":""}]
[null,null,null,null,null,null,null,null,null,null,null,null,null,null,null,null,null,null,null,null,null,null,null,null,null,null,null,null,null,null,null,null,null,null,null,null,null,null,null,null,null,null,null,null,null,{"$f":"IF(Indtastning!Y:Y=\"Ikke Aflagt\",1,\"\")","v":""},null,null,{"$f":"IF(Indtastning!U:U=\"Positiv\",1,\"\")","v":""},null,null,null,{"$f":"IF(Indtastning!Y:Y=\"Positiv\",1,\"\")","v":""},null,null,null,{"$f":"IF(Indtastning!AC:AC=\"Positiv\",1,\"\")","v":""},null,null,null,{"$f":"IF(Indtastning!AG:AG=\"Positiv\",1,\"\")","v":""}]
[null,null,null,null,null,null,null,null,null,null,null,null,null,null,null,null,null,null,null,null,null,null,null,null,null,null,null,null,null,null,null,null,null,null,null,null,null,null,null,null,null,null,null,null,null,{"$f":"IF(Indtastning!Y:Y=\"Ikke Aflagt\",1,\"\")","v":""},null,null,{"$f":"IF(Indtastning!U:U=\"Positiv\",1,\"\")","v":""},null,null,null,{"$f":"IF(Indtastning!Y:Y=\"Positiv\",1,\"\")","v":""},null,null,null,{"$f":"IF(Indtastning!AC:AC=\"Positiv\",1,\"\")","v":""},null,null,null,{"$f":"IF(Indtastning!AG:AG=\"Positiv\",1,\"\")","v":""}]
[null,null,null,null,null,null,null,null,null,null,null,null,null,null,null,null,null,null,null,null,null,null,null,null,null,null,null,null,null,null,null,null,null,null,null,null,null,null,null,null,null,null,null,null,null,{"$f":"IF(Indtastning!Y:Y=\"Ikke Aflagt\",1,\"\")","v":""},null,null,{"$f":"IF(Indtastning!U:U=\"Positiv\",1,\"\")","v":""},null,null,null,{"$f":"IF(Indtastning!Y:Y=\"Positiv\",1,\"\")","v":""},null,null,null,{"$f":"IF(Indtastning!AC:AC=\"Positiv\",1,\"\")","v":""},null,null,null,{"$f":"IF(Indtastning!AG:AG=\"Positiv\",1,\"\")","v":""}]
[null,null,null,null,null,null,null,null,null,null,null,null,null,null,null,null,null,null,null,null,null,null,null,null,null,null,null,null,null,null,null,null,null,null,null,null,null,null,null,null,null,null,null,null,null,{"$f":"IF(Indtastning!Y:Y=\"Ikke Aflagt\",1,\"\")","v":""},null,null,{"$f":"IF(Indtastning!U:U=\"Positiv\",1,\"\")","v":""},null,null,null,{"$f":"IF(Indtastning!Y:Y=\"Positiv\",1,\"\")","v":""},null,null,null,{"$f":"IF(Indtastning!AC:AC=\"Positiv\",1,\"\")","v":""},null,null,null,{"$f":"IF(Indtastning!AG:AG=\"Positiv\",1,\"\")","v":""}]
[null,null,null,null,null,null,null,null,null,null,null,null,null,null,null,null,null,null,null,null,null,null,null,null,null,null,null,null,null,null,null,null,null,null,null,null,null,null,null,null,null,null,null,null,null,{"$f":"IF(Indtastning!Y:Y=\"Ikke Aflagt\",1,\"\")","v":""},null,null,{"$f":"IF(Indtastning!U:U=\"Positiv\",1,\"\")","v":""},null,null,null,{"$f":"IF(Indtastning!Y:Y=\"Positiv\",1,\"\")","v":""},null,null,null,{"$f":"IF(Indtastning!AC:AC=\"Positiv\",1,\"\")","v":""},null,null,null,{"$f":"IF(Indtastning!AG:AG=\"Positiv\",1,\"\")","v":""}]
[null,null,null,null,null,null,null,null,null,null,null,null,null,null,null,null,null,null,null,null,null,null,null,null,null,null,null,null,null,null,null,null,null,null,null,null,null,null,null,null,null,null,null,null,null,{"$f":"IF(Indtastning!Y:Y=\"Ikke Aflagt\",1,\"\")","v":""},null,null,{"$f":"IF(Indtastning!U:U=\"Positiv\",1,\"\")","v":""},null,null,null,{"$f":"IF(Indtastning!Y:Y=\"Positiv\",1,\"\")","v":""},null,null,null,{"$f":"IF(Indtastning!AC:AC=\"Positiv\",1,\"\")","v":""},null,null,null,{"$f":"IF(Indtastning!AG:AG=\"Positiv\",1,\"\")","v":""}]
[null,null,null,null,null,null,null,null,null,null,null,null,null,null,null,null,null,null,null,null,null,null,null,null,null,null,null,null,null,null,null,null,null,null,null,null,null,null,null,null,null,null,null,null,null,{"$f":"IF(Indtastning!Y:Y=\"Ikke Aflagt\",1,\"\")","v":""},null,null,{"$f":"IF(Indtastning!U:U=\"Positiv\",1,\"\")","v":""},null,null,null,{"$f":"IF(Indtastning!Y:Y=\"Positiv\",1,\"\")","v":""},null,null,null,{"$f":"IF(Indtastning!AC:AC=\"Positiv\",1,\"\")","v":""},null,null,null,{"$f":"IF(Indtastning!AG:AG=\"Positiv\",1,\"\")","v":""}]
[null,null,null,null,null,null,null,null,null,null,null,null,null,null,null,null,null,null,null,null,null,null,null,null,null,null,null,null,null,null,null,null,null,null,null,null,null,null,null,null,null,null,null,null,null,{"$f":"IF(Indtastning!Y:Y=\"Ikke Aflagt\",1,\"\")","v":""},null,null,{"$f":"IF(Indtastning!U:U=\"Positiv\",1,\"\")","v":""},null,null,null,{"$f":"IF(Indtastning!Y:Y=\"Positiv\",1,\"\")","v":""},null,null,null,{"$f":"IF(Indtastning!AC:AC=\"Positiv\",1,\"\")","v":""},null,null,null,{"$f":"IF(Indtastning!AG:AG=\"Positiv\",1,\"\")","v":""}]
[null,null,null,null,null,null,null,null,null,null,null,null,null,null,null,null,null,null,null,null,null,null,null,null,null,null,null,null,null,null,null,null,null,null,null,null,null,null,null,null,null,null,null,null,null,{"$f":"IF(Indtastning!Y:Y=\"Ikke Aflagt\",1,\"\")","v":""},null,null,{"$f":"IF(Indtastning!U:U=\"Positiv\",1,\"\")","v":""},null,null,null,{"$f":"IF(Indtastning!Y:Y=\"Positiv\",1,\"\")","v":""},null,null,null,{"$f":"IF(Indtastning!AC:AC=\"Positiv\",1,\"\")","v":""},null,null,null,{"$f":"IF(Indtastning!AG:AG=\"Positiv\",1,\"\")","v":""}]
[null,null,null,null,null,null,null,null,null,null,null,null,null,null,null,null,null,null,null,null,null,null,null,null,null,null,null,null,null,null,null,null,null,null,null,null,null,null,null,null,null,null,null,null,null,{"$f":"IF(Indtastning!Y:Y=\"Ikke Aflagt\",1,\"\")","v":""},null,null,{"$f":"IF(Indtastning!U:U=\"Positiv\",1,\"\")","v":""},null,null,null,{"$f":"IF(Indtastning!Y:Y=\"Positiv\",1,\"\")","v":""},null,null,null,{"$f":"IF(Indtastning!AC:AC=\"Positiv\",1,\"\")","v":""},null,null,null,{"$f":"IF(Indtastning!AG:AG=\"Positiv\",1,\"\")","v":""}]
[null,null,null,null,null,null,null,null,null,null,null,null,null,null,null,null,null,null,null,null,null,null,null,null,null,null,null,null,null,null,null,null,null,null,null,null,null,null,null,null,null,null,null,null,null,{"$f":"IF(Indtastning!Y:Y=\"Ikke Aflagt\",1,\"\")","v":""},null,null,{"$f":"IF(Indtastning!U:U=\"Positiv\",1,\"\")","v":""},null,null,null,{"$f":"IF(Indtastning!Y:Y=\"Positiv\",1,\"\")","v":""},null,null,null,{"$f":"IF(Indtastning!AC:AC=\"Positiv\",1,\"\")","v":""},null,null,null,{"$f":"IF(Indtastning!AG:AG=\"Positiv\",1,\"\")","v":""}]
[null,null,null,null,null,null,null,null,null,null,null,null,null,null,null,null,null,null,null,null,null,null,null,null,null,null,null,null,null,null,null,null,null,null,null,null,null,null,null,null,null,null,null,null,null,{"$f":"IF(Indtastning!Y:Y=\"Ikke Aflagt\",1,\"\")","v":""},null,null,{"$f":"IF(Indtastning!U:U=\"Positiv\",1,\"\")","v":""},null,null,null,{"$f":"IF(Indtastning!Y:Y=\"Positiv\",1,\"\")","v":""},null,null,null,{"$f":"IF(Indtastning!AC:AC=\"Positiv\",1,\"\")","v":""},null,null,null,{"$f":"IF(Indtastning!AG:AG=\"Positiv\",1,\"\")","v":""}]
[null,null,null,null,null,null,null,null,null,null,null,null,null,null,null,null,null,null,null,null,null,null,null,null,null,null,null,null,null,null,null,null,null,null,null,null,null,null,null,null,null,null,null,null,null,{"$f":"IF(Indtastning!Y:Y=\"Ikke Aflagt\",1,\"\")","v":""},null,null,{"$f":"IF(Indtastning!U:U=\"Positiv\",1,\"\")","v":""},null,null,null,{"$f":"IF(Indtastning!Y:Y=\"Positiv\",1,\"\")","v":""},null,null,null,{"$f":"IF(Indtastning!AC:AC=\"Positiv\",1,\"\")","v":""},null,null,null,{"$f":"IF(Indtastning!AG:AG=\"Positiv\",1,\"\")","v":""}]
[null,null,null,null,null,null,null,null,null,null,null,null,null,null,null,null,null,null,null,null,null,null,null,null,null,null,null,null,null,null,null,null,null,null,null,null,null,null,null,null,null,null,null,null,null,{"$f":"IF(Indtastning!Y:Y=\"Ikke Aflagt\",1,\"\")","v":""},null,null,{"$f":"IF(Indtastning!U:U=\"Positiv\",1,\"\")","v":""},null,null,null,{"$f":"IF(Indtastning!Y:Y=\"Positiv\",1,\"\")","v":""},null,null,null,{"$f":"IF(Indtastning!AC:AC=\"Positiv\",1,\"\")","v":""},null,null,null,{"$f":"IF(Indtastning!AG:AG=\"Positiv\",1,\"\")","v":""}]
[null,null,null,null,null,null,null,null,null,null,null,null,null,null,null,null,null,null,null,null,null,null,null,null,null,null,null,null,null,null,null,null,null,null,null,null,null,null,null,null,null,null,null,null,null,{"$f":"IF(Indtastning!Y:Y=\"Ikke Aflagt\",1,\"\")","v":""},null,null,{"$f":"IF(Indtastning!U:U=\"Positiv\",1,\"\")","v":""},null,null,null,{"$f":"IF(Indtastning!Y:Y=\"Positiv\",1,\"\")","v":""},null,null,null,{"$f":"IF(Indtastning!AC:AC=\"Positiv\",1,\"\")","v":""},null,null,null,{"$f":"IF(Indtastning!AG:AG=\"Positiv\",1,\"\")","v":""}]
[null,null,null,null,null,null,null,null,null,null,null,null,null,null,null,null,null,null,null,null,null,null,null,null,null,null,null,null,null,null,null,null,null,null,null,null,null,null,null,null,null,null,null,null,null,{"$f":"IF(Indtastning!Y:Y=\"Ikke Aflagt\",1,\"\")","v":""},null,null,{"$f":"IF(Indtastning!U:U=\"Positiv\",1,\"\")","v":""},null,null,null,{"$f":"IF(Indtastning!Y:Y=\"Positiv\",1,\"\")","v":""},null,null,null,{"$f":"IF(Indtastning!AC:AC=\"Positiv\",1,\"\")","v":""},null,null,null,{"$f":"IF(Indtastning!AG:AG=\"Positiv\",1,\"\")","v":""}]
[null,null,null,null,null,null,null,null,null,null,null,null,null,null,null,null,null,null,null,null,null,null,null,null,null,null,null,null,null,null,null,null,null,null,null,null,null,null,null,null,null,null,null,null,null,{"$f":"IF(Indtastning!Y:Y=\"Ikke Aflagt\",1,\"\")","v":""},null,null,{"$f":"IF(Indtastning!U:U=\"Positiv\",1,\"\")","v":""},null,null,null,{"$f":"IF(Indtastning!Y:Y=\"Positiv\",1,\"\")","v":""},null,null,null,{"$f":"IF(Indtastning!AC:AC=\"Positiv\",1,\"\")","v":""},null,null,null,{"$f":"IF(Indtastning!AG:AG=\"Positiv\",1,\"\")","v":""}]
[null,null,null,null,null,null,null,null,null,null,null,null,null,null,null,null,null,null,null,null,null,null,null,null,null,null,null,null,null,null,null,null,null,null,null,null,null,null,null,null,null,null,null,null,null,{"$f":"IF(Indtastning!Y:Y=\"Ikke Aflagt\",1,\"\")","v":""},null,null,{"$f":"IF(Indtastning!U:U=\"Positiv\",1,\"\")","v":""},null,null,null,{"$f":"IF(Indtastning!Y:Y=\"Positiv\",1,\"\")","v":""},null,null,null,{"$f":"IF(Indtastning!AC:AC=\"Positiv\",1,\"\")","v":""},null,null,null,{"$f":"IF(Indtastning!AG:AG=\"Positiv\",1,\"\")","v":""}]
[null,null,null,null,null,null,null,null,null,null,null,null,null,null,null,null,null,null,null,null,null,null,null,null,null,null,null,null,null,null,null,null,null,null,null,null,null,null,null,null,null,null,null,null,null,{"$f":"IF(Indtastning!Y:Y=\"Ikke Aflagt\",1,\"\")","v":""},null,null,{"$f":"IF(Indtastning!U:U=\"Positiv\",1,\"\")","v":""},null,null,null,{"$f":"IF(Indtastning!Y:Y=\"Positiv\",1,\"\")","v":""},null,null,null,{"$f":"IF(Indtastning!AC:AC=\"Positiv\",1,\"\")","v":""},null,null,null,{"$f":"IF(Indtastning!AG:AG=\"Positiv\",1,\"\")","v":""}]
[null,null,null,null,null,null,null,null,null,null,null,null,null,null,null,null,null,null,null,null,null,null,null,null,null,null,null,null,null,null,null,null,null,null,null,null,null,null,null,null,null,null,null,null,null,{"$f":"IF(Indtastning!Y:Y=\"Ikke Aflagt\",1,\"\")","v":""},null,null,{"$f":"IF(Indtastning!U:U=\"Positiv\",1,\"\")","v":""},null,null,null,{"$f":"IF(Indtastning!Y:Y=\"Positiv\",1,\"\")","v":""},null,null,null,{"$f":"IF(Indtastning!AC:AC=\"Positiv\",1,\"\")","v":""},null,null,null,{"$f":"IF(Indtastning!AG:AG=\"Positiv\",1,\"\")","v":""}]
[null,null,null,null,null,null,null,null,null,null,null,null,null,null,null,null,null,null,null,null,null,null,null,null,null,null,null,null,null,null,null,null,null,null,null,null,null,null,null,null,null,null,null,null,null,{"$f":"IF(Indtastning!Y:Y=\"Ikke Aflagt\",1,\"\")","v":""},null,null,{"$f":"IF(Indtastning!U:U=\"Positiv\",1,\"\")","v":""},null,null,null,{"$f":"IF(Indtastning!Y:Y=\"Positiv\",1,\"\")","v":""},null,null,null,{"$f":"IF(Indtastning!AC:AC=\"Positiv\",1,\"\")","v":""},null,null,null,{"$f":"IF(Indtastning!AG:AG=\"Positiv\",1,\"\")","v":""}]
[null,null,null,null,null,null,null,null,null,null,null,null,null,null,null,null,null,null,null,null,null,null,null,null,null,null,null,null,null,null,null,null,null,null,null,null,null,null,null,null,null,null,null,null,null,{"$f":"IF(Indtastning!Y:Y=\"Ikke Aflagt\",1,\"\")","v":""},null,null,{"$f":"IF(Indtastning!U:U=\"Positiv\",1,\"\")","v":""},null,null,null,{"$f":"IF(Indtastning!Y:Y=\"Positiv\",1,\"\")","v":""},null,null,null,{"$f":"IF(Indtastning!AC:AC=\"Positiv\",1,\"\")","v":""},null,null,null,{"$f":"IF(Indtastning!AG:AG=\"Positiv\",1,\"\")","v":""}]
[null,null,null,null,null,null,null,null,null,null,null,null,null,null,null,null,null,null,null,null,null,null,null,null,null,null,null,null,null,null,null,null,null,null,null,null,null,null,null,null,null,null,null,null,null,{"$f":"IF(Indtastning!Y:Y=\"Ikke Aflagt\",1,\"\")","v":""},null,null,{"$f":"IF(Indtastning!U:U=\"Positiv\",1,\"\")","v":""},null,null,null,{"$f":"IF(Indtastning!Y:Y=\"Positiv\",1,\"\")","v":""},null,null,null,{"$f":"IF(Indtastning!AC:AC=\"Positiv\",1,\"\")","v":""},null,null,null,{"$f":"IF(Indtastning!AG:AG=\"Positiv\",1,\"\")","v":""}]
[null,null,null,null,null,null,null,null,null,null,null,null,null,null,null,null,null,null,null,null,null,null,null,null,null,null,null,null,null,null,null,null,null,null,null,null,null,null,null,null,null,null,null,null,null,{"$f":"IF(Indtastning!Y:Y=\"Ikke Aflagt\",1,\"\")","v":""},null,null,{"$f":"IF(Indtastning!U:U=\"Positiv\",1,\"\")","v":""},null,null,null,{"$f":"IF(Indtastning!Y:Y=\"Positiv\",1,\"\")","v":""},null,null,null,{"$f":"IF(Indtastning!AC:AC=\"Positiv\",1,\"\")","v":""},null,null,null,{"$f":"IF(Indtastning!AG:AG=\"Positiv\",1,\"\")","v":""}]
[null,null,null,null,null,null,null,null,null,null,null,null,null,null,null,null,null,null,null,null,null,null,null,null,null,null,null,null,null,null,null,null,null,null,null,null,null,null,null,null,null,null,null,null,null,{"$f":"IF(Indtastning!Y:Y=\"Ikke Aflagt\",1,\"\")","v":""},null,null,{"$f":"IF(Indtastning!U:U=\"Positiv\",1,\"\")","v":""},null,null,null,{"$f":"IF(Indtastning!Y:Y=\"Positiv\",1,\"\")","v":""},null,null,null,{"$f":"IF(Indtastning!AC:AC=\"Positiv\",1,\"\")","v":""},null,null,null,{"$f":"IF(Indtastning!AG:AG=\"Positiv\",1,\"\")","v":""}]
[null,null,null,null,null,null,null,null,null,null,null,null,null,null,null,null,null,null,null,null,null,null,null,null,null,null,null,null,null,null,null,null,null,null,null,null,null,null,null,null,null,null,null,null,null,{"$f":"IF(Indtastning!Y:Y=\"Ikke Aflagt\",1,\"\")","v":""},null,null,{"$f":"IF(Indtastning!U:U=\"Positiv\",1,\"\")","v":""},null,null,null,{"$f":"IF(Indtastning!Y:Y=\"Positiv\",1,\"\")","v":""},null,null,null,{"$f":"IF(Indtastning!AC:AC=\"Positiv\",1,\"\")","v":""},null,null,null,{"$f":"IF(Indtastning!AG:AG=\"Positiv\",1,\"\")","v":""}]
[null,null,null,null,null,null,null,null,null,null,null,null,null,null,null,null,null,null,null,null,null,null,null,null,null,null,null,null,null,null,null,null,null,null,null,null,null,null,null,null,null,null,null,null,null,{"$f":"IF(Indtastning!Y:Y=\"Ikke Aflagt\",1,\"\")","v":""},null,null,{"$f":"IF(Indtastning!U:U=\"Positiv\",1,\"\")","v":""},null,null,null,{"$f":"IF(Indtastning!Y:Y=\"Positiv\",1,\"\")","v":""},null,null,null,{"$f":"IF(Indtastning!AC:AC=\"Positiv\",1,\"\")","v":""},null,null,null,{"$f":"IF(Indtastning!AG:AG=\"Positiv\",1,\"\")","v":""}]
[null,null,null,null,null,null,null,null,null,null,null,null,null,null,null,null,null,null,null,null,null,null,null,null,null,null,null,null,null,null,null,null,null,null,null,null,null,null,null,null,null,null,null,null,null,{"$f":"IF(Indtastning!Y:Y=\"Ikke Aflagt\",1,\"\")","v":""},null,null,{"$f":"IF(Indtastning!U:U=\"Positiv\",1,\"\")","v":""},null,null,null,{"$f":"IF(Indtastning!Y:Y=\"Positiv\",1,\"\")","v":""},null,null,null,{"$f":"IF(Indtastning!AC:AC=\"Positiv\",1,\"\")","v":""},null,null,null,{"$f":"IF(Indtastning!AG:AG=\"Positiv\",1,\"\")","v":""}]
[null,null,null,null,null,null,null,null,null,null,null,null,null,null,null,null,null,null,null,null,null,null,null,null,null,null,null,null,null,null,null,null,null,null,null,null,null,null,null,null,null,null,null,null,null,{"$f":"IF(Indtastning!Y:Y=\"Ikke Aflagt\",1,\"\")","v":""},null,null,{"$f":"IF(Indtastning!U:U=\"Positiv\",1,\"\")","v":""},null,null,null,{"$f":"IF(Indtastning!Y:Y=\"Positiv\",1,\"\")","v":""},null,null,null,{"$f":"IF(Indtastning!AC:AC=\"Positiv\",1,\"\")","v":""},null,null,null,{"$f":"IF(Indtastning!AG:AG=\"Positiv\",1,\"\")","v":""}]
[null,null,null,null,null,null,null,null,null,null,null,null,null,null,null,null,null,null,null,null,null,null,null,null,null,null,null,null,null,null,null,null,null,null,null,null,null,null,null,null,null,null,null,null,null,{"$f":"IF(Indtastning!Y:Y=\"Ikke Aflagt\",1,\"\")","v":""},null,null,{"$f":"IF(Indtastning!U:U=\"Positiv\",1,\"\")","v":""},null,null,null,{"$f":"IF(Indtastning!Y:Y=\"Positiv\",1,\"\")","v":""},null,null,null,{"$f":"IF(Indtastning!AC:AC=\"Positiv\",1,\"\")","v":""},null,null,null,{"$f":"IF(Indtastning!AG:AG=\"Positiv\",1,\"\")","v":""}]
[null,null,null,null,null,null,null,null,null,null,null,null,null,null,null,null,null,null,null,null,null,null,null,null,null,null,null,null,null,null,null,null,null,null,null,null,null,null,null,null,null,null,null,null,null,{"$f":"IF(Indtastning!Y:Y=\"Ikke Aflagt\",1,\"\")","v":""},null,null,{"$f":"IF(Indtastning!U:U=\"Positiv\",1,\"\")","v":""},null,null,null,{"$f":"IF(Indtastning!Y:Y=\"Positiv\",1,\"\")","v":""},null,null,null,{"$f":"IF(Indtastning!AC:AC=\"Positiv\",1,\"\")","v":""},null,null,null,{"$f":"IF(Indtastning!AG:AG=\"Positiv\",1,\"\")","v":""}]
[null,null,null,null,null,null,null,null,null,null,null,null,null,null,null,null,null,null,null,null,null,null,null,null,null,null,null,null,null,null,null,null,null,null,null,null,null,null,null,null,null,null,null,null,null,{"$f":"IF(Indtastning!Y:Y=\"Ikke Aflagt\",1,\"\")","v":""},null,null,{"$f":"IF(Indtastning!U:U=\"Positiv\",1,\"\")","v":""},null,null,null,{"$f":"IF(Indtastning!Y:Y=\"Positiv\",1,\"\")","v":""},null,null,null,{"$f":"IF(Indtastning!AC:AC=\"Positiv\",1,\"\")","v":""},null,null,null,{"$f":"IF(Indtastning!AG:AG=\"Positiv\",1,\"\")","v":""}]
[null,null,null,null,null,null,null,null,null,null,null,null,null,null,null,null,null,null,null,null,null,null,null,null,null,null,null,null,null,null,null,null,null,null,null,null,null,null,null,null,null,null,null,null,null,{"$f":"IF(Indtastning!Y:Y=\"Ikke Aflagt\",1,\"\")","v":""},null,null,{"$f":"IF(Indtastning!U:U=\"Positiv\",1,\"\")","v":""},null,null,null,{"$f":"IF(Indtastning!Y:Y=\"Positiv\",1,\"\")","v":""},null,null,null,{"$f":"IF(Indtastning!AC:AC=\"Positiv\",1,\"\")","v":""},null,null,null,{"$f":"IF(Indtastning!AG:AG=\"Positiv\",1,\"\")","v":""}]
[null,null,null,null,null,null,null,null,null,null,null,null,null,null,null,null,null,null,null,null,null,null,null,null,null,null,null,null,null,null,null,null,null,null,null,null,null,null,null,null,null,null,null,null,null,{"$f":"IF(Indtastning!Y:Y=\"Ikke Aflagt\",1,\"\")","v":""},null,null,{"$f":"IF(Indtastning!U:U=\"Positiv\",1,\"\")","v":""},null,null,null,{"$f":"IF(Indtastning!Y:Y=\"Positiv\",1,\"\")","v":""},null,null,null,{"$f":"IF(Indtastning!AC:AC=\"Positiv\",1,\"\")","v":""},null,null,null,{"$f":"IF(Indtastning!AG:AG=\"Positiv\",1,\"\")","v":""}]
[null,null,null,null,null,null,null,null,null,null,null,null,null,null,null,null,null,null,null,null,null,null,null,null,null,null,null,null,null,null,null,null,null,null,null,null,null,null,null,null,null,null,null,null,null,{"$f":"IF(Indtastning!Y:Y=\"Ikke Aflagt\",1,\"\")","v":""},null,null,{"$f":"IF(Indtastning!U:U=\"Positiv\",1,\"\")","v":""},null,null,null,{"$f":"IF(Indtastning!Y:Y=\"Positiv\",1,\"\")","v":""},null,null,null,{"$f":"IF(Indtastning!AC:AC=\"Positiv\",1,\"\")","v":""},null,null,null,{"$f":"IF(Indtastning!AG:AG=\"Positiv\",1,\"\")","v":""}]
[null,null,null,null,null,null,null,null,null,null,null,null,null,null,null,null,null,null,null,null,null,null,null,null,null,null,null,null,null,null,null,null,null,null,null,null,null,null,null,null,null,null,null,null,null,{"$f":"IF(Indtastning!Y:Y=\"Ikke Aflagt\",1,\"\")","v":""},null,null,{"$f":"IF(Indtastning!U:U=\"Positiv\",1,\"\")","v":""},null,null,null,{"$f":"IF(Indtastning!Y:Y=\"Positiv\",1,\"\")","v":""},null,null,null,{"$f":"IF(Indtastning!AC:AC=\"Positiv\",1,\"\")","v":""},null,null,null,{"$f":"IF(Indtastning!AG:AG=\"Positiv\",1,\"\")","v":""}]
[null,null,null,null,null,null,null,null,null,null,null,null,null,null,null,null,null,null,null,null,null,null,null,null,null,null,null,null,null,null,null,null,null,null,null,null,null,null,null,null,null,null,null,null,null,{"$f":"IF(Indtastning!Y:Y=\"Ikke Aflagt\",1,\"\")","v":""},null,null,{"$f":"IF(Indtastning!U:U=\"Positiv\",1,\"\")","v":""},null,null,null,{"$f":"IF(Indtastning!Y:Y=\"Positiv\",1,\"\")","v":""},null,null,null,{"$f":"IF(Indtastning!AC:AC=\"Positiv\",1,\"\")","v":""},null,null,null,{"$f":"IF(Indtastning!AG:AG=\"Positiv\",1,\"\")","v":""}]
[null,null,null,null,null,null,null,null,null,null,null,null,null,null,null,null,null,null,null,null,null,null,null,null,null,null,null,null,null,null,null,null,null,null,null,null,null,null,null,null,null,null,null,null,null,{"$f":"IF(Indtastning!Y:Y=\"Ikke Aflagt\",1,\"\")","v":""},null,null,{"$f":"IF(Indtastning!U:U=\"Positiv\",1,\"\")","v":""},null,null,null,{"$f":"IF(Indtastning!Y:Y=\"Positiv\",1,\"\")","v":""},null,null,null,{"$f":"IF(Indtastning!AC:AC=\"Positiv\",1,\"\")","v":""},null,null,null,{"$f":"IF(Indtastning!AG:AG=\"Positiv\",1,\"\")","v":""}]
[null,null,null,null,null,null,null,null,null,null,null,null,null,null,null,null,null,null,null,null,null,null,null,null,null,null,null,null,null,null,null,null,null,null,null,null,null,null,null,null,null,null,null,null,null,{"$f":"IF(Indtastning!Y:Y=\"Ikke Aflagt\",1,\"\")","v":""},null,null,{"$f":"IF(Indtastning!U:U=\"Positiv\",1,\"\")","v":""},null,null,null,{"$f":"IF(Indtastning!Y:Y=\"Positiv\",1,\"\")","v":""},null,null,null,{"$f":"IF(Indtastning!AC:AC=\"Positiv\",1,\"\")","v":""},null,null,null,{"$f":"IF(Indtastning!AG:AG=\"Positiv\",1,\"\")","v":""}]
[null,null,null,null,null,null,null,null,null,null,null,null,null,null,null,null,null,null,null,null,null,null,null,null,null,null,null,null,null,null,null,null,null,null,null,null,null,null,null,null,null,null,null,null,null,{"$f":"IF(Indtastning!Y:Y=\"Ikke Aflagt\",1,\"\")","v":""},null,null,{"$f":"IF(Indtastning!U:U=\"Positiv\",1,\"\")","v":""},null,null,null,{"$f":"IF(Indtastning!Y:Y=\"Positiv\",1,\"\")","v":""},null,null,null,{"$f":"IF(Indtastning!AC:AC=\"Positiv\",1,\"\")","v":""},null,null,null,{"$f":"IF(Indtastning!AG:AG=\"Positiv\",1,\"\")","v":""}]
[null,null,null,null,null,null,null,null,null,null,null,null,null,null,null,null,null,null,null,null,null,null,null,null,null,null,null,null,null,null,null,null,null,null,null,null,null,null,null,null,null,null,null,null,null,{"$f":"IF(Indtastning!Y:Y=\"Ikke Aflagt\",1,\"\")","v":""},null,null,{"$f":"IF(Indtastning!U:U=\"Positiv\",1,\"\")","v":""},null,null,null,{"$f":"IF(Indtastning!Y:Y=\"Positiv\",1,\"\")","v":""},null,null,null,{"$f":"IF(Indtastning!AC:AC=\"Positiv\",1,\"\")","v":""},null,null,null,{"$f":"IF(Indtastning!AG:AG=\"Positiv\",1,\"\")","v":""}]
[null,null,null,null,null,null,null,null,null,null,null,null,null,null,null,null,null,null,null,null,null,null,null,null,null,null,null,null,null,null,null,null,null,null,null,null,null,null,null,null,null,null,null,null,null,{"$f":"IF(Indtastning!Y:Y=\"Ikke Aflagt\",1,\"\")","v":""},null,null,{"$f":"IF(Indtastning!U:U=\"Positiv\",1,\"\")","v":""},null,null,null,{"$f":"IF(Indtastning!Y:Y=\"Positiv\",1,\"\")","v":""},null,null,null,{"$f":"IF(Indtastning!AC:AC=\"Positiv\",1,\"\")","v":""},null,null,null,{"$f":"IF(Indtastning!AG:AG=\"Positiv\",1,\"\")","v":""}]
[null,null,null,null,null,null,null,null,null,null,null,null,null,null,null,null,null,null,null,null,null,null,null,null,null,null,null,null,null,null,null,null,null,null,null,null,null,null,null,null,null,null,null,null,null,{"$f":"IF(Indtastning!Y:Y=\"Ikke Aflagt\",1,\"\")","v":""},null,null,{"$f":"IF(Indtastning!U:U=\"Positiv\",1,\"\")","v":""},null,null,null,{"$f":"IF(Indtastning!Y:Y=\"Positiv\",1,\"\")","v":""},null,null,null,{"$f":"IF(Indtastning!AC:AC=\"Positiv\",1,\"\")","v":""},null,null,null,{"$f":"IF(Indtastning!AG:AG=\"Positiv\",1,\"\")","v":""}]
[null,null,null,null,null,null,null,null,null,null,null,null,null,null,null,null,null,null,null,null,null,null,null,null,null,null,null,null,null,null,null,null,null,null,null,null,null,null,null,null,null,null,null,null,null,{"$f":"IF(Indtastning!Y:Y=\"Ikke Aflagt\",1,\"\")","v":""},null,null,{"$f":"IF(Indtastning!U:U=\"Positiv\",1,\"\")","v":""},null,null,null,{"$f":"IF(Indtastning!Y:Y=\"Positiv\",1,\"\")","v":""},null,null,null,{"$f":"IF(Indtastning!AC:AC=\"Positiv\",1,\"\")","v":""},null,null,null,{"$f":"IF(Indtastning!AG:AG=\"Positiv\",1,\"\")","v":""}]
[null,null,null,null,null,null,null,null,null,null,null,null,null,null,null,null,null,null,null,null,null,null,null,null,null,null,null,null,null,null,null,null,null,null,null,null,null,null,null,null,null,null,null,null,null,{"$f":"IF(Indtastning!Y:Y=\"Ikke Aflagt\",1,\"\")","v":""},null,null,{"$f":"IF(Indtastning!U:U=\"Positiv\",1,\"\")","v":""},null,null,null,{"$f":"IF(Indtastning!Y:Y=\"Positiv\",1,\"\")","v":""},null,null,null,{"$f":"IF(Indtastning!AC:AC=\"Positiv\",1,\"\")","v":""},null,null,null,{"$f":"IF(Indtastning!AG:AG=\"Positiv\",1,\"\")","v":""}]
[null,null,null,null,null,null,null,null,null,null,null,null,null,null,null,null,null,null,null,null,null,null,null,null,null,null,null,null,null,null,null,null,null,null,null,null,null,null,null,null,null,null,null,null,null,{"$f":"IF(Indtastning!Y:Y=\"Ikke Aflagt\",1,\"\")","v":""},null,null,{"$f":"IF(Indtastning!U:U=\"Positiv\",1,\"\")","v":""},null,null,null,{"$f":"IF(Indtastning!Y:Y=\"Positiv\",1,\"\")","v":""},null,null,null,{"$f":"IF(Indtastning!AC:AC=\"Positiv\",1,\"\")","v":""},null,null,null,{"$f":"IF(Indtastning!AG:AG=\"Positiv\",1,\"\")","v":""}]
[null,null,null,null,null,null,null,null,null,null,null,null,null,null,null,null,null,null,null,null,null,null,null,null,null,null,null,null,null,null,null,null,null,null,null,null,null,null,null,null,null,null,null,null,null,{"$f":"IF(Indtastning!Y:Y=\"Ikke Aflagt\",1,\"\")","v":""},null,null,{"$f":"IF(Indtastning!U:U=\"Positiv\",1,\"\")","v":""},null,null,null,{"$f":"IF(Indtastning!Y:Y=\"Positiv\",1,\"\")","v":""},null,null,null,{"$f":"IF(Indtastning!AC:AC=\"Positiv\",1,\"\")","v":""},null,null,null,{"$f":"IF(Indtastning!AG:AG=\"Positiv\",1,\"\")","v":""}]
[null,null,null,null,null,null,null,null,null,null,null,null,null,null,null,null,null,null,null,null,null,null,null,null,null,null,null,null,null,null,null,null,null,null,null,null,null,null,null,null,null,null,null,null,null,{"$f":"IF(Indtastning!Y:Y=\"Ikke Aflagt\",1,\"\")","v":""},null,null,{"$f":"IF(Indtastning!U:U=\"Positiv\",1,\"\")","v":""},null,null,null,{"$f":"IF(Indtastning!Y:Y=\"Positiv\",1,\"\")","v":""},null,null,null,{"$f":"IF(Indtastning!AC:AC=\"Positiv\",1,\"\")","v":""},null,null,null,{"$f":"IF(Indtastning!AG:AG=\"Positiv\",1,\"\")","v":""}]
[null,null,null,null,null,null,null,null,null,null,null,null,null,null,null,null,null,null,null,null,null,null,null,null,null,null,null,null,null,null,null,null,null,null,null,null,null,null,null,null,null,null,null,null,null,{"$f":"IF(Indtastning!Y:Y=\"Ikke Aflagt\",1,\"\")","v":""},null,null,{"$f":"IF(Indtastning!U:U=\"Positiv\",1,\"\")","v":""},null,null,null,{"$f":"IF(Indtastning!Y:Y=\"Positiv\",1,\"\")","v":""},null,null,null,{"$f":"IF(Indtastning!AC:AC=\"Positiv\",1,\"\")","v":""},null,null,null,{"$f":"IF(Indtastning!AG:AG=\"Positiv\",1,\"\")","v":""}]
[null,null,null,null,null,null,null,null,null,null,null,null,null,null,null,null,null,null,null,null,null,null,null,null,null,null,null,null,null,null,null,null,null,null,null,null,null,null,null,null,null,null,null,null,null,{"$f":"IF(Indtastning!Y:Y=\"Ikke Aflagt\",1,\"\")","v":""},null,null,{"$f":"IF(Indtastning!U:U=\"Positiv\",1,\"\")","v":""},null,null,null,{"$f":"IF(Indtastning!Y:Y=\"Positiv\",1,\"\")","v":""},null,null,null,{"$f":"IF(Indtastning!AC:AC=\"Positiv\",1,\"\")","v":""},null,null,null,{"$f":"IF(Indtastning!AG:AG=\"Positiv\",1,\"\")","v":""}]
[null,null,null,null,null,null,null,null,null,null,null,null,null,null,null,null,null,null,null,null,null,null,null,null,null,null,null,null,null,null,null,null,null,null,null,null,null,null,null,null,null,null,null,null,null,{"$f":"IF(Indtastning!Y:Y=\"Ikke Aflagt\",1,\"\")","v":""},null,null,{"$f":"IF(Indtastning!U:U=\"Positiv\",1,\"\")","v":""},null,null,null,{"$f":"IF(Indtastning!Y:Y=\"Positiv\",1,\"\")","v":""},null,null,null,{"$f":"IF(Indtastning!AC:AC=\"Positiv\",1,\"\")","v":""},null,null,null,{"$f":"IF(Indtastning!AG:AG=\"Positiv\",1,\"\")","v":""}]
[null,null,null,null,null,null,null,null,null,null,null,null,null,null,null,null,null,null,null,null,null,null,null,null,null,null,null,null,null,null,null,null,null,null,null,null,null,null,null,null,null,null,null,null,null,{"$f":"IF(Indtastning!Y:Y=\"Ikke Aflagt\",1,\"\")","v":""},null,null,{"$f":"IF(Indtastning!U:U=\"Positiv\",1,\"\")","v":""},null,null,null,{"$f":"IF(Indtastning!Y:Y=\"Positiv\",1,\"\")","v":""},null,null,null,{"$f":"IF(Indtastning!AC:AC=\"Positiv\",1,\"\")","v":""},null,null,null,{"$f":"IF(Indtastning!AG:AG=\"Positiv\",1,\"\")","v":""}]
[null,null,null,null,null,null,null,null,null,null,null,null,null,null,null,null,null,null,null,null,null,null,null,null,null,null,null,null,null,null,null,null,null,null,null,null,null,null,null,null,null,null,null,null,null,{"$f":"IF(Indtastning!Y:Y=\"Ikke Aflagt\",1,\"\")","v":""},null,null,{"$f":"IF(Indtastning!U:U=\"Positiv\",1,\"\")","v":""},null,null,null,{"$f":"IF(Indtastning!Y:Y=\"Positiv\",1,\"\")","v":""},null,null,null,{"$f":"IF(Indtastning!AC:AC=\"Positiv\",1,\"\")","v":""},null,null,null,{"$f":"IF(Indtastning!AG:AG=\"Positiv\",1,\"\")","v":""}]
[null,null,null,null,null,null,null,null,null,null,null,null,null,null,null,null,null,null,null,null,null,null,null,null,null,null,null,null,null,null,null,null,null,null,null,null,null,null,null,null,null,null,null,null,null,{"$f":"IF(Indtastning!Y:Y=\"Ikke Aflagt\",1,\"\")","v":""},null,null,{"$f":"IF(Indtastning!U:U=\"Positiv\",1,\"\")","v":""},null,null,null,{"$f":"IF(Indtastning!Y:Y=\"Positiv\",1,\"\")","v":""},null,null,null,{"$f":"IF(Indtastning!AC:AC=\"Positiv\",1,\"\")","v":""},null,null,null,{"$f":"IF(Indtastning!AG:AG=\"Positiv\",1,\"\")","v":""}]
[null,null,null,null,null,null,null,null,null,null,null,null,null,null,null,null,null,null,null,null,null,null,null,null,null,null,null,null,null,null,null,null,null,null,null,null,null,null,null,null,null,null,null,null,null,{"$f":"IF(Indtastning!Y:Y=\"Ikke Aflagt\",1,\"\")","v":""},null,null,{"$f":"IF(Indtastning!U:U=\"Positiv\",1,\"\")","v":""},null,null,null,{"$f":"IF(Indtastning!Y:Y=\"Positiv\",1,\"\")","v":""},null,null,null,{"$f":"IF(Indtastning!AC:AC=\"Positiv\",1,\"\")","v":""},null,null,null,{"$f":"IF(Indtastning!AG:AG=\"Positiv\",1,\"\")","v":""}]
[null,null,null,null,null,null,null,null,null,null,null,null,null,null,null,null,null,null,null,null,null,null,null,null,null,null,null,null,null,null,null,null,null,null,null,null,null,null,null,null,null,null,null,null,null,{"$f":"IF(Indtastning!Y:Y=\"Ikke Aflagt\",1,\"\")","v":""},null,null,{"$f":"IF(Indtastning!U:U=\"Positiv\",1,\"\")","v":""},null,null,null,{"$f":"IF(Indtastning!Y:Y=\"Positiv\",1,\"\")","v":""},null,null,null,{"$f":"IF(Indtastning!AC:AC=\"Positiv\",1,\"\")","v":""},null,null,null,{"$f":"IF(Indtastning!AG:AG=\"Positiv\",1,\"\")","v":""}]
[null,null,null,null,null,null,null,null,null,null,null,null,null,null,null,null,null,null,null,null,null,null,null,null,null,null,null,null,null,null,null,null,null,null,null,null,null,null,null,null,null,null,null,null,null,{"$f":"IF(Indtastning!Y:Y=\"Ikke Aflagt\",1,\"\")","v":""},null,null,{"$f":"IF(Indtastning!U:U=\"Positiv\",1,\"\")","v":""},null,null,null,{"$f":"IF(Indtastning!Y:Y=\"Positiv\",1,\"\")","v":""},null,null,null,{"$f":"IF(Indtastning!AC:AC=\"Positiv\",1,\"\")","v":""},null,null,null,{"$f":"IF(Indtastning!AG:AG=\"Positiv\",1,\"\")","v":""}]
[null,null,null,null,null,null,null,null,null,null,null,null,null,null,null,null,null,null,null,null,null,null,null,null,null,null,null,null,null,null,null,null,null,null,null,null,null,null,null,null,null,null,null,null,null,{"$f":"IF(Indtastning!Y:Y=\"Ikke Aflagt\",1,\"\")","v":""},null,null,{"$f":"IF(Indtastning!U:U=\"Positiv\",1,\"\")","v":""},null,null,null,{"$f":"IF(Indtastning!Y:Y=\"Positiv\",1,\"\")","v":""},null,null,null,{"$f":"IF(Indtastning!AC:AC=\"Positiv\",1,\"\")","v":""},null,null,null,{"$f":"IF(Indtastning!AG:AG=\"Positiv\",1,\"\")","v":""}]
[null,null,null,null,null,null,null,null,null,null,null,null,null,null,null,null,null,null,null,null,null,null,null,null,null,null,null,null,null,null,null,null,null,null,null,null,null,null,null,null,null,null,null,null,null,{"$f":"IF(Indtastning!Y:Y=\"Ikke Aflagt\",1,\"\")","v":""},null,null,{"$f":"IF(Indtastning!U:U=\"Positiv\",1,\"\")","v":""},null,null,null,{"$f":"IF(Indtastning!Y:Y=\"Positiv\",1,\"\")","v":""},null,null,null,{"$f":"IF(Indtastning!AC:AC=\"Positiv\",1,\"\")","v":""},null,null,null,{"$f":"IF(Indtastning!AG:AG=\"Positiv\",1,\"\")","v":""}]
[null,null,null,null,null,null,null,null,null,null,null,null,null,null,null,null,null,null,null,null,null,null,null,null,null,null,null,null,null,null,null,null,null,null,null,null,null,null,null,null,null,null,null,null,null,{"$f":"IF(Indtastning!Y:Y=\"Ikke Aflagt\",1,\"\")","v":""},null,null,{"$f":"IF(Indtastning!U:U=\"Positiv\",1,\"\")","v":""},null,null,null,{"$f":"IF(Indtastning!Y:Y=\"Positiv\",1,\"\")","v":""},null,null,null,{"$f":"IF(Indtastning!AC:AC=\"Positiv\",1,\"\")","v":""},null,null,null,{"$f":"IF(Indtastning!AG:AG=\"Positiv\",1,\"\")","v":""}]
[null,null,null,null,null,null,null,null,null,null,null,null,null,null,null,null,null,null,null,null,null,null,null,null,null,null,null,null,null,null,null,null,null,null,null,null,null,null,null,null,null,null,null,null,null,{"$f":"IF(Indtastning!Y:Y=\"Ikke Aflagt\",1,\"\")","v":""},null,null,{"$f":"IF(Indtastning!U:U=\"Positiv\",1,\"\")","v":""},null,null,null,{"$f":"IF(Indtastning!Y:Y=\"Positiv\",1,\"\")","v":""},null,null,null,{"$f":"IF(Indtastning!AC:AC=\"Positiv\",1,\"\")","v":""},null,null,null,{"$f":"IF(Indtastning!AG:AG=\"Positiv\",1,\"\")","v":""}]
[null,null,null,null,null,null,null,null,null,null,null,null,null,null,null,null,null,null,null,null,null,null,null,null,null,null,null,null,null,null,null,null,null,null,null,null,null,null,null,null,null,null,null,null,null,{"$f":"IF(Indtastning!Y:Y=\"Ikke Aflagt\",1,\"\")","v":""},null,null,{"$f":"IF(Indtastning!U:U=\"Positiv\",1,\"\")","v":""},null,null,null,{"$f":"IF(Indtastning!Y:Y=\"Positiv\",1,\"\")","v":""},null,null,null,{"$f":"IF(Indtastning!AC:AC=\"Positiv\",1,\"\")","v":""},null,null,null,{"$f":"IF(Indtastning!AG:AG=\"Positiv\",1,\"\")","v":""}]
[null,null,null,null,null,null,null,null,null,null,null,null,null,null,null,null,null,null,null,null,null,null,null,null,null,null,null,null,null,null,null,null,null,null,null,null,null,null,null,null,null,null,null,null,null,{"$f":"IF(Indtastning!Y:Y=\"Ikke Aflagt\",1,\"\")","v":""},null,null,{"$f":"IF(Indtastning!U:U=\"Positiv\",1,\"\")","v":""},null,null,null,{"$f":"IF(Indtastning!Y:Y=\"Positiv\",1,\"\")","v":""},null,null,null,{"$f":"IF(Indtastning!AC:AC=\"Positiv\",1,\"\")","v":""},null,null,null,{"$f":"IF(Indtastning!AG:AG=\"Positiv\",1,\"\")","v":""}]
[null,null,null,null,null,null,null,null,null,null,null,null,null,null,null,null,null,null,null,null,null,null,null,null,null,null,null,null,null,null,null,null,null,null,null,null,null,null,null,null,null,null,null,null,null,{"$f":"IF(Indtastning!Y:Y=\"Ikke Aflagt\",1,\"\")","v":""},null,null,{"$f":"IF(Indtastning!U:U=\"Positiv\",1,\"\")","v":""},null,null,null,{"$f":"IF(Indtastning!Y:Y=\"Positiv\",1,\"\")","v":""},null,null,null,{"$f":"IF(Indtastning!AC:AC=\"Positiv\",1,\"\")","v":""},null,null,null,{"$f":"IF(Indtastning!AG:AG=\"Positiv\",1,\"\")","v":""}]
[null,null,null,null,null,null,null,null,null,null,null,null,null,null,null,null,null,null,null,null,null,null,null,null,null,null,null,null,null,null,null,null,null,null,null,null,null,null,null,null,null,null,null,null,null,{"$f":"IF(Indtastning!Y:Y=\"Ikke Aflagt\",1,\"\")","v":""},null,null,{"$f":"IF(Indtastning!U:U=\"Positiv\",1,\"\")","v":""},null,null,null,{"$f":"IF(Indtastning!Y:Y=\"Positiv\",1,\"\")","v":""},null,null,null,{"$f":"IF(Indtastning!AC:AC=\"Positiv\",1,\"\")","v":""},null,null,null,{"$f":"IF(Indtastning!AG:AG=\"Positiv\",1,\"\")","v":""}]
[null,null,null,null,null,null,null,null,null,null,null,null,null,null,null,null,null,null,null,null,null,null,null,null,null,null,null,null,null,null,null,null,null,null,null,null,null,null,null,null,null,null,null,null,null,{"$f":"IF(Indtastning!Y:Y=\"Ikke Aflagt\",1,\"\")","v":""},null,null,{"$f":"IF(Indtastning!U:U=\"Positiv\",1,\"\")","v":""},null,null,null,{"$f":"IF(Indtastning!Y:Y=\"Positiv\",1,\"\")","v":""},null,null,null,{"$f":"IF(Indtastning!AC:AC=\"Positiv\",1,\"\")","v":""},null,null,null,{"$f":"IF(Indtastning!AG:AG=\"Positiv\",1,\"\")","v":""}]
[null,null,null,null,null,null,null,null,null,null,null,null,null,null,null,null,null,null,null,null,null,null,null,null,null,null,null,null,null,null,null,null,null,null,null,null,null,null,null,null,null,null,null,null,null,{"$f":"IF(Indtastning!Y:Y=\"Ikke Aflagt\",1,\"\")","v":""},null,null,{"$f":"IF(Indtastning!U:U=\"Positiv\",1,\"\")","v":""},null,null,null,{"$f":"IF(Indtastning!Y:Y=\"Positiv\",1,\"\")","v":""},null,null,null,{"$f":"IF(Indtastning!AC:AC=\"Positiv\",1,\"\")","v":""},null,null,null,{"$f":"IF(Indtastning!AG:AG=\"Positiv\",1,\"\")","v":""}]
[null,null,null,null,null,null,null,null,null,null,null,null,null,null,null,null,null,null,null,null,null,null,null,null,null,null,null,null,null,null,null,null,null,null,null,null,null,null,null,null,null,null,null,null,null,{"$f":"IF(Indtastning!Y:Y=\"Ikke Aflagt\",1,\"\")","v":""},null,null,{"$f":"IF(Indtastning!U:U=\"Positiv\",1,\"\")","v":""},null,null,null,{"$f":"IF(Indtastning!Y:Y=\"Positiv\",1,\"\")","v":""},null,null,null,{"$f":"IF(Indtastning!AC:AC=\"Positiv\",1,\"\")","v":""},null,null,null,{"$f":"IF(Indtastning!AG:AG=\"Positiv\",1,\"\")","v":""}]
[null,null,null,null,null,null,null,null,null,null,null,null,null,null,null,null,null,null,null,null,null,null,null,null,null,null,null,null,null,null,null,null,null,null,null,null,null,null,null,null,null,null,null,null,null,{"$f":"IF(Indtastning!Y:Y=\"Ikke Aflagt\",1,\"\")","v":""},null,null,{"$f":"IF(Indtastning!U:U=\"Positiv\",1,\"\")","v":""},null,null,null,{"$f":"IF(Indtastning!Y:Y=\"Positiv\",1,\"\")","v":""},null,null,null,{"$f":"IF(Indtastning!AC:AC=\"Positiv\",1,\"\")","v":""},null,null,null,{"$f":"IF(Indtastning!AG:AG=\"Positiv\",1,\"\")","v":""}]
[null,null,null,null,null,null,null,null,null,null,null,null,null,null,null,null,null,null,null,null,null,null,null,null,null,null,null,null,null,null,null,null,null,null,null,null,null,null,null,null,null,null,null,null,null,{"$f":"IF(Indtastning!Y:Y=\"Ikke Aflagt\",1,\"\")","v":""},null,null,{"$f":"IF(Indtastning!U:U=\"Positiv\",1,\"\")","v":""},null,null,null,{"$f":"IF(Indtastning!Y:Y=\"Positiv\",1,\"\")","v":""},null,null,null,{"$f":"IF(Indtastning!AC:AC=\"Positiv\",1,\"\")","v":""},null,null,null,{"$f":"IF(Indtastning!AG:AG=\"Positiv\",1,\"\")","v":""}]
[null,null,null,null,null,null,null,null,null,null,null,null,null,null,null,null,null,null,null,null,null,null,null,null,null,null,null,null,null,null,null,null,null,null,null,null,null,null,null,null,null,null,null,null,null,{"$f":"IF(Indtastning!Y:Y=\"Ikke Aflagt\",1,\"\")","v":""},null,null,{"$f":"IF(Indtastning!U:U=\"Positiv\",1,\"\")","v":""},null,null,null,{"$f":"IF(Indtastning!Y:Y=\"Positiv\",1,\"\")","v":""},null,null,null,{"$f":"IF(Indtastning!AC:AC=\"Positiv\",1,\"\")","v":""},null,null,null,{"$f":"IF(Indtastning!AG:AG=\"Positiv\",1,\"\")","v":""}]
[null,null,null,null,null,null,null,null,null,null,null,null,null,null,null,null,null,null,null,null,null,null,null,null,null,null,null,null,null,null,null,null,null,null,null,null,null,null,null,null,null,null,null,null,null,{"$f":"IF(Indtastning!Y:Y=\"Ikke Aflagt\",1,\"\")","v":""},null,null,{"$f":"IF(Indtastning!U:U=\"Positiv\",1,\"\")","v":""},null,null,null,{"$f":"IF(Indtastning!Y:Y=\"Positiv\",1,\"\")","v":""},null,null,null,{"$f":"IF(Indtastning!AC:AC=\"Positiv\",1,\"\")","v":""},null,null,null,{"$f":"IF(Indtastning!AG:AG=\"Positiv\",1,\"\")","v":""}]
[null,null,null,null,null,null,null,null,null,null,null,null,null,null,null,null,null,null,null,null,null,null,null,null,null,null,null,null,null,null,null,null,null,null,null,null,null,null,null,null,null,null,null,null,null,{"$f":"IF(Indtastning!Y:Y=\"Ikke Aflagt\",1,\"\")","v":""},null,null,{"$f":"IF(Indtastning!U:U=\"Positiv\",1,\"\")","v":""},null,null,null,{"$f":"IF(Indtastning!Y:Y=\"Positiv\",1,\"\")","v":""},null,null,null,{"$f":"IF(Indtastning!AC:AC=\"Positiv\",1,\"\")","v":""},null,null,null,{"$f":"IF(Indtastning!AG:AG=\"Positiv\",1,\"\")","v":""}]
[null,null,null,null,null,null,null,null,null,null,null,null,null,null,null,null,null,null,null,null,null,null,null,null,null,null,null,null,null,null,null,null,null,null,null,null,null,null,null,null,null,null,null,null,null,{"$f":"IF(Indtastning!Y:Y=\"Ikke Aflagt\",1,\"\")","v":""},null,null,{"$f":"IF(Indtastning!U:U=\"Positiv\",1,\"\")","v":""},null,null,null,{"$f":"IF(Indtastning!Y:Y=\"Positiv\",1,\"\")","v":""},null,null,null,{"$f":"IF(Indtastning!AC:AC=\"Positiv\",1,\"\")","v":""},null,null,null,{"$f":"IF(Indtastning!AG:AG=\"Positiv\",1,\"\")","v":""}]
[null,null,null,null,null,null,null,null,null,null,null,null,null,null,null,null,null,null,null,null,null,null,null,null,null,null,null,null,null,null,null,null,null,null,null,null,null,null,null,null,null,null,null,null,null,{"$f":"IF(Indtastning!Y:Y=\"Ikke Aflagt\",1,\"\")","v":""},null,null,{"$f":"IF(Indtastning!U:U=\"Positiv\",1,\"\")","v":""},null,null,null,{"$f":"IF(Indtastning!Y:Y=\"Positiv\",1,\"\")","v":""},null,null,null,{"$f":"IF(Indtastning!AC:AC=\"Positiv\",1,\"\")","v":""},null,null,null,{"$f":"IF(Indtastning!AG:AG=\"Positiv\",1,\"\")","v":""}]
[null,null,null,null,null,null,null,null,null,null,null,null,null,null,null,null,null,null,null,null,null,null,null,null,null,null,null,null,null,null,null,null,null,null,null,null,null,null,null,null,null,null,null,null,null,{"$f":"IF(Indtastning!Y:Y=\"Ikke Aflagt\",1,\"\")","v":""},null,null,{"$f":"IF(Indtastning!U:U=\"Positiv\",1,\"\")","v":""},null,null,null,{"$f":"IF(Indtastning!Y:Y=\"Positiv\",1,\"\")","v":""},null,null,null,{"$f":"IF(Indtastning!AC:AC=\"Positiv\",1,\"\")","v":""},null,null,null,{"$f":"IF(Indtastning!AG:AG=\"Positiv\",1,\"\")","v":""}]
[null,null,null,null,null,null,null,null,null,null,null,null,null,null,null,null,null,null,null,null,null,null,null,null,null,null,null,null,null,null,null,null,null,null,null,null,null,null,null,null,null,null,null,null,null,{"$f":"IF(Indtastning!Y:Y=\"Ikke Aflagt\",1,\"\")","v":""},null,null,{"$f":"IF(Indtastning!U:U=\"Positiv\",1,\"\")","v":""},null,null,null,{"$f":"IF(Indtastning!Y:Y=\"Positiv\",1,\"\")","v":""},null,null,null,{"$f":"IF(Indtastning!AC:AC=\"Positiv\",1,\"\")","v":""},null,null,null,{"$f":"IF(Indtastning!AG:AG=\"Positiv\",1,\"\")","v":""}]
[null,null,null,null,null,null,null,null,null,null,null,null,null,null,null,null,null,null,null,null,null,null,null,null,null,null,null,null,null,null,null,null,null,null,null,null,null,null,null,null,null,null,null,null,null,{"$f":"IF(Indtastning!Y:Y=\"Ikke Aflagt\",1,\"\")","v":""},null,null,{"$f":"IF(Indtastning!U:U=\"Positiv\",1,\"\")","v":""},null,null,null,{"$f":"IF(Indtastning!Y:Y=\"Positiv\",1,\"\")","v":""},null,null,null,{"$f":"IF(Indtastning!AC:AC=\"Positiv\",1,\"\")","v":""},null,null,null,{"$f":"IF(Indtastning!AG:AG=\"Positiv\",1,\"\")","v":""}]
[null,null,null,null,null,null,null,null,null,null,null,null,null,null,null,null,null,null,null,null,null,null,null,null,null,null,null,null,null,null,null,null,null,null,null,null,null,null,null,null,null,null,null,null,null,{"$f":"IF(Indtastning!Y:Y=\"Ikke Aflagt\",1,\"\")","v":""},null,null,{"$f":"IF(Indtastning!U:U=\"Positiv\",1,\"\")","v":""},null,null,null,{"$f":"IF(Indtastning!Y:Y=\"Positiv\",1,\"\")","v":""},null,null,null,{"$f":"IF(Indtastning!AC:AC=\"Positiv\",1,\"\")","v":""},null,null,null,{"$f":"IF(Indtastning!AG:AG=\"Positiv\",1,\"\")","v":""}]
[null,null,null,null,null,null,null,null,null,null,null,null,null,null,null,null,null,null,null,null,null,null,null,null,null,null,null,null,null,null,null,null,null,null,null,null,null,null,null,null,null,null,null,null,null,{"$f":"IF(Indtastning!Y:Y=\"Ikke Aflagt\",1,\"\")","v":""},null,null,{"$f":"IF(Indtastning!U:U=\"Positiv\",1,\"\")","v":""},null,null,null,{"$f":"IF(Indtastning!Y:Y=\"Positiv\",1,\"\")","v":""},null,null,null,{"$f":"IF(Indtastning!AC:AC=\"Positiv\",1,\"\")","v":""},null,null,null,{"$f":"IF(Indtastning!AG:AG=\"Positiv\",1,\"\")","v":""}]
[null,null,null,null,null,null,null,null,null,null,null,null,null,null,null,null,null,null,null,null,null,null,null,null,null,null,null,null,null,null,null,null,null,null,null,null,null,null,null,null,null,null,null,null,null,{"$f":"IF(Indtastning!Y:Y=\"Ikke Aflagt\",1,\"\")","v":""},null,null,{"$f":"IF(Indtastning!U:U=\"Positiv\",1,\"\")","v":""},null,null,null,{"$f":"IF(Indtastning!Y:Y=\"Positiv\",1,\"\")","v":""},null,null,null,{"$f":"IF(Indtastning!AC:AC=\"Positiv\",1,\"\")","v":""},null,null,null,{"$f":"IF(Indtastning!AG:AG=\"Positiv\",1,\"\")","v":""}]
[null,null,null,null,null,null,null,null,null,null,null,null,null,null,null,null,null,null,null,null,null,null,null,null,null,null,null,null,null,null,null,null,null,null,null,null,null,null,null,null,null,null,null,null,null,{"$f":"IF(Indtastning!Y:Y=\"Ikke Aflagt\",1,\"\")","v":""},null,null,{"$f":"IF(Indtastning!U:U=\"Positiv\",1,\"\")","v":""},null,null,null,{"$f":"IF(Indtastning!Y:Y=\"Positiv\",1,\"\")","v":""},null,null,null,{"$f":"IF(Indtastning!AC:AC=\"Positiv\",1,\"\")","v":""},null,null,null,{"$f":"IF(Indtastning!AG:AG=\"Positiv\",1,\"\")","v":""}]
[null,null,null,null,null,null,null,null,null,null,null,null,null,null,null,null,null,null,null,null,null,null,null,null,null,null,null,null,null,null,null,null,null,null,null,null,null,null,null,null,null,null,null,null,null,{"$f":"IF(Indtastning!Y:Y=\"Ikke Aflagt\",1,\"\")","v":""},null,null,{"$f":"IF(Indtastning!U:U=\"Positiv\",1,\"\")","v":""},null,null,null,{"$f":"IF(Indtastning!Y:Y=\"Positiv\",1,\"\")","v":""},null,null,null,{"$f":"IF(Indtastning!AC:AC=\"Positiv\",1,\"\")","v":""},null,null,null,{"$f":"IF(Indtastning!AG:AG=\"Positiv\",1,\"\")","v":""}]
[null,null,null,null,null,null,null,null,null,null,null,null,null,null,null,null,null,null,null,null,null,null,null,null,null,null,null,null,null,null,null,null,null,null,null,null,null,null,null,null,null,null,null,null,null,{"$f":"IF(Indtastning!Y:Y=\"Ikke Aflagt\",1,\"\")","v":""},null,null,{"$f":"IF(Indtastning!U:U=\"Positiv\",1,\"\")","v":""},null,null,null,{"$f":"IF(Indtastning!Y:Y=\"Positiv\",1,\"\")","v":""},null,null,null,{"$f":"IF(Indtastning!AC:AC=\"Positiv\",1,\"\")","v":""},null,null,null,{"$f":"IF(Indtastning!AG:AG=\"Positiv\",1,\"\")","v":""}]
[null,null,null,null,null,null,null,null,null,null,null,null,null,null,null,null,null,null,null,null,null,null,null,null,null,null,null,null,null,null,null,null,null,null,null,null,null,null,null,null,null,null,null,null,null,{"$f":"IF(Indtastning!Y:Y=\"Ikke Aflagt\",1,\"\")","v":""},null,null,{"$f":"IF(Indtastning!U:U=\"Positiv\",1,\"\")","v":""},null,null,null,{"$f":"IF(Indtastning!Y:Y=\"Positiv\",1,\"\")","v":""},null,null,null,{"$f":"IF(Indtastning!AC:AC=\"Positiv\",1,\"\")","v":""},null,null,null,{"$f":"IF(Indtastning!AG:AG=\"Positiv\",1,\"\")","v":""}]
[null,null,null,null,null,null,null,null,null,null,null,null,null,null,null,null,null,null,null,null,null,null,null,null,null,null,null,null,null,null,null,null,null,null,null,null,null,null,null,null,null,null,null,null,null,{"$f":"IF(Indtastning!Y:Y=\"Ikke Aflagt\",1,\"\")","v":""},null,null,{"$f":"IF(Indtastning!U:U=\"Positiv\",1,\"\")","v":""},null,null,null,{"$f":"IF(Indtastning!Y:Y=\"Positiv\",1,\"\")","v":""},null,null,null,{"$f":"IF(Indtastning!AC:AC=\"Positiv\",1,\"\")","v":""},null,null,null,{"$f":"IF(Indtastning!AG:AG=\"Positiv\",1,\"\")","v":""}]
[null,null,null,null,null,null,null,null,null,null,null,null,null,null,null,null,null,null,null,null,null,null,null,null,null,null,null,null,null,null,null,null,null,null,null,null,null,null,null,null,null,null,null,null,null,{"$f":"IF(Indtastning!Y:Y=\"Ikke Aflagt\",1,\"\")","v":""},null,null,{"$f":"IF(Indtastning!U:U=\"Positiv\",1,\"\")","v":""},null,null,null,{"$f":"IF(Indtastning!Y:Y=\"Positiv\",1,\"\")","v":""},null,null,null,{"$f":"IF(Indtastning!AC:AC=\"Positiv\",1,\"\")","v":""},null,null,null,{"$f":"IF(Indtastning!AG:AG=\"Positiv\",1,\"\")","v":""}]
[null,null,null,null,null,null,null,null,null,null,null,null,null,null,null,null,null,null,null,null,null,null,null,null,null,null,null,null,null,null,null,null,null,null,null,null,null,null,null,null,null,null,null,null,null,{"$f":"IF(Indtastning!Y:Y=\"Ikke Aflagt\",1,\"\")","v":""},null,null,{"$f":"IF(Indtastning!U:U=\"Positiv\",1,\"\")","v":""},null,null,null,{"$f":"IF(Indtastning!Y:Y=\"Positiv\",1,\"\")","v":""},null,null,null,{"$f":"IF(Indtastning!AC:AC=\"Positiv\",1,\"\")","v":""},null,null,null,{"$f":"IF(Indtastning!AG:AG=\"Positiv\",1,\"\")","v":""}]
[null,null,null,null,null,null,null,null,null,null,null,null,null,null,null,null,null,null,null,null,null,null,null,null,null,null,null,null,null,null,null,null,null,null,null,null,null,null,null,null,null,null,null,null,null,{"$f":"IF(Indtastning!Y:Y=\"Ikke Aflagt\",1,\"\")","v":""},null,null,{"$f":"IF(Indtastning!U:U=\"Positiv\",1,\"\")","v":""},null,null,null,{"$f":"IF(Indtastning!Y:Y=\"Positiv\",1,\"\")","v":""},null,null,null,{"$f":"IF(Indtastning!AC:AC=\"Positiv\",1,\"\")","v":""},null,null,null,{"$f":"IF(Indtastning!AG:AG=\"Positiv\",1,\"\")","v":""}]
[null,null,null,null,null,null,null,null,null,null,null,null,null,null,null,null,null,null,null,null,null,null,null,null,null,null,null,null,null,null,null,null,null,null,null,null,null,null,null,null,null,null,null,null,null,{"$f":"IF(Indtastning!Y:Y=\"Ikke Aflagt\",1,\"\")","v":""},null,null,{"$f":"IF(Indtastning!U:U=\"Positiv\",1,\"\")","v":""},null,null,null,{"$f":"IF(Indtastning!Y:Y=\"Positiv\",1,\"\")","v":""},null,null,null,{"$f":"IF(Indtastning!AC:AC=\"Positiv\",1,\"\")","v":""},null,null,null,{"$f":"IF(Indtastning!AG:AG=\"Positiv\",1,\"\")","v":""}]
[null,null,null,null,null,null,null,null,null,null,null,null,null,null,null,null,null,null,null,null,null,null,null,null,null,null,null,null,null,null,null,null,null,null,null,null,null,null,null,null,null,null,null,null,null,{"$f":"IF(Indtastning!Y:Y=\"Ikke Aflagt\",1,\"\")","v":""},null,null,{"$f":"IF(Indtastning!U:U=\"Positiv\",1,\"\")","v":""},null,null,null,{"$f":"IF(Indtastning!Y:Y=\"Positiv\",1,\"\")","v":""},null,null,null,{"$f":"IF(Indtastning!AC:AC=\"Positiv\",1,\"\")","v":""},null,null,null,{"$f":"IF(Indtastning!AG:AG=\"Positiv\",1,\"\")","v":""}]
[null,null,null,null,null,null,null,null,null,null,null,null,null,null,null,null,null,null,null,null,null,null,null,null,null,null,null,null,null,null,null,null,null,null,null,null,null,null,null,null,null,null,null,null,null,{"$f":"IF(Indtastning!Y:Y=\"Ikke Aflagt\",1,\"\")","v":""},null,null,{"$f":"IF(Indtastning!U:U=\"Positiv\",1,\"\")","v":""},null,null,null,{"$f":"IF(Indtastning!Y:Y=\"Positiv\",1,\"\")","v":""},null,null,null,{"$f":"IF(Indtastning!AC:AC=\"Positiv\",1,\"\")","v":""},null,null,null,{"$f":"IF(Indtastning!AG:AG=\"Positiv\",1,\"\")","v":""}]
[null,null,null,null,null,null,null,null,null,null,null,null,null,null,null,null,null,null,null,null,null,null,null,null,null,null,null,null,null,null,null,null,null,null,null,null,null,null,null,null,null,null,null,null,null,{"$f":"IF(Indtastning!Y:Y=\"Ikke Aflagt\",1,\"\")","v":""},null,null,{"$f":"IF(Indtastning!U:U=\"Positiv\",1,\"\")","v":""},null,null,null,{"$f":"IF(Indtastning!Y:Y=\"Positiv\",1,\"\")","v":""},null,null,null,{"$f":"IF(Indtastning!AC:AC=\"Positiv\",1,\"\")","v":""},null,null,null,{"$f":"IF(Indtastning!AG:AG=\"Positiv\",1,\"\")","v":""}]
[null,null,null,null,null,null,null,null,null,null,null,null,null,null,null,null,null,null,null,null,null,null,null,null,null,null,null,null,null,null,null,null,null,null,null,null,null,null,null,null,null,null,null,null,null,{"$f":"IF(Indtastning!Y:Y=\"Ikke Aflagt\",1,\"\")","v":""},null,null,{"$f":"IF(Indtastning!U:U=\"Positiv\",1,\"\")","v":""},null,null,null,{"$f":"IF(Indtastning!Y:Y=\"Positiv\",1,\"\")","v":""},null,null,null,{"$f":"IF(Indtastning!AC:AC=\"Positiv\",1,\"\")","v":""},null,null,null,{"$f":"IF(Indtastning!AG:AG=\"Positiv\",1,\"\")","v":""}]
[null,null,null,null,null,null,null,null,null,null,null,null,null,null,null,null,null,null,null,null,null,null,null,null,null,null,null,null,null,null,null,null,null,null,null,null,null,null,null,null,null,null,null,null,null,{"$f":"IF(Indtastning!Y:Y=\"Ikke Aflagt\",1,\"\")","v":""},null,null,{"$f":"IF(Indtastning!U:U=\"Positiv\",1,\"\")","v":""},null,null,null,{"$f":"IF(Indtastning!Y:Y=\"Positiv\",1,\"\")","v":""},null,null,null,{"$f":"IF(Indtastning!AC:AC=\"Positiv\",1,\"\")","v":""},null,null,null,{"$f":"IF(Indtastning!AG:AG=\"Positiv\",1,\"\")","v":""}]
[null,null,null,null,null,null,null,null,null,null,null,null,null,null,null,null,null,null,null,null,null,null,null,null,null,null,null,null,null,null,null,null,null,null,null,null,null,null,null,null,null,null,null,null,null,{"$f":"IF(Indtastning!Y:Y=\"Ikke Aflagt\",1,\"\")","v":""},null,null,{"$f":"IF(Indtastning!U:U=\"Positiv\",1,\"\")","v":""},null,null,null,{"$f":"IF(Indtastning!Y:Y=\"Positiv\",1,\"\")","v":""},null,null,null,{"$f":"IF(Indtastning!AC:AC=\"Positiv\",1,\"\")","v":""},null,null,null,{"$f":"IF(Indtastning!AG:AG=\"Positiv\",1,\"\")","v":""}]
[null,null,null,null,null,null,null,null,null,null,null,null,null,null,null,null,null,null,null,null,null,null,null,null,null,null,null,null,null,null,null,null,null,null,null,null,null,null,null,null,null,null,null,null,null,{"$f":"IF(Indtastning!Y:Y=\"Ikke Aflagt\",1,\"\")","v":""},null,null,{"$f":"IF(Indtastning!U:U=\"Positiv\",1,\"\")","v":""},null,null,null,{"$f":"IF(Indtastning!Y:Y=\"Positiv\",1,\"\")","v":""},null,null,null,{"$f":"IF(Indtastning!AC:AC=\"Positiv\",1,\"\")","v":""},null,null,null,{"$f":"IF(Indtastning!AG:AG=\"Positiv\",1,\"\")","v":""}]
[null,null,null,null,null,null,null,null,null,null,null,null,null,null,null,null,null,null,null,null,null,null,null,null,null,null,null,null,null,null,null,null,null,null,null,null,null,null,null,null,null,null,null,null,null,{"$f":"IF(Indtastning!Y:Y=\"Ikke Aflagt\",1,\"\")","v":""},null,null,{"$f":"IF(Indtastning!U:U=\"Positiv\",1,\"\")","v":""},null,null,null,{"$f":"IF(Indtastning!Y:Y=\"Positiv\",1,\"\")","v":""},null,null,null,{"$f":"IF(Indtastning!AC:AC=\"Positiv\",1,\"\")","v":""},null,null,null,{"$f":"IF(Indtastning!AG:AG=\"Positiv\",1,\"\")","v":""}]
[null,null,null,null,null,null,null,null,null,null,null,null,null,null,null,null,null,null,null,null,null,null,null,null,null,null,null,null,null,null,null,null,null,null,null,null,null,null,null,null,null,null,null,null,null,{"$f":"IF(Indtastning!Y:Y=\"Ikke Aflagt\",1,\"\")","v":""},null,null,{"$f":"IF(Indtastning!U:U=\"Positiv\",1,\"\")","v":""},null,null,null,{"$f":"IF(Indtastning!Y:Y=\"Positiv\",1,\"\")","v":""},null,null,null,{"$f":"IF(Indtastning!AC:AC=\"Positiv\",1,\"\")","v":""},null,null,null,{"$f":"IF(Indtastning!AG:AG=\"Positiv\",1,\"\")","v":""}]
[null,null,null,null,null,null,null,null,null,null,null,null,null,null,null,null,null,null,null,null,null,null,null,null,null,null,null,null,null,null,null,null,null,null,null,null,null,null,null,null,null,null,null,null,null,{"$f":"IF(Indtastning!Y:Y=\"Ikke Aflagt\",1,\"\")","v":""},null,null,{"$f":"IF(Indtastning!U:U=\"Positiv\",1,\"\")","v":""},null,null,null,{"$f":"IF(Indtastning!Y:Y=\"Positiv\",1,\"\")","v":""},null,null,null,{"$f":"IF(Indtastning!AC:AC=\"Positiv\",1,\"\")","v":""},null,null,null,{"$f":"IF(Indtastning!AG:AG=\"Positiv\",1,\"\")","v":""}]
[null,null,null,null,null,null,null,null,null,null,null,null,null,null,null,null,null,null,null,null,null,null,null,null,null,null,null,null,null,null,null,null,null,null,null,null,null,null,null,null,null,null,null,null,null,{"$f":"IF(Indtastning!Y:Y=\"Ikke Aflagt\",1,\"\")","v":""},null,null,{"$f":"IF(Indtastning!U:U=\"Positiv\",1,\"\")","v":""},null,null,null,{"$f":"IF(Indtastning!Y:Y=\"Positiv\",1,\"\")","v":""},null,null,null,{"$f":"IF(Indtastning!AC:AC=\"Positiv\",1,\"\")","v":""},null,null,null,{"$f":"IF(Indtastning!AG:AG=\"Positiv\",1,\"\")","v":""}]
[null,null,null,null,null,null,null,null,null,null,null,null,null,null,null,null,null,null,null,null,null,null,null,null,null,null,null,null,null,null,null,null,null,null,null,null,null,null,null,null,null,null,null,null,null,{"$f":"IF(Indtastning!Y:Y=\"Ikke Aflagt\",1,\"\")","v":""},null,null,{"$f":"IF(Indtastning!U:U=\"Positiv\",1,\"\")","v":""},null,null,null,{"$f":"IF(Indtastning!Y:Y=\"Positiv\",1,\"\")","v":""},null,null,null,{"$f":"IF(Indtastning!AC:AC=\"Positiv\",1,\"\")","v":""},null,null,null,{"$f":"IF(Indtastning!AG:AG=\"Positiv\",1,\"\")","v":""}]
[null,null,null,null,null,null,null,null,null,null,null,null,null,null,null,null,null,null,null,null,null,null,null,null,null,null,null,null,null,null,null,null,null,null,null,null,null,null,null,null,null,null,null,null,null,{"$f":"IF(Indtastning!Y:Y=\"Ikke Aflagt\",1,\"\")","v":""},null,null,{"$f":"IF(Indtastning!U:U=\"Positiv\",1,\"\")","v":""},null,null,null,{"$f":"IF(Indtastning!Y:Y=\"Positiv\",1,\"\")","v":""},null,null,null,{"$f":"IF(Indtastning!AC:AC=\"Positiv\",1,\"\")","v":""},null,null,null,{"$f":"IF(Indtastning!AG:AG=\"Positiv\",1,\"\")","v":""}]
[null,null,null,null,null,null,null,null,null,null,null,null,null,null,null,null,null,null,null,null,null,null,null,null,null,null,null,null,null,null,null,null,null,null,null,null,null,null,null,null,null,null,null,null,null,{"$f":"IF(Indtastning!Y:Y=\"Ikke Aflagt\",1,\"\")","v":""},null,null,{"$f":"IF(Indtastning!U:U=\"Positiv\",1,\"\")","v":""},null,null,null,{"$f":"IF(Indtastning!Y:Y=\"Positiv\",1,\"\")","v":""},null,null,null,{"$f":"IF(Indtastning!AC:AC=\"Positiv\",1,\"\")","v":""},null,null,null,{"$f":"IF(Indtastning!AG:AG=\"Positiv\",1,\"\")","v":""}]
[null,null,null,null,null,null,null,null,null,null,null,null,null,null,null,null,null,null,null,null,null,null,null,null,null,null,null,null,null,null,null,null,null,null,null,null,null,null,null,null,null,null,null,null,null,{"$f":"IF(Indtastning!Y:Y=\"Ikke Aflagt\",1,\"\")","v":""},null,null,{"$f":"IF(Indtastning!U:U=\"Positiv\",1,\"\")","v":""},null,null,null,{"$f":"IF(Indtastning!Y:Y=\"Positiv\",1,\"\")","v":""},null,null,null,{"$f":"IF(Indtastning!AC:AC=\"Positiv\",1,\"\")","v":""},null,null,null,{"$f":"IF(Indtastning!AG:AG=\"Positiv\",1,\"\")","v":""}]
[null,null,null,null,null,null,null,null,null,null,null,null,null,null,null,null,null,null,null,null,null,null,null,null,null,null,null,null,null,null,null,null,null,null,null,null,null,null,null,null,null,null,null,null,null,{"$f":"IF(Indtastning!Y:Y=\"Ikke Aflagt\",1,\"\")","v":""},null,null,{"$f":"IF(Indtastning!U:U=\"Positiv\",1,\"\")","v":""},null,null,null,{"$f":"IF(Indtastning!Y:Y=\"Positiv\",1,\"\")","v":""},null,null,null,{"$f":"IF(Indtastning!AC:AC=\"Positiv\",1,\"\")","v":""},null,null,null,{"$f":"IF(Indtastning!AG:AG=\"Positiv\",1,\"\")","v":""}]
[null,null,null,null,null,null,null,null,null,null,null,null,null,null,null,null,null,null,null,null,null,null,null,null,null,null,null,null,null,null,null,null,null,null,null,null,null,null,null,null,null,null,null,null,null,{"$f":"IF(Indtastning!Y:Y=\"Ikke Aflagt\",1,\"\")","v":""},null,null,{"$f":"IF(Indtastning!U:U=\"Positiv\",1,\"\")","v":""},null,null,null,{"$f":"IF(Indtastning!Y:Y=\"Positiv\",1,\"\")","v":""},null,null,null,{"$f":"IF(Indtastning!AC:AC=\"Positiv\",1,\"\")","v":""},null,null,null,{"$f":"IF(Indtastning!AG:AG=\"Positiv\",1,\"\")","v":""}]
[null,null,null,null,null,null,null,null,null,null,null,null,null,null,null,null,null,null,null,null,null,null,null,null,null,null,null,null,null,null,null,null,null,null,null,null,null,null,null,null,null,null,null,null,null,{"$f":"IF(Indtastning!Y:Y=\"Ikke Aflagt\",1,\"\")","v":""},null,null,{"$f":"IF(Indtastning!U:U=\"Positiv\",1,\"\")","v":""},null,null,null,{"$f":"IF(Indtastning!Y:Y=\"Positiv\",1,\"\")","v":""},null,null,null,{"$f":"IF(Indtastning!AC:AC=\"Positiv\",1,\"\")","v":""},null,null,null,{"$f":"IF(Indtastning!AG:AG=\"Positiv\",1,\"\")","v":""}]
[null,null,null,null,null,null,null,null,null,null,null,null,null,null,null,null,null,null,null,null,null,null,null,null,null,null,null,null,null,null,null,null,null,null,null,null,null,null,null,null,null,null,null,null,null,{"$f":"IF(Indtastning!Y:Y=\"Ikke Aflagt\",1,\"\")","v":""},null,null,{"$f":"IF(Indtastning!U:U=\"Positiv\",1,\"\")","v":""},null,null,null,{"$f":"IF(Indtastning!Y:Y=\"Positiv\",1,\"\")","v":""},null,null,null,{"$f":"IF(Indtastning!AC:AC=\"Positiv\",1,\"\")","v":""},null,null,null,{"$f":"IF(Indtastning!AG:AG=\"Positiv\",1,\"\")","v":""}]
[null,null,null,null,null,null,null,null,null,null,null,null,null,null,null,null,null,null,null,null,null,null,null,null,null,null,null,null,null,null,null,null,null,null,null,null,null,null,null,null,null,null,null,null,null,{"$f":"IF(Indtastning!Y:Y=\"Ikke Aflagt\",1,\"\")","v":""},null,null,{"$f":"IF(Indtastning!U:U=\"Positiv\",1,\"\")","v":""},null,null,null,{"$f":"IF(Indtastning!Y:Y=\"Positiv\",1,\"\")","v":""},null,null,null,{"$f":"IF(Indtastning!AC:AC=\"Positiv\",1,\"\")","v":""},null,null,null,{"$f":"IF(Indtastning!AG:AG=\"Positiv\",1,\"\")","v":""}]
[null,null,null,null,null,null,null,null,null,null,null,null,null,null,null,null,null,null,null,null,null,null,null,null,null,null,null,null,null,null,null,null,null,null,null,null,null,null,null,null,null,null,null,null,null,{"$f":"IF(Indtastning!Y:Y=\"Ikke Aflagt\",1,\"\")","v":""},null,null,{"$f":"IF(Indtastning!U:U=\"Positiv\",1,\"\")","v":""},null,null,null,{"$f":"IF(Indtastning!Y:Y=\"Positiv\",1,\"\")","v":""},null,null,null,{"$f":"IF(Indtastning!AC:AC=\"Positiv\",1,\"\")","v":""},null,null,null,{"$f":"IF(Indtastning!AG:AG=\"Positiv\",1,\"\")","v":""}]
[null,null,null,null,null,null,null,null,null,null,null,null,null,null,null,null,null,null,null,null,null,null,null,null,null,null,null,null,null,null,null,null,null,null,null,null,null,null,null,null,null,null,null,null,null,{"$f":"IF(Indtastning!Y:Y=\"Ikke Aflagt\",1,\"\")","v":""},null,null,{"$f":"IF(Indtastning!U:U=\"Positiv\",1,\"\")","v":""},null,null,null,{"$f":"IF(Indtastning!Y:Y=\"Positiv\",1,\"\")","v":""},null,null,null,{"$f":"IF(Indtastning!AC:AC=\"Positiv\",1,\"\")","v":""},null,null,null,{"$f":"IF(Indtastning!AG:AG=\"Positiv\",1,\"\")","v":""}]
[null,null,null,null,null,null,null,null,null,null,null,null,null,null,null,null,null,null,null,null,null,null,null,null,null,null,null,null,null,null,null,null,null,null,null,null,null,null,null,null,null,null,null,null,null,{"$f":"IF(Indtastning!Y:Y=\"Ikke Aflagt\",1,\"\")","v":""},null,null,{"$f":"IF(Indtastning!U:U=\"Positiv\",1,\"\")","v":""},null,null,null,{"$f":"IF(Indtastning!Y:Y=\"Positiv\",1,\"\")","v":""},null,null,null,{"$f":"IF(Indtastning!AC:AC=\"Positiv\",1,\"\")","v":""},null,null,null,{"$f":"IF(Indtastning!AG:AG=\"Positiv\",1,\"\")","v":""}]
[null,null,null,null,null,null,null,null,null,null,null,null,null,null,null,null,null,null,null,null,null,null,null,null,null,null,null,null,null,null,null,null,null,null,null,null,null,null,null,null,null,null,null,null,null,{"$f":"IF(Indtastning!Y:Y=\"Ikke Aflagt\",1,\"\")","v":""},null,null,{"$f":"IF(Indtastning!U:U=\"Positiv\",1,\"\")","v":""},null,null,null,{"$f":"IF(Indtastning!Y:Y=\"Positiv\",1,\"\")","v":""},null,null,null,{"$f":"IF(Indtastning!AC:AC=\"Positiv\",1,\"\")","v":""},null,null,null,{"$f":"IF(Indtastning!AG:AG=\"Positiv\",1,\"\")","v":""}]
[null,null,null,null,null,null,null,null,null,null,null,null,null,null,null,null,null,null,null,null,null,null,null,null,null,null,null,null,null,null,null,null,null,null,null,null,null,null,null,null,null,null,null,null,null,{"$f":"IF(Indtastning!Y:Y=\"Ikke Aflagt\",1,\"\")","v":""},null,null,{"$f":"IF(Indtastning!U:U=\"Positiv\",1,\"\")","v":""},null,null,null,{"$f":"IF(Indtastning!Y:Y=\"Positiv\",1,\"\")","v":""},null,null,null,{"$f":"IF(Indtastning!AC:AC=\"Positiv\",1,\"\")","v":""},null,null,null,{"$f":"IF(Indtastning!AG:AG=\"Positiv\",1,\"\")","v":""}]
[null,null,null,null,null,null,null,null,null,null,null,null,null,null,null,null,null,null,null,null,null,null,null,null,null,null,null,null,null,null,null,null,null,null,null,null,null,null,null,null,null,null,null,null,null,{"$f":"IF(Indtastning!Y:Y=\"Ikke Aflagt\",1,\"\")","v":""},null,null,{"$f":"IF(Indtastning!U:U=\"Positiv\",1,\"\")","v":""},null,null,null,{"$f":"IF(Indtastning!Y:Y=\"Positiv\",1,\"\")","v":""},null,null,null,{"$f":"IF(Indtastning!AC:AC=\"Positiv\",1,\"\")","v":""},null,null,null,{"$f":"IF(Indtastning!AG:AG=\"Positiv\",1,\"\")","v":""}]
[null,null,null,null,null,null,null,null,null,null,null,null,null,null,null,null,null,null,null,null,null,null,null,null,null,null,null,null,null,null,null,null,null,null,null,null,null,null,null,null,null,null,null,null,null,{"$f":"IF(Indtastning!Y:Y=\"Ikke Aflagt\",1,\"\")","v":""},null,null,{"$f":"IF(Indtastning!U:U=\"Positiv\",1,\"\")","v":""},null,null,null,{"$f":"IF(Indtastning!Y:Y=\"Positiv\",1,\"\")","v":""},null,null,null,{"$f":"IF(Indtastning!AC:AC=\"Positiv\",1,\"\")","v":""},null,null,null,{"$f":"IF(Indtastning!AG:AG=\"Positiv\",1,\"\")","v":""}]
[null,null,null,null,null,null,null,null,null,null,null,null,null,null,null,null,null,null,null,null,null,null,null,null,null,null,null,null,null,null,null,null,null,null,null,null,null,null,null,null,null,null,null,null,null,{"$f":"IF(Indtastning!Y:Y=\"Ikke Aflagt\",1,\"\")","v":""},null,null,{"$f":"IF(Indtastning!U:U=\"Positiv\",1,\"\")","v":""},null,null,null,{"$f":"IF(Indtastning!Y:Y=\"Positiv\",1,\"\")","v":""},null,null,null,{"$f":"IF(Indtastning!AC:AC=\"Positiv\",1,\"\")","v":""},null,null,null,{"$f":"IF(Indtastning!AG:AG=\"Positiv\",1,\"\")","v":""}]
[null,null,null,null,null,null,null,null,null,null,null,null,null,null,null,null,null,null,null,null,null,null,null,null,null,null,null,null,null,null,null,null,null,null,null,null,null,null,null,null,null,null,null,null,null,{"$f":"IF(Indtastning!Y:Y=\"Ikke Aflagt\",1,\"\")","v":""},null,null,{"$f":"IF(Indtastning!U:U=\"Positiv\",1,\"\")","v":""},null,null,null,{"$f":"IF(Indtastning!Y:Y=\"Positiv\",1,\"\")","v":""},null,null,null,{"$f":"IF(Indtastning!AC:AC=\"Positiv\",1,\"\")","v":""},null,null,null,{"$f":"IF(Indtastning!AG:AG=\"Positiv\",1,\"\")","v":""}]
[null,null,null,null,null,null,null,null,null,null,null,null,null,null,null,null,null,null,null,null,null,null,null,null,null,null,null,null,null,null,null,null,null,null,null,null,null,null,null,null,null,null,null,null,null,{"$f":"IF(Indtastning!Y:Y=\"Ikke Aflagt\",1,\"\")","v":""},null,null,{"$f":"IF(Indtastning!U:U=\"Positiv\",1,\"\")","v":""},null,null,null,{"$f":"IF(Indtastning!Y:Y=\"Positiv\",1,\"\")","v":""},null,null,null,{"$f":"IF(Indtastning!AC:AC=\"Positiv\",1,\"\")","v":""},null,null,null,{"$f":"IF(Indtastning!AG:AG=\"Positiv\",1,\"\")","v":""}]
[null,null,null,null,null,null,null,null,null,null,null,null,null,null,null,null,null,null,null,null,null,null,null,null,null,null,null,null,null,null,null,null,null,null,null,null,null,null,null,null,null,null,null,null,null,{"$f":"IF(Indtastning!Y:Y=\"Ikke Aflagt\",1,\"\")","v":""},null,null,{"$f":"IF(Indtastning!U:U=\"Positiv\",1,\"\")","v":""},null,null,null,{"$f":"IF(Indtastning!Y:Y=\"Positiv\",1,\"\")","v":""},null,null,null,{"$f":"IF(Indtastning!AC:AC=\"Positiv\",1,\"\")","v":""},null,null,null,{"$f":"IF(Indtastning!AG:AG=\"Positiv\",1,\"\")","v":""}]
[null,null,null,null,null,null,null,null,null,null,null,null,null,null,null,null,null,null,null,null,null,null,null,null,null,null,null,null,null,null,null,null,null,null,null,null,null,null,null,null,null,null,null,null,null,{"$f":"IF(Indtastning!Y:Y=\"Ikke Aflagt\",1,\"\")","v":""},null,null,{"$f":"IF(Indtastning!U:U=\"Positiv\",1,\"\")","v":""},null,null,null,{"$f":"IF(Indtastning!Y:Y=\"Positiv\",1,\"\")","v":""},null,null,null,{"$f":"IF(Indtastning!AC:AC=\"Positiv\",1,\"\")","v":""},null,null,null,{"$f":"IF(Indtastning!AG:AG=\"Positiv\",1,\"\")","v":""}]
[null,null,null,null,null,null,null,null,null,null,null,null,null,null,null,null,null,null,null,null,null,null,null,null,null,null,null,null,null,null,null,null,null,null,null,null,null,null,null,null,null,null,null,null,null,{"$f":"IF(Indtastning!Y:Y=\"Ikke Aflagt\",1,\"\")","v":""},null,null,{"$f":"IF(Indtastning!U:U=\"Positiv\",1,\"\")","v":""},null,null,null,{"$f":"IF(Indtastning!Y:Y=\"Positiv\",1,\"\")","v":""},null,null,null,{"$f":"IF(Indtastning!AC:AC=\"Positiv\",1,\"\")","v":""},null,null,null,{"$f":"IF(Indtastning!AG:AG=\"Positiv\",1,\"\")","v":""}]
[null,null,null,null,null,null,null,null,null,null,null,null,null,null,null,null,null,null,null,null,null,null,null,null,null,null,null,null,null,null,null,null,null,null,null,null,null,null,null,null,null,null,null,null,null,{"$f":"IF(Indtastning!Y:Y=\"Ikke Aflagt\",1,\"\")","v":""},null,null,{"$f":"IF(Indtastning!U:U=\"Positiv\",1,\"\")","v":""},null,null,null,{"$f":"IF(Indtastning!Y:Y=\"Positiv\",1,\"\")","v":""},null,null,null,{"$f":"IF(Indtastning!AC:AC=\"Positiv\",1,\"\")","v":""},null,null,null,{"$f":"IF(Indtastning!AG:AG=\"Positiv\",1,\"\")","v":""}]
[null,null,null,null,null,null,null,null,null,null,null,null,null,null,null,null,null,null,null,null,null,null,null,null,null,null,null,null,null,null,null,null,null,null,null,null,null,null,null,null,null,null,null,null,null,{"$f":"IF(Indtastning!Y:Y=\"Ikke Aflagt\",1,\"\")","v":""},null,null,{"$f":"IF(Indtastning!U:U=\"Positiv\",1,\"\")","v":""},null,null,null,{"$f":"IF(Indtastning!Y:Y=\"Positiv\",1,\"\")","v":""},null,null,null,{"$f":"IF(Indtastning!AC:AC=\"Positiv\",1,\"\")","v":""},null,null,null,{"$f":"IF(Indtastning!AG:AG=\"Positiv\",1,\"\")","v":""}]
[null,null,null,null,null,null,null,null,null,null,null,null,null,null,null,null,null,null,null,null,null,null,null,null,null,null,null,null,null,null,null,null,null,null,null,null,null,null,null,null,null,null,null,null,null,{"$f":"IF(Indtastning!Y:Y=\"Ikke Aflagt\",1,\"\")","v":""},null,null,{"$f":"IF(Indtastning!U:U=\"Positiv\",1,\"\")","v":""},null,null,null,{"$f":"IF(Indtastning!Y:Y=\"Positiv\",1,\"\")","v":""},null,null,null,{"$f":"IF(Indtastning!AC:AC=\"Positiv\",1,\"\")","v":""},null,null,null,{"$f":"IF(Indtastning!AG:AG=\"Positiv\",1,\"\")","v":""}]
[null,null,null,null,null,null,null,null,null,null,null,null,null,null,null,null,null,null,null,null,null,null,null,null,null,null,null,null,null,null,null,null,null,null,null,null,null,null,null,null,null,null,null,null,null,{"$f":"IF(Indtastning!Y:Y=\"Ikke Aflagt\",1,\"\")","v":""},null,null,{"$f":"IF(Indtastning!U:U=\"Positiv\",1,\"\")","v":""},null,null,null,{"$f":"IF(Indtastning!Y:Y=\"Positiv\",1,\"\")","v":""},null,null,null,{"$f":"IF(Indtastning!AC:AC=\"Positiv\",1,\"\")","v":""},null,null,null,{"$f":"IF(Indtastning!AG:AG=\"Positiv\",1,\"\")","v":""}]
[null,null,null,null,null,null,null,null,null,null,null,null,null,null,null,null,null,null,null,null,null,null,null,null,null,null,null,null,null,null,null,null,null,null,null,null,null,null,null,null,null,null,null,null,null,{"$f":"IF(Indtastning!Y:Y=\"Ikke Aflagt\",1,\"\")","v":""},null,null,{"$f":"IF(Indtastning!U:U=\"Positiv\",1,\"\")","v":""},null,null,null,{"$f":"IF(Indtastning!Y:Y=\"Positiv\",1,\"\")","v":""},null,null,null,{"$f":"IF(Indtastning!AC:AC=\"Positiv\",1,\"\")","v":""},null,null,null,{"$f":"IF(Indtastning!AG:AG=\"Positiv\",1,\"\")","v":""}]
[null,null,null,null,null,null,null,null,null,null,null,null,null,null,null,null,null,null,null,null,null,null,null,null,null,null,null,null,null,null,null,null,null,null,null,null,null,null,null,null,null,null,null,null,null,{"$f":"IF(Indtastning!Y:Y=\"Ikke Aflagt\",1,\"\")","v":""},null,null,{"$f":"IF(Indtastning!U:U=\"Positiv\",1,\"\")","v":""},null,null,null,{"$f":"IF(Indtastning!Y:Y=\"Positiv\",1,\"\")","v":""},null,null,null,{"$f":"IF(Indtastning!AC:AC=\"Positiv\",1,\"\")","v":""},null,null,null,{"$f":"IF(Indtastning!AG:AG=\"Positiv\",1,\"\")","v":""}]
[null,null,null,null,null,null,null,null,null,null,null,null,null,null,null,null,null,null,null,null,null,null,null,null,null,null,null,null,null,null,null,null,null,null,null,null,null,null,null,null,null,null,null,null,null,{"$f":"IF(Indtastning!Y:Y=\"Ikke Aflagt\",1,\"\")","v":""},null,null,{"$f":"IF(Indtastning!U:U=\"Positiv\",1,\"\")","v":""},null,null,null,{"$f":"IF(Indtastning!Y:Y=\"Positiv\",1,\"\")","v":""},null,null,null,{"$f":"IF(Indtastning!AC:AC=\"Positiv\",1,\"\")","v":""},null,null,null,{"$f":"IF(Indtastning!AG:AG=\"Positiv\",1,\"\")","v":""}]
[null,null,null,null,null,null,null,null,null,null,null,null,null,null,null,null,null,null,null,null,null,null,null,null,null,null,null,null,null,null,null,null,null,null,null,null,null,null,null,null,null,null,null,null,null,{"$f":"IF(Indtastning!Y:Y=\"Ikke Aflagt\",1,\"\")","v":""},null,null,{"$f":"IF(Indtastning!U:U=\"Positiv\",1,\"\")","v":""},null,null,null,{"$f":"IF(Indtastning!Y:Y=\"Positiv\",1,\"\")","v":""},null,null,null,{"$f":"IF(Indtastning!AC:AC=\"Positiv\",1,\"\")","v":""},null,null,null,{"$f":"IF(Indtastning!AG:AG=\"Positiv\",1,\"\")","v":""}]
[null,null,null,null,null,null,null,null,null,null,null,null,null,null,null,null,null,null,null,null,null,null,null,null,null,null,null,null,null,null,null,null,null,null,null,null,null,null,null,null,null,null,null,null,null,{"$f":"IF(Indtastning!Y:Y=\"Ikke Aflagt\",1,\"\")","v":""},null,null,{"$f":"IF(Indtastning!U:U=\"Positiv\",1,\"\")","v":""},null,null,null,{"$f":"IF(Indtastning!Y:Y=\"Positiv\",1,\"\")","v":""},null,null,null,{"$f":"IF(Indtastning!AC:AC=\"Positiv\",1,\"\")","v":""},null,null,null,{"$f":"IF(Indtastning!AG:AG=\"Positiv\",1,\"\")","v":""}]
[null,null,null,null,null,null,null,null,null,null,null,null,null,null,null,null,null,null,null,null,null,null,null,null,null,null,null,null,null,null,null,null,null,null,null,null,null,null,null,null,null,null,null,null,null,{"$f":"IF(Indtastning!Y:Y=\"Ikke Aflagt\",1,\"\")","v":""},null,null,{"$f":"IF(Indtastning!U:U=\"Positiv\",1,\"\")","v":""},null,null,null,{"$f":"IF(Indtastning!Y:Y=\"Positiv\",1,\"\")","v":""},null,null,null,{"$f":"IF(Indtastning!AC:AC=\"Positiv\",1,\"\")","v":""},null,null,null,{"$f":"IF(Indtastning!AG:AG=\"Positiv\",1,\"\")","v":""}]
[null,null,null,null,null,null,null,null,null,null,null,null,null,null,null,null,null,null,null,null,null,null,null,null,null,null,null,null,null,null,null,null,null,null,null,null,null,null,null,null,null,null,null,null,null,{"$f":"IF(Indtastning!Y:Y=\"Ikke Aflagt\",1,\"\")","v":""},null,null,{"$f":"IF(Indtastning!U:U=\"Positiv\",1,\"\")","v":""},null,null,null,{"$f":"IF(Indtastning!Y:Y=\"Positiv\",1,\"\")","v":""},null,null,null,{"$f":"IF(Indtastning!AC:AC=\"Positiv\",1,\"\")","v":""},null,null,null,{"$f":"IF(Indtastning!AG:AG=\"Positiv\",1,\"\")","v":""}]
[null,null,null,null,null,null,null,null,null,null,null,null,null,null,null,null,null,null,null,null,null,null,null,null,null,null,null,null,null,null,null,null,null,null,null,null,null,null,null,null,null,null,null,null,null,{"$f":"IF(Indtastning!Y:Y=\"Ikke Aflagt\",1,\"\")","v":""},null,null,{"$f":"IF(Indtastning!U:U=\"Positiv\",1,\"\")","v":""},null,null,null,{"$f":"IF(Indtastning!Y:Y=\"Positiv\",1,\"\")","v":""},null,null,null,{"$f":"IF(Indtastning!AC:AC=\"Positiv\",1,\"\")","v":""},null,null,null,{"$f":"IF(Indtastning!AG:AG=\"Positiv\",1,\"\")","v":""}]
[null,null,null,null,null,null,null,null,null,null,null,null,null,null,null,null,null,null,null,null,null,null,null,null,null,null,null,null,null,null,null,null,null,null,null,null,null,null,null,null,null,null,null,null,null,{"$f":"IF(Indtastning!Y:Y=\"Ikke Aflagt\",1,\"\")","v":""},null,null,{"$f":"IF(Indtastning!U:U=\"Positiv\",1,\"\")","v":""},null,null,null,{"$f":"IF(Indtastning!Y:Y=\"Positiv\",1,\"\")","v":""},null,null,null,{"$f":"IF(Indtastning!AC:AC=\"Positiv\",1,\"\")","v":""},null,null,null,{"$f":"IF(Indtastning!AG:AG=\"Positiv\",1,\"\")","v":""}]
[null,null,null,null,null,null,null,null,null,null,null,null,null,null,null,null,null,null,null,null,null,null,null,null,null,null,null,null,null,null,null,null,null,null,null,null,null,null,null,null,null,null,null,null,null,{"$f":"IF(Indtastning!Y:Y=\"Ikke Aflagt\",1,\"\")","v":""},null,null,{"$f":"IF(Indtastning!U:U=\"Positiv\",1,\"\")","v":""},null,null,null,{"$f":"IF(Indtastning!Y:Y=\"Positiv\",1,\"\")","v":""},null,null,null,{"$f":"IF(Indtastning!AC:AC=\"Positiv\",1,\"\")","v":""},null,null,null,{"$f":"IF(Indtastning!AG:AG=\"Positiv\",1,\"\")","v":""}]
[null,null,null,null,null,null,null,null,null,null,null,null,null,null,null,null,null,null,null,null,null,null,null,null,null,null,null,null,null,null,null,null,null,null,null,null,null,null,null,null,null,null,null,null,null,{"$f":"IF(Indtastning!Y:Y=\"Ikke Aflagt\",1,\"\")","v":""},null,null,{"$f":"IF(Indtastning!U:U=\"Positiv\",1,\"\")","v":""},null,null,null,{"$f":"IF(Indtastning!Y:Y=\"Positiv\",1,\"\")","v":""},null,null,null,{"$f":"IF(Indtastning!AC:AC=\"Positiv\",1,\"\")","v":""},null,null,null,{"$f":"IF(Indtastning!AG:AG=\"Positiv\",1,\"\")","v":""}]
[null,null,null,null,null,null,null,null,null,null,null,null,null,null,null,null,null,null,null,null,null,null,null,null,null,null,null,null,null,null,null,null,null,null,null,null,null,null,null,null,null,null,null,null,null,{"$f":"IF(Indtastning!Y:Y=\"Ikke Aflagt\",1,\"\")","v":""},null,null,{"$f":"IF(Indtastning!U:U=\"Positiv\",1,\"\")","v":""},null,null,null,{"$f":"IF(Indtastning!Y:Y=\"Positiv\",1,\"\")","v":""},null,null,null,{"$f":"IF(Indtastning!AC:AC=\"Positiv\",1,\"\")","v":""},null,null,null,{"$f":"IF(Indtastning!AG:AG=\"Positiv\",1,\"\")","v":""}]
[null,null,null,null,null,null,null,null,null,null,null,null,null,null,null,null,null,null,null,null,null,null,null,null,null,null,null,null,null,null,null,null,null,null,null,null,null,null,null,null,null,null,null,null,null,{"$f":"IF(Indtastning!Y:Y=\"Ikke Aflagt\",1,\"\")","v":""},null,null,{"$f":"IF(Indtastning!U:U=\"Positiv\",1,\"\")","v":""},null,null,null,{"$f":"IF(Indtastning!Y:Y=\"Positiv\",1,\"\")","v":""},null,null,null,{"$f":"IF(Indtastning!AC:AC=\"Positiv\",1,\"\")","v":""},null,null,null,{"$f":"IF(Indtastning!AG:AG=\"Positiv\",1,\"\")","v":""}]
[null,null,null,null,null,null,null,null,null,null,null,null,null,null,null,null,null,null,null,null,null,null,null,null,null,null,null,null,null,null,null,null,null,null,null,null,null,null,null,null,null,null,null,null,null,{"$f":"IF(Indtastning!Y:Y=\"Ikke Aflagt\",1,\"\")","v":""},null,null,{"$f":"IF(Indtastning!U:U=\"Positiv\",1,\"\")","v":""},null,null,null,{"$f":"IF(Indtastning!Y:Y=\"Positiv\",1,\"\")","v":""},null,null,null,{"$f":"IF(Indtastning!AC:AC=\"Positiv\",1,\"\")","v":""},null,null,null,{"$f":"IF(Indtastning!AG:AG=\"Positiv\",1,\"\")","v":""}]
[null,null,null,null,null,null,null,null,null,null,null,null,null,null,null,null,null,null,null,null,null,null,null,null,null,null,null,null,null,null,null,null,null,null,null,null,null,null,null,null,null,null,null,null,null,{"$f":"IF(Indtastning!Y:Y=\"Ikke Aflagt\",1,\"\")","v":""},null,null,{"$f":"IF(Indtastning!U:U=\"Positiv\",1,\"\")","v":""},null,null,null,{"$f":"IF(Indtastning!Y:Y=\"Positiv\",1,\"\")","v":""},null,null,null,{"$f":"IF(Indtastning!AC:AC=\"Positiv\",1,\"\")","v":""},null,null,null,{"$f":"IF(Indtastning!AG:AG=\"Positiv\",1,\"\")","v":""}]
[null,null,null,null,null,null,null,null,null,null,null,null,null,null,null,null,null,null,null,null,null,null,null,null,null,null,null,null,null,null,null,null,null,null,null,null,null,null,null,null,null,null,null,null,null,{"$f":"IF(Indtastning!Y:Y=\"Ikke Aflagt\",1,\"\")","v":""},null,null,{"$f":"IF(Indtastning!U:U=\"Positiv\",1,\"\")","v":""},null,null,null,{"$f":"IF(Indtastning!Y:Y=\"Positiv\",1,\"\")","v":""},null,null,null,{"$f":"IF(Indtastning!AC:AC=\"Positiv\",1,\"\")","v":""},null,null,null,{"$f":"IF(Indtastning!AG:AG=\"Positiv\",1,\"\")","v":""}]
[null,null,null,null,null,null,null,null,null,null,null,null,null,null,null,null,null,null,null,null,null,null,null,null,null,null,null,null,null,null,null,null,null,null,null,null,null,null,null,null,null,null,null,null,null,{"$f":"IF(Indtastning!Y:Y=\"Ikke Aflagt\",1,\"\")","v":""},null,null,{"$f":"IF(Indtastning!U:U=\"Positiv\",1,\"\")","v":""},null,null,null,{"$f":"IF(Indtastning!Y:Y=\"Positiv\",1,\"\")","v":""},null,null,null,{"$f":"IF(Indtastning!AC:AC=\"Positiv\",1,\"\")","v":""},null,null,null,{"$f":"IF(Indtastning!AG:AG=\"Positiv\",1,\"\")","v":""}]
[null,null,null,null,null,null,null,null,null,null,null,null,null,null,null,null,null,null,null,null,null,null,null,null,null,null,null,null,null,null,null,null,null,null,null,null,null,null,null,null,null,null,null,null,null,{"$f":"IF(Indtastning!Y:Y=\"Ikke Aflagt\",1,\"\")","v":""},null,null,{"$f":"IF(Indtastning!U:U=\"Positiv\",1,\"\")","v":""},null,null,null,{"$f":"IF(Indtastning!Y:Y=\"Positiv\",1,\"\")","v":""},null,null,null,{"$f":"IF(Indtastning!AC:AC=\"Positiv\",1,\"\")","v":""},null,null,null,{"$f":"IF(Indtastning!AG:AG=\"Positiv\",1,\"\")","v":""}]
[null,null,null,null,null,null,null,null,null,null,null,null,null,null,null,null,null,null,null,null,null,null,null,null,null,null,null,null,null,null,null,null,null,null,null,null,null,null,null,null,null,null,null,null,null,{"$f":"IF(Indtastning!Y:Y=\"Ikke Aflagt\",1,\"\")","v":""},null,null,{"$f":"IF(Indtastning!U:U=\"Positiv\",1,\"\")","v":""},null,null,null,{"$f":"IF(Indtastning!Y:Y=\"Positiv\",1,\"\")","v":""},null,null,null,{"$f":"IF(Indtastning!AC:AC=\"Positiv\",1,\"\")","v":""},null,null,null,{"$f":"IF(Indtastning!AG:AG=\"Positiv\",1,\"\")","v":""}]
[null,null,null,null,null,null,null,null,null,null,null,null,null,null,null,null,null,null,null,null,null,null,null,null,null,null,null,null,null,null,null,null,null,null,null,null,null,null,null,null,null,null,null,null,null,{"$f":"IF(Indtastning!Y:Y=\"Ikke Aflagt\",1,\"\")","v":""},null,null,{"$f":"IF(Indtastning!U:U=\"Positiv\",1,\"\")","v":""},null,null,null,{"$f":"IF(Indtastning!Y:Y=\"Positiv\",1,\"\")","v":""},null,null,null,{"$f":"IF(Indtastning!AC:AC=\"Positiv\",1,\"\")","v":""},null,null,null,{"$f":"IF(Indtastning!AG:AG=\"Positiv\",1,\"\")","v":""}]
[null,null,null,null,null,null,null,null,null,null,null,null,null,null,null,null,null,null,null,null,null,null,null,null,null,null,null,null,null,null,null,null,null,null,null,null,null,null,null,null,null,null,null,null,null,{"$f":"IF(Indtastning!Y:Y=\"Ikke Aflagt\",1,\"\")","v":""},null,null,{"$f":"IF(Indtastning!U:U=\"Positiv\",1,\"\")","v":""},null,null,null,{"$f":"IF(Indtastning!Y:Y=\"Positiv\",1,\"\")","v":""},null,null,null,{"$f":"IF(Indtastning!AC:AC=\"Positiv\",1,\"\")","v":""},null,null,null,{"$f":"IF(Indtastning!AG:AG=\"Positiv\",1,\"\")","v":""}]
[null,null,null,null,null,null,null,null,null,null,null,null,null,null,null,null,null,null,null,null,null,null,null,null,null,null,null,null,null,null,null,null,null,null,null,null,null,null,null,null,null,null,null,null,null,{"$f":"IF(Indtastning!Y:Y=\"Ikke Aflagt\",1,\"\")","v":""},null,null,{"$f":"IF(Indtastning!U:U=\"Positiv\",1,\"\")","v":""},null,null,null,{"$f":"IF(Indtastning!Y:Y=\"Positiv\",1,\"\")","v":""},null,null,null,{"$f":"IF(Indtastning!AC:AC=\"Positiv\",1,\"\")","v":""},null,null,null,{"$f":"IF(Indtastning!AG:AG=\"Positiv\",1,\"\")","v":""}]
[null,null,null,null,null,null,null,null,null,null,null,null,null,null,null,null,null,null,null,null,null,null,null,null,null,null,null,null,null,null,null,null,null,null,null,null,null,null,null,null,null,null,null,null,null,{"$f":"IF(Indtastning!Y:Y=\"Ikke Aflagt\",1,\"\")","v":""},null,null,{"$f":"IF(Indtastning!U:U=\"Positiv\",1,\"\")","v":""},null,null,null,{"$f":"IF(Indtastning!Y:Y=\"Positiv\",1,\"\")","v":""},null,null,null,{"$f":"IF(Indtastning!AC:AC=\"Positiv\",1,\"\")","v":""},null,null,null,{"$f":"IF(Indtastning!AG:AG=\"Positiv\",1,\"\")","v":""}]
[null,null,null,null,null,null,null,null,null,null,null,null,null,null,null,null,null,null,null,null,null,null,null,null,null,null,null,null,null,null,null,null,null,null,null,null,null,null,null,null,null,null,null,null,null,{"$f":"IF(Indtastning!Y:Y=\"Ikke Aflagt\",1,\"\")","v":""},null,null,{"$f":"IF(Indtastning!U:U=\"Positiv\",1,\"\")","v":""},null,null,null,{"$f":"IF(Indtastning!Y:Y=\"Positiv\",1,\"\")","v":""},null,null,null,{"$f":"IF(Indtastning!AC:AC=\"Positiv\",1,\"\")","v":""},null,null,null,{"$f":"IF(Indtastning!AG:AG=\"Positiv\",1,\"\")","v":""}]
[null,null,null,null,null,null,null,null,null,null,null,null,null,null,null,null,null,null,null,null,null,null,null,null,null,null,null,null,null,null,null,null,null,null,null,null,null,null,null,null,null,null,null,null,null,{"$f":"IF(Indtastning!Y:Y=\"Ikke Aflagt\",1,\"\")","v":""},null,null,{"$f":"IF(Indtastning!U:U=\"Positiv\",1,\"\")","v":""},null,null,null,{"$f":"IF(Indtastning!Y:Y=\"Positiv\",1,\"\")","v":""},null,null,null,{"$f":"IF(Indtastning!AC:AC=\"Positiv\",1,\"\")","v":""},null,null,null,{"$f":"IF(Indtastning!AG:AG=\"Positiv\",1,\"\")","v":""}]
[null,null,null,null,null,null,null,null,null,null,null,null,null,null,null,null,null,null,null,null,null,null,null,null,null,null,null,null,null,null,null,null,null,null,null,null,null,null,null,null,null,null,null,null,null,{"$f":"IF(Indtastning!Y:Y=\"Ikke Aflagt\",1,\"\")","v":""},null,null,{"$f":"IF(Indtastning!U:U=\"Positiv\",1,\"\")","v":""},null,null,null,{"$f":"IF(Indtastning!Y:Y=\"Positiv\",1,\"\")","v":""},null,null,null,{"$f":"IF(Indtastning!AC:AC=\"Positiv\",1,\"\")","v":""},null,null,null,{"$f":"IF(Indtastning!AG:AG=\"Positiv\",1,\"\")","v":""}]
[null,null,null,null,null,null,null,null,null,null,null,null,null,null,null,null,null,null,null,null,null,null,null,null,null,null,null,null,null,null,null,null,null,null,null,null,null,null,null,null,null,null,null,null,null,{"$f":"IF(Indtastning!Y:Y=\"Ikke Aflagt\",1,\"\")","v":""},null,null,{"$f":"IF(Indtastning!U:U=\"Positiv\",1,\"\")","v":""},null,null,null,{"$f":"IF(Indtastning!Y:Y=\"Positiv\",1,\"\")","v":""},null,null,null,{"$f":"IF(Indtastning!AC:AC=\"Positiv\",1,\"\")","v":""},null,null,null,{"$f":"IF(Indtastning!AG:AG=\"Positiv\",1,\"\")","v":""}]
[null,null,null,null,null,null,null,null,null,null,null,null,null,null,null,null,null,null,null,null,null,null,null,null,null,null,null,null,null,null,null,null,null,null,null,null,null,null,null,null,null,null,null,null,null,{"$f":"IF(Indtastning!Y:Y=\"Ikke Aflagt\",1,\"\")","v":""},null,null,{"$f":"IF(Indtastning!U:U=\"Positiv\",1,\"\")","v":""},null,null,null,{"$f":"IF(Indtastning!Y:Y=\"Positiv\",1,\"\")","v":""},null,null,null,{"$f":"IF(Indtastning!AC:AC=\"Positiv\",1,\"\")","v":""},null,null,null,{"$f":"IF(Indtastning!AG:AG=\"Positiv\",1,\"\")","v":""}]
[null,null,null,null,null,null,null,null,null,null,null,null,null,null,null,null,null,null,null,null,null,null,null,null,null,null,null,null,null,null,null,null,null,null,null,null,null,null,null,null,null,null,null,null,null,{"$f":"IF(Indtastning!Y:Y=\"Ikke Aflagt\",1,\"\")","v":""},null,null,{"$f":"IF(Indtastning!U:U=\"Positiv\",1,\"\")","v":""},null,null,null,{"$f":"IF(Indtastning!Y:Y=\"Positiv\",1,\"\")","v":""},null,null,null,{"$f":"IF(Indtastning!AC:AC=\"Positiv\",1,\"\")","v":""},null,null,null,{"$f":"IF(Indtastning!AG:AG=\"Positiv\",1,\"\")","v":""}]
[null,null,null,null,null,null,null,null,null,null,null,null,null,null,null,null,null,null,null,null,null,null,null,null,null,null,null,null,null,null,null,null,null,null,null,null,null,null,null,null,null,null,null,null,null,{"$f":"IF(Indtastning!Y:Y=\"Ikke Aflagt\",1,\"\")","v":""},null,null,{"$f":"IF(Indtastning!U:U=\"Positiv\",1,\"\")","v":""},null,null,null,{"$f":"IF(Indtastning!Y:Y=\"Positiv\",1,\"\")","v":""},null,null,null,{"$f":"IF(Indtastning!AC:AC=\"Positiv\",1,\"\")","v":""},null,null,null,{"$f":"IF(Indtastning!AG:AG=\"Positiv\",1,\"\")","v":""}]
[null,null,null,null,null,null,null,null,null,null,null,null,null,null,null,null,null,null,null,null,null,null,null,null,null,null,null,null,null,null,null,null,null,null,null,null,null,null,null,null,null,null,null,null,null,{"$f":"IF(Indtastning!Y:Y=\"Ikke Aflagt\",1,\"\")","v":""},null,null,{"$f":"IF(Indtastning!U:U=\"Positiv\",1,\"\")","v":""},null,null,null,{"$f":"IF(Indtastning!Y:Y=\"Positiv\",1,\"\")","v":""},null,null,null,{"$f":"IF(Indtastning!AC:AC=\"Positiv\",1,\"\")","v":""},null,null,null,{"$f":"IF(Indtastning!AG:AG=\"Positiv\",1,\"\")","v":""}]
[null,null,null,null,null,null,null,null,null,null,null,null,null,null,null,null,null,null,null,null,null,null,null,null,null,null,null,null,null,null,null,null,null,null,null,null,null,null,null,null,null,null,null,null,null,{"$f":"IF(Indtastning!Y:Y=\"Ikke Aflagt\",1,\"\")","v":""},null,null,{"$f":"IF(Indtastning!U:U=\"Positiv\",1,\"\")","v":""},null,null,null,{"$f":"IF(Indtastning!Y:Y=\"Positiv\",1,\"\")","v":""},null,null,null,{"$f":"IF(Indtastning!AC:AC=\"Positiv\",1,\"\")","v":""},null,null,null,{"$f":"IF(Indtastning!AG:AG=\"Positiv\",1,\"\")","v":""}]
[null,null,null,null,null,null,null,null,null,null,null,null,null,null,null,null,null,null,null,null,null,null,null,null,null,null,null,null,null,null,null,null,null,null,null,null,null,null,null,null,null,null,null,null,null,{"$f":"IF(Indtastning!Y:Y=\"Ikke Aflagt\",1,\"\")","v":""},null,null,{"$f":"IF(Indtastning!U:U=\"Positiv\",1,\"\")","v":""},null,null,null,{"$f":"IF(Indtastning!Y:Y=\"Positiv\",1,\"\")","v":""},null,null,null,{"$f":"IF(Indtastning!AC:AC=\"Positiv\",1,\"\")","v":""},null,null,null,{"$f":"IF(Indtastning!AG:AG=\"Positiv\",1,\"\")","v":""}]
[null,null,null,null,null,null,null,null,null,null,null,null,null,null,null,null,null,null,null,null,null,null,null,null,null,null,null,null,null,null,null,null,null,null,null,null,null,null,null,null,null,null,null,null,null,{"$f":"IF(Indtastning!Y:Y=\"Ikke Aflagt\",1,\"\")","v":""},null,null,{"$f":"IF(Indtastning!U:U=\"Positiv\",1,\"\")","v":""},null,null,null,{"$f":"IF(Indtastning!Y:Y=\"Positiv\",1,\"\")","v":""},null,null,null,{"$f":"IF(Indtastning!AC:AC=\"Positiv\",1,\"\")","v":""},null,null,null,{"$f":"IF(Indtastning!AG:AG=\"Positiv\",1,\"\")","v":""}]
[null,null,null,null,null,null,null,null,null,null,null,null,null,null,null,null,null,null,null,null,null,null,null,null,null,null,null,null,null,null,null,null,null,null,null,null,null,null,null,null,null,null,null,null,null,{"$f":"IF(Indtastning!Y:Y=\"Ikke Aflagt\",1,\"\")","v":""},null,null,{"$f":"IF(Indtastning!U:U=\"Positiv\",1,\"\")","v":""},null,null,null,{"$f":"IF(Indtastning!Y:Y=\"Positiv\",1,\"\")","v":""},null,null,null,{"$f":"IF(Indtastning!AC:AC=\"Positiv\",1,\"\")","v":""},null,null,null,{"$f":"IF(Indtastning!AG:AG=\"Positiv\",1,\"\")","v":""}]
[null,null,null,null,null,null,null,null,null,null,null,null,null,null,null,null,null,null,null,null,null,null,null,null,null,null,null,null,null,null,null,null,null,null,null,null,null,null,null,null,null,null,null,null,null,{"$f":"IF(Indtastning!Y:Y=\"Ikke Aflagt\",1,\"\")","v":""},null,null,{"$f":"IF(Indtastning!U:U=\"Positiv\",1,\"\")","v":""},null,null,null,{"$f":"IF(Indtastning!Y:Y=\"Positiv\",1,\"\")","v":""},null,null,null,{"$f":"IF(Indtastning!AC:AC=\"Positiv\",1,\"\")","v":""},null,null,null,{"$f":"IF(Indtastning!AG:AG=\"Positiv\",1,\"\")","v":""}]
[null,null,null,null,null,null,null,null,null,null,null,null,null,null,null,null,null,null,null,null,null,null,null,null,null,null,null,null,null,null,null,null,null,null,null,null,null,null,null,null,null,null,null,null,null,{"$f":"IF(Indtastning!Y:Y=\"Ikke Aflagt\",1,\"\")","v":""},null,null,{"$f":"IF(Indtastning!U:U=\"Positiv\",1,\"\")","v":""},null,null,null,{"$f":"IF(Indtastning!Y:Y=\"Positiv\",1,\"\")","v":""},null,null,null,{"$f":"IF(Indtastning!AC:AC=\"Positiv\",1,\"\")","v":""},null,null,null,{"$f":"IF(Indtastning!AG:AG=\"Positiv\",1,\"\")","v":""}]
[null,null,null,null,null,null,null,null,null,null,null,null,null,null,null,null,null,null,null,null,null,null,null,null,null,null,null,null,null,null,null,null,null,null,null,null,null,null,null,null,null,null,null,null,null,{"$f":"IF(Indtastning!Y:Y=\"Ikke Aflagt\",1,\"\")","v":""},null,null,{"$f":"IF(Indtastning!U:U=\"Positiv\",1,\"\")","v":""},null,null,null,{"$f":"IF(Indtastning!Y:Y=\"Positiv\",1,\"\")","v":""},null,null,null,{"$f":"IF(Indtastning!AC:AC=\"Positiv\",1,\"\")","v":""},null,null,null,{"$f":"IF(Indtastning!AG:AG=\"Positiv\",1,\"\")","v":""}]
[null,null,null,null,null,null,null,null,null,null,null,null,null,null,null,null,null,null,null,null,null,null,null,null,null,null,null,null,null,null,null,null,null,null,null,null,null,null,null,null,null,null,null,null,null,{"$f":"IF(Indtastning!Y:Y=\"Ikke Aflagt\",1,\"\")","v":""},null,null,{"$f":"IF(Indtastning!U:U=\"Positiv\",1,\"\")","v":""},null,null,null,{"$f":"IF(Indtastning!Y:Y=\"Positiv\",1,\"\")","v":""},null,null,null,{"$f":"IF(Indtastning!AC:AC=\"Positiv\",1,\"\")","v":""},null,null,null,{"$f":"IF(Indtastning!AG:AG=\"Positiv\",1,\"\")","v":""}]
[null,null,null,null,null,null,null,null,null,null,null,null,null,null,null,null,null,null,null,null,null,null,null,null,null,null,null,null,null,null,null,null,null,null,null,null,null,null,null,null,null,null,null,null,null,{"$f":"IF(Indtastning!Y:Y=\"Ikke Aflagt\",1,\"\")","v":""},null,null,{"$f":"IF(Indtastning!U:U=\"Positiv\",1,\"\")","v":""},null,null,null,{"$f":"IF(Indtastning!Y:Y=\"Positiv\",1,\"\")","v":""},null,null,null,{"$f":"IF(Indtastning!AC:AC=\"Positiv\",1,\"\")","v":""},null,null,null,{"$f":"IF(Indtastning!AG:AG=\"Positiv\",1,\"\")","v":""}]
[null,null,null,null,null,null,null,null,null,null,null,null,null,null,null,null,null,null,null,null,null,null,null,null,null,null,null,null,null,null,null,null,null,null,null,null,null,null,null,null,null,null,null,null,null,{"$f":"IF(Indtastning!Y:Y=\"Ikke Aflagt\",1,\"\")","v":""},null,null,{"$f":"IF(Indtastning!U:U=\"Positiv\",1,\"\")","v":""},null,null,null,{"$f":"IF(Indtastning!Y:Y=\"Positiv\",1,\"\")","v":""},null,null,null,{"$f":"IF(Indtastning!AC:AC=\"Positiv\",1,\"\")","v":""},null,null,null,{"$f":"IF(Indtastning!AG:AG=\"Positiv\",1,\"\")","v":""}]
[null,null,null,null,null,null,null,null,null,null,null,null,null,null,null,null,null,null,null,null,null,null,null,null,null,null,null,null,null,null,null,null,null,null,null,null,null,null,null,null,null,null,null,null,null,{"$f":"IF(Indtastning!Y:Y=\"Ikke Aflagt\",1,\"\")","v":""},null,null,{"$f":"IF(Indtastning!U:U=\"Positiv\",1,\"\")","v":""},null,null,null,{"$f":"IF(Indtastning!Y:Y=\"Positiv\",1,\"\")","v":""},null,null,null,{"$f":"IF(Indtastning!AC:AC=\"Positiv\",1,\"\")","v":""},null,null,null,{"$f":"IF(Indtastning!AG:AG=\"Positiv\",1,\"\")","v":""}]
[null,null,null,null,null,null,null,null,null,null,null,null,null,null,null,null,null,null,null,null,null,null,null,null,null,null,null,null,null,null,null,null,null,null,null,null,null,null,null,null,null,null,null,null,null,{"$f":"IF(Indtastning!Y:Y=\"Ikke Aflagt\",1,\"\")","v":""},null,null,{"$f":"IF(Indtastning!U:U=\"Positiv\",1,\"\")","v":""},null,null,null,{"$f":"IF(Indtastning!Y:Y=\"Positiv\",1,\"\")","v":""},null,null,null,{"$f":"IF(Indtastning!AC:AC=\"Positiv\",1,\"\")","v":""},null,null,null,{"$f":"IF(Indtastning!AG:AG=\"Positiv\",1,\"\")","v":""}]
[null,null,null,null,null,null,null,null,null,null,null,null,null,null,null,null,null,null,null,null,null,null,null,null,null,null,null,null,null,null,null,null,null,null,null,null,null,null,null,null,null,null,null,null,null,{"$f":"IF(Indtastning!Y:Y=\"Ikke Aflagt\",1,\"\")","v":""},null,null,{"$f":"IF(Indtastning!U:U=\"Positiv\",1,\"\")","v":""},null,null,null,{"$f":"IF(Indtastning!Y:Y=\"Positiv\",1,\"\")","v":""},null,null,null,{"$f":"IF(Indtastning!AC:AC=\"Positiv\",1,\"\")","v":""},null,null,null,{"$f":"IF(Indtastning!AG:AG=\"Positiv\",1,\"\")","v":""}]
[null,null,null,null,null,null,null,null,null,null,null,null,null,null,null,null,null,null,null,null,null,null,null,null,null,null,null,null,null,null,null,null,null,null,null,null,null,null,null,null,null,null,null,null,null,{"$f":"IF(Indtastning!Y:Y=\"Ikke Aflagt\",1,\"\")","v":""},null,null,{"$f":"IF(Indtastning!U:U=\"Positiv\",1,\"\")","v":""},null,null,null,{"$f":"IF(Indtastning!Y:Y=\"Positiv\",1,\"\")","v":""},null,null,null,{"$f":"IF(Indtastning!AC:AC=\"Positiv\",1,\"\")","v":""},null,null,null,{"$f":"IF(Indtastning!AG:AG=\"Positiv\",1,\"\")","v":""}]
[null,null,null,null,null,null,null,null,null,null,null,null,null,null,null,null,null,null,null,null,null,null,null,null,null,null,null,null,null,null,null,null,null,null,null,null,null,null,null,null,null,null,null,null,null,{"$f":"IF(Indtastning!Y:Y=\"Ikke Aflagt\",1,\"\")","v":""},null,null,{"$f":"IF(Indtastning!U:U=\"Positiv\",1,\"\")","v":""},null,null,null,{"$f":"IF(Indtastning!Y:Y=\"Positiv\",1,\"\")","v":""},null,null,null,{"$f":"IF(Indtastning!AC:AC=\"Positiv\",1,\"\")","v":""},null,null,null,{"$f":"IF(Indtastning!AG:AG=\"Positiv\",1,\"\")","v":""}]
[null,null,null,null,null,null,null,null,null,null,null,null,null,null,null,null,null,null,null,null,null,null,null,null,null,null,null,null,null,null,null,null,null,null,null,null,null,null,null,null,null,null,null,null,null,{"$f":"IF(Indtastning!Y:Y=\"Ikke Aflagt\",1,\"\")","v":""},null,null,{"$f":"IF(Indtastning!U:U=\"Positiv\",1,\"\")","v":""},null,null,null,{"$f":"IF(Indtastning!Y:Y=\"Positiv\",1,\"\")","v":""},null,null,null,{"$f":"IF(Indtastning!AC:AC=\"Positiv\",1,\"\")","v":""},null,null,null,{"$f":"IF(Indtastning!AG:AG=\"Positiv\",1,\"\")","v":""}]
[null,null,null,null,null,null,null,null,null,null,null,null,null,null,null,null,null,null,null,null,null,null,null,null,null,null,null,null,null,null,null,null,null,null,null,null,null,null,null,null,null,null,null,null,null,{"$f":"IF(Indtastning!Y:Y=\"Ikke Aflagt\",1,\"\")","v":""},null,null,{"$f":"IF(Indtastning!U:U=\"Positiv\",1,\"\")","v":""},null,null,null,{"$f":"IF(Indtastning!Y:Y=\"Positiv\",1,\"\")","v":""},null,null,null,{"$f":"IF(Indtastning!AC:AC=\"Positiv\",1,\"\")","v":""},null,null,null,{"$f":"IF(Indtastning!AG:AG=\"Positiv\",1,\"\")","v":""}]
[null,null,null,null,null,null,null,null,null,null,null,null,null,null,null,null,null,null,null,null,null,null,null,null,null,null,null,null,null,null,null,null,null,null,null,null,null,null,null,null,null,null,null,null,null,{"$f":"IF(Indtastning!Y:Y=\"Ikke Aflagt\",1,\"\")","v":""},null,null,{"$f":"IF(Indtastning!U:U=\"Positiv\",1,\"\")","v":""},null,null,null,{"$f":"IF(Indtastning!Y:Y=\"Positiv\",1,\"\")","v":""},null,null,null,{"$f":"IF(Indtastning!AC:AC=\"Positiv\",1,\"\")","v":""},null,null,null,{"$f":"IF(Indtastning!AG:AG=\"Positiv\",1,\"\")","v":""}]
[null,null,null,null,null,null,null,null,null,null,null,null,null,null,null,null,null,null,null,null,null,null,null,null,null,null,null,null,null,null,null,null,null,null,null,null,null,null,null,null,null,null,null,null,null,{"$f":"IF(Indtastning!Y:Y=\"Ikke Aflagt\",1,\"\")","v":""},null,null,{"$f":"IF(Indtastning!U:U=\"Positiv\",1,\"\")","v":""},null,null,null,{"$f":"IF(Indtastning!Y:Y=\"Positiv\",1,\"\")","v":""},null,null,null,{"$f":"IF(Indtastning!AC:AC=\"Positiv\",1,\"\")","v":""},null,null,null,{"$f":"IF(Indtastning!AG:AG=\"Positiv\",1,\"\")","v":""}]
[null,null,null,null,null,null,null,null,null,null,null,null,null,null,null,null,null,null,null,null,null,null,null,null,null,null,null,null,null,null,null,null,null,null,null,null,null,null,null,null,null,null,null,null,null,{"$f":"IF(Indtastning!Y:Y=\"Ikke Aflagt\",1,\"\")","v":""},null,null,{"$f":"IF(Indtastning!U:U=\"Positiv\",1,\"\")","v":""},null,null,null,{"$f":"IF(Indtastning!Y:Y=\"Positiv\",1,\"\")","v":""},null,null,null,{"$f":"IF(Indtastning!AC:AC=\"Positiv\",1,\"\")","v":""},null,null,null,{"$f":"IF(Indtastning!AG:AG=\"Positiv\",1,\"\")","v":""}]
[null,null,null,null,null,null,null,null,null,null,null,null,null,null,null,null,null,null,null,null,null,null,null,null,null,null,null,null,null,null,null,null,null,null,null,null,null,null,null,null,null,null,null,null,null,{"$f":"IF(Indtastning!Y:Y=\"Ikke Aflagt\",1,\"\")","v":""},null,null,{"$f":"IF(Indtastning!U:U=\"Positiv\",1,\"\")","v":""},null,null,null,{"$f":"IF(Indtastning!Y:Y=\"Positiv\",1,\"\")","v":""},null,null,null,{"$f":"IF(Indtastning!AC:AC=\"Positiv\",1,\"\")","v":""},null,null,null,{"$f":"IF(Indtastning!AG:AG=\"Positiv\",1,\"\")","v":""}]
[null,null,null,null,null,null,null,null,null,null,null,null,null,null,null,null,null,null,null,null,null,null,null,null,null,null,null,null,null,null,null,null,null,null,null,null,null,null,null,null,null,null,null,null,null,{"$f":"IF(Indtastning!Y:Y=\"Ikke Aflagt\",1,\"\")","v":""},null,null,{"$f":"IF(Indtastning!U:U=\"Positiv\",1,\"\")","v":""},null,null,null,{"$f":"IF(Indtastning!Y:Y=\"Positiv\",1,\"\")","v":""},null,null,null,{"$f":"IF(Indtastning!AC:AC=\"Positiv\",1,\"\")","v":""},null,null,null,{"$f":"IF(Indtastning!AG:AG=\"Positiv\",1,\"\")","v":""}]
[null,null,null,null,null,null,null,null,null,null,null,null,null,null,null,null,null,null,null,null,null,null,null,null,null,null,null,null,null,null,null,null,null,null,null,null,null,null,null,null,null,null,null,null,null,{"$f":"IF(Indtastning!Y:Y=\"Ikke Aflagt\",1,\"\")","v":""},null,null,{"$f":"IF(Indtastning!U:U=\"Positiv\",1,\"\")","v":""},null,null,null,{"$f":"IF(Indtastning!Y:Y=\"Positiv\",1,\"\")","v":""},null,null,null,{"$f":"IF(Indtastning!AC:AC=\"Positiv\",1,\"\")","v":""},null,null,null,{"$f":"IF(Indtastning!AG:AG=\"Positiv\",1,\"\")","v":""}]
[null,null,null,null,null,null,null,null,null,null,null,null,null,null,null,null,null,null,null,null,null,null,null,null,null,null,null,null,null,null,null,null,null,null,null,null,null,null,null,null,null,null,null,null,null,{"$f":"IF(Indtastning!Y:Y=\"Ikke Aflagt\",1,\"\")","v":""},null,null,{"$f":"IF(Indtastning!U:U=\"Positiv\",1,\"\")","v":""},null,null,null,{"$f":"IF(Indtastning!Y:Y=\"Positiv\",1,\"\")","v":""},null,null,null,{"$f":"IF(Indtastning!AC:AC=\"Positiv\",1,\"\")","v":""},null,null,null,{"$f":"IF(Indtastning!AG:AG=\"Positiv\",1,\"\")","v":""}]
[null,null,null,null,null,null,null,null,null,null,null,null,null,null,null,null,null,null,null,null,null,null,null,null,null,null,null,null,null,null,null,null,null,null,null,null,null,null,null,null,null,null,null,null,null,{"$f":"IF(Indtastning!Y:Y=\"Ikke Aflagt\",1,\"\")","v":""},null,null,{"$f":"IF(Indtastning!U:U=\"Positiv\",1,\"\")","v":""},null,null,null,{"$f":"IF(Indtastning!Y:Y=\"Positiv\",1,\"\")","v":""},null,null,null,{"$f":"IF(Indtastning!AC:AC=\"Positiv\",1,\"\")","v":""},null,null,null,{"$f":"IF(Indtastning!AG:AG=\"Positiv\",1,\"\")","v":""}]
[null,null,null,null,null,null,null,null,null,null,null,null,null,null,null,null,null,null,null,null,null,null,null,null,null,null,null,null,null,null,null,null,null,null,null,null,null,null,null,null,null,null,null,null,null,{"$f":"IF(Indtastning!Y:Y=\"Ikke Aflagt\",1,\"\")","v":""},null,null,{"$f":"IF(Indtastning!U:U=\"Positiv\",1,\"\")","v":""},null,null,null,{"$f":"IF(Indtastning!Y:Y=\"Positiv\",1,\"\")","v":""},null,null,null,{"$f":"IF(Indtastning!AC:AC=\"Positiv\",1,\"\")","v":""},null,null,null,{"$f":"IF(Indtastning!AG:AG=\"Positiv\",1,\"\")","v":""}]
[null,null,null,null,null,null,null,null,null,null,null,null,null,null,null,null,null,null,null,null,null,null,null,null,null,null,null,null,null,null,null,null,null,null,null,null,null,null,null,null,null,null,null,null,null,{"$f":"IF(Indtastning!Y:Y=\"Ikke Aflagt\",1,\"\")","v":""},null,null,{"$f":"IF(Indtastning!U:U=\"Positiv\",1,\"\")","v":""},null,null,null,{"$f":"IF(Indtastning!Y:Y=\"Positiv\",1,\"\")","v":""},null,null,null,{"$f":"IF(Indtastning!AC:AC=\"Positiv\",1,\"\")","v":""},null,null,null,{"$f":"IF(Indtastning!AG:AG=\"Positiv\",1,\"\")","v":""}]
[null,null,null,null,null,null,null,null,null,null,null,null,null,null,null,null,null,null,null,null,null,null,null,null,null,null,null,null,null,null,null,null,null,null,null,null,null,null,null,null,null,null,null,null,null,{"$f":"IF(Indtastning!Y:Y=\"Ikke Aflagt\",1,\"\")","v":""},null,null,{"$f":"IF(Indtastning!U:U=\"Positiv\",1,\"\")","v":""},null,null,null,{"$f":"IF(Indtastning!Y:Y=\"Positiv\",1,\"\")","v":""},null,null,null,{"$f":"IF(Indtastning!AC:AC=\"Positiv\",1,\"\")","v":""},null,null,null,{"$f":"IF(Indtastning!AG:AG=\"Positiv\",1,\"\")","v":""}]
[null,null,null,null,null,null,null,null,null,null,null,null,null,null,null,null,null,null,null,null,null,null,null,null,null,null,null,null,null,null,null,null,null,null,null,null,null,null,null,null,null,null,null,null,null,{"$f":"IF(Indtastning!Y:Y=\"Ikke Aflagt\",1,\"\")","v":""},null,null,{"$f":"IF(Indtastning!U:U=\"Positiv\",1,\"\")","v":""},null,null,null,{"$f":"IF(Indtastning!Y:Y=\"Positiv\",1,\"\")","v":""},null,null,null,{"$f":"IF(Indtastning!AC:AC=\"Positiv\",1,\"\")","v":""},null,null,null,{"$f":"IF(Indtastning!AG:AG=\"Positiv\",1,\"\")","v":""}]
[null,null,null,null,null,null,null,null,null,null,null,null,null,null,null,null,null,null,null,null,null,null,null,null,null,null,null,null,null,null,null,null,null,null,null,null,null,null,null,null,null,null,null,null,null,{"$f":"IF(Indtastning!Y:Y=\"Ikke Aflagt\",1,\"\")","v":""},null,null,{"$f":"IF(Indtastning!U:U=\"Positiv\",1,\"\")","v":""},null,null,null,{"$f":"IF(Indtastning!Y:Y=\"Positiv\",1,\"\")","v":""},null,null,null,{"$f":"IF(Indtastning!AC:AC=\"Positiv\",1,\"\")","v":""},null,null,null,{"$f":"IF(Indtastning!AG:AG=\"Positiv\",1,\"\")","v":""}]
[null,null,null,null,null,null,null,null,null,null,null,null,null,null,null,null,null,null,null,null,null,null,null,null,null,null,null,null,null,null,null,null,null,null,null,null,null,null,null,null,null,null,null,null,null,{"$f":"IF(Indtastning!Y:Y=\"Ikke Aflagt\",1,\"\")","v":""},null,null,{"$f":"IF(Indtastning!U:U=\"Positiv\",1,\"\")","v":""},null,null,null,{"$f":"IF(Indtastning!Y:Y=\"Positiv\",1,\"\")","v":""},null,null,null,{"$f":"IF(Indtastning!AC:AC=\"Positiv\",1,\"\")","v":""},null,null,null,{"$f":"IF(Indtastning!AG:AG=\"Positiv\",1,\"\")","v":""}]
[null,null,null,null,null,null,null,null,null,null,null,null,null,null,null,null,null,null,null,null,null,null,null,null,null,null,null,null,null,null,null,null,null,null,null,null,null,null,null,null,null,null,null,null,null,{"$f":"IF(Indtastning!Y:Y=\"Ikke Aflagt\",1,\"\")","v":""},null,null,{"$f":"IF(Indtastning!U:U=\"Positiv\",1,\"\")","v":""},null,null,null,{"$f":"IF(Indtastning!Y:Y=\"Positiv\",1,\"\")","v":""},null,null,null,{"$f":"IF(Indtastning!AC:AC=\"Positiv\",1,\"\")","v":""},null,null,null,{"$f":"IF(Indtastning!AG:AG=\"Positiv\",1,\"\")","v":""}]
[null,null,null,null,null,null,null,null,null,null,null,null,null,null,null,null,null,null,null,null,null,null,null,null,null,null,null,null,null,null,null,null,null,null,null,null,null,null,null,null,null,null,null,null,null,{"$f":"IF(Indtastning!Y:Y=\"Ikke Aflagt\",1,\"\")","v":""},null,null,{"$f":"IF(Indtastning!U:U=\"Positiv\",1,\"\")","v":""},null,null,null,{"$f":"IF(Indtastning!Y:Y=\"Positiv\",1,\"\")","v":""},null,null,null,{"$f":"IF(Indtastning!AC:AC=\"Positiv\",1,\"\")","v":""},null,null,null,{"$f":"IF(Indtastning!AG:AG=\"Positiv\",1,\"\")","v":""}]
[null,null,null,null,null,null,null,null,null,null,null,null,null,null,null,null,null,null,null,null,null,null,null,null,null,null,null,null,null,null,null,null,null,null,null,null,null,null,null,null,null,null,null,null,null,{"$f":"IF(Indtastning!Y:Y=\"Ikke Aflagt\",1,\"\")","v":""},null,null,{"$f":"IF(Indtastning!U:U=\"Positiv\",1,\"\")","v":""},null,null,null,{"$f":"IF(Indtastning!Y:Y=\"Positiv\",1,\"\")","v":""},null,null,null,{"$f":"IF(Indtastning!AC:AC=\"Positiv\",1,\"\")","v":""},null,null,null,{"$f":"IF(Indtastning!AG:AG=\"Positiv\",1,\"\")","v":""}]
[null,null,null,null,null,null,null,null,null,null,null,null,null,null,null,null,null,null,null,null,null,null,null,null,null,null,null,null,null,null,null,null,null,null,null,null,null,null,null,null,null,null,null,null,null,{"$f":"IF(Indtastning!Y:Y=\"Ikke Aflagt\",1,\"\")","v":""},null,null,{"$f":"IF(Indtastning!U:U=\"Positiv\",1,\"\")","v":""},null,null,null,{"$f":"IF(Indtastning!Y:Y=\"Positiv\",1,\"\")","v":""},null,null,null,{"$f":"IF(Indtastning!AC:AC=\"Positiv\",1,\"\")","v":""},null,null,null,{"$f":"IF(Indtastning!AG:AG=\"Positiv\",1,\"\")","v":""}]
[null,null,null,null,null,null,null,null,null,null,null,null,null,null,null,null,null,null,null,null,null,null,null,null,null,null,null,null,null,null,null,null,null,null,null,null,null,null,null,null,null,null,null,null,null,{"$f":"IF(Indtastning!Y:Y=\"Ikke Aflagt\",1,\"\")","v":""},null,null,{"$f":"IF(Indtastning!U:U=\"Positiv\",1,\"\")","v":""},null,null,null,{"$f":"IF(Indtastning!Y:Y=\"Positiv\",1,\"\")","v":""},null,null,null,{"$f":"IF(Indtastning!AC:AC=\"Positiv\",1,\"\")","v":""},null,null,null,{"$f":"IF(Indtastning!AG:AG=\"Positiv\",1,\"\")","v":""}]
[null,null,null,null,null,null,null,null,null,null,null,null,null,null,null,null,null,null,null,null,null,null,null,null,null,null,null,null,null,null,null,null,null,null,null,null,null,null,null,null,null,null,null,null,null,{"$f":"IF(Indtastning!Y:Y=\"Ikke Aflagt\",1,\"\")","v":""},null,null,{"$f":"IF(Indtastning!U:U=\"Positiv\",1,\"\")","v":""},null,null,null,{"$f":"IF(Indtastning!Y:Y=\"Positiv\",1,\"\")","v":""},null,null,null,{"$f":"IF(Indtastning!AC:AC=\"Positiv\",1,\"\")","v":""},null,null,null,{"$f":"IF(Indtastning!AG:AG=\"Positiv\",1,\"\")","v":""}]
[null,null,null,null,null,null,null,null,null,null,null,null,null,null,null,null,null,null,null,null,null,null,null,null,null,null,null,null,null,null,null,null,null,null,null,null,null,null,null,null,null,null,null,null,null,{"$f":"IF(Indtastning!Y:Y=\"Ikke Aflagt\",1,\"\")","v":""},null,null,{"$f":"IF(Indtastning!U:U=\"Positiv\",1,\"\")","v":""},null,null,null,{"$f":"IF(Indtastning!Y:Y=\"Positiv\",1,\"\")","v":""},null,null,null,{"$f":"IF(Indtastning!AC:AC=\"Positiv\",1,\"\")","v":""},null,null,null,{"$f":"IF(Indtastning!AG:AG=\"Positiv\",1,\"\")","v":""}]
[null,null,null,null,null,null,null,null,null,null,null,null,null,null,null,null,null,null,null,null,null,null,null,null,null,null,null,null,null,null,null,null,null,null,null,null,null,null,null,null,null,null,null,null,null,{"$f":"IF(Indtastning!Y:Y=\"Ikke Aflagt\",1,\"\")","v":""},null,null,{"$f":"IF(Indtastning!U:U=\"Positiv\",1,\"\")","v":""},null,null,null,{"$f":"IF(Indtastning!Y:Y=\"Positiv\",1,\"\")","v":""},null,null,null,{"$f":"IF(Indtastning!AC:AC=\"Positiv\",1,\"\")","v":""},null,null,null,{"$f":"IF(Indtastning!AG:AG=\"Positiv\",1,\"\")","v":""}]
[null,null,null,null,null,null,null,null,null,null,null,null,null,null,null,null,null,null,null,null,null,null,null,null,null,null,null,null,null,null,null,null,null,null,null,null,null,null,null,null,null,null,null,null,null,{"$f":"IF(Indtastning!Y:Y=\"Ikke Aflagt\",1,\"\")","v":""},null,null,{"$f":"IF(Indtastning!U:U=\"Positiv\",1,\"\")","v":""},null,null,null,{"$f":"IF(Indtastning!Y:Y=\"Positiv\",1,\"\")","v":""},null,null,null,{"$f":"IF(Indtastning!AC:AC=\"Positiv\",1,\"\")","v":""},null,null,null,{"$f":"IF(Indtastning!AG:AG=\"Positiv\",1,\"\")","v":""}]
[null,null,null,null,null,null,null,null,null,null,null,null,null,null,null,null,null,null,null,null,null,null,null,null,null,null,null,null,null,null,null,null,null,null,null,null,null,null,null,null,null,null,null,null,null,{"$f":"IF(Indtastning!Y:Y=\"Ikke Aflagt\",1,\"\")","v":""},null,null,{"$f":"IF(Indtastning!U:U=\"Positiv\",1,\"\")","v":""},null,null,null,{"$f":"IF(Indtastning!Y:Y=\"Positiv\",1,\"\")","v":""},null,null,null,{"$f":"IF(Indtastning!AC:AC=\"Positiv\",1,\"\")","v":""},null,null,null,{"$f":"IF(Indtastning!AG:AG=\"Positiv\",1,\"\")","v":""}]
[null,null,null,null,null,null,null,null,null,null,null,null,null,null,null,null,null,null,null,null,null,null,null,null,null,null,null,null,null,null,null,null,null,null,null,null,null,null,null,null,null,null,null,null,null,{"$f":"IF(Indtastning!Y:Y=\"Ikke Aflagt\",1,\"\")","v":""},null,null,{"$f":"IF(Indtastning!U:U=\"Positiv\",1,\"\")","v":""},null,null,null,{"$f":"IF(Indtastning!Y:Y=\"Positiv\",1,\"\")","v":""},null,null,null,{"$f":"IF(Indtastning!AC:AC=\"Positiv\",1,\"\")","v":""},null,null,null,{"$f":"IF(Indtastning!AG:AG=\"Positiv\",1,\"\")","v":""}]
[null,null,null,null,null,null,null,null,null,null,null,null,null,null,null,null,null,null,null,null,null,null,null,null,null,null,null,null,null,null,null,null,null,null,null,null,null,null,null,null,null,null,null,null,null,{"$f":"IF(Indtastning!Y:Y=\"Ikke Aflagt\",1,\"\")","v":""},null,null,{"$f":"IF(Indtastning!U:U=\"Positiv\",1,\"\")","v":""},null,null,null,{"$f":"IF(Indtastning!Y:Y=\"Positiv\",1,\"\")","v":""},null,null,null,{"$f":"IF(Indtastning!AC:AC=\"Positiv\",1,\"\")","v":""},null,null,null,{"$f":"IF(Indtastning!AG:AG=\"Positiv\",1,\"\")","v":""}]
[null,null,null,null,null,null,null,null,null,null,null,null,null,null,null,null,null,null,null,null,null,null,null,null,null,null,null,null,null,null,null,null,null,null,null,null,null,null,null,null,null,null,null,null,null,{"$f":"IF(Indtastning!Y:Y=\"Ikke Aflagt\",1,\"\")","v":""},null,null,{"$f":"IF(Indtastning!U:U=\"Positiv\",1,\"\")","v":""},null,null,null,{"$f":"IF(Indtastning!Y:Y=\"Positiv\",1,\"\")","v":""},null,null,null,{"$f":"IF(Indtastning!AC:AC=\"Positiv\",1,\"\")","v":""},null,null,null,{"$f":"IF(Indtastning!AG:AG=\"Positiv\",1,\"\")","v":""}]
[null,null,null,null,null,null,null,null,null,null,null,null,null,null,null,null,null,null,null,null,null,null,null,null,null,null,null,null,null,null,null,null,null,null,null,null,null,null,null,null,null,null,null,null,null,{"$f":"IF(Indtastning!Y:Y=\"Ikke Aflagt\",1,\"\")","v":""},null,null,{"$f":"IF(Indtastning!U:U=\"Positiv\",1,\"\")","v":""},null,null,null,{"$f":"IF(Indtastning!Y:Y=\"Positiv\",1,\"\")","v":""},null,null,null,{"$f":"IF(Indtastning!AC:AC=\"Positiv\",1,\"\")","v":""},null,null,null,{"$f":"IF(Indtastning!AG:AG=\"Positiv\",1,\"\")","v":""}]
[null,null,null,null,null,null,null,null,null,null,null,null,null,null,null,null,null,null,null,null,null,null,null,null,null,null,null,null,null,null,null,null,null,null,null,null,null,null,null,null,null,null,null,null,null,{"$f":"IF(Indtastning!Y:Y=\"Ikke Aflagt\",1,\"\")","v":""},null,null,{"$f":"IF(Indtastning!U:U=\"Positiv\",1,\"\")","v":""},null,null,null,{"$f":"IF(Indtastning!Y:Y=\"Positiv\",1,\"\")","v":""},null,null,null,{"$f":"IF(Indtastning!AC:AC=\"Positiv\",1,\"\")","v":""},null,null,null,{"$f":"IF(Indtastning!AG:AG=\"Positiv\",1,\"\")","v":""}]
[null,null,null,null,null,null,null,null,null,null,null,null,null,null,null,null,null,null,null,null,null,null,null,null,null,null,null,null,null,null,null,null,null,null,null,null,null,null,null,null,null,null,null,null,null,{"$f":"IF(Indtastning!Y:Y=\"Ikke Aflagt\",1,\"\")","v":""},null,null,{"$f":"IF(Indtastning!U:U=\"Positiv\",1,\"\")","v":""},null,null,null,{"$f":"IF(Indtastning!Y:Y=\"Positiv\",1,\"\")","v":""},null,null,null,{"$f":"IF(Indtastning!AC:AC=\"Positiv\",1,\"\")","v":""},null,null,null,{"$f":"IF(Indtastning!AG:AG=\"Positiv\",1,\"\")","v":""}]
[null,null,null,null,null,null,null,null,null,null,null,null,null,null,null,null,null,null,null,null,null,null,null,null,null,null,null,null,null,null,null,null,null,null,null,null,null,null,null,null,null,null,null,null,null,{"$f":"IF(Indtastning!Y:Y=\"Ikke Aflagt\",1,\"\")","v":""},null,null,{"$f":"IF(Indtastning!U:U=\"Positiv\",1,\"\")","v":""},null,null,null,{"$f":"IF(Indtastning!Y:Y=\"Positiv\",1,\"\")","v":""},null,null,null,{"$f":"IF(Indtastning!AC:AC=\"Positiv\",1,\"\")","v":""},null,null,null,{"$f":"IF(Indtastning!AG:AG=\"Positiv\",1,\"\")","v":""}]
[null,null,null,null,null,null,null,null,null,null,null,null,null,null,null,null,null,null,null,null,null,null,null,null,null,null,null,null,null,null,null,null,null,null,null,null,null,null,null,null,null,null,null,null,null,{"$f":"IF(Indtastning!Y:Y=\"Ikke Aflagt\",1,\"\")","v":""},null,null,{"$f":"IF(Indtastning!U:U=\"Positiv\",1,\"\")","v":""},null,null,null,{"$f":"IF(Indtastning!Y:Y=\"Positiv\",1,\"\")","v":""},null,null,null,{"$f":"IF(Indtastning!AC:AC=\"Positiv\",1,\"\")","v":""},null,null,null,{"$f":"IF(Indtastning!AG:AG=\"Positiv\",1,\"\")","v":""}]
[null,null,null,null,null,null,null,null,null,null,null,null,null,null,null,null,null,null,null,null,null,null,null,null,null,null,null,null,null,null,null,null,null,null,null,null,null,null,null,null,null,null,null,null,null,{"$f":"IF(Indtastning!Y:Y=\"Ikke Aflagt\",1,\"\")","v":""},null,null,{"$f":"IF(Indtastning!U:U=\"Positiv\",1,\"\")","v":""},null,null,null,{"$f":"IF(Indtastning!Y:Y=\"Positiv\",1,\"\")","v":""},null,null,null,{"$f":"IF(Indtastning!AC:AC=\"Positiv\",1,\"\")","v":""},null,null,null,{"$f":"IF(Indtastning!AG:AG=\"Positiv\",1,\"\")","v":""}]
[null,null,null,null,null,null,null,null,null,null,null,null,null,null,null,null,null,null,null,null,null,null,null,null,null,null,null,null,null,null,null,null,null,null,null,null,null,null,null,null,null,null,null,null,null,{"$f":"IF(Indtastning!Y:Y=\"Ikke Aflagt\",1,\"\")","v":""},null,null,{"$f":"IF(Indtastning!U:U=\"Positiv\",1,\"\")","v":""},null,null,null,{"$f":"IF(Indtastning!Y:Y=\"Positiv\",1,\"\")","v":""},null,null,null,{"$f":"IF(Indtastning!AC:AC=\"Positiv\",1,\"\")","v":""},null,null,null,{"$f":"IF(Indtastning!AG:AG=\"Positiv\",1,\"\")","v":""}]
[null,null,null,null,null,null,null,null,null,null,null,null,null,null,null,null,null,null,null,null,null,null,null,null,null,null,null,null,null,null,null,null,null,null,null,null,null,null,null,null,null,null,null,null,null,{"$f":"IF(Indtastning!Y:Y=\"Ikke Aflagt\",1,\"\")","v":""},null,null,{"$f":"IF(Indtastning!U:U=\"Positiv\",1,\"\")","v":""},null,null,null,{"$f":"IF(Indtastning!Y:Y=\"Positiv\",1,\"\")","v":""},null,null,null,{"$f":"IF(Indtastning!AC:AC=\"Positiv\",1,\"\")","v":""},null,null,null,{"$f":"IF(Indtastning!AG:AG=\"Positiv\",1,\"\")","v":""}]
[null,null,null,null,null,null,null,null,null,null,null,null,null,null,null,null,null,null,null,null,null,null,null,null,null,null,null,null,null,null,null,null,null,null,null,null,null,null,null,null,null,null,null,null,null,{"$f":"IF(Indtastning!Y:Y=\"Ikke Aflagt\",1,\"\")","v":""},null,null,{"$f":"IF(Indtastning!U:U=\"Positiv\",1,\"\")","v":""},null,null,null,{"$f":"IF(Indtastning!Y:Y=\"Positiv\",1,\"\")","v":""},null,null,null,{"$f":"IF(Indtastning!AC:AC=\"Positiv\",1,\"\")","v":""},null,null,null,{"$f":"IF(Indtastning!AG:AG=\"Positiv\",1,\"\")","v":""}]
[null,null,null,null,null,null,null,null,null,null,null,null,null,null,null,null,null,null,null,null,null,null,null,null,null,null,null,null,null,null,null,null,null,null,null,null,null,null,null,null,null,null,null,null,null,{"$f":"IF(Indtastning!Y:Y=\"Ikke Aflagt\",1,\"\")","v":""},null,null,{"$f":"IF(Indtastning!U:U=\"Positiv\",1,\"\")","v":""},null,null,null,{"$f":"IF(Indtastning!Y:Y=\"Positiv\",1,\"\")","v":""},null,null,null,{"$f":"IF(Indtastning!AC:AC=\"Positiv\",1,\"\")","v":""},null,null,null,{"$f":"IF(Indtastning!AG:AG=\"Positiv\",1,\"\")","v":""}]
[null,null,null,null,null,null,null,null,null,null,null,null,null,null,null,null,null,null,null,null,null,null,null,null,null,null,null,null,null,null,null,null,null,null,null,null,null,null,null,null,null,null,null,null,null,{"$f":"IF(Indtastning!Y:Y=\"Ikke Aflagt\",1,\"\")","v":""},null,null,{"$f":"IF(Indtastning!U:U=\"Positiv\",1,\"\")","v":""},null,null,null,{"$f":"IF(Indtastning!Y:Y=\"Positiv\",1,\"\")","v":""},null,null,null,{"$f":"IF(Indtastning!AC:AC=\"Positiv\",1,\"\")","v":""},null,null,null,{"$f":"IF(Indtastning!AG:AG=\"Positiv\",1,\"\")","v":""}]
[null,null,null,null,null,null,null,null,null,null,null,null,null,null,null,null,null,null,null,null,null,null,null,null,null,null,null,null,null,null,null,null,null,null,null,null,null,null,null,null,null,null,null,null,null,{"$f":"IF(Indtastning!Y:Y=\"Ikke Aflagt\",1,\"\")","v":""},null,null,{"$f":"IF(Indtastning!U:U=\"Positiv\",1,\"\")","v":""},null,null,null,{"$f":"IF(Indtastning!Y:Y=\"Positiv\",1,\"\")","v":""},null,null,null,{"$f":"IF(Indtastning!AC:AC=\"Positiv\",1,\"\")","v":""},null,null,null,{"$f":"IF(Indtastning!AG:AG=\"Positiv\",1,\"\")","v":""}]
[null,null,null,null,null,null,null,null,null,null,null,null,null,null,null,null,null,null,null,null,null,null,null,null,null,null,null,null,null,null,null,null,null,null,null,null,null,null,null,null,null,null,null,null,null,{"$f":"IF(Indtastning!Y:Y=\"Ikke Aflagt\",1,\"\")","v":""},null,null,{"$f":"IF(Indtastning!U:U=\"Positiv\",1,\"\")","v":""},null,null,null,{"$f":"IF(Indtastning!Y:Y=\"Positiv\",1,\"\")","v":""},null,null,null,{"$f":"IF(Indtastning!AC:AC=\"Positiv\",1,\"\")","v":""},null,null,null,{"$f":"IF(Indtastning!AG:AG=\"Positiv\",1,\"\")","v":""}]
[null,null,null,null,null,null,null,null,null,null,null,null,null,null,null,null,null,null,null,null,null,null,null,null,null,null,null,null,null,null,null,null,null,null,null,null,null,null,null,null,null,null,null,null,null,{"$f":"IF(Indtastning!Y:Y=\"Ikke Aflagt\",1,\"\")","v":""},null,null,{"$f":"IF(Indtastning!U:U=\"Positiv\",1,\"\")","v":""},null,null,null,{"$f":"IF(Indtastning!Y:Y=\"Positiv\",1,\"\")","v":""},null,null,null,{"$f":"IF(Indtastning!AC:AC=\"Positiv\",1,\"\")","v":""},null,null,null,{"$f":"IF(Indtastning!AG:AG=\"Positiv\",1,\"\")","v":""}]
[null,null,null,null,null,null,null,null,null,null,null,null,null,null,null,null,null,null,null,null,null,null,null,null,null,null,null,null,null,null,null,null,null,null,null,null,null,null,null,null,null,null,null,null,null,{"$f":"IF(Indtastning!Y:Y=\"Ikke Aflagt\",1,\"\")","v":""},null,null,{"$f":"IF(Indtastning!U:U=\"Positiv\",1,\"\")","v":""},null,null,null,{"$f":"IF(Indtastning!Y:Y=\"Positiv\",1,\"\")","v":""},null,null,null,{"$f":"IF(Indtastning!AC:AC=\"Positiv\",1,\"\")","v":""},null,null,null,{"$f":"IF(Indtastning!AG:AG=\"Positiv\",1,\"\")","v":""}]
[null,null,null,null,null,null,null,null,null,null,null,null,null,null,null,null,null,null,null,null,null,null,null,null,null,null,null,null,null,null,null,null,null,null,null,null,null,null,null,null,null,null,null,null,null,{"$f":"IF(Indtastning!Y:Y=\"Ikke Aflagt\",1,\"\")","v":""},null,null,{"$f":"IF(Indtastning!U:U=\"Positiv\",1,\"\")","v":""},null,null,null,{"$f":"IF(Indtastning!Y:Y=\"Positiv\",1,\"\")","v":""},null,null,null,{"$f":"IF(Indtastning!AC:AC=\"Positiv\",1,\"\")","v":""},null,null,null,{"$f":"IF(Indtastning!AG:AG=\"Positiv\",1,\"\")","v":""}]
[null,null,null,null,null,null,null,null,null,null,null,null,null,null,null,null,null,null,null,null,null,null,null,null,null,null,null,null,null,null,null,null,null,null,null,null,null,null,null,null,null,null,null,null,null,{"$f":"IF(Indtastning!Y:Y=\"Ikke Aflagt\",1,\"\")","v":""},null,null,{"$f":"IF(Indtastning!U:U=\"Positiv\",1,\"\")","v":""},null,null,null,{"$f":"IF(Indtastning!Y:Y=\"Positiv\",1,\"\")","v":""},null,null,null,{"$f":"IF(Indtastning!AC:AC=\"Positiv\",1,\"\")","v":""},null,null,null,{"$f":"IF(Indtastning!AG:AG=\"Positiv\",1,\"\")","v":""}]
[null,null,null,null,null,null,null,null,null,null,null,null,null,null,null,null,null,null,null,null,null,null,null,null,null,null,null,null,null,null,null,null,null,null,null,null,null,null,null,null,null,null,null,null,null,{"$f":"IF(Indtastning!Y:Y=\"Ikke Aflagt\",1,\"\")","v":""},null,null,{"$f":"IF(Indtastning!U:U=\"Positiv\",1,\"\")","v":""},null,null,null,{"$f":"IF(Indtastning!Y:Y=\"Positiv\",1,\"\")","v":""},null,null,null,{"$f":"IF(Indtastning!AC:AC=\"Positiv\",1,\"\")","v":""},null,null,null,{"$f":"IF(Indtastning!AG:AG=\"Positiv\",1,\"\")","v":""}]
[null,null,null,null,null,null,null,null,null,null,null,null,null,null,null,null,null,null,null,null,null,null,null,null,null,null,null,null,null,null,null,null,null,null,null,null,null,null,null,null,null,null,null,null,null,{"$f":"IF(Indtastning!Y:Y=\"Ikke Aflagt\",1,\"\")","v":""},null,null,{"$f":"IF(Indtastning!U:U=\"Positiv\",1,\"\")","v":""},null,null,null,{"$f":"IF(Indtastning!Y:Y=\"Positiv\",1,\"\")","v":""},null,null,null,{"$f":"IF(Indtastning!AC:AC=\"Positiv\",1,\"\")","v":""},null,null,null,{"$f":"IF(Indtastning!AG:AG=\"Positiv\",1,\"\")","v":""}]
[null,null,null,null,null,null,null,null,null,null,null,null,null,null,null,null,null,null,null,null,null,null,null,null,null,null,null,null,null,null,null,null,null,null,null,null,null,null,null,null,null,null,null,null,null,{"$f":"IF(Indtastning!Y:Y=\"Ikke Aflagt\",1,\"\")","v":""},null,null,{"$f":"IF(Indtastning!U:U=\"Positiv\",1,\"\")","v":""},null,null,null,{"$f":"IF(Indtastning!Y:Y=\"Positiv\",1,\"\")","v":""},null,null,null,{"$f":"IF(Indtastning!AC:AC=\"Positiv\",1,\"\")","v":""},null,null,null,{"$f":"IF(Indtastning!AG:AG=\"Positiv\",1,\"\")","v":""}]
[null,null,null,null,null,null,null,null,null,null,null,null,null,null,null,null,null,null,null,null,null,null,null,null,null,null,null,null,null,null,null,null,null,null,null,null,null,null,null,null,null,null,null,null,null,{"$f":"IF(Indtastning!Y:Y=\"Ikke Aflagt\",1,\"\")","v":""},null,null,{"$f":"IF(Indtastning!U:U=\"Positiv\",1,\"\")","v":""},null,null,null,{"$f":"IF(Indtastning!Y:Y=\"Positiv\",1,\"\")","v":""},null,null,null,{"$f":"IF(Indtastning!AC:AC=\"Positiv\",1,\"\")","v":""},null,null,null,{"$f":"IF(Indtastning!AG:AG=\"Positiv\",1,\"\")","v":""}]
[null,null,null,null,null,null,null,null,null,null,null,null,null,null,null,null,null,null,null,null,null,null,null,null,null,null,null,null,null,null,null,null,null,null,null,null,null,null,null,null,null,null,null,null,null,{"$f":"IF(Indtastning!Y:Y=\"Ikke Aflagt\",1,\"\")","v":""},null,null,{"$f":"IF(Indtastning!U:U=\"Positiv\",1,\"\")","v":""},null,null,null,{"$f":"IF(Indtastning!Y:Y=\"Positiv\",1,\"\")","v":""},null,null,null,{"$f":"IF(Indtastning!AC:AC=\"Positiv\",1,\"\")","v":""},null,null,null,{"$f":"IF(Indtastning!AG:AG=\"Positiv\",1,\"\")","v":""}]
[null,null,null,null,null,null,null,null,null,null,null,null,null,null,null,null,null,null,null,null,null,null,null,null,null,null,null,null,null,null,null,null,null,null,null,null,null,null,null,null,null,null,null,null,null,{"$f":"IF(Indtastning!Y:Y=\"Ikke Aflagt\",1,\"\")","v":""},null,null,{"$f":"IF(Indtastning!U:U=\"Positiv\",1,\"\")","v":""},null,null,null,{"$f":"IF(Indtastning!Y:Y=\"Positiv\",1,\"\")","v":""},null,null,null,{"$f":"IF(Indtastning!AC:AC=\"Positiv\",1,\"\")","v":""},null,null,null,{"$f":"IF(Indtastning!AG:AG=\"Positiv\",1,\"\")","v":""}]
[null,null,null,null,null,null,null,null,null,null,null,null,null,null,null,null,null,null,null,null,null,null,null,null,null,null,null,null,null,null,null,null,null,null,null,null,null,null,null,null,null,null,null,null,null,{"$f":"IF(Indtastning!Y:Y=\"Ikke Aflagt\",1,\"\")","v":""},null,null,{"$f":"IF(Indtastning!U:U=\"Positiv\",1,\"\")","v":""},null,null,null,{"$f":"IF(Indtastning!Y:Y=\"Positiv\",1,\"\")","v":""},null,null,null,{"$f":"IF(Indtastning!AC:AC=\"Positiv\",1,\"\")","v":""},null,null,null,{"$f":"IF(Indtastning!AG:AG=\"Positiv\",1,\"\")","v":""}]
[null,null,null,null,null,null,null,null,null,null,null,null,null,null,null,null,null,null,null,null,null,null,null,null,null,null,null,null,null,null,null,null,null,null,null,null,null,null,null,null,null,null,null,null,null,{"$f":"IF(Indtastning!Y:Y=\"Ikke Aflagt\",1,\"\")","v":""},null,null,{"$f":"IF(Indtastning!U:U=\"Positiv\",1,\"\")","v":""},null,null,null,{"$f":"IF(Indtastning!Y:Y=\"Positiv\",1,\"\")","v":""},null,null,null,{"$f":"IF(Indtastning!AC:AC=\"Positiv\",1,\"\")","v":""},null,null,null,{"$f":"IF(Indtastning!AG:AG=\"Positiv\",1,\"\")","v":""}]
[null,null,null,null,null,null,null,null,null,null,null,null,null,null,null,null,null,null,null,null,null,null,null,null,null,null,null,null,null,null,null,null,null,null,null,null,null,null,null,null,null,null,null,null,null,{"$f":"IF(Indtastning!Y:Y=\"Ikke Aflagt\",1,\"\")","v":""},null,null,{"$f":"IF(Indtastning!U:U=\"Positiv\",1,\"\")","v":""},null,null,null,{"$f":"IF(Indtastning!Y:Y=\"Positiv\",1,\"\")","v":""},null,null,null,{"$f":"IF(Indtastning!AC:AC=\"Positiv\",1,\"\")","v":""},null,null,null,{"$f":"IF(Indtastning!AG:AG=\"Positiv\",1,\"\")","v":""}]
[null,null,null,null,null,null,null,null,null,null,null,null,null,null,null,null,null,null,null,null,null,null,null,null,null,null,null,null,null,null,null,null,null,null,null,null,null,null,null,null,null,null,null,null,null,{"$f":"IF(Indtastning!Y:Y=\"Ikke Aflagt\",1,\"\")","v":""},null,null,{"$f":"IF(Indtastning!U:U=\"Positiv\",1,\"\")","v":""},null,null,null,{"$f":"IF(Indtastning!Y:Y=\"Positiv\",1,\"\")","v":""},null,null,null,{"$f":"IF(Indtastning!AC:AC=\"Positiv\",1,\"\")","v":""},null,null,null,{"$f":"IF(Indtastning!AG:AG=\"Positiv\",1,\"\")","v":""}]
[null,null,null,null,null,null,null,null,null,null,null,null,null,null,null,null,null,null,null,null,null,null,null,null,null,null,null,null,null,null,null,null,null,null,null,null,null,null,null,null,null,null,null,null,null,{"$f":"IF(Indtastning!Y:Y=\"Ikke Aflagt\",1,\"\")","v":""},null,null,{"$f":"IF(Indtastning!U:U=\"Positiv\",1,\"\")","v":""},null,null,null,{"$f":"IF(Indtastning!Y:Y=\"Positiv\",1,\"\")","v":""},null,null,null,{"$f":"IF(Indtastning!AC:AC=\"Positiv\",1,\"\")","v":""},null,null,null,{"$f":"IF(Indtastning!AG:AG=\"Positiv\",1,\"\")","v":""}]
[null,null,null,null,null,null,null,null,null,null,null,null,null,null,null,null,null,null,null,null,null,null,null,null,null,null,null,null,null,null,null,null,null,null,null,null,null,null,null,null,null,null,null,null,null,{"$f":"IF(Indtastning!Y:Y=\"Ikke Aflagt\",1,\"\")","v":""},null,null,{"$f":"IF(Indtastning!U:U=\"Positiv\",1,\"\")","v":""},null,null,null,{"$f":"IF(Indtastning!Y:Y=\"Positiv\",1,\"\")","v":""},null,null,null,{"$f":"IF(Indtastning!AC:AC=\"Positiv\",1,\"\")","v":""},null,null,null,{"$f":"IF(Indtastning!AG:AG=\"Positiv\",1,\"\")","v":""}]
[null,null,null,null,null,null,null,null,null,null,null,null,null,null,null,null,null,null,null,null,null,null,null,null,null,null,null,null,null,null,null,null,null,null,null,null,null,null,null,null,null,null,null,null,null,{"$f":"IF(Indtastning!Y:Y=\"Ikke Aflagt\",1,\"\")","v":""},null,null,{"$f":"IF(Indtastning!U:U=\"Positiv\",1,\"\")","v":""},null,null,null,{"$f":"IF(Indtastning!Y:Y=\"Positiv\",1,\"\")","v":""},null,null,null,{"$f":"IF(Indtastning!AC:AC=\"Positiv\",1,\"\")","v":""},null,null,null,{"$f":"IF(Indtastning!AG:AG=\"Positiv\",1,\"\")","v":""}]
[null,null,null,null,null,null,null,null,null,null,null,null,null,null,null,null,null,null,null,null,null,null,null,null,null,null,null,null,null,null,null,null,null,null,null,null,null,null,null,null,null,null,null,null,null,{"$f":"IF(Indtastning!Y:Y=\"Ikke Aflagt\",1,\"\")","v":""},null,null,{"$f":"IF(Indtastning!U:U=\"Positiv\",1,\"\")","v":""},null,null,null,{"$f":"IF(Indtastning!Y:Y=\"Positiv\",1,\"\")","v":""},null,null,null,{"$f":"IF(Indtastning!AC:AC=\"Positiv\",1,\"\")","v":""},null,null,null,{"$f":"IF(Indtastning!AG:AG=\"Positiv\",1,\"\")","v":""}]
[null,null,null,null,null,null,null,null,null,null,null,null,null,null,null,null,null,null,null,null,null,null,null,null,null,null,null,null,null,null,null,null,null,null,null,null,null,null,null,null,null,null,null,null,null,{"$f":"IF(Indtastning!Y:Y=\"Ikke Aflagt\",1,\"\")","v":""},null,null,{"$f":"IF(Indtastning!U:U=\"Positiv\",1,\"\")","v":""},null,null,null,{"$f":"IF(Indtastning!Y:Y=\"Positiv\",1,\"\")","v":""},null,null,null,{"$f":"IF(Indtastning!AC:AC=\"Positiv\",1,\"\")","v":""},null,null,null,{"$f":"IF(Indtastning!AG:AG=\"Positiv\",1,\"\")","v":""}]
[null,null,null,null,null,null,null,null,null,null,null,null,null,null,null,null,null,null,null,null,null,null,null,null,null,null,null,null,null,null,null,null,null,null,null,null,null,null,null,null,null,null,null,null,null,{"$f":"IF(Indtastning!Y:Y=\"Ikke Aflagt\",1,\"\")","v":""},null,null,{"$f":"IF(Indtastning!U:U=\"Positiv\",1,\"\")","v":""},null,null,null,{"$f":"IF(Indtastning!Y:Y=\"Positiv\",1,\"\")","v":""},null,null,null,{"$f":"IF(Indtastning!AC:AC=\"Positiv\",1,\"\")","v":""},null,null,null,{"$f":"IF(Indtastning!AG:AG=\"Positiv\",1,\"\")","v":""}]
[null,null,null,null,null,null,null,null,null,null,null,null,null,null,null,null,null,null,null,null,null,null,null,null,null,null,null,null,null,null,null,null,null,null,null,null,null,null,null,null,null,null,null,null,null,{"$f":"IF(Indtastning!Y:Y=\"Ikke Aflagt\",1,\"\")","v":""},null,null,{"$f":"IF(Indtastning!U:U=\"Positiv\",1,\"\")","v":""},null,null,null,{"$f":"IF(Indtastning!Y:Y=\"Positiv\",1,\"\")","v":""},null,null,null,{"$f":"IF(Indtastning!AC:AC=\"Positiv\",1,\"\")","v":""},null,null,null,{"$f":"IF(Indtastning!AG:AG=\"Positiv\",1,\"\")","v":""}]
[null,null,null,null,null,null,null,null,null,null,null,null,null,null,null,null,null,null,null,null,null,null,null,null,null,null,null,null,null,null,null,null,null,null,null,null,null,null,null,null,null,null,null,null,null,{"$f":"IF(Indtastning!Y:Y=\"Ikke Aflagt\",1,\"\")","v":""},null,null,{"$f":"IF(Indtastning!U:U=\"Positiv\",1,\"\")","v":""},null,null,null,{"$f":"IF(Indtastning!Y:Y=\"Positiv\",1,\"\")","v":""},null,null,null,{"$f":"IF(Indtastning!AC:AC=\"Positiv\",1,\"\")","v":""},null,null,null,{"$f":"IF(Indtastning!AG:AG=\"Positiv\",1,\"\")","v":""}]
[null,null,null,null,null,null,null,null,null,null,null,null,null,null,null,null,null,null,null,null,null,null,null,null,null,null,null,null,null,null,null,null,null,null,null,null,null,null,null,null,null,null,null,null,null,{"$f":"IF(Indtastning!Y:Y=\"Ikke Aflagt\",1,\"\")","v":""},null,null,{"$f":"IF(Indtastning!U:U=\"Positiv\",1,\"\")","v":""},null,null,null,{"$f":"IF(Indtastning!Y:Y=\"Positiv\",1,\"\")","v":""},null,null,null,{"$f":"IF(Indtastning!AC:AC=\"Positiv\",1,\"\")","v":""},null,null,null,{"$f":"IF(Indtastning!AG:AG=\"Positiv\",1,\"\")","v":""}]
[null,null,null,null,null,null,null,null,null,null,null,null,null,null,null,null,null,null,null,null,null,null,null,null,null,null,null,null,null,null,null,null,null,null,null,null,null,null,null,null,null,null,null,null,null,{"$f":"IF(Indtastning!Y:Y=\"Ikke Aflagt\",1,\"\")","v":""},null,null,{"$f":"IF(Indtastning!U:U=\"Positiv\",1,\"\")","v":""},null,null,null,{"$f":"IF(Indtastning!Y:Y=\"Positiv\",1,\"\")","v":""},null,null,null,{"$f":"IF(Indtastning!AC:AC=\"Positiv\",1,\"\")","v":""},null,null,null,{"$f":"IF(Indtastning!AG:AG=\"Positiv\",1,\"\")","v":""}]
[null,null,null,null,null,null,null,null,null,null,null,null,null,null,null,null,null,null,null,null,null,null,null,null,null,null,null,null,null,null,null,null,null,null,null,null,null,null,null,null,null,null,null,null,null,{"$f":"IF(Indtastning!Y:Y=\"Ikke Aflagt\",1,\"\")","v":""},null,null,{"$f":"IF(Indtastning!U:U=\"Positiv\",1,\"\")","v":""},null,null,null,{"$f":"IF(Indtastning!Y:Y=\"Positiv\",1,\"\")","v":""},null,null,null,{"$f":"IF(Indtastning!AC:AC=\"Positiv\",1,\"\")","v":""},null,null,null,{"$f":"IF(Indtastning!AG:AG=\"Positiv\",1,\"\")","v":""}]
[null,null,null,null,null,null,null,null,null,null,null,null,null,null,null,null,null,null,null,null,null,null,null,null,null,null,null,null,null,null,null,null,null,null,null,null,null,null,null,null,null,null,null,null,null,{"$f":"IF(Indtastning!Y:Y=\"Ikke Aflagt\",1,\"\")","v":""},null,null,{"$f":"IF(Indtastning!U:U=\"Positiv\",1,\"\")","v":""},null,null,null,{"$f":"IF(Indtastning!Y:Y=\"Positiv\",1,\"\")","v":""},null,null,null,{"$f":"IF(Indtastning!AC:AC=\"Positiv\",1,\"\")","v":""},null,null,null,{"$f":"IF(Indtastning!AG:AG=\"Positiv\",1,\"\")","v":""}]
[null,null,null,null,null,null,null,null,null,null,null,null,null,null,null,null,null,null,null,null,null,null,null,null,null,null,null,null,null,null,null,null,null,null,null,null,null,null,null,null,null,null,null,null,null,{"$f":"IF(Indtastning!Y:Y=\"Ikke Aflagt\",1,\"\")","v":""},null,null,{"$f":"IF(Indtastning!U:U=\"Positiv\",1,\"\")","v":""},null,null,null,{"$f":"IF(Indtastning!Y:Y=\"Positiv\",1,\"\")","v":""},null,null,null,{"$f":"IF(Indtastning!AC:AC=\"Positiv\",1,\"\")","v":""},null,null,null,{"$f":"IF(Indtastning!AG:AG=\"Positiv\",1,\"\")","v":""}]
[null,null,null,null,null,null,null,null,null,null,null,null,null,null,null,null,null,null,null,null,null,null,null,null,null,null,null,null,null,null,null,null,null,null,null,null,null,null,null,null,null,null,null,null,null,{"$f":"IF(Indtastning!Y:Y=\"Ikke Aflagt\",1,\"\")","v":""},null,null,{"$f":"IF(Indtastning!U:U=\"Positiv\",1,\"\")","v":""},null,null,null,{"$f":"IF(Indtastning!Y:Y=\"Positiv\",1,\"\")","v":""},null,null,null,{"$f":"IF(Indtastning!AC:AC=\"Positiv\",1,\"\")","v":""},null,null,null,{"$f":"IF(Indtastning!AG:AG=\"Positiv\",1,\"\")","v":""}]
[null,null,null,null,null,null,null,null,null,null,null,null,null,null,null,null,null,null,null,null,null,null,null,null,null,null,null,null,null,null,null,null,null,null,null,null,null,null,null,null,null,null,null,null,null,{"$f":"IF(Indtastning!Y:Y=\"Ikke Aflagt\",1,\"\")","v":""},null,null,{"$f":"IF(Indtastning!U:U=\"Positiv\",1,\"\")","v":""},null,null,null,{"$f":"IF(Indtastning!Y:Y=\"Positiv\",1,\"\")","v":""},null,null,null,{"$f":"IF(Indtastning!AC:AC=\"Positiv\",1,\"\")","v":""},null,null,null,{"$f":"IF(Indtastning!AG:AG=\"Positiv\",1,\"\")","v":""}]
[null,null,null,null,null,null,null,null,null,null,null,null,null,null,null,null,null,null,null,null,null,null,null,null,null,null,null,null,null,null,null,null,null,null,null,null,null,null,null,null,null,null,null,null,null,{"$f":"IF(Indtastning!Y:Y=\"Ikke Aflagt\",1,\"\")","v":""},null,null,{"$f":"IF(Indtastning!U:U=\"Positiv\",1,\"\")","v":""},null,null,null,{"$f":"IF(Indtastning!Y:Y=\"Positiv\",1,\"\")","v":""},null,null,null,{"$f":"IF(Indtastning!AC:AC=\"Positiv\",1,\"\")","v":""},null,null,null,{"$f":"IF(Indtastning!AG:AG=\"Positiv\",1,\"\")","v":""}]
[null,null,null,null,null,null,null,null,null,null,null,null,null,null,null,null,null,null,null,null,null,null,null,null,null,null,null,null,null,null,null,null,null,null,null,null,null,null,null,null,null,null,null,null,null,{"$f":"IF(Indtastning!Y:Y=\"Ikke Aflagt\",1,\"\")","v":""},null,null,{"$f":"IF(Indtastning!U:U=\"Positiv\",1,\"\")","v":""},null,null,null,{"$f":"IF(Indtastning!Y:Y=\"Positiv\",1,\"\")","v":""},null,null,null,{"$f":"IF(Indtastning!AC:AC=\"Positiv\",1,\"\")","v":""},null,null,null,{"$f":"IF(Indtastning!AG:AG=\"Positiv\",1,\"\")","v":""}]
[null,null,null,null,null,null,null,null,null,null,null,null,null,null,null,null,null,null,null,null,null,null,null,null,null,null,null,null,null,null,null,null,null,null,null,null,null,null,null,null,null,null,null,null,null,{"$f":"IF(Indtastning!Y:Y=\"Ikke Aflagt\",1,\"\")","v":""},null,null,{"$f":"IF(Indtastning!U:U=\"Positiv\",1,\"\")","v":""},null,null,null,{"$f":"IF(Indtastning!Y:Y=\"Positiv\",1,\"\")","v":""},null,null,null,{"$f":"IF(Indtastning!AC:AC=\"Positiv\",1,\"\")","v":""},null,null,null,{"$f":"IF(Indtastning!AG:AG=\"Positiv\",1,\"\")","v":""}]
[null,null,null,null,null,null,null,null,null,null,null,null,null,null,null,null,null,null,null,null,null,null,null,null,null,null,null,null,null,null,null,null,null,null,null,null,null,null,null,null,null,null,null,null,null,{"$f":"IF(Indtastning!Y:Y=\"Ikke Aflagt\",1,\"\")","v":""},null,null,{"$f":"IF(Indtastning!U:U=\"Positiv\",1,\"\")","v":""},null,null,null,{"$f":"IF(Indtastning!Y:Y=\"Positiv\",1,\"\")","v":""},null,null,null,{"$f":"IF(Indtastning!AC:AC=\"Positiv\",1,\"\")","v":""},null,null,null,{"$f":"IF(Indtastning!AG:AG=\"Positiv\",1,\"\")","v":""}]
[null,null,null,null,null,null,null,null,null,null,null,null,null,null,null,null,null,null,null,null,null,null,null,null,null,null,null,null,null,null,null,null,null,null,null,null,null,null,null,null,null,null,null,null,null,{"$f":"IF(Indtastning!Y:Y=\"Ikke Aflagt\",1,\"\")","v":""},null,null,{"$f":"IF(Indtastning!U:U=\"Positiv\",1,\"\")","v":""},null,null,null,{"$f":"IF(Indtastning!Y:Y=\"Positiv\",1,\"\")","v":""},null,null,null,{"$f":"IF(Indtastning!AC:AC=\"Positiv\",1,\"\")","v":""},null,null,null,{"$f":"IF(Indtastning!AG:AG=\"Positiv\",1,\"\")","v":""}]
[null,null,null,null,null,null,null,null,null,null,null,null,null,null,null,null,null,null,null,null,null,null,null,null,null,null,null,null,null,null,null,null,null,null,null,null,null,null,null,null,null,null,null,null,null,{"$f":"IF(Indtastning!Y:Y=\"Ikke Aflagt\",1,\"\")","v":""},null,null,{"$f":"IF(Indtastning!U:U=\"Positiv\",1,\"\")","v":""},null,null,null,{"$f":"IF(Indtastning!Y:Y=\"Positiv\",1,\"\")","v":""},null,null,null,{"$f":"IF(Indtastning!AC:AC=\"Positiv\",1,\"\")","v":""},null,null,null,{"$f":"IF(Indtastning!AG:AG=\"Positiv\",1,\"\")","v":""}]
[null,null,null,null,null,null,null,null,null,null,null,null,null,null,null,null,null,null,null,null,null,null,null,null,null,null,null,null,null,null,null,null,null,null,null,null,null,null,null,null,null,null,null,null,null,{"$f":"IF(Indtastning!Y:Y=\"Ikke Aflagt\",1,\"\")","v":""},null,null,{"$f":"IF(Indtastning!U:U=\"Positiv\",1,\"\")","v":""},null,null,null,{"$f":"IF(Indtastning!Y:Y=\"Positiv\",1,\"\")","v":""},null,null,null,{"$f":"IF(Indtastning!AC:AC=\"Positiv\",1,\"\")","v":""},null,null,null,{"$f":"IF(Indtastning!AG:AG=\"Positiv\",1,\"\")","v":""}]
[null,null,null,null,null,null,null,null,null,null,null,null,null,null,null,null,null,null,null,null,null,null,null,null,null,null,null,null,null,null,null,null,null,null,null,null,null,null,null,null,null,null,null,null,null,{"$f":"IF(Indtastning!Y:Y=\"Ikke Aflagt\",1,\"\")","v":""},null,null,{"$f":"IF(Indtastning!U:U=\"Positiv\",1,\"\")","v":""},null,null,null,{"$f":"IF(Indtastning!Y:Y=\"Positiv\",1,\"\")","v":""},null,null,null,{"$f":"IF(Indtastning!AC:AC=\"Positiv\",1,\"\")","v":""},null,null,null,{"$f":"IF(Indtastning!AG:AG=\"Positiv\",1,\"\")","v":""}]
[null,null,null,null,null,null,null,null,null,null,null,null,null,null,null,null,null,null,null,null,null,null,null,null,null,null,null,null,null,null,null,null,null,null,null,null,null,null,null,null,null,null,null,null,null,{"$f":"IF(Indtastning!Y:Y=\"Ikke Aflagt\",1,\"\")","v":""},null,null,{"$f":"IF(Indtastning!U:U=\"Positiv\",1,\"\")","v":""},null,null,null,{"$f":"IF(Indtastning!Y:Y=\"Positiv\",1,\"\")","v":""},null,null,null,{"$f":"IF(Indtastning!AC:AC=\"Positiv\",1,\"\")","v":""},null,null,null,{"$f":"IF(Indtastning!AG:AG=\"Positiv\",1,\"\")","v":""}]
[null,null,null,null,null,null,null,null,null,null,null,null,null,null,null,null,null,null,null,null,null,null,null,null,null,null,null,null,null,null,null,null,null,null,null,null,null,null,null,null,null,null,null,null,null,{"$f":"IF(Indtastning!Y:Y=\"Ikke Aflagt\",1,\"\")","v":""},null,null,{"$f":"IF(Indtastning!U:U=\"Positiv\",1,\"\")","v":""},null,null,null,{"$f":"IF(Indtastning!Y:Y=\"Positiv\",1,\"\")","v":""},null,null,null,{"$f":"IF(Indtastning!AC:AC=\"Positiv\",1,\"\")","v":""},null,null,null,{"$f":"IF(Indtastning!AG:AG=\"Positiv\",1,\"\")","v":""}]
[null,null,null,null,null,null,null,null,null,null,null,null,null,null,null,null,null,null,null,null,null,null,null,null,null,null,null,null,null,null,null,null,null,null,null,null,null,null,null,null,null,null,null,null,null,{"$f":"IF(Indtastning!Y:Y=\"Ikke Aflagt\",1,\"\")","v":""},null,null,{"$f":"IF(Indtastning!U:U=\"Positiv\",1,\"\")","v":""},null,null,null,{"$f":"IF(Indtastning!Y:Y=\"Positiv\",1,\"\")","v":""},null,null,null,{"$f":"IF(Indtastning!AC:AC=\"Positiv\",1,\"\")","v":""},null,null,null,{"$f":"IF(Indtastning!AG:AG=\"Positiv\",1,\"\")","v":""}]
[null,null,null,null,null,null,null,null,null,null,null,null,null,null,null,null,null,null,null,null,null,null,null,null,null,null,null,null,null,null,null,null,null,null,null,null,null,null,null,null,null,null,null,null,null,{"$f":"IF(Indtastning!Y:Y=\"Ikke Aflagt\",1,\"\")","v":""},null,null,{"$f":"IF(Indtastning!U:U=\"Positiv\",1,\"\")","v":""},null,null,null,{"$f":"IF(Indtastning!Y:Y=\"Positiv\",1,\"\")","v":""},null,null,null,{"$f":"IF(Indtastning!AC:AC=\"Positiv\",1,\"\")","v":""},null,null,null,{"$f":"IF(Indtastning!AG:AG=\"Positiv\",1,\"\")","v":""}]
[null,null,null,null,null,null,null,null,null,null,null,null,null,null,null,null,null,null,null,null,null,null,null,null,null,null,null,null,null,null,null,null,null,null,null,null,null,null,null,null,null,null,null,null,null,{"$f":"IF(Indtastning!Y:Y=\"Ikke Aflagt\",1,\"\")","v":""},null,null,{"$f":"IF(Indtastning!U:U=\"Positiv\",1,\"\")","v":""},null,null,null,{"$f":"IF(Indtastning!Y:Y=\"Positiv\",1,\"\")","v":""},null,null,null,{"$f":"IF(Indtastning!AC:AC=\"Positiv\",1,\"\")","v":""},null,null,null,{"$f":"IF(Indtastning!AG:AG=\"Positiv\",1,\"\")","v":""}]
[null,null,null,null,null,null,null,null,null,null,null,null,null,null,null,null,null,null,null,null,null,null,null,null,null,null,null,null,null,null,null,null,null,null,null,null,null,null,null,null,null,null,null,null,null,{"$f":"IF(Indtastning!Y:Y=\"Ikke Aflagt\",1,\"\")","v":""},null,null,{"$f":"IF(Indtastning!U:U=\"Positiv\",1,\"\")","v":""},null,null,null,{"$f":"IF(Indtastning!Y:Y=\"Positiv\",1,\"\")","v":""},null,null,null,{"$f":"IF(Indtastning!AC:AC=\"Positiv\",1,\"\")","v":""},null,null,null,{"$f":"IF(Indtastning!AG:AG=\"Positiv\",1,\"\")","v":""}]
[null,null,null,null,null,null,null,null,null,null,null,null,null,null,null,null,null,null,null,null,null,null,null,null,null,null,null,null,null,null,null,null,null,null,null,null,null,null,null,null,null,null,null,null,null,{"$f":"IF(Indtastning!Y:Y=\"Ikke Aflagt\",1,\"\")","v":""},null,null,{"$f":"IF(Indtastning!U:U=\"Positiv\",1,\"\")","v":""},null,null,null,{"$f":"IF(Indtastning!Y:Y=\"Positiv\",1,\"\")","v":""},null,null,null,{"$f":"IF(Indtastning!AC:AC=\"Positiv\",1,\"\")","v":""},null,null,null,{"$f":"IF(Indtastning!AG:AG=\"Positiv\",1,\"\")","v":""}]
[null,null,null,null,null,null,null,null,null,null,null,null,null,null,null,null,null,null,null,null,null,null,null,null,null,null,null,null,null,null,null,null,null,null,null,null,null,null,null,null,null,null,null,null,null,{"$f":"IF(Indtastning!Y:Y=\"Ikke Aflagt\",1,\"\")","v":""},null,null,{"$f":"IF(Indtastning!U:U=\"Positiv\",1,\"\")","v":""},null,null,null,{"$f":"IF(Indtastning!Y:Y=\"Positiv\",1,\"\")","v":""},null,null,null,{"$f":"IF(Indtastning!AC:AC=\"Positiv\",1,\"\")","v":""},null,null,null,{"$f":"IF(Indtastning!AG:AG=\"Positiv\",1,\"\")","v":""}]
[null,null,null,null,null,null,null,null,null,null,null,null,null,null,null,null,null,null,null,null,null,null,null,null,null,null,null,null,null,null,null,null,null,null,null,null,null,null,null,null,null,null,null,null,null,{"$f":"IF(Indtastning!Y:Y=\"Ikke Aflagt\",1,\"\")","v":""},null,null,{"$f":"IF(Indtastning!U:U=\"Positiv\",1,\"\")","v":""},null,null,null,{"$f":"IF(Indtastning!Y:Y=\"Positiv\",1,\"\")","v":""},null,null,null,{"$f":"IF(Indtastning!AC:AC=\"Positiv\",1,\"\")","v":""},null,null,null,{"$f":"IF(Indtastning!AG:AG=\"Positiv\",1,\"\")","v":""}]
[null,null,null,null,null,null,null,null,null,null,null,null,null,null,null,null,null,null,null,null,null,null,null,null,null,null,null,null,null,null,null,null,null,null,null,null,null,null,null,null,null,null,null,null,null,{"$f":"IF(Indtastning!Y:Y=\"Ikke Aflagt\",1,\"\")","v":""},null,null,{"$f":"IF(Indtastning!U:U=\"Positiv\",1,\"\")","v":""},null,null,null,{"$f":"IF(Indtastning!Y:Y=\"Positiv\",1,\"\")","v":""},null,null,null,{"$f":"IF(Indtastning!AC:AC=\"Positiv\",1,\"\")","v":""},null,null,null,{"$f":"IF(Indtastning!AG:AG=\"Positiv\",1,\"\")","v":""}]
[null,null,null,null,null,null,null,null,null,null,null,null,null,null,null,null,null,null,null,null,null,null,null,null,null,null,null,null,null,null,null,null,null,null,null,null,null,null,null,null,null,null,null,null,null,{"$f":"IF(Indtastning!Y:Y=\"Ikke Aflagt\",1,\"\")","v":""},null,null,{"$f":"IF(Indtastning!U:U=\"Positiv\",1,\"\")","v":""},null,null,null,{"$f":"IF(Indtastning!Y:Y=\"Positiv\",1,\"\")","v":""},null,null,null,{"$f":"IF(Indtastning!AC:AC=\"Positiv\",1,\"\")","v":""},null,null,null,{"$f":"IF(Indtastning!AG:AG=\"Positiv\",1,\"\")","v":""}]
[null,null,null,null,null,null,null,null,null,null,null,null,null,null,null,null,null,null,null,null,null,null,null,null,null,null,null,null,null,null,null,null,null,null,null,null,null,null,null,null,null,null,null,null,null,{"$f":"IF(Indtastning!Y:Y=\"Ikke Aflagt\",1,\"\")","v":""},null,null,{"$f":"IF(Indtastning!U:U=\"Positiv\",1,\"\")","v":""},null,null,null,{"$f":"IF(Indtastning!Y:Y=\"Positiv\",1,\"\")","v":""},null,null,null,{"$f":"IF(Indtastning!AC:AC=\"Positiv\",1,\"\")","v":""},null,null,null,{"$f":"IF(Indtastning!AG:AG=\"Positiv\",1,\"\")","v":""}]
[null,null,null,null,null,null,null,null,null,null,null,null,null,null,null,null,null,null,null,null,null,null,null,null,null,null,null,null,null,null,null,null,null,null,null,null,null,null,null,null,null,null,null,null,null,{"$f":"IF(Indtastning!Y:Y=\"Ikke Aflagt\",1,\"\")","v":""},null,null,{"$f":"IF(Indtastning!U:U=\"Positiv\",1,\"\")","v":""},null,null,null,{"$f":"IF(Indtastning!Y:Y=\"Positiv\",1,\"\")","v":""},null,null,null,{"$f":"IF(Indtastning!AC:AC=\"Positiv\",1,\"\")","v":""},null,null,null,{"$f":"IF(Indtastning!AG:AG=\"Positiv\",1,\"\")","v":""}]
[null,null,null,null,null,null,null,null,null,null,null,null,null,null,null,null,null,null,null,null,null,null,null,null,null,null,null,null,null,null,null,null,null,null,null,null,null,null,null,null,null,null,null,null,null,{"$f":"IF(Indtastning!Y:Y=\"Ikke Aflagt\",1,\"\")","v":""},null,null,{"$f":"IF(Indtastning!U:U=\"Positiv\",1,\"\")","v":""},null,null,null,{"$f":"IF(Indtastning!Y:Y=\"Positiv\",1,\"\")","v":""},null,null,null,{"$f":"IF(Indtastning!AC:AC=\"Positiv\",1,\"\")","v":""},null,null,null,{"$f":"IF(Indtastning!AG:AG=\"Positiv\",1,\"\")","v":""}]
[null,null,null,null,null,null,null,null,null,null,null,null,null,null,null,null,null,null,null,null,null,null,null,null,null,null,null,null,null,null,null,null,null,null,null,null,null,null,null,null,null,null,null,null,null,{"$f":"IF(Indtastning!Y:Y=\"Ikke Aflagt\",1,\"\")","v":""},null,null,{"$f":"IF(Indtastning!U:U=\"Positiv\",1,\"\")","v":""},null,null,null,{"$f":"IF(Indtastning!Y:Y=\"Positiv\",1,\"\")","v":""},null,null,null,{"$f":"IF(Indtastning!AC:AC=\"Positiv\",1,\"\")","v":""},null,null,null,{"$f":"IF(Indtastning!AG:AG=\"Positiv\",1,\"\")","v":""}]
[null,null,null,null,null,null,null,null,null,null,null,null,null,null,null,null,null,null,null,null,null,null,null,null,null,null,null,null,null,null,null,null,null,null,null,null,null,null,null,null,null,null,null,null,null,{"$f":"IF(Indtastning!Y:Y=\"Ikke Aflagt\",1,\"\")","v":""},null,null,{"$f":"IF(Indtastning!U:U=\"Positiv\",1,\"\")","v":""},null,null,null,{"$f":"IF(Indtastning!Y:Y=\"Positiv\",1,\"\")","v":""},null,null,null,{"$f":"IF(Indtastning!AC:AC=\"Positiv\",1,\"\")","v":""},null,null,null,{"$f":"IF(Indtastning!AG:AG=\"Positiv\",1,\"\")","v":""}]
[null,null,null,null,null,null,null,null,null,null,null,null,null,null,null,null,null,null,null,null,null,null,null,null,null,null,null,null,null,null,null,null,null,null,null,null,null,null,null,null,null,null,null,null,null,{"$f":"IF(Indtastning!Y:Y=\"Ikke Aflagt\",1,\"\")","v":""},null,null,{"$f":"IF(Indtastning!U:U=\"Positiv\",1,\"\")","v":""},null,null,null,{"$f":"IF(Indtastning!Y:Y=\"Positiv\",1,\"\")","v":""},null,null,null,{"$f":"IF(Indtastning!AC:AC=\"Positiv\",1,\"\")","v":""},null,null,null,{"$f":"IF(Indtastning!AG:AG=\"Positiv\",1,\"\")","v":""}]
[null,null,null,null,null,null,null,null,null,null,null,null,null,null,null,null,null,null,null,null,null,null,null,null,null,null,null,null,null,null,null,null,null,null,null,null,null,null,null,null,null,null,null,null,null,{"$f":"IF(Indtastning!Y:Y=\"Ikke Aflagt\",1,\"\")","v":""},null,null,{"$f":"IF(Indtastning!U:U=\"Positiv\",1,\"\")","v":""},null,null,null,{"$f":"IF(Indtastning!Y:Y=\"Positiv\",1,\"\")","v":""},null,null,null,{"$f":"IF(Indtastning!AC:AC=\"Positiv\",1,\"\")","v":""},null,null,null,{"$f":"IF(Indtastning!AG:AG=\"Positiv\",1,\"\")","v":""}]
[null,null,null,null,null,null,null,null,null,null,null,null,null,null,null,null,null,null,null,null,null,null,null,null,null,null,null,null,null,null,null,null,null,null,null,null,null,null,null,null,null,null,null,null,null,{"$f":"IF(Indtastning!Y:Y=\"Ikke Aflagt\",1,\"\")","v":""},null,null,{"$f":"IF(Indtastning!U:U=\"Positiv\",1,\"\")","v":""},null,null,null,{"$f":"IF(Indtastning!Y:Y=\"Positiv\",1,\"\")","v":""},null,null,null,{"$f":"IF(Indtastning!AC:AC=\"Positiv\",1,\"\")","v":""},null,null,null,{"$f":"IF(Indtastning!AG:AG=\"Positiv\",1,\"\")","v":""}]
[null,null,null,null,null,null,null,null,null,null,null,null,null,null,null,null,null,null,null,null,null,null,null,null,null,null,null,null,null,null,null,null,null,null,null,null,null,null,null,null,null,null,null,null,null,{"$f":"IF(Indtastning!Y:Y=\"Ikke Aflagt\",1,\"\")","v":""},null,null,{"$f":"IF(Indtastning!U:U=\"Positiv\",1,\"\")","v":""},null,null,null,{"$f":"IF(Indtastning!Y:Y=\"Positiv\",1,\"\")","v":""},null,null,null,{"$f":"IF(Indtastning!AC:AC=\"Positiv\",1,\"\")","v":""},null,null,null,{"$f":"IF(Indtastning!AG:AG=\"Positiv\",1,\"\")","v":""}]
[null,null,null,null,null,null,null,null,null,null,null,null,null,null,null,null,null,null,null,null,null,null,null,null,null,null,null,null,null,null,null,null,null,null,null,null,null,null,null,null,null,null,null,null,null,{"$f":"IF(Indtastning!Y:Y=\"Ikke Aflagt\",1,\"\")","v":""},null,null,{"$f":"IF(Indtastning!U:U=\"Positiv\",1,\"\")","v":""},null,null,null,{"$f":"IF(Indtastning!Y:Y=\"Positiv\",1,\"\")","v":""},null,null,null,{"$f":"IF(Indtastning!AC:AC=\"Positiv\",1,\"\")","v":""},null,null,null,{"$f":"IF(Indtastning!AG:AG=\"Positiv\",1,\"\")","v":""}]
[null,null,null,null,null,null,null,null,null,null,null,null,null,null,null,null,null,null,null,null,null,null,null,null,null,null,null,null,null,null,null,null,null,null,null,null,null,null,null,null,null,null,null,null,null,{"$f":"IF(Indtastning!Y:Y=\"Ikke Aflagt\",1,\"\")","v":""},null,null,{"$f":"IF(Indtastning!U:U=\"Positiv\",1,\"\")","v":""},null,null,null,{"$f":"IF(Indtastning!Y:Y=\"Positiv\",1,\"\")","v":""},null,null,null,{"$f":"IF(Indtastning!AC:AC=\"Positiv\",1,\"\")","v":""},null,null,null,{"$f":"IF(Indtastning!AG:AG=\"Positiv\",1,\"\")","v":""}]
[null,null,null,null,null,null,null,null,null,null,null,null,null,null,null,null,null,null,null,null,null,null,null,null,null,null,null,null,null,null,null,null,null,null,null,null,null,null,null,null,null,null,null,null,null,{"$f":"IF(Indtastning!Y:Y=\"Ikke Aflagt\",1,\"\")","v":""},null,null,{"$f":"IF(Indtastning!U:U=\"Positiv\",1,\"\")","v":""},null,null,null,{"$f":"IF(Indtastning!Y:Y=\"Positiv\",1,\"\")","v":""},null,null,null,{"$f":"IF(Indtastning!AC:AC=\"Positiv\",1,\"\")","v":""},null,null,null,{"$f":"IF(Indtastning!AG:AG=\"Positiv\",1,\"\")","v":""}]
[null,null,null,null,null,null,null,null,null,null,null,null,null,null,null,null,null,null,null,null,null,null,null,null,null,null,null,null,null,null,null,null,null,null,null,null,null,null,null,null,null,null,null,null,null,{"$f":"IF(Indtastning!Y:Y=\"Ikke Aflagt\",1,\"\")","v":""},null,null,{"$f":"IF(Indtastning!U:U=\"Positiv\",1,\"\")","v":""},null,null,null,{"$f":"IF(Indtastning!Y:Y=\"Positiv\",1,\"\")","v":""},null,null,null,{"$f":"IF(Indtastning!AC:AC=\"Positiv\",1,\"\")","v":""},null,null,null,{"$f":"IF(Indtastning!AG:AG=\"Positiv\",1,\"\")","v":""}]
[null,null,null,null,null,null,null,null,null,null,null,null,null,null,null,null,null,null,null,null,null,null,null,null,null,null,null,null,null,null,null,null,null,null,null,null,null,null,null,null,null,null,null,null,null,{"$f":"IF(Indtastning!Y:Y=\"Ikke Aflagt\",1,\"\")","v":""},null,null,{"$f":"IF(Indtastning!U:U=\"Positiv\",1,\"\")","v":""},null,null,null,{"$f":"IF(Indtastning!Y:Y=\"Positiv\",1,\"\")","v":""},null,null,null,{"$f":"IF(Indtastning!AC:AC=\"Positiv\",1,\"\")","v":""},null,null,null,{"$f":"IF(Indtastning!AG:AG=\"Positiv\",1,\"\")","v":""}]
[null,null,null,null,null,null,null,null,null,null,null,null,null,null,null,null,null,null,null,null,null,null,null,null,null,null,null,null,null,null,null,null,null,null,null,null,null,null,null,null,null,null,null,null,null,{"$f":"IF(Indtastning!Y:Y=\"Ikke Aflagt\",1,\"\")","v":""},null,null,{"$f":"IF(Indtastning!U:U=\"Positiv\",1,\"\")","v":""},null,null,null,{"$f":"IF(Indtastning!Y:Y=\"Positiv\",1,\"\")","v":""},null,null,null,{"$f":"IF(Indtastning!AC:AC=\"Positiv\",1,\"\")","v":""},null,null,null,{"$f":"IF(Indtastning!AG:AG=\"Positiv\",1,\"\")","v":""}]
[null,null,null,null,null,null,null,null,null,null,null,null,null,null,null,null,null,null,null,null,null,null,null,null,null,null,null,null,null,null,null,null,null,null,null,null,null,null,null,null,null,null,null,null,null,{"$f":"IF(Indtastning!Y:Y=\"Ikke Aflagt\",1,\"\")","v":""},null,null,{"$f":"IF(Indtastning!U:U=\"Positiv\",1,\"\")","v":""},null,null,null,{"$f":"IF(Indtastning!Y:Y=\"Positiv\",1,\"\")","v":""},null,null,null,{"$f":"IF(Indtastning!AC:AC=\"Positiv\",1,\"\")","v":""},null,null,null,{"$f":"IF(Indtastning!AG:AG=\"Positiv\",1,\"\")","v":""}]
[null,null,null,null,null,null,null,null,null,null,null,null,null,null,null,null,null,null,null,null,null,null,null,null,null,null,null,null,null,null,null,null,null,null,null,null,null,null,null,null,null,null,null,null,null,{"$f":"IF(Indtastning!Y:Y=\"Ikke Aflagt\",1,\"\")","v":""},null,null,{"$f":"IF(Indtastning!U:U=\"Positiv\",1,\"\")","v":""},null,null,null,{"$f":"IF(Indtastning!Y:Y=\"Positiv\",1,\"\")","v":""},null,null,null,{"$f":"IF(Indtastning!AC:AC=\"Positiv\",1,\"\")","v":""},null,null,null,{"$f":"IF(Indtastning!AG:AG=\"Positiv\",1,\"\")","v":""}]
[null,null,null,null,null,null,null,null,null,null,null,null,null,null,null,null,null,null,null,null,null,null,null,null,null,null,null,null,null,null,null,null,null,null,null,null,null,null,null,null,null,null,null,null,null,{"$f":"IF(Indtastning!Y:Y=\"Ikke Aflagt\",1,\"\")","v":""},null,null,{"$f":"IF(Indtastning!U:U=\"Positiv\",1,\"\")","v":""},null,null,null,{"$f":"IF(Indtastning!Y:Y=\"Positiv\",1,\"\")","v":""},null,null,null,{"$f":"IF(Indtastning!AC:AC=\"Positiv\",1,\"\")","v":""},null,null,null,{"$f":"IF(Indtastning!AG:AG=\"Positiv\",1,\"\")","v":""}]
[null,null,null,null,null,null,null,null,null,null,null,null,null,null,null,null,null,null,null,null,null,null,null,null,null,null,null,null,null,null,null,null,null,null,null,null,null,null,null,null,null,null,null,null,null,{"$f":"IF(Indtastning!Y:Y=\"Ikke Aflagt\",1,\"\")","v":""},null,null,{"$f":"IF(Indtastning!U:U=\"Positiv\",1,\"\")","v":""},null,null,null,{"$f":"IF(Indtastning!Y:Y=\"Positiv\",1,\"\")","v":""},null,null,null,{"$f":"IF(Indtastning!AC:AC=\"Positiv\",1,\"\")","v":""},null,null,null,{"$f":"IF(Indtastning!AG:AG=\"Positiv\",1,\"\")","v":""}]
[null,null,null,null,null,null,null,null,null,null,null,null,null,null,null,null,null,null,null,null,null,null,null,null,null,null,null,null,null,null,null,null,null,null,null,null,null,null,null,null,null,null,null,null,null,{"$f":"IF(Indtastning!Y:Y=\"Ikke Aflagt\",1,\"\")","v":""},null,null,{"$f":"IF(Indtastning!U:U=\"Positiv\",1,\"\")","v":""},null,null,null,{"$f":"IF(Indtastning!Y:Y=\"Positiv\",1,\"\")","v":""},null,null,null,{"$f":"IF(Indtastning!AC:AC=\"Positiv\",1,\"\")","v":""},null,null,null,{"$f":"IF(Indtastning!AG:AG=\"Positiv\",1,\"\")","v":""}]
[null,null,null,null,null,null,null,null,null,null,null,null,null,null,null,null,null,null,null,null,null,null,null,null,null,null,null,null,null,null,null,null,null,null,null,null,null,null,null,null,null,null,null,null,null,{"$f":"IF(Indtastning!Y:Y=\"Ikke Aflagt\",1,\"\")","v":""},null,null,{"$f":"IF(Indtastning!U:U=\"Positiv\",1,\"\")","v":""},null,null,null,{"$f":"IF(Indtastning!Y:Y=\"Positiv\",1,\"\")","v":""},null,null,null,{"$f":"IF(Indtastning!AC:AC=\"Positiv\",1,\"\")","v":""},null,null,null,{"$f":"IF(Indtastning!AG:AG=\"Positiv\",1,\"\")","v":""}]
[null,null,null,null,null,null,null,null,null,null,null,null,null,null,null,null,null,null,null,null,null,null,null,null,null,null,null,null,null,null,null,null,null,null,null,null,null,null,null,null,null,null,null,null,null,{"$f":"IF(Indtastning!Y:Y=\"Ikke Aflagt\",1,\"\")","v":""},null,null,{"$f":"IF(Indtastning!U:U=\"Positiv\",1,\"\")","v":""},null,null,null,{"$f":"IF(Indtastning!Y:Y=\"Positiv\",1,\"\")","v":""},null,null,null,{"$f":"IF(Indtastning!AC:AC=\"Positiv\",1,\"\")","v":""},null,null,null,{"$f":"IF(Indtastning!AG:AG=\"Positiv\",1,\"\")","v":""}]
[null,null,null,null,null,null,null,null,null,null,null,null,null,null,null,null,null,null,null,null,null,null,null,null,null,null,null,null,null,null,null,null,null,null,null,null,null,null,null,null,null,null,null,null,null,{"$f":"IF(Indtastning!Y:Y=\"Ikke Aflagt\",1,\"\")","v":""},null,null,{"$f":"IF(Indtastning!U:U=\"Positiv\",1,\"\")","v":""},null,null,null,{"$f":"IF(Indtastning!Y:Y=\"Positiv\",1,\"\")","v":""},null,null,null,{"$f":"IF(Indtastning!AC:AC=\"Positiv\",1,\"\")","v":""},null,null,null,{"$f":"IF(Indtastning!AG:AG=\"Positiv\",1,\"\")","v":""}]
[null,null,null,null,null,null,null,null,null,null,null,null,null,null,null,null,null,null,null,null,null,null,null,null,null,null,null,null,null,null,null,null,null,null,null,null,null,null,null,null,null,null,null,null,null,{"$f":"IF(Indtastning!Y:Y=\"Ikke Aflagt\",1,\"\")","v":""},null,null,{"$f":"IF(Indtastning!U:U=\"Positiv\",1,\"\")","v":""},null,null,null,{"$f":"IF(Indtastning!Y:Y=\"Positiv\",1,\"\")","v":""},null,null,null,{"$f":"IF(Indtastning!AC:AC=\"Positiv\",1,\"\")","v":""},null,null,null,{"$f":"IF(Indtastning!AG:AG=\"Positiv\",1,\"\")","v":""}]
[null,null,null,null,null,null,null,null,null,null,null,null,null,null,null,null,null,null,null,null,null,null,null,null,null,null,null,null,null,null,null,null,null,null,null,null,null,null,null,null,null,null,null,null,null,{"$f":"IF(Indtastning!Y:Y=\"Ikke Aflagt\",1,\"\")","v":""},null,null,{"$f":"IF(Indtastning!U:U=\"Positiv\",1,\"\")","v":""},null,null,null,{"$f":"IF(Indtastning!Y:Y=\"Positiv\",1,\"\")","v":""},null,null,null,{"$f":"IF(Indtastning!AC:AC=\"Positiv\",1,\"\")","v":""},null,null,null,{"$f":"IF(Indtastning!AG:AG=\"Positiv\",1,\"\")","v":""}]
[null,null,null,null,null,null,null,null,null,null,null,null,null,null,null,null,null,null,null,null,null,null,null,null,null,null,null,null,null,null,null,null,null,null,null,null,null,null,null,null,null,null,null,null,null,{"$f":"IF(Indtastning!Y:Y=\"Ikke Aflagt\",1,\"\")","v":""},null,null,{"$f":"IF(Indtastning!U:U=\"Positiv\",1,\"\")","v":""},null,null,null,{"$f":"IF(Indtastning!Y:Y=\"Positiv\",1,\"\")","v":""},null,null,null,{"$f":"IF(Indtastning!AC:AC=\"Positiv\",1,\"\")","v":""},null,null,null,{"$f":"IF(Indtastning!AG:AG=\"Positiv\",1,\"\")","v":""}]
[null,null,null,null,null,null,null,null,null,null,null,null,null,null,null,null,null,null,null,null,null,null,null,null,null,null,null,null,null,null,null,null,null,null,null,null,null,null,null,null,null,null,null,null,null,{"$f":"IF(Indtastning!Y:Y=\"Ikke Aflagt\",1,\"\")","v":""},null,null,{"$f":"IF(Indtastning!U:U=\"Positiv\",1,\"\")","v":""},null,null,null,{"$f":"IF(Indtastning!Y:Y=\"Positiv\",1,\"\")","v":""},null,null,null,{"$f":"IF(Indtastning!AC:AC=\"Positiv\",1,\"\")","v":""},null,null,null,{"$f":"IF(Indtastning!AG:AG=\"Positiv\",1,\"\")","v":""}]
[null,null,null,null,null,null,null,null,null,null,null,null,null,null,null,null,null,null,null,null,null,null,null,null,null,null,null,null,null,null,null,null,null,null,null,null,null,null,null,null,null,null,null,null,null,{"$f":"IF(Indtastning!Y:Y=\"Ikke Aflagt\",1,\"\")","v":""},null,null,{"$f":"IF(Indtastning!U:U=\"Positiv\",1,\"\")","v":""},null,null,null,{"$f":"IF(Indtastning!Y:Y=\"Positiv\",1,\"\")","v":""},null,null,null,{"$f":"IF(Indtastning!AC:AC=\"Positiv\",1,\"\")","v":""},null,null,null,{"$f":"IF(Indtastning!AG:AG=\"Positiv\",1,\"\")","v":""}]
[null,null,null,null,null,null,null,null,null,null,null,null,null,null,null,null,null,null,null,null,null,null,null,null,null,null,null,null,null,null,null,null,null,null,null,null,null,null,null,null,null,null,null,null,null,{"$f":"IF(Indtastning!Y:Y=\"Ikke Aflagt\",1,\"\")","v":""},null,null,{"$f":"IF(Indtastning!U:U=\"Positiv\",1,\"\")","v":""},null,null,null,{"$f":"IF(Indtastning!Y:Y=\"Positiv\",1,\"\")","v":""},null,null,null,{"$f":"IF(Indtastning!AC:AC=\"Positiv\",1,\"\")","v":""},null,null,null,{"$f":"IF(Indtastning!AG:AG=\"Positiv\",1,\"\")","v":""}]
[null,null,null,null,null,null,null,null,null,null,null,null,null,null,null,null,null,null,null,null,null,null,null,null,null,null,null,null,null,null,null,null,null,null,null,null,null,null,null,null,null,null,null,null,null,{"$f":"IF(Indtastning!Y:Y=\"Ikke Aflagt\",1,\"\")","v":""},null,null,{"$f":"IF(Indtastning!U:U=\"Positiv\",1,\"\")","v":""},null,null,null,{"$f":"IF(Indtastning!Y:Y=\"Positiv\",1,\"\")","v":""},null,null,null,{"$f":"IF(Indtastning!AC:AC=\"Positiv\",1,\"\")","v":""},null,null,null,{"$f":"IF(Indtastning!AG:AG=\"Positiv\",1,\"\")","v":""}]
[null,null,null,null,null,null,null,null,null,null,null,null,null,null,null,null,null,null,null,null,null,null,null,null,null,null,null,null,null,null,null,null,null,null,null,null,null,null,null,null,null,null,null,null,null,{"$f":"IF(Indtastning!Y:Y=\"Ikke Aflagt\",1,\"\")","v":""},null,null,{"$f":"IF(Indtastning!U:U=\"Positiv\",1,\"\")","v":""},null,null,null,{"$f":"IF(Indtastning!Y:Y=\"Positiv\",1,\"\")","v":""},null,null,null,{"$f":"IF(Indtastning!AC:AC=\"Positiv\",1,\"\")","v":""},null,null,null,{"$f":"IF(Indtastning!AG:AG=\"Positiv\",1,\"\")","v":""}]
[null,null,null,null,null,null,null,null,null,null,null,null,null,null,null,null,null,null,null,null,null,null,null,null,null,null,null,null,null,null,null,null,null,null,null,null,null,null,null,null,null,null,null,null,null,{"$f":"IF(Indtastning!Y:Y=\"Ikke Aflagt\",1,\"\")","v":""},null,null,{"$f":"IF(Indtastning!U:U=\"Positiv\",1,\"\")","v":""},null,null,null,{"$f":"IF(Indtastning!Y:Y=\"Positiv\",1,\"\")","v":""},null,null,null,{"$f":"IF(Indtastning!AC:AC=\"Positiv\",1,\"\")","v":""},null,null,null,{"$f":"IF(Indtastning!AG:AG=\"Positiv\",1,\"\")","v":""}]
[null,null,null,null,null,null,null,null,null,null,null,null,null,null,null,null,null,null,null,null,null,null,null,null,null,null,null,null,null,null,null,null,null,null,null,null,null,null,null,null,null,null,null,null,null,{"$f":"IF(Indtastning!Y:Y=\"Ikke Aflagt\",1,\"\")","v":""},null,null,{"$f":"IF(Indtastning!U:U=\"Positiv\",1,\"\")","v":""},null,null,null,{"$f":"IF(Indtastning!Y:Y=\"Positiv\",1,\"\")","v":""},null,null,null,{"$f":"IF(Indtastning!AC:AC=\"Positiv\",1,\"\")","v":""},null,null,null,{"$f":"IF(Indtastning!AG:AG=\"Positiv\",1,\"\")","v":""}]
[null,null,null,null,null,null,null,null,null,null,null,null,null,null,null,null,null,null,null,null,null,null,null,null,null,null,null,null,null,null,null,null,null,null,null,null,null,null,null,null,null,null,null,null,null,{"$f":"IF(Indtastning!Y:Y=\"Ikke Aflagt\",1,\"\")","v":""},null,null,{"$f":"IF(Indtastning!U:U=\"Positiv\",1,\"\")","v":""},null,null,null,{"$f":"IF(Indtastning!Y:Y=\"Positiv\",1,\"\")","v":""},null,null,null,{"$f":"IF(Indtastning!AC:AC=\"Positiv\",1,\"\")","v":""},null,null,null,{"$f":"IF(Indtastning!AG:AG=\"Positiv\",1,\"\")","v":""}]
[null,null,null,null,null,null,null,null,null,null,null,null,null,null,null,null,null,null,null,null,null,null,null,null,null,null,null,null,null,null,null,null,null,null,null,null,null,null,null,null,null,null,null,null,null,{"$f":"IF(Indtastning!Y:Y=\"Ikke Aflagt\",1,\"\")","v":""},null,null,{"$f":"IF(Indtastning!U:U=\"Positiv\",1,\"\")","v":""},null,null,null,{"$f":"IF(Indtastning!Y:Y=\"Positiv\",1,\"\")","v":""},null,null,null,{"$f":"IF(Indtastning!AC:AC=\"Positiv\",1,\"\")","v":""},null,null,null,{"$f":"IF(Indtastning!AG:AG=\"Positiv\",1,\"\")","v":""}]
[null,null,null,null,null,null,null,null,null,null,null,null,null,null,null,null,null,null,null,null,null,null,null,null,null,null,null,null,null,null,null,null,null,null,null,null,null,null,null,null,null,null,null,null,null,{"$f":"IF(Indtastning!Y:Y=\"Ikke Aflagt\",1,\"\")","v":""},null,null,{"$f":"IF(Indtastning!U:U=\"Positiv\",1,\"\")","v":""},null,null,null,{"$f":"IF(Indtastning!Y:Y=\"Positiv\",1,\"\")","v":""},null,null,null,{"$f":"IF(Indtastning!AC:AC=\"Positiv\",1,\"\")","v":""},null,null,null,{"$f":"IF(Indtastning!AG:AG=\"Positiv\",1,\"\")","v":""}]
[null,null,null,null,null,null,null,null,null,null,null,null,null,null,null,null,null,null,null,null,null,null,null,null,null,null,null,null,null,null,null,null,null,null,null,null,null,null,null,null,null,null,null,null,null,{"$f":"IF(Indtastning!Y:Y=\"Ikke Aflagt\",1,\"\")","v":""},null,null,{"$f":"IF(Indtastning!U:U=\"Positiv\",1,\"\")","v":""},null,null,null,{"$f":"IF(Indtastning!Y:Y=\"Positiv\",1,\"\")","v":""},null,null,null,{"$f":"IF(Indtastning!AC:AC=\"Positiv\",1,\"\")","v":""},null,null,null,{"$f":"IF(Indtastning!AG:AG=\"Positiv\",1,\"\")","v":""}]
[null,null,null,null,null,null,null,null,null,null,null,null,null,null,null,null,null,null,null,null,null,null,null,null,null,null,null,null,null,null,null,null,null,null,null,null,null,null,null,null,null,null,null,null,null,{"$f":"IF(Indtastning!Y:Y=\"Ikke Aflagt\",1,\"\")","v":""},null,null,{"$f":"IF(Indtastning!U:U=\"Positiv\",1,\"\")","v":""},null,null,null,{"$f":"IF(Indtastning!Y:Y=\"Positiv\",1,\"\")","v":""},null,null,null,{"$f":"IF(Indtastning!AC:AC=\"Positiv\",1,\"\")","v":""},null,null,null,{"$f":"IF(Indtastning!AG:AG=\"Positiv\",1,\"\")","v":""}]
[null,null,null,null,null,null,null,null,null,null,null,null,null,null,null,null,null,null,null,null,null,null,null,null,null,null,null,null,null,null,null,null,null,null,null,null,null,null,null,null,null,null,null,null,null,{"$f":"IF(Indtastning!Y:Y=\"Ikke Aflagt\",1,\"\")","v":""},null,null,{"$f":"IF(Indtastning!U:U=\"Positiv\",1,\"\")","v":""},null,null,null,{"$f":"IF(Indtastning!Y:Y=\"Positiv\",1,\"\")","v":""},null,null,null,{"$f":"IF(Indtastning!AC:AC=\"Positiv\",1,\"\")","v":""},null,null,null,{"$f":"IF(Indtastning!AG:AG=\"Positiv\",1,\"\")","v":""}]
[null,null,null,null,null,null,null,null,null,null,null,null,null,null,null,null,null,null,null,null,null,null,null,null,null,null,null,null,null,null,null,null,null,null,null,null,null,null,null,null,null,null,null,null,null,{"$f":"IF(Indtastning!Y:Y=\"Ikke Aflagt\",1,\"\")","v":""},null,null,{"$f":"IF(Indtastning!U:U=\"Positiv\",1,\"\")","v":""},null,null,null,{"$f":"IF(Indtastning!Y:Y=\"Positiv\",1,\"\")","v":""},null,null,null,{"$f":"IF(Indtastning!AC:AC=\"Positiv\",1,\"\")","v":""},null,null,null,{"$f":"IF(Indtastning!AG:AG=\"Positiv\",1,\"\")","v":""}]
[null,null,null,null,null,null,null,null,null,null,null,null,null,null,null,null,null,null,null,null,null,null,null,null,null,null,null,null,null,null,null,null,null,null,null,null,null,null,null,null,null,null,null,null,null,{"$f":"IF(Indtastning!Y:Y=\"Ikke Aflagt\",1,\"\")","v":""},null,null,{"$f":"IF(Indtastning!U:U=\"Positiv\",1,\"\")","v":""},null,null,null,{"$f":"IF(Indtastning!Y:Y=\"Positiv\",1,\"\")","v":""},null,null,null,{"$f":"IF(Indtastning!AC:AC=\"Positiv\",1,\"\")","v":""},null,null,null,{"$f":"IF(Indtastning!AG:AG=\"Positiv\",1,\"\")","v":""}]
[null,null,null,null,null,null,null,null,null,null,null,null,null,null,null,null,null,null,null,null,null,null,null,null,null,null,null,null,null,null,null,null,null,null,null,null,null,null,null,null,null,null,null,null,null,{"$f":"IF(Indtastning!Y:Y=\"Ikke Aflagt\",1,\"\")","v":""},null,null,{"$f":"IF(Indtastning!U:U=\"Positiv\",1,\"\")","v":""},null,null,null,{"$f":"IF(Indtastning!Y:Y=\"Positiv\",1,\"\")","v":""},null,null,null,{"$f":"IF(Indtastning!AC:AC=\"Positiv\",1,\"\")","v":""},null,null,null,{"$f":"IF(Indtastning!AG:AG=\"Positiv\",1,\"\")","v":""}]
[null,null,null,null,null,null,null,null,null,null,null,null,null,null,null,null,null,null,null,null,null,null,null,null,null,null,null,null,null,null,null,null,null,null,null,null,null,null,null,null,null,null,null,null,null,{"$f":"IF(Indtastning!Y:Y=\"Ikke Aflagt\",1,\"\")","v":""},null,null,{"$f":"IF(Indtastning!U:U=\"Positiv\",1,\"\")","v":""},null,null,null,{"$f":"IF(Indtastning!Y:Y=\"Positiv\",1,\"\")","v":""},null,null,null,{"$f":"IF(Indtastning!AC:AC=\"Positiv\",1,\"\")","v":""},null,null,null,{"$f":"IF(Indtastning!AG:AG=\"Positiv\",1,\"\")","v":""}]
[null,null,null,null,null,null,null,null,null,null,null,null,null,null,null,null,null,null,null,null,null,null,null,null,null,null,null,null,null,null,null,null,null,null,null,null,null,null,null,null,null,null,null,null,null,{"$f":"IF(Indtastning!Y:Y=\"Ikke Aflagt\",1,\"\")","v":""},null,null,{"$f":"IF(Indtastning!U:U=\"Positiv\",1,\"\")","v":""},null,null,null,{"$f":"IF(Indtastning!Y:Y=\"Positiv\",1,\"\")","v":""},null,null,null,{"$f":"IF(Indtastning!AC:AC=\"Positiv\",1,\"\")","v":""},null,null,null,{"$f":"IF(Indtastning!AG:AG=\"Positiv\",1,\"\")","v":""}]
[null,null,null,null,null,null,null,null,null,null,null,null,null,null,null,null,null,null,null,null,null,null,null,null,null,null,null,null,null,null,null,null,null,null,null,null,null,null,null,null,null,null,null,null,null,{"$f":"IF(Indtastning!Y:Y=\"Ikke Aflagt\",1,\"\")","v":""},null,null,{"$f":"IF(Indtastning!U:U=\"Positiv\",1,\"\")","v":""},null,null,null,{"$f":"IF(Indtastning!Y:Y=\"Positiv\",1,\"\")","v":""},null,null,null,{"$f":"IF(Indtastning!AC:AC=\"Positiv\",1,\"\")","v":""},null,null,null,{"$f":"IF(Indtastning!AG:AG=\"Positiv\",1,\"\")","v":""}]
[null,null,null,null,null,null,null,null,null,null,null,null,null,null,null,null,null,null,null,null,null,null,null,null,null,null,null,null,null,null,null,null,null,null,null,null,null,null,null,null,null,null,null,null,null,{"$f":"IF(Indtastning!Y:Y=\"Ikke Aflagt\",1,\"\")","v":""},null,null,{"$f":"IF(Indtastning!U:U=\"Positiv\",1,\"\")","v":""},null,null,null,{"$f":"IF(Indtastning!Y:Y=\"Positiv\",1,\"\")","v":""},null,null,null,{"$f":"IF(Indtastning!AC:AC=\"Positiv\",1,\"\")","v":""},null,null,null,{"$f":"IF(Indtastning!AG:AG=\"Positiv\",1,\"\")","v":""}]
[null,null,null,null,null,null,null,null,null,null,null,null,null,null,null,null,null,null,null,null,null,null,null,null,null,null,null,null,null,null,null,null,null,null,null,null,null,null,null,null,null,null,null,null,null,{"$f":"IF(Indtastning!Y:Y=\"Ikke Aflagt\",1,\"\")","v":""},null,null,{"$f":"IF(Indtastning!U:U=\"Positiv\",1,\"\")","v":""},null,null,null,{"$f":"IF(Indtastning!Y:Y=\"Positiv\",1,\"\")","v":""},null,null,null,{"$f":"IF(Indtastning!AC:AC=\"Positiv\",1,\"\")","v":""},null,null,null,{"$f":"IF(Indtastning!AG:AG=\"Positiv\",1,\"\")","v":""}]
[null,null,null,null,null,null,null,null,null,null,null,null,null,null,null,null,null,null,null,null,null,null,null,null,null,null,null,null,null,null,null,null,null,null,null,null,null,null,null,null,null,null,null,null,null,{"$f":"IF(Indtastning!Y:Y=\"Ikke Aflagt\",1,\"\")","v":""},null,null,{"$f":"IF(Indtastning!U:U=\"Positiv\",1,\"\")","v":""},null,null,null,{"$f":"IF(Indtastning!Y:Y=\"Positiv\",1,\"\")","v":""},null,null,null,{"$f":"IF(Indtastning!AC:AC=\"Positiv\",1,\"\")","v":""},null,null,null,{"$f":"IF(Indtastning!AG:AG=\"Positiv\",1,\"\")","v":""}]
[null,null,null,null,null,null,null,null,null,null,null,null,null,null,null,null,null,null,null,null,null,null,null,null,null,null,null,null,null,null,null,null,null,null,null,null,null,null,null,null,null,null,null,null,null,{"$f":"IF(Indtastning!Y:Y=\"Ikke Aflagt\",1,\"\")","v":""},null,null,{"$f":"IF(Indtastning!U:U=\"Positiv\",1,\"\")","v":""},null,null,null,{"$f":"IF(Indtastning!Y:Y=\"Positiv\",1,\"\")","v":""},null,null,null,{"$f":"IF(Indtastning!AC:AC=\"Positiv\",1,\"\")","v":""},null,null,null,{"$f":"IF(Indtastning!AG:AG=\"Positiv\",1,\"\")","v":""}]
[null,null,null,null,null,null,null,null,null,null,null,null,null,null,null,null,null,null,null,null,null,null,null,null,null,null,null,null,null,null,null,null,null,null,null,null,null,null,null,null,null,null,null,null,null,{"$f":"IF(Indtastning!Y:Y=\"Ikke Aflagt\",1,\"\")","v":""},null,null,{"$f":"IF(Indtastning!U:U=\"Positiv\",1,\"\")","v":""},null,null,null,{"$f":"IF(Indtastning!Y:Y=\"Positiv\",1,\"\")","v":""},null,null,null,{"$f":"IF(Indtastning!AC:AC=\"Positiv\",1,\"\")","v":""},null,null,null,{"$f":"IF(Indtastning!AG:AG=\"Positiv\",1,\"\")","v":""}]
[null,null,null,null,null,null,null,null,null,null,null,null,null,null,null,null,null,null,null,null,null,null,null,null,null,null,null,null,null,null,null,null,null,null,null,null,null,null,null,null,null,null,null,null,null,{"$f":"IF(Indtastning!Y:Y=\"Ikke Aflagt\",1,\"\")","v":""},null,null,{"$f":"IF(Indtastning!U:U=\"Positiv\",1,\"\")","v":""},null,null,null,{"$f":"IF(Indtastning!Y:Y=\"Positiv\",1,\"\")","v":""},null,null,null,{"$f":"IF(Indtastning!AC:AC=\"Positiv\",1,\"\")","v":""},null,null,null,{"$f":"IF(Indtastning!AG:AG=\"Positiv\",1,\"\")","v":""}]
[null,null,null,null,null,null,null,null,null,null,null,null,null,null,null,null,null,null,null,null,null,null,null,null,null,null,null,null,null,null,null,null,null,null,null,null,null,null,null,null,null,null,null,null,null,{"$f":"IF(Indtastning!Y:Y=\"Ikke Aflagt\",1,\"\")","v":""},null,null,{"$f":"IF(Indtastning!U:U=\"Positiv\",1,\"\")","v":""},null,null,null,{"$f":"IF(Indtastning!Y:Y=\"Positiv\",1,\"\")","v":""},null,null,null,{"$f":"IF(Indtastning!AC:AC=\"Positiv\",1,\"\")","v":""},null,null,null,{"$f":"IF(Indtastning!AG:AG=\"Positiv\",1,\"\")","v":""}]
[null,null,null,null,null,null,null,null,null,null,null,null,null,null,null,null,null,null,null,null,null,null,null,null,null,null,null,null,null,null,null,null,null,null,null,null,null,null,null,null,null,null,null,null,null,{"$f":"IF(Indtastning!Y:Y=\"Ikke Aflagt\",1,\"\")","v":""},null,null,{"$f":"IF(Indtastning!U:U=\"Positiv\",1,\"\")","v":""},null,null,null,{"$f":"IF(Indtastning!Y:Y=\"Positiv\",1,\"\")","v":""},null,null,null,{"$f":"IF(Indtastning!AC:AC=\"Positiv\",1,\"\")","v":""},null,null,null,{"$f":"IF(Indtastning!AG:AG=\"Positiv\",1,\"\")","v":""}]
[null,null,null,null,null,null,null,null,null,null,null,null,null,null,null,null,null,null,null,null,null,null,null,null,null,null,null,null,null,null,null,null,null,null,null,null,null,null,null,null,null,null,null,null,null,{"$f":"IF(Indtastning!Y:Y=\"Ikke Aflagt\",1,\"\")","v":""},null,null,{"$f":"IF(Indtastning!U:U=\"Positiv\",1,\"\")","v":""},null,null,null,{"$f":"IF(Indtastning!Y:Y=\"Positiv\",1,\"\")","v":""},null,null,null,{"$f":"IF(Indtastning!AC:AC=\"Positiv\",1,\"\")","v":""},null,null,null,{"$f":"IF(Indtastning!AG:AG=\"Positiv\",1,\"\")","v":""}]
[null,null,null,null,null,null,null,null,null,null,null,null,null,null,null,null,null,null,null,null,null,null,null,null,null,null,null,null,null,null,null,null,null,null,null,null,null,null,null,null,null,null,null,null,null,{"$f":"IF(Indtastning!Y:Y=\"Ikke Aflagt\",1,\"\")","v":""},null,null,{"$f":"IF(Indtastning!U:U=\"Positiv\",1,\"\")","v":""},null,null,null,{"$f":"IF(Indtastning!Y:Y=\"Positiv\",1,\"\")","v":""},null,null,null,{"$f":"IF(Indtastning!AC:AC=\"Positiv\",1,\"\")","v":""},null,null,null,{"$f":"IF(Indtastning!AG:AG=\"Positiv\",1,\"\")","v":""}]
[null,null,null,null,null,null,null,null,null,null,null,null,null,null,null,null,null,null,null,null,null,null,null,null,null,null,null,null,null,null,null,null,null,null,null,null,null,null,null,null,null,null,null,null,null,{"$f":"IF(Indtastning!Y:Y=\"Ikke Aflagt\",1,\"\")","v":""},null,null,{"$f":"IF(Indtastning!U:U=\"Positiv\",1,\"\")","v":""},null,null,null,{"$f":"IF(Indtastning!Y:Y=\"Positiv\",1,\"\")","v":""},null,null,null,{"$f":"IF(Indtastning!AC:AC=\"Positiv\",1,\"\")","v":""},null,null,null,{"$f":"IF(Indtastning!AG:AG=\"Positiv\",1,\"\")","v":""}]
[null,null,null,null,null,null,null,null,null,null,null,null,null,null,null,null,null,null,null,null,null,null,null,null,null,null,null,null,null,null,null,null,null,null,null,null,null,null,null,null,null,null,null,null,null,{"$f":"IF(Indtastning!Y:Y=\"Ikke Aflagt\",1,\"\")","v":""},null,null,{"$f":"IF(Indtastning!U:U=\"Positiv\",1,\"\")","v":""},null,null,null,{"$f":"IF(Indtastning!Y:Y=\"Positiv\",1,\"\")","v":""},null,null,null,{"$f":"IF(Indtastning!AC:AC=\"Positiv\",1,\"\")","v":""},null,null,null,{"$f":"IF(Indtastning!AG:AG=\"Positiv\",1,\"\")","v":""}]
[null,null,null,null,null,null,null,null,null,null,null,null,null,null,null,null,null,null,null,null,null,null,null,null,null,null,null,null,null,null,null,null,null,null,null,null,null,null,null,null,null,null,null,null,null,{"$f":"IF(Indtastning!Y:Y=\"Ikke Aflagt\",1,\"\")","v":""},null,null,{"$f":"IF(Indtastning!U:U=\"Positiv\",1,\"\")","v":""},null,null,null,{"$f":"IF(Indtastning!Y:Y=\"Positiv\",1,\"\")","v":""},null,null,null,{"$f":"IF(Indtastning!AC:AC=\"Positiv\",1,\"\")","v":""},null,null,null,{"$f":"IF(Indtastning!AG:AG=\"Positiv\",1,\"\")","v":""}]
[null,null,null,null,null,null,null,null,null,null,null,null,null,null,null,null,null,null,null,null,null,null,null,null,null,null,null,null,null,null,null,null,null,null,null,null,null,null,null,null,null,null,null,null,null,{"$f":"IF(Indtastning!Y:Y=\"Ikke Aflagt\",1,\"\")","v":""},null,null,{"$f":"IF(Indtastning!U:U=\"Positiv\",1,\"\")","v":""},null,null,null,{"$f":"IF(Indtastning!Y:Y=\"Positiv\",1,\"\")","v":""},null,null,null,{"$f":"IF(Indtastning!AC:AC=\"Positiv\",1,\"\")","v":""},null,null,null,{"$f":"IF(Indtastning!AG:AG=\"Positiv\",1,\"\")","v":""}]
[null,null,null,null,null,null,null,null,null,null,null,null,null,null,null,null,null,null,null,null,null,null,null,null,null,null,null,null,null,null,null,null,null,null,null,null,null,null,null,null,null,null,null,null,null,{"$f":"IF(Indtastning!Y:Y=\"Ikke Aflagt\",1,\"\")","v":""},null,null,{"$f":"IF(Indtastning!U:U=\"Positiv\",1,\"\")","v":""},null,null,null,{"$f":"IF(Indtastning!Y:Y=\"Positiv\",1,\"\")","v":""},null,null,null,{"$f":"IF(Indtastning!AC:AC=\"Positiv\",1,\"\")","v":""},null,null,null,{"$f":"IF(Indtastning!AG:AG=\"Positiv\",1,\"\")","v":""}]
[null,null,null,null,null,null,null,null,null,null,null,null,null,null,null,null,null,null,null,null,null,null,null,null,null,null,null,null,null,null,null,null,null,null,null,null,null,null,null,null,null,null,null,null,null,{"$f":"IF(Indtastning!Y:Y=\"Ikke Aflagt\",1,\"\")","v":""},null,null,{"$f":"IF(Indtastning!U:U=\"Positiv\",1,\"\")","v":""},null,null,null,{"$f":"IF(Indtastning!Y:Y=\"Positiv\",1,\"\")","v":""},null,null,null,{"$f":"IF(Indtastning!AC:AC=\"Positiv\",1,\"\")","v":""},null,null,null,{"$f":"IF(Indtastning!AG:AG=\"Positiv\",1,\"\")","v":""}]
[null,null,null,null,null,null,null,null,null,null,null,null,null,null,null,null,null,null,null,null,null,null,null,null,null,null,null,null,null,null,null,null,null,null,null,null,null,null,null,null,null,null,null,null,null,{"$f":"IF(Indtastning!Y:Y=\"Ikke Aflagt\",1,\"\")","v":""},null,null,{"$f":"IF(Indtastning!U:U=\"Positiv\",1,\"\")","v":""},null,null,null,{"$f":"IF(Indtastning!Y:Y=\"Positiv\",1,\"\")","v":""},null,null,null,{"$f":"IF(Indtastning!AC:AC=\"Positiv\",1,\"\")","v":""},null,null,null,{"$f":"IF(Indtastning!AG:AG=\"Positiv\",1,\"\")","v":""}]
[null,null,null,null,null,null,null,null,null,null,null,null,null,null,null,null,null,null,null,null,null,null,null,null,null,null,null,null,null,null,null,null,null,null,null,null,null,null,null,null,null,null,null,null,null,{"$f":"IF(Indtastning!Y:Y=\"Ikke Aflagt\",1,\"\")","v":""},null,null,{"$f":"IF(Indtastning!U:U=\"Positiv\",1,\"\")","v":""},null,null,null,{"$f":"IF(Indtastning!Y:Y=\"Positiv\",1,\"\")","v":""},null,null,null,{"$f":"IF(Indtastning!AC:AC=\"Positiv\",1,\"\")","v":""},null,null,null,{"$f":"IF(Indtastning!AG:AG=\"Positiv\",1,\"\")","v":""}]
[null,null,null,null,null,null,null,null,null,null,null,null,null,null,null,null,null,null,null,null,null,null,null,null,null,null,null,null,null,null,null,null,null,null,null,null,null,null,null,null,null,null,null,null,null,{"$f":"IF(Indtastning!Y:Y=\"Ikke Aflagt\",1,\"\")","v":""},null,null,{"$f":"IF(Indtastning!U:U=\"Positiv\",1,\"\")","v":""},null,null,null,{"$f":"IF(Indtastning!Y:Y=\"Positiv\",1,\"\")","v":""},null,null,null,{"$f":"IF(Indtastning!AC:AC=\"Positiv\",1,\"\")","v":""},null,null,null,{"$f":"IF(Indtastning!AG:AG=\"Positiv\",1,\"\")","v":""}]
[null,null,null,null,null,null,null,null,null,null,null,null,null,null,null,null,null,null,null,null,null,null,null,null,null,null,null,null,null,null,null,null,null,null,null,null,null,null,null,null,null,null,null,null,null,{"$f":"IF(Indtastning!Y:Y=\"Ikke Aflagt\",1,\"\")","v":""},null,null,{"$f":"IF(Indtastning!U:U=\"Positiv\",1,\"\")","v":""},null,null,null,{"$f":"IF(Indtastning!Y:Y=\"Positiv\",1,\"\")","v":""},null,null,null,{"$f":"IF(Indtastning!AC:AC=\"Positiv\",1,\"\")","v":""},null,null,null,{"$f":"IF(Indtastning!AG:AG=\"Positiv\",1,\"\")","v":""}]
[null,null,null,null,null,null,null,null,null,null,null,null,null,null,null,null,null,null,null,null,null,null,null,null,null,null,null,null,null,null,null,null,null,null,null,null,null,null,null,null,null,null,null,null,null,{"$f":"IF(Indtastning!Y:Y=\"Ikke Aflagt\",1,\"\")","v":""},null,null,{"$f":"IF(Indtastning!U:U=\"Positiv\",1,\"\")","v":""},null,null,null,{"$f":"IF(Indtastning!Y:Y=\"Positiv\",1,\"\")","v":""},null,null,null,{"$f":"IF(Indtastning!AC:AC=\"Positiv\",1,\"\")","v":""},null,null,null,{"$f":"IF(Indtastning!AG:AG=\"Positiv\",1,\"\")","v":""}]
[null,null,null,null,null,null,null,null,null,null,null,null,null,null,null,null,null,null,null,null,null,null,null,null,null,null,null,null,null,null,null,null,null,null,null,null,null,null,null,null,null,null,null,null,null,{"$f":"IF(Indtastning!Y:Y=\"Ikke Aflagt\",1,\"\")","v":""},null,null,{"$f":"IF(Indtastning!U:U=\"Positiv\",1,\"\")","v":""},null,null,null,{"$f":"IF(Indtastning!Y:Y=\"Positiv\",1,\"\")","v":""},null,null,null,{"$f":"IF(Indtastning!AC:AC=\"Positiv\",1,\"\")","v":""},null,null,null,{"$f":"IF(Indtastning!AG:AG=\"Positiv\",1,\"\")","v":""}]
[null,null,null,null,null,null,null,null,null,null,null,null,null,null,null,null,null,null,null,null,null,null,null,null,null,null,null,null,null,null,null,null,null,null,null,null,null,null,null,null,null,null,null,null,null,{"$f":"IF(Indtastning!Y:Y=\"Ikke Aflagt\",1,\"\")","v":""},null,null,{"$f":"IF(Indtastning!U:U=\"Positiv\",1,\"\")","v":""},null,null,null,{"$f":"IF(Indtastning!Y:Y=\"Positiv\",1,\"\")","v":""},null,null,null,{"$f":"IF(Indtastning!AC:AC=\"Positiv\",1,\"\")","v":""},null,null,null,{"$f":"IF(Indtastning!AG:AG=\"Positiv\",1,\"\")","v":""}]
[null,null,null,null,null,null,null,null,null,null,null,null,null,null,null,null,null,null,null,null,null,null,null,null,null,null,null,null,null,null,null,null,null,null,null,null,null,null,null,null,null,null,null,null,null,{"$f":"IF(Indtastning!Y:Y=\"Ikke Aflagt\",1,\"\")","v":""},null,null,{"$f":"IF(Indtastning!U:U=\"Positiv\",1,\"\")","v":""},null,null,null,{"$f":"IF(Indtastning!Y:Y=\"Positiv\",1,\"\")","v":""},null,null,null,{"$f":"IF(Indtastning!AC:AC=\"Positiv\",1,\"\")","v":""},null,null,null,{"$f":"IF(Indtastning!AG:AG=\"Positiv\",1,\"\")","v":""}]
[null,null,null,null,null,null,null,null,null,null,null,null,null,null,null,null,null,null,null,null,null,null,null,null,null,null,null,null,null,null,null,null,null,null,null,null,null,null,null,null,null,null,null,null,null,{"$f":"IF(Indtastning!Y:Y=\"Ikke Aflagt\",1,\"\")","v":""},null,null,{"$f":"IF(Indtastning!U:U=\"Positiv\",1,\"\")","v":""},null,null,null,{"$f":"IF(Indtastning!Y:Y=\"Positiv\",1,\"\")","v":""},null,null,null,{"$f":"IF(Indtastning!AC:AC=\"Positiv\",1,\"\")","v":""},null,null,null,{"$f":"IF(Indtastning!AG:AG=\"Positiv\",1,\"\")","v":""}]
[null,null,null,null,null,null,null,null,null,null,null,null,null,null,null,null,null,null,null,null,null,null,null,null,null,null,null,null,null,null,null,null,null,null,null,null,null,null,null,null,null,null,null,null,null,{"$f":"IF(Indtastning!Y:Y=\"Ikke Aflagt\",1,\"\")","v":""},null,null,{"$f":"IF(Indtastning!U:U=\"Positiv\",1,\"\")","v":""},null,null,null,{"$f":"IF(Indtastning!Y:Y=\"Positiv\",1,\"\")","v":""},null,null,null,{"$f":"IF(Indtastning!AC:AC=\"Positiv\",1,\"\")","v":""},null,null,null,{"$f":"IF(Indtastning!AG:AG=\"Positiv\",1,\"\")","v":""}]
[null,null,null,null,null,null,null,null,null,null,null,null,null,null,null,null,null,null,null,null,null,null,null,null,null,null,null,null,null,null,null,null,null,null,null,null,null,null,null,null,null,null,null,null,null,{"$f":"IF(Indtastning!Y:Y=\"Ikke Aflagt\",1,\"\")","v":""},null,null,{"$f":"IF(Indtastning!U:U=\"Positiv\",1,\"\")","v":""},null,null,null,{"$f":"IF(Indtastning!Y:Y=\"Positiv\",1,\"\")","v":""},null,null,null,{"$f":"IF(Indtastning!AC:AC=\"Positiv\",1,\"\")","v":""},null,null,null,{"$f":"IF(Indtastning!AG:AG=\"Positiv\",1,\"\")","v":""}]
[null,null,null,null,null,null,null,null,null,null,null,null,null,null,null,null,null,null,null,null,null,null,null,null,null,null,null,null,null,null,null,null,null,null,null,null,null,null,null,null,null,null,null,null,null,{"$f":"IF(Indtastning!Y:Y=\"Ikke Aflagt\",1,\"\")","v":""},null,null,{"$f":"IF(Indtastning!U:U=\"Positiv\",1,\"\")","v":""},null,null,null,{"$f":"IF(Indtastning!Y:Y=\"Positiv\",1,\"\")","v":""},null,null,null,{"$f":"IF(Indtastning!AC:AC=\"Positiv\",1,\"\")","v":""},null,null,null,{"$f":"IF(Indtastning!AG:AG=\"Positiv\",1,\"\")","v":""}]
[null,null,null,null,null,null,null,null,null,null,null,null,null,null,null,null,null,null,null,null,null,null,null,null,null,null,null,null,null,null,null,null,null,null,null,null,null,null,null,null,null,null,null,null,null,{"$f":"IF(Indtastning!Y:Y=\"Ikke Aflagt\",1,\"\")","v":""},null,null,{"$f":"IF(Indtastning!U:U=\"Positiv\",1,\"\")","v":""},null,null,null,{"$f":"IF(Indtastning!Y:Y=\"Positiv\",1,\"\")","v":""},null,null,null,{"$f":"IF(Indtastning!AC:AC=\"Positiv\",1,\"\")","v":""},null,null,null,{"$f":"IF(Indtastning!AG:AG=\"Positiv\",1,\"\")","v":""}]
[null,null,null,null,null,null,null,null,null,null,null,null,null,null,null,null,null,null,null,null,null,null,null,null,null,null,null,null,null,null,null,null,null,null,null,null,null,null,null,null,null,null,null,null,null,{"$f":"IF(Indtastning!Y:Y=\"Ikke Aflagt\",1,\"\")","v":""},null,null,{"$f":"IF(Indtastning!U:U=\"Positiv\",1,\"\")","v":""},null,null,null,{"$f":"IF(Indtastning!Y:Y=\"Positiv\",1,\"\")","v":""},null,null,null,{"$f":"IF(Indtastning!AC:AC=\"Positiv\",1,\"\")","v":""},null,null,null,{"$f":"IF(Indtastning!AG:AG=\"Positiv\",1,\"\")","v":""}]
[null,null,null,null,null,null,null,null,null,null,null,null,null,null,null,null,null,null,null,null,null,null,null,null,null,null,null,null,null,null,null,null,null,null,null,null,null,null,null,null,null,null,null,null,null,{"$f":"IF(Indtastning!Y:Y=\"Ikke Aflagt\",1,\"\")","v":""},null,null,{"$f":"IF(Indtastning!U:U=\"Positiv\",1,\"\")","v":""},null,null,null,{"$f":"IF(Indtastning!Y:Y=\"Positiv\",1,\"\")","v":""},null,null,null,{"$f":"IF(Indtastning!AC:AC=\"Positiv\",1,\"\")","v":""},null,null,null,{"$f":"IF(Indtastning!AG:AG=\"Positiv\",1,\"\")","v":""}]
[null,null,null,null,null,null,null,null,null,null,null,null,null,null,null,null,null,null,null,null,null,null,null,null,null,null,null,null,null,null,null,null,null,null,null,null,null,null,null,null,null,null,null,null,null,{"$f":"IF(Indtastning!Y:Y=\"Ikke Aflagt\",1,\"\")","v":""},null,null,{"$f":"IF(Indtastning!U:U=\"Positiv\",1,\"\")","v":""},null,null,null,{"$f":"IF(Indtastning!Y:Y=\"Positiv\",1,\"\")","v":""},null,null,null,{"$f":"IF(Indtastning!AC:AC=\"Positiv\",1,\"\")","v":""},null,null,null,{"$f":"IF(Indtastning!AG:AG=\"Positiv\",1,\"\")","v":""}]
[null,null,null,null,null,null,null,null,null,null,null,null,null,null,null,null,null,null,null,null,null,null,null,null,null,null,null,null,null,null,null,null,null,null,null,null,null,null,null,null,null,null,null,null,null,{"$f":"IF(Indtastning!Y:Y=\"Ikke Aflagt\",1,\"\")","v":""},null,null,{"$f":"IF(Indtastning!U:U=\"Positiv\",1,\"\")","v":""},null,null,null,{"$f":"IF(Indtastning!Y:Y=\"Positiv\",1,\"\")","v":""},null,null,null,{"$f":"IF(Indtastning!AC:AC=\"Positiv\",1,\"\")","v":""},null,null,null,{"$f":"IF(Indtastning!AG:AG=\"Positiv\",1,\"\")","v":""}]
[null,null,null,null,null,null,null,null,null,null,null,null,null,null,null,null,null,null,null,null,null,null,null,null,null,null,null,null,null,null,null,null,null,null,null,null,null,null,null,null,null,null,null,null,null,{"$f":"IF(Indtastning!Y:Y=\"Ikke Aflagt\",1,\"\")","v":""},null,null,{"$f":"IF(Indtastning!U:U=\"Positiv\",1,\"\")","v":""},null,null,null,{"$f":"IF(Indtastning!Y:Y=\"Positiv\",1,\"\")","v":""},null,null,null,{"$f":"IF(Indtastning!AC:AC=\"Positiv\",1,\"\")","v":""},null,null,null,{"$f":"IF(Indtastning!AG:AG=\"Positiv\",1,\"\")","v":""}]
[null,null,null,null,null,null,null,null,null,null,null,null,null,null,null,null,null,null,null,null,null,null,null,null,null,null,null,null,null,null,null,null,null,null,null,null,null,null,null,null,null,null,null,null,null,{"$f":"IF(Indtastning!Y:Y=\"Ikke Aflagt\",1,\"\")","v":""},null,null,{"$f":"IF(Indtastning!U:U=\"Positiv\",1,\"\")","v":""},null,null,null,{"$f":"IF(Indtastning!Y:Y=\"Positiv\",1,\"\")","v":""},null,null,null,{"$f":"IF(Indtastning!AC:AC=\"Positiv\",1,\"\")","v":""},null,null,null,{"$f":"IF(Indtastning!AG:AG=\"Positiv\",1,\"\")","v":""}]
[null,null,null,null,null,null,null,null,null,null,null,null,null,null,null,null,null,null,null,null,null,null,null,null,null,null,null,null,null,null,null,null,null,null,null,null,null,null,null,null,null,null,null,null,null,{"$f":"IF(Indtastning!Y:Y=\"Ikke Aflagt\",1,\"\")","v":""},null,null,{"$f":"IF(Indtastning!U:U=\"Positiv\",1,\"\")","v":""},null,null,null,{"$f":"IF(Indtastning!Y:Y=\"Positiv\",1,\"\")","v":""},null,null,null,{"$f":"IF(Indtastning!AC:AC=\"Positiv\",1,\"\")","v":""},null,null,null,{"$f":"IF(Indtastning!AG:AG=\"Positiv\",1,\"\")","v":""}]
[null,null,null,null,null,null,null,null,null,null,null,null,null,null,null,null,null,null,null,null,null,null,null,null,null,null,null,null,null,null,null,null,null,null,null,null,null,null,null,null,null,null,null,null,null,{"$f":"IF(Indtastning!Y:Y=\"Ikke Aflagt\",1,\"\")","v":""},null,null,{"$f":"IF(Indtastning!U:U=\"Positiv\",1,\"\")","v":""},null,null,null,{"$f":"IF(Indtastning!Y:Y=\"Positiv\",1,\"\")","v":""},null,null,null,{"$f":"IF(Indtastning!AC:AC=\"Positiv\",1,\"\")","v":""},null,null,null,{"$f":"IF(Indtastning!AG:AG=\"Positiv\",1,\"\")","v":""}]
[null,null,null,null,null,null,null,null,null,null,null,null,null,null,null,null,null,null,null,null,null,null,null,null,null,null,null,null,null,null,null,null,null,null,null,null,null,null,null,null,null,null,null,null,null,{"$f":"IF(Indtastning!Y:Y=\"Ikke Aflagt\",1,\"\")","v":""},null,null,{"$f":"IF(Indtastning!U:U=\"Positiv\",1,\"\")","v":""},null,null,null,{"$f":"IF(Indtastning!Y:Y=\"Positiv\",1,\"\")","v":""},null,null,null,{"$f":"IF(Indtastning!AC:AC=\"Positiv\",1,\"\")","v":""},null,null,null,{"$f":"IF(Indtastning!AG:AG=\"Positiv\",1,\"\")","v":""}]
[null,null,null,null,null,null,null,null,null,null,null,null,null,null,null,null,null,null,null,null,null,null,null,null,null,null,null,null,null,null,null,null,null,null,null,null,null,null,null,null,null,null,null,null,null,{"$f":"IF(Indtastning!Y:Y=\"Ikke Aflagt\",1,\"\")","v":""},null,null,{"$f":"IF(Indtastning!U:U=\"Positiv\",1,\"\")","v":""},null,null,null,{"$f":"IF(Indtastning!Y:Y=\"Positiv\",1,\"\")","v":""},null,null,null,{"$f":"IF(Indtastning!AC:AC=\"Positiv\",1,\"\")","v":""},null,null,null,{"$f":"IF(Indtastning!AG:AG=\"Positiv\",1,\"\")","v":""}]
[null,null,null,null,null,null,null,null,null,null,null,null,null,null,null,null,null,null,null,null,null,null,null,null,null,null,null,null,null,null,null,null,null,null,null,null,null,null,null,null,null,null,null,null,null,{"$f":"IF(Indtastning!Y:Y=\"Ikke Aflagt\",1,\"\")","v":""},null,null,{"$f":"IF(Indtastning!U:U=\"Positiv\",1,\"\")","v":""},null,null,null,{"$f":"IF(Indtastning!Y:Y=\"Positiv\",1,\"\")","v":""},null,null,null,{"$f":"IF(Indtastning!AC:AC=\"Positiv\",1,\"\")","v":""},null,null,null,{"$f":"IF(Indtastning!AG:AG=\"Positiv\",1,\"\")","v":""}]
[null,null,null,null,null,null,null,null,null,null,null,null,null,null,null,null,null,null,null,null,null,null,null,null,null,null,null,null,null,null,null,null,null,null,null,null,null,null,null,null,null,null,null,null,null,{"$f":"IF(Indtastning!Y:Y=\"Ikke Aflagt\",1,\"\")","v":""},null,null,{"$f":"IF(Indtastning!U:U=\"Positiv\",1,\"\")","v":""},null,null,null,{"$f":"IF(Indtastning!Y:Y=\"Positiv\",1,\"\")","v":""},null,null,null,{"$f":"IF(Indtastning!AC:AC=\"Positiv\",1,\"\")","v":""},null,null,null,{"$f":"IF(Indtastning!AG:AG=\"Positiv\",1,\"\")","v":""}]
[null,null,null,null,null,null,null,null,null,null,null,null,null,null,null,null,null,null,null,null,null,null,null,null,null,null,null,null,null,null,null,null,null,null,null,null,null,null,null,null,null,null,null,null,null,{"$f":"IF(Indtastning!Y:Y=\"Ikke Aflagt\",1,\"\")","v":""},null,null,{"$f":"IF(Indtastning!U:U=\"Positiv\",1,\"\")","v":""},null,null,null,{"$f":"IF(Indtastning!Y:Y=\"Positiv\",1,\"\")","v":""},null,null,null,{"$f":"IF(Indtastning!AC:AC=\"Positiv\",1,\"\")","v":""},null,null,null,{"$f":"IF(Indtastning!AG:AG=\"Positiv\",1,\"\")","v":""}]
[null,null,null,null,null,null,null,null,null,null,null,null,null,null,null,null,null,null,null,null,null,null,null,null,null,null,null,null,null,null,null,null,null,null,null,null,null,null,null,null,null,null,null,null,null,{"$f":"IF(Indtastning!Y:Y=\"Ikke Aflagt\",1,\"\")","v":""},null,null,{"$f":"IF(Indtastning!U:U=\"Positiv\",1,\"\")","v":""},null,null,null,{"$f":"IF(Indtastning!Y:Y=\"Positiv\",1,\"\")","v":""},null,null,null,{"$f":"IF(Indtastning!AC:AC=\"Positiv\",1,\"\")","v":""},null,null,null,{"$f":"IF(Indtastning!AG:AG=\"Positiv\",1,\"\")","v":""}]
[null,null,null,null,null,null,null,null,null,null,null,null,null,null,null,null,null,null,null,null,null,null,null,null,null,null,null,null,null,null,null,null,null,null,null,null,null,null,null,null,null,null,null,null,null,{"$f":"IF(Indtastning!Y:Y=\"Ikke Aflagt\",1,\"\")","v":""},null,null,{"$f":"IF(Indtastning!U:U=\"Positiv\",1,\"\")","v":""},null,null,null,{"$f":"IF(Indtastning!Y:Y=\"Positiv\",1,\"\")","v":""},null,null,null,{"$f":"IF(Indtastning!AC:AC=\"Positiv\",1,\"\")","v":""},null,null,null,{"$f":"IF(Indtastning!AG:AG=\"Positiv\",1,\"\")","v":""}]
[null,null,null,null,null,null,null,null,null,null,null,null,null,null,null,null,null,null,null,null,null,null,null,null,null,null,null,null,null,null,null,null,null,null,null,null,null,null,null,null,null,null,null,null,null,{"$f":"IF(Indtastning!Y:Y=\"Ikke Aflagt\",1,\"\")","v":""},null,null,{"$f":"IF(Indtastning!U:U=\"Positiv\",1,\"\")","v":""},null,null,null,{"$f":"IF(Indtastning!Y:Y=\"Positiv\",1,\"\")","v":""},null,null,null,{"$f":"IF(Indtastning!AC:AC=\"Positiv\",1,\"\")","v":""},null,null,null,{"$f":"IF(Indtastning!AG:AG=\"Positiv\",1,\"\")","v":""}]
[null,null,null,null,null,null,null,null,null,null,null,null,null,null,null,null,null,null,null,null,null,null,null,null,null,null,null,null,null,null,null,null,null,null,null,null,null,null,null,null,null,null,null,null,null,{"$f":"IF(Indtastning!Y:Y=\"Ikke Aflagt\",1,\"\")","v":""},null,null,{"$f":"IF(Indtastning!U:U=\"Positiv\",1,\"\")","v":""},null,null,null,{"$f":"IF(Indtastning!Y:Y=\"Positiv\",1,\"\")","v":""},null,null,null,{"$f":"IF(Indtastning!AC:AC=\"Positiv\",1,\"\")","v":""},null,null,null,{"$f":"IF(Indtastning!AG:AG=\"Positiv\",1,\"\")","v":""}]
[null,null,null,null,null,null,null,null,null,null,null,null,null,null,null,null,null,null,null,null,null,null,null,null,null,null,null,null,null,null,null,null,null,null,null,null,null,null,null,null,null,null,null,null,null,{"$f":"IF(Indtastning!Y:Y=\"Ikke Aflagt\",1,\"\")","v":""},null,null,{"$f":"IF(Indtastning!U:U=\"Positiv\",1,\"\")","v":""},null,null,null,{"$f":"IF(Indtastning!Y:Y=\"Positiv\",1,\"\")","v":""},null,null,null,{"$f":"IF(Indtastning!AC:AC=\"Positiv\",1,\"\")","v":""},null,null,null,{"$f":"IF(Indtastning!AG:AG=\"Positiv\",1,\"\")","v":""}]
[null,null,null,null,null,null,null,null,null,null,null,null,null,null,null,null,null,null,null,null,null,null,null,null,null,null,null,null,null,null,null,null,null,null,null,null,null,null,null,null,null,null,null,null,null,{"$f":"IF(Indtastning!Y:Y=\"Ikke Aflagt\",1,\"\")","v":""},null,null,{"$f":"IF(Indtastning!U:U=\"Positiv\",1,\"\")","v":""},null,null,null,{"$f":"IF(Indtastning!Y:Y=\"Positiv\",1,\"\")","v":""},null,null,null,{"$f":"IF(Indtastning!AC:AC=\"Positiv\",1,\"\")","v":""},null,null,null,{"$f":"IF(Indtastning!AG:AG=\"Positiv\",1,\"\")","v":""}]
[null,null,null,null,null,null,null,null,null,null,null,null,null,null,null,null,null,null,null,null,null,null,null,null,null,null,null,null,null,null,null,null,null,null,null,null,null,null,null,null,null,null,null,null,null,{"$f":"IF(Indtastning!Y:Y=\"Ikke Aflagt\",1,\"\")","v":""},null,null,{"$f":"IF(Indtastning!U:U=\"Positiv\",1,\"\")","v":""},null,null,null,{"$f":"IF(Indtastning!Y:Y=\"Positiv\",1,\"\")","v":""},null,null,null,{"$f":"IF(Indtastning!AC:AC=\"Positiv\",1,\"\")","v":""},null,null,null,{"$f":"IF(Indtastning!AG:AG=\"Positiv\",1,\"\")","v":""}]
[null,null,null,null,null,null,null,null,null,null,null,null,null,null,null,null,null,null,null,null,null,null,null,null,null,null,null,null,null,null,null,null,null,null,null,null,null,null,null,null,null,null,null,null,null,{"$f":"IF(Indtastning!Y:Y=\"Ikke Aflagt\",1,\"\")","v":""},null,null,{"$f":"IF(Indtastning!U:U=\"Positiv\",1,\"\")","v":""},null,null,null,{"$f":"IF(Indtastning!Y:Y=\"Positiv\",1,\"\")","v":""},null,null,null,{"$f":"IF(Indtastning!AC:AC=\"Positiv\",1,\"\")","v":""},null,null,null,{"$f":"IF(Indtastning!AG:AG=\"Positiv\",1,\"\")","v":""}]
[null,null,null,null,null,null,null,null,null,null,null,null,null,null,null,null,null,null,null,null,null,null,null,null,null,null,null,null,null,null,null,null,null,null,null,null,null,null,null,null,null,null,null,null,null,{"$f":"IF(Indtastning!Y:Y=\"Ikke Aflagt\",1,\"\")","v":""},null,null,{"$f":"IF(Indtastning!U:U=\"Positiv\",1,\"\")","v":""},null,null,null,{"$f":"IF(Indtastning!Y:Y=\"Positiv\",1,\"\")","v":""},null,null,null,{"$f":"IF(Indtastning!AC:AC=\"Positiv\",1,\"\")","v":""},null,null,null,{"$f":"IF(Indtastning!AG:AG=\"Positiv\",1,\"\")","v":""}]
[null,null,null,null,null,null,null,null,null,null,null,null,null,null,null,null,null,null,null,null,null,null,null,null,null,null,null,null,null,null,null,null,null,null,null,null,null,null,null,null,null,null,null,null,null,{"$f":"IF(Indtastning!Y:Y=\"Ikke Aflagt\",1,\"\")","v":""},null,null,{"$f":"IF(Indtastning!U:U=\"Positiv\",1,\"\")","v":""},null,null,null,{"$f":"IF(Indtastning!Y:Y=\"Positiv\",1,\"\")","v":""},null,null,null,{"$f":"IF(Indtastning!AC:AC=\"Positiv\",1,\"\")","v":""},null,null,null,{"$f":"IF(Indtastning!AG:AG=\"Positiv\",1,\"\")","v":""}]
[null,null,null,null,null,null,null,null,null,null,null,null,null,null,null,null,null,null,null,null,null,null,null,null,null,null,null,null,null,null,null,null,null,null,null,null,null,null,null,null,null,null,null,null,null,{"$f":"IF(Indtastning!Y:Y=\"Ikke Aflagt\",1,\"\")","v":""},null,null,{"$f":"IF(Indtastning!U:U=\"Positiv\",1,\"\")","v":""},null,null,null,{"$f":"IF(Indtastning!Y:Y=\"Positiv\",1,\"\")","v":""},null,null,null,{"$f":"IF(Indtastning!AC:AC=\"Positiv\",1,\"\")","v":""},null,null,null,{"$f":"IF(Indtastning!AG:AG=\"Positiv\",1,\"\")","v":""}]
[null,null,null,null,null,null,null,null,null,null,null,null,null,null,null,null,null,null,null,null,null,null,null,null,null,null,null,null,null,null,null,null,null,null,null,null,null,null,null,null,null,null,null,null,null,{"$f":"IF(Indtastning!Y:Y=\"Ikke Aflagt\",1,\"\")","v":""},null,null,{"$f":"IF(Indtastning!U:U=\"Positiv\",1,\"\")","v":""},null,null,null,{"$f":"IF(Indtastning!Y:Y=\"Positiv\",1,\"\")","v":""},null,null,null,{"$f":"IF(Indtastning!AC:AC=\"Positiv\",1,\"\")","v":""},null,null,null,{"$f":"IF(Indtastning!AG:AG=\"Positiv\",1,\"\")","v":""}]
[null,null,null,null,null,null,null,null,null,null,null,null,null,null,null,null,null,null,null,null,null,null,null,null,null,null,null,null,null,null,null,null,null,null,null,null,null,null,null,null,null,null,null,null,null,{"$f":"IF(Indtastning!Y:Y=\"Ikke Aflagt\",1,\"\")","v":""},null,null,{"$f":"IF(Indtastning!U:U=\"Positiv\",1,\"\")","v":""},null,null,null,{"$f":"IF(Indtastning!Y:Y=\"Positiv\",1,\"\")","v":""},null,null,null,{"$f":"IF(Indtastning!AC:AC=\"Positiv\",1,\"\")","v":""},null,null,null,{"$f":"IF(Indtastning!AG:AG=\"Positiv\",1,\"\")","v":""}]
[null,null,null,null,null,null,null,null,null,null,null,null,null,null,null,null,null,null,null,null,null,null,null,null,null,null,null,null,null,null,null,null,null,null,null,null,null,null,null,null,null,null,null,null,null,{"$f":"IF(Indtastning!Y:Y=\"Ikke Aflagt\",1,\"\")","v":""},null,null,{"$f":"IF(Indtastning!U:U=\"Positiv\",1,\"\")","v":""},null,null,null,{"$f":"IF(Indtastning!Y:Y=\"Positiv\",1,\"\")","v":""},null,null,null,{"$f":"IF(Indtastning!AC:AC=\"Positiv\",1,\"\")","v":""},null,null,null,{"$f":"IF(Indtastning!AG:AG=\"Positiv\",1,\"\")","v":""}]
[null,null,null,null,null,null,null,null,null,null,null,null,null,null,null,null,null,null,null,null,null,null,null,null,null,null,null,null,null,null,null,null,null,null,null,null,null,null,null,null,null,null,null,null,null,{"$f":"IF(Indtastning!Y:Y=\"Ikke Aflagt\",1,\"\")","v":""},null,null,{"$f":"IF(Indtastning!U:U=\"Positiv\",1,\"\")","v":""},null,null,null,{"$f":"IF(Indtastning!Y:Y=\"Positiv\",1,\"\")","v":""},null,null,null,{"$f":"IF(Indtastning!AC:AC=\"Positiv\",1,\"\")","v":""},null,null,null,{"$f":"IF(Indtastning!AG:AG=\"Positiv\",1,\"\")","v":""}]
[null,null,null,null,null,null,null,null,null,null,null,null,null,null,null,null,null,null,null,null,null,null,null,null,null,null,null,null,null,null,null,null,null,null,null,null,null,null,null,null,null,null,null,null,null,{"$f":"IF(Indtastning!Y:Y=\"Ikke Aflagt\",1,\"\")","v":""},null,null,{"$f":"IF(Indtastning!U:U=\"Positiv\",1,\"\")","v":""},null,null,null,{"$f":"IF(Indtastning!Y:Y=\"Positiv\",1,\"\")","v":""},null,null,null,{"$f":"IF(Indtastning!AC:AC=\"Positiv\",1,\"\")","v":""},null,null,null,{"$f":"IF(Indtastning!AG:AG=\"Positiv\",1,\"\")","v":""}]
[null,null,null,null,null,null,null,null,null,null,null,null,null,null,null,null,null,null,null,null,null,null,null,null,null,null,null,null,null,null,null,null,null,null,null,null,null,null,null,null,null,null,null,null,null,{"$f":"IF(Indtastning!Y:Y=\"Ikke Aflagt\",1,\"\")","v":""},null,null,{"$f":"IF(Indtastning!U:U=\"Positiv\",1,\"\")","v":""},null,null,null,{"$f":"IF(Indtastning!Y:Y=\"Positiv\",1,\"\")","v":""},null,null,null,{"$f":"IF(Indtastning!AC:AC=\"Positiv\",1,\"\")","v":""},null,null,null,{"$f":"IF(Indtastning!AG:AG=\"Positiv\",1,\"\")","v":""}]
[null,null,null,null,null,null,null,null,null,null,null,null,null,null,null,null,null,null,null,null,null,null,null,null,null,null,null,null,null,null,null,null,null,null,null,null,null,null,null,null,null,null,null,null,null,{"$f":"IF(Indtastning!Y:Y=\"Ikke Aflagt\",1,\"\")","v":""},null,null,{"$f":"IF(Indtastning!U:U=\"Positiv\",1,\"\")","v":""},null,null,null,{"$f":"IF(Indtastning!Y:Y=\"Positiv\",1,\"\")","v":""},null,null,null,{"$f":"IF(Indtastning!AC:AC=\"Positiv\",1,\"\")","v":""},null,null,null,{"$f":"IF(Indtastning!AG:AG=\"Positiv\",1,\"\")","v":""}]
[null,null,null,null,null,null,null,null,null,null,null,null,null,null,null,null,null,null,null,null,null,null,null,null,null,null,null,null,null,null,null,null,null,null,null,null,null,null,null,null,null,null,null,null,null,{"$f":"IF(Indtastning!Y:Y=\"Ikke Aflagt\",1,\"\")","v":""},null,null,{"$f":"IF(Indtastning!U:U=\"Positiv\",1,\"\")","v":""},null,null,null,{"$f":"IF(Indtastning!Y:Y=\"Positiv\",1,\"\")","v":""},null,null,null,{"$f":"IF(Indtastning!AC:AC=\"Positiv\",1,\"\")","v":""},null,null,null,{"$f":"IF(Indtastning!AG:AG=\"Positiv\",1,\"\")","v":""}]
[null,null,null,null,null,null,null,null,null,null,null,null,null,null,null,null,null,null,null,null,null,null,null,null,null,null,null,null,null,null,null,null,null,null,null,null,null,null,null,null,null,null,null,null,null,{"$f":"IF(Indtastning!Y:Y=\"Ikke Aflagt\",1,\"\")","v":""},null,null,{"$f":"IF(Indtastning!U:U=\"Positiv\",1,\"\")","v":""},null,null,null,{"$f":"IF(Indtastning!Y:Y=\"Positiv\",1,\"\")","v":""},null,null,null,{"$f":"IF(Indtastning!AC:AC=\"Positiv\",1,\"\")","v":""},null,null,null,{"$f":"IF(Indtastning!AG:AG=\"Positiv\",1,\"\")","v":""}]
[null,null,null,null,null,null,null,null,null,null,null,null,null,null,null,null,null,null,null,null,null,null,null,null,null,null,null,null,null,null,null,null,null,null,null,null,null,null,null,null,null,null,null,null,null,{"$f":"IF(Indtastning!Y:Y=\"Ikke Aflagt\",1,\"\")","v":""},null,null,{"$f":"IF(Indtastning!U:U=\"Positiv\",1,\"\")","v":""},null,null,null,{"$f":"IF(Indtastning!Y:Y=\"Positiv\",1,\"\")","v":""},null,null,null,{"$f":"IF(Indtastning!AC:AC=\"Positiv\",1,\"\")","v":""},null,null,null,{"$f":"IF(Indtastning!AG:AG=\"Positiv\",1,\"\")","v":""}]
[null,null,null,null,null,null,null,null,null,null,null,null,null,null,null,null,null,null,null,null,null,null,null,null,null,null,null,null,null,null,null,null,null,null,null,null,null,null,null,null,null,null,null,null,null,{"$f":"IF(Indtastning!Y:Y=\"Ikke Aflagt\",1,\"\")","v":""},null,null,{"$f":"IF(Indtastning!U:U=\"Positiv\",1,\"\")","v":""},null,null,null,{"$f":"IF(Indtastning!Y:Y=\"Positiv\",1,\"\")","v":""},null,null,null,{"$f":"IF(Indtastning!AC:AC=\"Positiv\",1,\"\")","v":""},null,null,null,{"$f":"IF(Indtastning!AG:AG=\"Positiv\",1,\"\")","v":""}]
[null,null,null,null,null,null,null,null,null,null,null,null,null,null,null,null,null,null,null,null,null,null,null,null,null,null,null,null,null,null,null,null,null,null,null,null,null,null,null,null,null,null,null,null,null,{"$f":"IF(Indtastning!Y:Y=\"Ikke Aflagt\",1,\"\")","v":""},null,null,{"$f":"IF(Indtastning!U:U=\"Positiv\",1,\"\")","v":""},null,null,null,{"$f":"IF(Indtastning!Y:Y=\"Positiv\",1,\"\")","v":""},null,null,null,{"$f":"IF(Indtastning!AC:AC=\"Positiv\",1,\"\")","v":""},null,null,null,{"$f":"IF(Indtastning!AG:AG=\"Positiv\",1,\"\")","v":""}]
[null,null,null,null,null,null,null,null,null,null,null,null,null,null,null,null,null,null,null,null,null,null,null,null,null,null,null,null,null,null,null,null,null,null,null,null,null,null,null,null,null,null,null,null,null,{"$f":"IF(Indtastning!Y:Y=\"Ikke Aflagt\",1,\"\")","v":""},null,null,{"$f":"IF(Indtastning!U:U=\"Positiv\",1,\"\")","v":""},null,null,null,{"$f":"IF(Indtastning!Y:Y=\"Positiv\",1,\"\")","v":""},null,null,null,{"$f":"IF(Indtastning!AC:AC=\"Positiv\",1,\"\")","v":""},null,null,null,{"$f":"IF(Indtastning!AG:AG=\"Positiv\",1,\"\")","v":""}]
[null,null,null,null,null,null,null,null,null,null,null,null,null,null,null,null,null,null,null,null,null,null,null,null,null,null,null,null,null,null,null,null,null,null,null,null,null,null,null,null,null,null,null,null,null,{"$f":"IF(Indtastning!Y:Y=\"Ikke Aflagt\",1,\"\")","v":""},null,null,{"$f":"IF(Indtastning!U:U=\"Positiv\",1,\"\")","v":""},null,null,null,{"$f":"IF(Indtastning!Y:Y=\"Positiv\",1,\"\")","v":""},null,null,null,{"$f":"IF(Indtastning!AC:AC=\"Positiv\",1,\"\")","v":""},null,null,null,{"$f":"IF(Indtastning!AG:AG=\"Positiv\",1,\"\")","v":""}]
[null,null,null,null,null,null,null,null,null,null,null,null,null,null,null,null,null,null,null,null,null,null,null,null,null,null,null,null,null,null,null,null,null,null,null,null,null,null,null,null,null,null,null,null,null,{"$f":"IF(Indtastning!Y:Y=\"Ikke Aflagt\",1,\"\")","v":""},null,null,{"$f":"IF(Indtastning!U:U=\"Positiv\",1,\"\")","v":""},null,null,null,{"$f":"IF(Indtastning!Y:Y=\"Positiv\",1,\"\")","v":""},null,null,null,{"$f":"IF(Indtastning!AC:AC=\"Positiv\",1,\"\")","v":""},null,null,null,{"$f":"IF(Indtastning!AG:AG=\"Positiv\",1,\"\")","v":""}]
[null,null,null,null,null,null,null,null,null,null,null,null,null,null,null,null,null,null,null,null,null,null,null,null,null,null,null,null,null,null,null,null,null,null,null,null,null,null,null,null,null,null,null,null,null,{"$f":"IF(Indtastning!Y:Y=\"Ikke Aflagt\",1,\"\")","v":""},null,null,{"$f":"IF(Indtastning!U:U=\"Positiv\",1,\"\")","v":""},null,null,null,{"$f":"IF(Indtastning!Y:Y=\"Positiv\",1,\"\")","v":""},null,null,null,{"$f":"IF(Indtastning!AC:AC=\"Positiv\",1,\"\")","v":""},null,null,null,{"$f":"IF(Indtastning!AG:AG=\"Positiv\",1,\"\")","v":""}]
[null,null,null,null,null,null,null,null,null,null,null,null,null,null,null,null,null,null,null,null,null,null,null,null,null,null,null,null,null,null,null,null,null,null,null,null,null,null,null,null,null,null,null,null,null,{"$f":"IF(Indtastning!Y:Y=\"Ikke Aflagt\",1,\"\")","v":""},null,null,{"$f":"IF(Indtastning!U:U=\"Positiv\",1,\"\")","v":""},null,null,null,{"$f":"IF(Indtastning!Y:Y=\"Positiv\",1,\"\")","v":""},null,null,null,{"$f":"IF(Indtastning!AC:AC=\"Positiv\",1,\"\")","v":""},null,null,null,{"$f":"IF(Indtastning!AG:AG=\"Positiv\",1,\"\")","v":""}]
[null,null,null,null,null,null,null,null,null,null,null,null,null,null,null,null,null,null,null,null,null,null,null,null,null,null,null,null,null,null,null,null,null,null,null,null,null,null,null,null,null,null,null,null,null,{"$f":"IF(Indtastning!Y:Y=\"Ikke Aflagt\",1,\"\")","v":""},null,null,{"$f":"IF(Indtastning!U:U=\"Positiv\",1,\"\")","v":""},null,null,null,{"$f":"IF(Indtastning!Y:Y=\"Positiv\",1,\"\")","v":""},null,null,null,{"$f":"IF(Indtastning!AC:AC=\"Positiv\",1,\"\")","v":""},null,null,null,{"$f":"IF(Indtastning!AG:AG=\"Positiv\",1,\"\")","v":""}]
[null,null,null,null,null,null,null,null,null,null,null,null,null,null,null,null,null,null,null,null,null,null,null,null,null,null,null,null,null,null,null,null,null,null,null,null,null,null,null,null,null,null,null,null,null,{"$f":"IF(Indtastning!Y:Y=\"Ikke Aflagt\",1,\"\")","v":""},null,null,{"$f":"IF(Indtastning!U:U=\"Positiv\",1,\"\")","v":""},null,null,null,{"$f":"IF(Indtastning!Y:Y=\"Positiv\",1,\"\")","v":""},null,null,null,{"$f":"IF(Indtastning!AC:AC=\"Positiv\",1,\"\")","v":""},null,null,null,{"$f":"IF(Indtastning!AG:AG=\"Positiv\",1,\"\")","v":""}]
[null,null,null,null,null,null,null,null,null,null,null,null,null,null,null,null,null,null,null,null,null,null,null,null,null,null,null,null,null,null,null,null,null,null,null,null,null,null,null,null,null,null,null,null,null,{"$f":"IF(Indtastning!Y:Y=\"Ikke Aflagt\",1,\"\")","v":""},null,null,{"$f":"IF(Indtastning!U:U=\"Positiv\",1,\"\")","v":""},null,null,null,{"$f":"IF(Indtastning!Y:Y=\"Positiv\",1,\"\")","v":""},null,null,null,{"$f":"IF(Indtastning!AC:AC=\"Positiv\",1,\"\")","v":""},null,null,null,{"$f":"IF(Indtastning!AG:AG=\"Positiv\",1,\"\")","v":""}]
[null,null,null,null,null,null,null,null,null,null,null,null,null,null,null,null,null,null,null,null,null,null,null,null,null,null,null,null,null,null,null,null,null,null,null,null,null,null,null,null,null,null,null,null,null,{"$f":"IF(Indtastning!Y:Y=\"Ikke Aflagt\",1,\"\")","v":""},null,null,{"$f":"IF(Indtastning!U:U=\"Positiv\",1,\"\")","v":""},null,null,null,{"$f":"IF(Indtastning!Y:Y=\"Positiv\",1,\"\")","v":""},null,null,null,{"$f":"IF(Indtastning!AC:AC=\"Positiv\",1,\"\")","v":""},null,null,null,{"$f":"IF(Indtastning!AG:AG=\"Positiv\",1,\"\")","v":""}]
[null,null,null,null,null,null,null,null,null,null,null,null,null,null,null,null,null,null,null,null,null,null,null,null,null,null,null,null,null,null,null,null,null,null,null,null,null,null,null,null,null,null,null,null,null,{"$f":"IF(Indtastning!Y:Y=\"Ikke Aflagt\",1,\"\")","v":""},null,null,{"$f":"IF(Indtastning!U:U=\"Positiv\",1,\"\")","v":""},null,null,null,{"$f":"IF(Indtastning!Y:Y=\"Positiv\",1,\"\")","v":""},null,null,null,{"$f":"IF(Indtastning!AC:AC=\"Positiv\",1,\"\")","v":""},null,null,null,{"$f":"IF(Indtastning!AG:AG=\"Positiv\",1,\"\")","v":""}]
[null,null,null,null,null,null,null,null,null,null,null,null,null,null,null,null,null,null,null,null,null,null,null,null,null,null,null,null,null,null,null,null,null,null,null,null,null,null,null,null,null,null,null,null,null,{"$f":"IF(Indtastning!Y:Y=\"Ikke Aflagt\",1,\"\")","v":""},null,null,{"$f":"IF(Indtastning!U:U=\"Positiv\",1,\"\")","v":""},null,null,null,{"$f":"IF(Indtastning!Y:Y=\"Positiv\",1,\"\")","v":""},null,null,null,{"$f":"IF(Indtastning!AC:AC=\"Positiv\",1,\"\")","v":""},null,null,null,{"$f":"IF(Indtastning!AG:AG=\"Positiv\",1,\"\")","v":""}]
[null,null,null,null,null,null,null,null,null,null,null,null,null,null,null,null,null,null,null,null,null,null,null,null,null,null,null,null,null,null,null,null,null,null,null,null,null,null,null,null,null,null,null,null,null,{"$f":"IF(Indtastning!Y:Y=\"Ikke Aflagt\",1,\"\")","v":""},null,null,{"$f":"IF(Indtastning!U:U=\"Positiv\",1,\"\")","v":""},null,null,null,{"$f":"IF(Indtastning!Y:Y=\"Positiv\",1,\"\")","v":""},null,null,null,{"$f":"IF(Indtastning!AC:AC=\"Positiv\",1,\"\")","v":""},null,null,null,{"$f":"IF(Indtastning!AG:AG=\"Positiv\",1,\"\")","v":""}]
[null,null,null,null,null,null,null,null,null,null,null,null,null,null,null,null,null,null,null,null,null,null,null,null,null,null,null,null,null,null,null,null,null,null,null,null,null,null,null,null,null,null,null,null,null,{"$f":"IF(Indtastning!Y:Y=\"Ikke Aflagt\",1,\"\")","v":""},null,null,{"$f":"IF(Indtastning!U:U=\"Positiv\",1,\"\")","v":""},null,null,null,{"$f":"IF(Indtastning!Y:Y=\"Positiv\",1,\"\")","v":""},null,null,null,{"$f":"IF(Indtastning!AC:AC=\"Positiv\",1,\"\")","v":""},null,null,null,{"$f":"IF(Indtastning!AG:AG=\"Positiv\",1,\"\")","v":""}]
[null,null,null,null,null,null,null,null,null,null,null,null,null,null,null,null,null,null,null,null,null,null,null,null,null,null,null,null,null,null,null,null,null,null,null,null,null,null,null,null,null,null,null,null,null,{"$f":"IF(Indtastning!Y:Y=\"Ikke Aflagt\",1,\"\")","v":""},null,null,{"$f":"IF(Indtastning!U:U=\"Positiv\",1,\"\")","v":""},null,null,null,{"$f":"IF(Indtastning!Y:Y=\"Positiv\",1,\"\")","v":""},null,null,null,{"$f":"IF(Indtastning!AC:AC=\"Positiv\",1,\"\")","v":""},null,null,null,{"$f":"IF(Indtastning!AG:AG=\"Positiv\",1,\"\")","v":""}]
[null,null,null,null,null,null,null,null,null,null,null,null,null,null,null,null,null,null,null,null,null,null,null,null,null,null,null,null,null,null,null,null,null,null,null,null,null,null,null,null,null,null,null,null,null,{"$f":"IF(Indtastning!Y:Y=\"Ikke Aflagt\",1,\"\")","v":""},null,null,{"$f":"IF(Indtastning!U:U=\"Positiv\",1,\"\")","v":""},null,null,null,{"$f":"IF(Indtastning!Y:Y=\"Positiv\",1,\"\")","v":""},null,null,null,{"$f":"IF(Indtastning!AC:AC=\"Positiv\",1,\"\")","v":""},null,null,null,{"$f":"IF(Indtastning!AG:AG=\"Positiv\",1,\"\")","v":""}]
[null,null,null,null,null,null,null,null,null,null,null,null,null,null,null,null,null,null,null,null,null,null,null,null,null,null,null,null,null,null,null,null,null,null,null,null,null,null,null,null,null,null,null,null,null,{"$f":"IF(Indtastning!Y:Y=\"Ikke Aflagt\",1,\"\")","v":""},null,null,{"$f":"IF(Indtastning!U:U=\"Positiv\",1,\"\")","v":""},null,null,null,{"$f":"IF(Indtastning!Y:Y=\"Positiv\",1,\"\")","v":""},null,null,null,{"$f":"IF(Indtastning!AC:AC=\"Positiv\",1,\"\")","v":""},null,null,null,{"$f":"IF(Indtastning!AG:AG=\"Positiv\",1,\"\")","v":""}]
[null,null,null,null,null,null,null,null,null,null,null,null,null,null,null,null,null,null,null,null,null,null,null,null,null,null,null,null,null,null,null,null,null,null,null,null,null,null,null,null,null,null,null,null,null,{"$f":"IF(Indtastning!Y:Y=\"Ikke Aflagt\",1,\"\")","v":""},null,null,{"$f":"IF(Indtastning!U:U=\"Positiv\",1,\"\")","v":""},null,null,null,{"$f":"IF(Indtastning!Y:Y=\"Positiv\",1,\"\")","v":""},null,null,null,{"$f":"IF(Indtastning!AC:AC=\"Positiv\",1,\"\")","v":""},null,null,null,{"$f":"IF(Indtastning!AG:AG=\"Positiv\",1,\"\")","v":""}]
[null,null,null,null,null,null,null,null,null,null,null,null,null,null,null,null,null,null,null,null,null,null,null,null,null,null,null,null,null,null,null,null,null,null,null,null,null,null,null,null,null,null,null,null,null,{"$f":"IF(Indtastning!Y:Y=\"Ikke Aflagt\",1,\"\")","v":""},null,null,{"$f":"IF(Indtastning!U:U=\"Positiv\",1,\"\")","v":""},null,null,null,{"$f":"IF(Indtastning!Y:Y=\"Positiv\",1,\"\")","v":""},null,null,null,{"$f":"IF(Indtastning!AC:AC=\"Positiv\",1,\"\")","v":""},null,null,null,{"$f":"IF(Indtastning!AG:AG=\"Positiv\",1,\"\")","v":""}]
[null,null,null,null,null,null,null,null,null,null,null,null,null,null,null,null,null,null,null,null,null,null,null,null,null,null,null,null,null,null,null,null,null,null,null,null,null,null,null,null,null,null,null,null,null,{"$f":"IF(Indtastning!Y:Y=\"Ikke Aflagt\",1,\"\")","v":""},null,null,{"$f":"IF(Indtastning!U:U=\"Positiv\",1,\"\")","v":""},null,null,null,{"$f":"IF(Indtastning!Y:Y=\"Positiv\",1,\"\")","v":""},null,null,null,{"$f":"IF(Indtastning!AC:AC=\"Positiv\",1,\"\")","v":""},null,null,null,{"$f":"IF(Indtastning!AG:AG=\"Positiv\",1,\"\")","v":""}]
[null,null,null,null,null,null,null,null,null,null,null,null,null,null,null,null,null,null,null,null,null,null,null,null,null,null,null,null,null,null,null,null,null,null,null,null,null,null,null,null,null,null,null,null,null,{"$f":"IF(Indtastning!Y:Y=\"Ikke Aflagt\",1,\"\")","v":""},null,null,{"$f":"IF(Indtastning!U:U=\"Positiv\",1,\"\")","v":""},null,null,null,{"$f":"IF(Indtastning!Y:Y=\"Positiv\",1,\"\")","v":""},null,null,null,{"$f":"IF(Indtastning!AC:AC=\"Positiv\",1,\"\")","v":""},null,null,null,{"$f":"IF(Indtastning!AG:AG=\"Positiv\",1,\"\")","v":""}]
[null,null,null,null,null,null,null,null,null,null,null,null,null,null,null,null,null,null,null,null,null,null,null,null,null,null,null,null,null,null,null,null,null,null,null,null,null,null,null,null,null,null,null,null,null,{"$f":"IF(Indtastning!Y:Y=\"Ikke Aflagt\",1,\"\")","v":""},null,null,{"$f":"IF(Indtastning!U:U=\"Positiv\",1,\"\")","v":""},null,null,null,{"$f":"IF(Indtastning!Y:Y=\"Positiv\",1,\"\")","v":""},null,null,null,{"$f":"IF(Indtastning!AC:AC=\"Positiv\",1,\"\")","v":""},null,null,null,{"$f":"IF(Indtastning!AG:AG=\"Positiv\",1,\"\")","v":""}]
[null,null,null,null,null,null,null,null,null,null,null,null,null,null,null,null,null,null,null,null,null,null,null,null,null,null,null,null,null,null,null,null,null,null,null,null,null,null,null,null,null,null,null,null,null,{"$f":"IF(Indtastning!Y:Y=\"Ikke Aflagt\",1,\"\")","v":""},null,null,{"$f":"IF(Indtastning!U:U=\"Positiv\",1,\"\")","v":""},null,null,null,{"$f":"IF(Indtastning!Y:Y=\"Positiv\",1,\"\")","v":""},null,null,null,{"$f":"IF(Indtastning!AC:AC=\"Positiv\",1,\"\")","v":""},null,null,null,{"$f":"IF(Indtastning!AG:AG=\"Positiv\",1,\"\")","v":""}]
[null,null,null,null,null,null,null,null,null,null,null,null,null,null,null,null,null,null,null,null,null,null,null,null,null,null,null,null,null,null,null,null,null,null,null,null,null,null,null,null,null,null,null,null,null,{"$f":"IF(Indtastning!Y:Y=\"Ikke Aflagt\",1,\"\")","v":""},null,null,{"$f":"IF(Indtastning!U:U=\"Positiv\",1,\"\")","v":""},null,null,null,{"$f":"IF(Indtastning!Y:Y=\"Positiv\",1,\"\")","v":""},null,null,null,{"$f":"IF(Indtastning!AC:AC=\"Positiv\",1,\"\")","v":""},null,null,null,{"$f":"IF(Indtastning!AG:AG=\"Positiv\",1,\"\")","v":""}]
[null,null,null,null,null,null,null,null,null,null,null,null,null,null,null,null,null,null,null,null,null,null,null,null,null,null,null,null,null,null,null,null,null,null,null,null,null,null,null,null,null,null,null,null,null,{"$f":"IF(Indtastning!Y:Y=\"Ikke Aflagt\",1,\"\")","v":""},null,null,{"$f":"IF(Indtastning!U:U=\"Positiv\",1,\"\")","v":""},null,null,null,{"$f":"IF(Indtastning!Y:Y=\"Positiv\",1,\"\")","v":""},null,null,null,{"$f":"IF(Indtastning!AC:AC=\"Positiv\",1,\"\")","v":""},null,null,null,{"$f":"IF(Indtastning!AG:AG=\"Positiv\",1,\"\")","v":""}]
[null,null,null,null,null,null,null,null,null,null,null,null,null,null,null,null,null,null,null,null,null,null,null,null,null,null,null,null,null,null,null,null,null,null,null,null,null,null,null,null,null,null,null,null,null,{"$f":"IF(Indtastning!Y:Y=\"Ikke Aflagt\",1,\"\")","v":""},null,null,{"$f":"IF(Indtastning!U:U=\"Positiv\",1,\"\")","v":""},null,null,null,{"$f":"IF(Indtastning!Y:Y=\"Positiv\",1,\"\")","v":""},null,null,null,{"$f":"IF(Indtastning!AC:AC=\"Positiv\",1,\"\")","v":""},null,null,null,{"$f":"IF(Indtastning!AG:AG=\"Positiv\",1,\"\")","v":""}]
[null,null,null,null,null,null,null,null,null,null,null,null,null,null,null,null,null,null,null,null,null,null,null,null,null,null,null,null,null,null,null,null,null,null,null,null,null,null,null,null,null,null,null,null,null,{"$f":"IF(Indtastning!Y:Y=\"Ikke Aflagt\",1,\"\")","v":""},null,null,{"$f":"IF(Indtastning!U:U=\"Positiv\",1,\"\")","v":""},null,null,null,{"$f":"IF(Indtastning!Y:Y=\"Positiv\",1,\"\")","v":""},null,null,null,{"$f":"IF(Indtastning!AC:AC=\"Positiv\",1,\"\")","v":""},null,null,null,{"$f":"IF(Indtastning!AG:AG=\"Positiv\",1,\"\")","v":""}]
[null,null,null,null,null,null,null,null,null,null,null,null,null,null,null,null,null,null,null,null,null,null,null,null,null,null,null,null,null,null,null,null,null,null,null,null,null,null,null,null,null,null,null,null,null,{"$f":"IF(Indtastning!Y:Y=\"Ikke Aflagt\",1,\"\")","v":""},null,null,{"$f":"IF(Indtastning!U:U=\"Positiv\",1,\"\")","v":""},null,null,null,{"$f":"IF(Indtastning!Y:Y=\"Positiv\",1,\"\")","v":""},null,null,null,{"$f":"IF(Indtastning!AC:AC=\"Positiv\",1,\"\")","v":""},null,null,null,{"$f":"IF(Indtastning!AG:AG=\"Positiv\",1,\"\")","v":""}]
[null,null,null,null,null,null,null,null,null,null,null,null,null,null,null,null,null,null,null,null,null,null,null,null,null,null,null,null,null,null,null,null,null,null,null,null,null,null,null,null,null,null,null,null,null,{"$f":"IF(Indtastning!Y:Y=\"Ikke Aflagt\",1,\"\")","v":""},null,null,{"$f":"IF(Indtastning!U:U=\"Positiv\",1,\"\")","v":""},null,null,null,{"$f":"IF(Indtastning!Y:Y=\"Positiv\",1,\"\")","v":""},null,null,null,{"$f":"IF(Indtastning!AC:AC=\"Positiv\",1,\"\")","v":""},null,null,null,{"$f":"IF(Indtastning!AG:AG=\"Positiv\",1,\"\")","v":""}]
[null,null,null,null,null,null,null,null,null,null,null,null,null,null,null,null,null,null,null,null,null,null,null,null,null,null,null,null,null,null,null,null,null,null,null,null,null,null,null,null,null,null,null,null,null,{"$f":"IF(Indtastning!Y:Y=\"Ikke Aflagt\",1,\"\")","v":""},null,null,{"$f":"IF(Indtastning!U:U=\"Positiv\",1,\"\")","v":""},null,null,null,{"$f":"IF(Indtastning!Y:Y=\"Positiv\",1,\"\")","v":""},null,null,null,{"$f":"IF(Indtastning!AC:AC=\"Positiv\",1,\"\")","v":""},null,null,null,{"$f":"IF(Indtastning!AG:AG=\"Positiv\",1,\"\")","v":""}]
[null,null,null,null,null,null,null,null,null,null,null,null,null,null,null,null,null,null,null,null,null,null,null,null,null,null,null,null,null,null,null,null,null,null,null,null,null,null,null,null,null,null,null,null,null,{"$f":"IF(Indtastning!Y:Y=\"Ikke Aflagt\",1,\"\")","v":""},null,null,{"$f":"IF(Indtastning!U:U=\"Positiv\",1,\"\")","v":""},null,null,null,{"$f":"IF(Indtastning!Y:Y=\"Positiv\",1,\"\")","v":""},null,null,null,{"$f":"IF(Indtastning!AC:AC=\"Positiv\",1,\"\")","v":""},null,null,null,{"$f":"IF(Indtastning!AG:AG=\"Positiv\",1,\"\")","v":""}]
[null,null,null,null,null,null,null,null,null,null,null,null,null,null,null,null,null,null,null,null,null,null,null,null,null,null,null,null,null,null,null,null,null,null,null,null,null,null,null,null,null,null,null,null,null,{"$f":"IF(Indtastning!Y:Y=\"Ikke Aflagt\",1,\"\")","v":""},null,null,{"$f":"IF(Indtastning!U:U=\"Positiv\",1,\"\")","v":""},null,null,null,{"$f":"IF(Indtastning!Y:Y=\"Positiv\",1,\"\")","v":""},null,null,null,{"$f":"IF(Indtastning!AC:AC=\"Positiv\",1,\"\")","v":""},null,null,null,{"$f":"IF(Indtastning!AG:AG=\"Positiv\",1,\"\")","v":""}]
[null,null,null,null,null,null,null,null,null,null,null,null,null,null,null,null,null,null,null,null,null,null,null,null,null,null,null,null,null,null,null,null,null,null,null,null,null,null,null,null,null,null,null,null,null,{"$f":"IF(Indtastning!Y:Y=\"Ikke Aflagt\",1,\"\")","v":""},null,null,{"$f":"IF(Indtastning!U:U=\"Positiv\",1,\"\")","v":""},null,null,null,{"$f":"IF(Indtastning!Y:Y=\"Positiv\",1,\"\")","v":""},null,null,null,{"$f":"IF(Indtastning!AC:AC=\"Positiv\",1,\"\")","v":""},null,null,null,{"$f":"IF(Indtastning!AG:AG=\"Positiv\",1,\"\")","v":""}]
[null,null,null,null,null,null,null,null,null,null,null,null,null,null,null,null,null,null,null,null,null,null,null,null,null,null,null,null,null,null,null,null,null,null,null,null,null,null,null,null,null,null,null,null,null,{"$f":"IF(Indtastning!Y:Y=\"Ikke Aflagt\",1,\"\")","v":""},null,null,{"$f":"IF(Indtastning!U:U=\"Positiv\",1,\"\")","v":""},null,null,null,{"$f":"IF(Indtastning!Y:Y=\"Positiv\",1,\"\")","v":""},null,null,null,{"$f":"IF(Indtastning!AC:AC=\"Positiv\",1,\"\")","v":""},null,null,null,{"$f":"IF(Indtastning!AG:AG=\"Positiv\",1,\"\")","v":""}]
[null,null,null,null,null,null,null,null,null,null,null,null,null,null,null,null,null,null,null,null,null,null,null,null,null,null,null,null,null,null,null,null,null,null,null,null,null,null,null,null,null,null,null,null,null,{"$f":"IF(Indtastning!Y:Y=\"Ikke Aflagt\",1,\"\")","v":""},null,null,{"$f":"IF(Indtastning!U:U=\"Positiv\",1,\"\")","v":""},null,null,null,{"$f":"IF(Indtastning!Y:Y=\"Positiv\",1,\"\")","v":""},null,null,null,{"$f":"IF(Indtastning!AC:AC=\"Positiv\",1,\"\")","v":""},null,null,null,{"$f":"IF(Indtastning!AG:AG=\"Positiv\",1,\"\")","v":""}]
[null,null,null,null,null,null,null,null,null,null,null,null,null,null,null,null,null,null,null,null,null,null,null,null,null,null,null,null,null,null,null,null,null,null,null,null,null,null,null,null,null,null,null,null,null,{"$f":"IF(Indtastning!Y:Y=\"Ikke Aflagt\",1,\"\")","v":""},null,null,{"$f":"IF(Indtastning!U:U=\"Positiv\",1,\"\")","v":""},null,null,null,{"$f":"IF(Indtastning!Y:Y=\"Positiv\",1,\"\")","v":""},null,null,null,{"$f":"IF(Indtastning!AC:AC=\"Positiv\",1,\"\")","v":""},null,null,null,{"$f":"IF(Indtastning!AG:AG=\"Positiv\",1,\"\")","v":""}]
[null,null,null,null,null,null,null,null,null,null,null,null,null,null,null,null,null,null,null,null,null,null,null,null,null,null,null,null,null,null,null,null,null,null,null,null,null,null,null,null,null,null,null,null,null,{"$f":"IF(Indtastning!Y:Y=\"Ikke Aflagt\",1,\"\")","v":""},null,null,{"$f":"IF(Indtastning!U:U=\"Positiv\",1,\"\")","v":""},null,null,null,{"$f":"IF(Indtastning!Y:Y=\"Positiv\",1,\"\")","v":""},null,null,null,{"$f":"IF(Indtastning!AC:AC=\"Positiv\",1,\"\")","v":""},null,null,null,{"$f":"IF(Indtastning!AG:AG=\"Positiv\",1,\"\")","v":""}]
[null,null,null,null,null,null,null,null,null,null,null,null,null,null,null,null,null,null,null,null,null,null,null,null,null,null,null,null,null,null,null,null,null,null,null,null,null,null,null,null,null,null,null,null,null,{"$f":"IF(Indtastning!Y:Y=\"Ikke Aflagt\",1,\"\")","v":""},null,null,{"$f":"IF(Indtastning!U:U=\"Positiv\",1,\"\")","v":""},null,null,null,{"$f":"IF(Indtastning!Y:Y=\"Positiv\",1,\"\")","v":""},null,null,null,{"$f":"IF(Indtastning!AC:AC=\"Positiv\",1,\"\")","v":""},null,null,null,{"$f":"IF(Indtastning!AG:AG=\"Positiv\",1,\"\")","v":""}]
[null,null,null,null,null,null,null,null,null,null,null,null,null,null,null,null,null,null,null,null,null,null,null,null,null,null,null,null,null,null,null,null,null,null,null,null,null,null,null,null,null,null,null,null,null,{"$f":"IF(Indtastning!Y:Y=\"Ikke Aflagt\",1,\"\")","v":""},null,null,{"$f":"IF(Indtastning!U:U=\"Positiv\",1,\"\")","v":""},null,null,null,{"$f":"IF(Indtastning!Y:Y=\"Positiv\",1,\"\")","v":""},null,null,null,{"$f":"IF(Indtastning!AC:AC=\"Positiv\",1,\"\")","v":""},null,null,null,{"$f":"IF(Indtastning!AG:AG=\"Positiv\",1,\"\")","v":""}]
[null,null,null,null,null,null,null,null,null,null,null,null,null,null,null,null,null,null,null,null,null,null,null,null,null,null,null,null,null,null,null,null,null,null,null,null,null,null,null,null,null,null,null,null,null,{"$f":"IF(Indtastning!Y:Y=\"Ikke Aflagt\",1,\"\")","v":""},null,null,{"$f":"IF(Indtastning!U:U=\"Positiv\",1,\"\")","v":""},null,null,null,{"$f":"IF(Indtastning!Y:Y=\"Positiv\",1,\"\")","v":""},null,null,null,{"$f":"IF(Indtastning!AC:AC=\"Positiv\",1,\"\")","v":""},null,null,null,{"$f":"IF(Indtastning!AG:AG=\"Positiv\",1,\"\")","v":""}]
[null,null,null,null,null,null,null,null,null,null,null,null,null,null,null,null,null,null,null,null,null,null,null,null,null,null,null,null,null,null,null,null,null,null,null,null,null,null,null,null,null,null,null,null,null,{"$f":"IF(Indtastning!Y:Y=\"Ikke Aflagt\",1,\"\")","v":""},null,null,{"$f":"IF(Indtastning!U:U=\"Positiv\",1,\"\")","v":""},null,null,null,{"$f":"IF(Indtastning!Y:Y=\"Positiv\",1,\"\")","v":""},null,null,null,{"$f":"IF(Indtastning!AC:AC=\"Positiv\",1,\"\")","v":""},null,null,null,{"$f":"IF(Indtastning!AG:AG=\"Positiv\",1,\"\")","v":""}]
[null,null,null,null,null,null,null,null,null,null,null,null,null,null,null,null,null,null,null,null,null,null,null,null,null,null,null,null,null,null,null,null,null,null,null,null,null,null,null,null,null,null,null,null,null,{"$f":"IF(Indtastning!Y:Y=\"Ikke Aflagt\",1,\"\")","v":""},null,null,{"$f":"IF(Indtastning!U:U=\"Positiv\",1,\"\")","v":""},null,null,null,{"$f":"IF(Indtastning!Y:Y=\"Positiv\",1,\"\")","v":""},null,null,null,{"$f":"IF(Indtastning!AC:AC=\"Positiv\",1,\"\")","v":""},null,null,null,{"$f":"IF(Indtastning!AG:AG=\"Positiv\",1,\"\")","v":""}]
[null,null,null,null,null,null,null,null,null,null,null,null,null,null,null,null,null,null,null,null,null,null,null,null,null,null,null,null,null,null,null,null,null,null,null,null,null,null,null,null,null,null,null,null,null,{"$f":"IF(Indtastning!Y:Y=\"Ikke Aflagt\",1,\"\")","v":""},null,null,{"$f":"IF(Indtastning!U:U=\"Positiv\",1,\"\")","v":""},null,null,null,{"$f":"IF(Indtastning!Y:Y=\"Positiv\",1,\"\")","v":""},null,null,null,{"$f":"IF(Indtastning!AC:AC=\"Positiv\",1,\"\")","v":""},null,null,null,{"$f":"IF(Indtastning!AG:AG=\"Positiv\",1,\"\")","v":""}]
[null,null,null,null,null,null,null,null,null,null,null,null,null,null,null,null,null,null,null,null,null,null,null,null,null,null,null,null,null,null,null,null,null,null,null,null,null,null,null,null,null,null,null,null,null,{"$f":"IF(Indtastning!Y:Y=\"Ikke Aflagt\",1,\"\")","v":""},null,null,{"$f":"IF(Indtastning!U:U=\"Positiv\",1,\"\")","v":""},null,null,null,{"$f":"IF(Indtastning!Y:Y=\"Positiv\",1,\"\")","v":""},null,null,null,{"$f":"IF(Indtastning!AC:AC=\"Positiv\",1,\"\")","v":""},null,null,null,{"$f":"IF(Indtastning!AG:AG=\"Positiv\",1,\"\")","v":""}]
[null,null,null,null,null,null,null,null,null,null,null,null,null,null,null,null,null,null,null,null,null,null,null,null,null,null,null,null,null,null,null,null,null,null,null,null,null,null,null,null,null,null,null,null,null,{"$f":"IF(Indtastning!Y:Y=\"Ikke Aflagt\",1,\"\")","v":""},null,null,{"$f":"IF(Indtastning!U:U=\"Positiv\",1,\"\")","v":""},null,null,null,{"$f":"IF(Indtastning!Y:Y=\"Positiv\",1,\"\")","v":""},null,null,null,{"$f":"IF(Indtastning!AC:AC=\"Positiv\",1,\"\")","v":""},null,null,null,{"$f":"IF(Indtastning!AG:AG=\"Positiv\",1,\"\")","v":""}]
[null,null,null,null,null,null,null,null,null,null,null,null,null,null,null,null,null,null,null,null,null,null,null,null,null,null,null,null,null,null,null,null,null,null,null,null,null,null,null,null,null,null,null,null,null,{"$f":"IF(Indtastning!Y:Y=\"Ikke Aflagt\",1,\"\")","v":""},null,null,{"$f":"IF(Indtastning!U:U=\"Positiv\",1,\"\")","v":""},null,null,null,{"$f":"IF(Indtastning!Y:Y=\"Positiv\",1,\"\")","v":""},null,null,null,{"$f":"IF(Indtastning!AC:AC=\"Positiv\",1,\"\")","v":""},null,null,null,{"$f":"IF(Indtastning!AG:AG=\"Positiv\",1,\"\")","v":""}]
[null,null,null,null,null,null,null,null,null,null,null,null,null,null,null,null,null,null,null,null,null,null,null,null,null,null,null,null,null,null,null,null,null,null,null,null,null,null,null,null,null,null,null,null,null,{"$f":"IF(Indtastning!Y:Y=\"Ikke Aflagt\",1,\"\")","v":""},null,null,{"$f":"IF(Indtastning!U:U=\"Positiv\",1,\"\")","v":""},null,null,null,{"$f":"IF(Indtastning!Y:Y=\"Positiv\",1,\"\")","v":""},null,null,null,{"$f":"IF(Indtastning!AC:AC=\"Positiv\",1,\"\")","v":""},null,null,null,{"$f":"IF(Indtastning!AG:AG=\"Positiv\",1,\"\")","v":""}]
[null,null,null,null,null,null,null,null,null,null,null,null,null,null,null,null,null,null,null,null,null,null,null,null,null,null,null,null,null,null,null,null,null,null,null,null,null,null,null,null,null,null,null,null,null,{"$f":"IF(Indtastning!Y:Y=\"Ikke Aflagt\",1,\"\")","v":""},null,null,{"$f":"IF(Indtastning!U:U=\"Positiv\",1,\"\")","v":""},null,null,null,{"$f":"IF(Indtastning!Y:Y=\"Positiv\",1,\"\")","v":""},null,null,null,{"$f":"IF(Indtastning!AC:AC=\"Positiv\",1,\"\")","v":""},null,null,null,{"$f":"IF(Indtastning!AG:AG=\"Positiv\",1,\"\")","v":""}]
[null,null,null,null,null,null,null,null,null,null,null,null,null,null,null,null,null,null,null,null,null,null,null,null,null,null,null,null,null,null,null,null,null,null,null,null,null,null,null,null,null,null,null,null,null,{"$f":"IF(Indtastning!Y:Y=\"Ikke Aflagt\",1,\"\")","v":""},null,null,{"$f":"IF(Indtastning!U:U=\"Positiv\",1,\"\")","v":""},null,null,null,{"$f":"IF(Indtastning!Y:Y=\"Positiv\",1,\"\")","v":""},null,null,null,{"$f":"IF(Indtastning!AC:AC=\"Positiv\",1,\"\")","v":""},null,null,null,{"$f":"IF(Indtastning!AG:AG=\"Positiv\",1,\"\")","v":""}]
[null,null,null,null,null,null,null,null,null,null,null,null,null,null,null,null,null,null,null,null,null,null,null,null,null,null,null,null,null,null,null,null,null,null,null,null,null,null,null,null,null,null,null,null,null,{"$f":"IF(Indtastning!Y:Y=\"Ikke Aflagt\",1,\"\")","v":""},null,null,{"$f":"IF(Indtastning!U:U=\"Positiv\",1,\"\")","v":""},null,null,null,{"$f":"IF(Indtastning!Y:Y=\"Positiv\",1,\"\")","v":""},null,null,null,{"$f":"IF(Indtastning!AC:AC=\"Positiv\",1,\"\")","v":""},null,null,null,{"$f":"IF(Indtastning!AG:AG=\"Positiv\",1,\"\")","v":""}]
[null,null,null,null,null,null,null,null,null,null,null,null,null,null,null,null,null,null,null,null,null,null,null,null,null,null,null,null,null,null,null,null,null,null,null,null,null,null,null,null,null,null,null,null,null,{"$f":"IF(Indtastning!Y:Y=\"Ikke Aflagt\",1,\"\")","v":""},null,null,{"$f":"IF(Indtastning!U:U=\"Positiv\",1,\"\")","v":""},null,null,null,{"$f":"IF(Indtastning!Y:Y=\"Positiv\",1,\"\")","v":""},null,null,null,{"$f":"IF(Indtastning!AC:AC=\"Positiv\",1,\"\")","v":""},null,null,null,{"$f":"IF(Indtastning!AG:AG=\"Positiv\",1,\"\")","v":""}]
[null,null,null,null,null,null,null,null,null,null,null,null,null,null,null,null,null,null,null,null,null,null,null,null,null,null,null,null,null,null,null,null,null,null,null,null,null,null,null,null,null,null,null,null,null,{"$f":"IF(Indtastning!Y:Y=\"Ikke Aflagt\",1,\"\")","v":""},null,null,{"$f":"IF(Indtastning!U:U=\"Positiv\",1,\"\")","v":""},null,null,null,{"$f":"IF(Indtastning!Y:Y=\"Positiv\",1,\"\")","v":""},null,null,null,{"$f":"IF(Indtastning!AC:AC=\"Positiv\",1,\"\")","v":""},null,null,null,{"$f":"IF(Indtastning!AG:AG=\"Positiv\",1,\"\")","v":""}]
[null,null,null,null,null,null,null,null,null,null,null,null,null,null,null,null,null,null,null,null,null,null,null,null,null,null,null,null,null,null,null,null,null,null,null,null,null,null,null,null,null,null,null,null,null,{"$f":"IF(Indtastning!Y:Y=\"Ikke Aflagt\",1,\"\")","v":""},null,null,{"$f":"IF(Indtastning!U:U=\"Positiv\",1,\"\")","v":""},null,null,null,{"$f":"IF(Indtastning!Y:Y=\"Positiv\",1,\"\")","v":""},null,null,null,{"$f":"IF(Indtastning!AC:AC=\"Positiv\",1,\"\")","v":""},null,null,null,{"$f":"IF(Indtastning!AG:AG=\"Positiv\",1,\"\")","v":""}]
[null,null,null,null,null,null,null,null,null,null,null,null,null,null,null,null,null,null,null,null,null,null,null,null,null,null,null,null,null,null,null,null,null,null,null,null,null,null,null,null,null,null,null,null,null,{"$f":"IF(Indtastning!Y:Y=\"Ikke Aflagt\",1,\"\")","v":""},null,null,{"$f":"IF(Indtastning!U:U=\"Positiv\",1,\"\")","v":""},null,null,null,{"$f":"IF(Indtastning!Y:Y=\"Positiv\",1,\"\")","v":""},null,null,null,{"$f":"IF(Indtastning!AC:AC=\"Positiv\",1,\"\")","v":""},null,null,null,{"$f":"IF(Indtastning!AG:AG=\"Positiv\",1,\"\")","v":""}]
[null,null,null,null,null,null,null,null,null,null,null,null,null,null,null,null,null,null,null,null,null,null,null,null,null,null,null,null,null,null,null,null,null,null,null,null,null,null,null,null,null,null,null,null,null,{"$f":"IF(Indtastning!Y:Y=\"Ikke Aflagt\",1,\"\")","v":""},null,null,{"$f":"IF(Indtastning!U:U=\"Positiv\",1,\"\")","v":""},null,null,null,{"$f":"IF(Indtastning!Y:Y=\"Positiv\",1,\"\")","v":""},null,null,null,{"$f":"IF(Indtastning!AC:AC=\"Positiv\",1,\"\")","v":""},null,null,null,{"$f":"IF(Indtastning!AG:AG=\"Positiv\",1,\"\")","v":""}]
[null,null,null,null,null,null,null,null,null,null,null,null,null,null,null,null,null,null,null,null,null,null,null,null,null,null,null,null,null,null,null,null,null,null,null,null,null,null,null,null,null,null,null,null,null,{"$f":"IF(Indtastning!Y:Y=\"Ikke Aflagt\",1,\"\")","v":""},null,null,{"$f":"IF(Indtastning!U:U=\"Positiv\",1,\"\")","v":""},null,null,null,{"$f":"IF(Indtastning!Y:Y=\"Positiv\",1,\"\")","v":""},null,null,null,{"$f":"IF(Indtastning!AC:AC=\"Positiv\",1,\"\")","v":""},null,null,null,{"$f":"IF(Indtastning!AG:AG=\"Positiv\",1,\"\")","v":""}]
[null,null,null,null,null,null,null,null,null,null,null,null,null,null,null,null,null,null,null,null,null,null,null,null,null,null,null,null,null,null,null,null,null,null,null,null,null,null,null,null,null,null,null,null,null,{"$f":"IF(Indtastning!Y:Y=\"Ikke Aflagt\",1,\"\")","v":""},null,null,{"$f":"IF(Indtastning!U:U=\"Positiv\",1,\"\")","v":""},null,null,null,{"$f":"IF(Indtastning!Y:Y=\"Positiv\",1,\"\")","v":""},null,null,null,{"$f":"IF(Indtastning!AC:AC=\"Positiv\",1,\"\")","v":""},null,null,null,{"$f":"IF(Indtastning!AG:AG=\"Positiv\",1,\"\")","v":""}]
[null,null,null,null,null,null,null,null,null,null,null,null,null,null,null,null,null,null,null,null,null,null,null,null,null,null,null,null,null,null,null,null,null,null,null,null,null,null,null,null,null,null,null,null,null,{"$f":"IF(Indtastning!Y:Y=\"Ikke Aflagt\",1,\"\")","v":""},null,null,{"$f":"IF(Indtastning!U:U=\"Positiv\",1,\"\")","v":""},null,null,null,{"$f":"IF(Indtastning!Y:Y=\"Positiv\",1,\"\")","v":""},null,null,null,{"$f":"IF(Indtastning!AC:AC=\"Positiv\",1,\"\")","v":""},null,null,null,{"$f":"IF(Indtastning!AG:AG=\"Positiv\",1,\"\")","v":""}]
[null,null,null,null,null,null,null,null,null,null,null,null,null,null,null,null,null,null,null,null,null,null,null,null,null,null,null,null,null,null,null,null,null,null,null,null,null,null,null,null,null,null,null,null,null,{"$f":"IF(Indtastning!Y:Y=\"Ikke Aflagt\",1,\"\")","v":""},null,null,{"$f":"IF(Indtastning!U:U=\"Positiv\",1,\"\")","v":""},null,null,null,{"$f":"IF(Indtastning!Y:Y=\"Positiv\",1,\"\")","v":""},null,null,null,{"$f":"IF(Indtastning!AC:AC=\"Positiv\",1,\"\")","v":""},null,null,null,{"$f":"IF(Indtastning!AG:AG=\"Positiv\",1,\"\")","v":""}]
[null,null,null,null,null,null,null,null,null,null,null,null,null,null,null,null,null,null,null,null,null,null,null,null,null,null,null,null,null,null,null,null,null,null,null,null,null,null,null,null,null,null,null,null,null,{"$f":"IF(Indtastning!Y:Y=\"Ikke Aflagt\",1,\"\")","v":""},null,null,{"$f":"IF(Indtastning!U:U=\"Positiv\",1,\"\")","v":""},null,null,null,{"$f":"IF(Indtastning!Y:Y=\"Positiv\",1,\"\")","v":""},null,null,null,{"$f":"IF(Indtastning!AC:AC=\"Positiv\",1,\"\")","v":""},null,null,null,{"$f":"IF(Indtastning!AG:AG=\"Positiv\",1,\"\")","v":""}]
[null,null,null,null,null,null,null,null,null,null,null,null,null,null,null,null,null,null,null,null,null,null,null,null,null,null,null,null,null,null,null,null,null,null,null,null,null,null,null,null,null,null,null,null,null,{"$f":"IF(Indtastning!Y:Y=\"Ikke Aflagt\",1,\"\")","v":""},null,null,{"$f":"IF(Indtastning!U:U=\"Positiv\",1,\"\")","v":""},null,null,null,{"$f":"IF(Indtastning!Y:Y=\"Positiv\",1,\"\")","v":""},null,null,null,{"$f":"IF(Indtastning!AC:AC=\"Positiv\",1,\"\")","v":""},null,null,null,{"$f":"IF(Indtastning!AG:AG=\"Positiv\",1,\"\")","v":""}]
[null,null,null,null,null,null,null,null,null,null,null,null,null,null,null,null,null,null,null,null,null,null,null,null,null,null,null,null,null,null,null,null,null,null,null,null,null,null,null,null,null,null,null,null,null,{"$f":"IF(Indtastning!Y:Y=\"Ikke Aflagt\",1,\"\")","v":""},null,null,{"$f":"IF(Indtastning!U:U=\"Positiv\",1,\"\")","v":""},null,null,null,{"$f":"IF(Indtastning!Y:Y=\"Positiv\",1,\"\")","v":""},null,null,null,{"$f":"IF(Indtastning!AC:AC=\"Positiv\",1,\"\")","v":""},null,null,null,{"$f":"IF(Indtastning!AG:AG=\"Positiv\",1,\"\")","v":""}]
[null,null,null,null,null,null,null,null,null,null,null,null,null,null,null,null,null,null,null,null,null,null,null,null,null,null,null,null,null,null,null,null,null,null,null,null,null,null,null,null,null,null,null,null,null,{"$f":"IF(Indtastning!Y:Y=\"Ikke Aflagt\",1,\"\")","v":""},null,null,{"$f":"IF(Indtastning!U:U=\"Positiv\",1,\"\")","v":""},null,null,null,{"$f":"IF(Indtastning!Y:Y=\"Positiv\",1,\"\")","v":""},null,null,null,{"$f":"IF(Indtastning!AC:AC=\"Positiv\",1,\"\")","v":""},null,null,null,{"$f":"IF(Indtastning!AG:AG=\"Positiv\",1,\"\")","v":""}]
[null,null,null,null,null,null,null,null,null,null,null,null,null,null,null,null,null,null,null,null,null,null,null,null,null,null,null,null,null,null,null,null,null,null,null,null,null,null,null,null,null,null,null,null,null,{"$f":"IF(Indtastning!Y:Y=\"Ikke Aflagt\",1,\"\")","v":""},null,null,{"$f":"IF(Indtastning!U:U=\"Positiv\",1,\"\")","v":""},null,null,null,{"$f":"IF(Indtastning!Y:Y=\"Positiv\",1,\"\")","v":""},null,null,null,{"$f":"IF(Indtastning!AC:AC=\"Positiv\",1,\"\")","v":""},null,null,null,{"$f":"IF(Indtastning!AG:AG=\"Positiv\",1,\"\")","v":""}]
[null,null,null,null,null,null,null,null,null,null,null,null,null,null,null,null,null,null,null,null,null,null,null,null,null,null,null,null,null,null,null,null,null,null,null,null,null,null,null,null,null,null,null,null,null,{"$f":"IF(Indtastning!Y:Y=\"Ikke Aflagt\",1,\"\")","v":""},null,null,{"$f":"IF(Indtastning!U:U=\"Positiv\",1,\"\")","v":""},null,null,null,{"$f":"IF(Indtastning!Y:Y=\"Positiv\",1,\"\")","v":""},null,null,null,{"$f":"IF(Indtastning!AC:AC=\"Positiv\",1,\"\")","v":""},null,null,null,{"$f":"IF(Indtastning!AG:AG=\"Positiv\",1,\"\")","v":""}]
[null,null,null,null,null,null,null,null,null,null,null,null,null,null,null,null,null,null,null,null,null,null,null,null,null,null,null,null,null,null,null,null,null,null,null,null,null,null,null,null,null,null,null,null,null,{"$f":"IF(Indtastning!Y:Y=\"Ikke Aflagt\",1,\"\")","v":""},null,null,{"$f":"IF(Indtastning!U:U=\"Positiv\",1,\"\")","v":""},null,null,null,{"$f":"IF(Indtastning!Y:Y=\"Positiv\",1,\"\")","v":""},null,null,null,{"$f":"IF(Indtastning!AC:AC=\"Positiv\",1,\"\")","v":""},null,null,null,{"$f":"IF(Indtastning!AG:AG=\"Positiv\",1,\"\")","v":""}]
[null,null,null,null,null,null,null,null,null,null,null,null,null,null,null,null,null,null,null,null,null,null,null,null,null,null,null,null,null,null,null,null,null,null,null,null,null,null,null,null,null,null,null,null,null,{"$f":"IF(Indtastning!Y:Y=\"Ikke Aflagt\",1,\"\")","v":""},null,null,{"$f":"IF(Indtastning!U:U=\"Positiv\",1,\"\")","v":""},null,null,null,{"$f":"IF(Indtastning!Y:Y=\"Positiv\",1,\"\")","v":""},null,null,null,{"$f":"IF(Indtastning!AC:AC=\"Positiv\",1,\"\")","v":""},null,null,null,{"$f":"IF(Indtastning!AG:AG=\"Positiv\",1,\"\")","v":""}]
[null,null,null,null,null,null,null,null,null,null,null,null,null,null,null,null,null,null,null,null,null,null,null,null,null,null,null,null,null,null,null,null,null,null,null,null,null,null,null,null,null,null,null,null,null,{"$f":"IF(Indtastning!Y:Y=\"Ikke Aflagt\",1,\"\")","v":""},null,null,{"$f":"IF(Indtastning!U:U=\"Positiv\",1,\"\")","v":""},null,null,null,{"$f":"IF(Indtastning!Y:Y=\"Positiv\",1,\"\")","v":""},null,null,null,{"$f":"IF(Indtastning!AC:AC=\"Positiv\",1,\"\")","v":""},null,null,null,{"$f":"IF(Indtastning!AG:AG=\"Positiv\",1,\"\")","v":""}]
[null,null,null,null,null,null,null,null,null,null,null,null,null,null,null,null,null,null,null,null,null,null,null,null,null,null,null,null,null,null,null,null,null,null,null,null,null,null,null,null,null,null,null,null,null,{"$f":"IF(Indtastning!Y:Y=\"Ikke Aflagt\",1,\"\")","v":""},null,null,{"$f":"IF(Indtastning!U:U=\"Positiv\",1,\"\")","v":""},null,null,null,{"$f":"IF(Indtastning!Y:Y=\"Positiv\",1,\"\")","v":""},null,null,null,{"$f":"IF(Indtastning!AC:AC=\"Positiv\",1,\"\")","v":""},null,null,null,{"$f":"IF(Indtastning!AG:AG=\"Positiv\",1,\"\")","v":""}]
[null,null,null,null,null,null,null,null,null,null,null,null,null,null,null,null,null,null,null,null,null,null,null,null,null,null,null,null,null,null,null,null,null,null,null,null,null,null,null,null,null,null,null,null,null,{"$f":"IF(Indtastning!Y:Y=\"Ikke Aflagt\",1,\"\")","v":""},null,null,{"$f":"IF(Indtastning!U:U=\"Positiv\",1,\"\")","v":""},null,null,null,{"$f":"IF(Indtastning!Y:Y=\"Positiv\",1,\"\")","v":""},null,null,null,{"$f":"IF(Indtastning!AC:AC=\"Positiv\",1,\"\")","v":""},null,null,null,{"$f":"IF(Indtastning!AG:AG=\"Positiv\",1,\"\")","v":""}]
[null,null,null,null,null,null,null,null,null,null,null,null,null,null,null,null,null,null,null,null,null,null,null,null,null,null,null,null,null,null,null,null,null,null,null,null,null,null,null,null,null,null,null,null,null,{"$f":"IF(Indtastning!Y:Y=\"Ikke Aflagt\",1,\"\")","v":""},null,null,{"$f":"IF(Indtastning!U:U=\"Positiv\",1,\"\")","v":""},null,null,null,{"$f":"IF(Indtastning!Y:Y=\"Positiv\",1,\"\")","v":""},null,null,null,{"$f":"IF(Indtastning!AC:AC=\"Positiv\",1,\"\")","v":""},null,null,null,{"$f":"IF(Indtastning!AG:AG=\"Positiv\",1,\"\")","v":""}]
[null,null,null,null,null,null,null,null,null,null,null,null,null,null,null,null,null,null,null,null,null,null,null,null,null,null,null,null,null,null,null,null,null,null,null,null,null,null,null,null,null,null,null,null,null,{"$f":"IF(Indtastning!Y:Y=\"Ikke Aflagt\",1,\"\")","v":""},null,null,{"$f":"IF(Indtastning!U:U=\"Positiv\",1,\"\")","v":""},null,null,null,{"$f":"IF(Indtastning!Y:Y=\"Positiv\",1,\"\")","v":""},null,null,null,{"$f":"IF(Indtastning!AC:AC=\"Positiv\",1,\"\")","v":""},null,null,null,{"$f":"IF(Indtastning!AG:AG=\"Positiv\",1,\"\")","v":""}]
[null,null,null,null,null,null,null,null,null,null,null,null,null,null,null,null,null,null,null,null,null,null,null,null,null,null,null,null,null,null,null,null,null,null,null,null,null,null,null,null,null,null,null,null,null,{"$f":"IF(Indtastning!Y:Y=\"Ikke Aflagt\",1,\"\")","v":""},null,null,{"$f":"IF(Indtastning!U:U=\"Positiv\",1,\"\")","v":""},null,null,null,{"$f":"IF(Indtastning!Y:Y=\"Positiv\",1,\"\")","v":""},null,null,null,{"$f":"IF(Indtastning!AC:AC=\"Positiv\",1,\"\")","v":""},null,null,null,{"$f":"IF(Indtastning!AG:AG=\"Positiv\",1,\"\")","v":""}]
[null,null,null,null,null,null,null,null,null,null,null,null,null,null,null,null,null,null,null,null,null,null,null,null,null,null,null,null,null,null,null,null,null,null,null,null,null,null,null,null,null,null,null,null,null,{"$f":"IF(Indtastning!Y:Y=\"Ikke Aflagt\",1,\"\")","v":""},null,null,{"$f":"IF(Indtastning!U:U=\"Positiv\",1,\"\")","v":""},null,null,null,{"$f":"IF(Indtastning!Y:Y=\"Positiv\",1,\"\")","v":""},null,null,null,{"$f":"IF(Indtastning!AC:AC=\"Positiv\",1,\"\")","v":""},null,null,null,{"$f":"IF(Indtastning!AG:AG=\"Positiv\",1,\"\")","v":""}]
[null,null,null,null,null,null,null,null,null,null,null,null,null,null,null,null,null,null,null,null,null,null,null,null,null,null,null,null,null,null,null,null,null,null,null,null,null,null,null,null,null,null,null,null,null,{"$f":"IF(Indtastning!Y:Y=\"Ikke Aflagt\",1,\"\")","v":""},null,null,{"$f":"IF(Indtastning!U:U=\"Positiv\",1,\"\")","v":""},null,null,null,{"$f":"IF(Indtastning!Y:Y=\"Positiv\",1,\"\")","v":""},null,null,null,{"$f":"IF(Indtastning!AC:AC=\"Positiv\",1,\"\")","v":""},null,null,null,{"$f":"IF(Indtastning!AG:AG=\"Positiv\",1,\"\")","v":""}]
[null,null,null,null,null,null,null,null,null,null,null,null,null,null,null,null,null,null,null,null,null,null,null,null,null,null,null,null,null,null,null,null,null,null,null,null,null,null,null,null,null,null,null,null,null,{"$f":"IF(Indtastning!Y:Y=\"Ikke Aflagt\",1,\"\")","v":""},null,null,{"$f":"IF(Indtastning!U:U=\"Positiv\",1,\"\")","v":""},null,null,null,{"$f":"IF(Indtastning!Y:Y=\"Positiv\",1,\"\")","v":""},null,null,null,{"$f":"IF(Indtastning!AC:AC=\"Positiv\",1,\"\")","v":""},null,null,null,{"$f":"IF(Indtastning!AG:AG=\"Positiv\",1,\"\")","v":""}]
[null,null,null,null,null,null,null,null,null,null,null,null,null,null,null,null,null,null,null,null,null,null,null,null,null,null,null,null,null,null,null,null,null,null,null,null,null,null,null,null,null,null,null,null,null,{"$f":"IF(Indtastning!Y:Y=\"Ikke Aflagt\",1,\"\")","v":""},null,null,{"$f":"IF(Indtastning!U:U=\"Positiv\",1,\"\")","v":""},null,null,null,{"$f":"IF(Indtastning!Y:Y=\"Positiv\",1,\"\")","v":""},null,null,null,{"$f":"IF(Indtastning!AC:AC=\"Positiv\",1,\"\")","v":""},null,null,null,{"$f":"IF(Indtastning!AG:AG=\"Positiv\",1,\"\")","v":""}]
[null,null,null,null,null,null,null,null,null,null,null,null,null,null,null,null,null,null,null,null,null,null,null,null,null,null,null,null,null,null,null,null,null,null,null,null,null,null,null,null,null,null,null,null,null,{"$f":"IF(Indtastning!Y:Y=\"Ikke Aflagt\",1,\"\")","v":""},null,null,{"$f":"IF(Indtastning!U:U=\"Positiv\",1,\"\")","v":""},null,null,null,{"$f":"IF(Indtastning!Y:Y=\"Positiv\",1,\"\")","v":""},null,null,null,{"$f":"IF(Indtastning!AC:AC=\"Positiv\",1,\"\")","v":""},null,null,null,{"$f":"IF(Indtastning!AG:AG=\"Positiv\",1,\"\")","v":""}]
[null,null,null,null,null,null,null,null,null,null,null,null,null,null,null,null,null,null,null,null,null,null,null,null,null,null,null,null,null,null,null,null,null,null,null,null,null,null,null,null,null,null,null,null,null,{"$f":"IF(Indtastning!Y:Y=\"Ikke Aflagt\",1,\"\")","v":""},null,null,{"$f":"IF(Indtastning!U:U=\"Positiv\",1,\"\")","v":""},null,null,null,{"$f":"IF(Indtastning!Y:Y=\"Positiv\",1,\"\")","v":""},null,null,null,{"$f":"IF(Indtastning!AC:AC=\"Positiv\",1,\"\")","v":""},null,null,null,{"$f":"IF(Indtastning!AG:AG=\"Positiv\",1,\"\")","v":""}]
[null,null,null,null,null,null,null,null,null,null,null,null,null,null,null,null,null,null,null,null,null,null,null,null,null,null,null,null,null,null,null,null,null,null,null,null,null,null,null,null,null,null,null,null,null,{"$f":"IF(Indtastning!Y:Y=\"Ikke Aflagt\",1,\"\")","v":""},null,null,{"$f":"IF(Indtastning!U:U=\"Positiv\",1,\"\")","v":""},null,null,null,{"$f":"IF(Indtastning!Y:Y=\"Positiv\",1,\"\")","v":""},null,null,null,{"$f":"IF(Indtastning!AC:AC=\"Positiv\",1,\"\")","v":""},null,null,null,{"$f":"IF(Indtastning!AG:AG=\"Positiv\",1,\"\")","v":""}]
[null,null,null,null,null,null,null,null,null,null,null,null,null,null,null,null,null,null,null,null,null,null,null,null,null,null,null,null,null,null,null,null,null,null,null,null,null,null,null,null,null,null,null,null,null,{"$f":"IF(Indtastning!Y:Y=\"Ikke Aflagt\",1,\"\")","v":""},null,null,{"$f":"IF(Indtastning!U:U=\"Positiv\",1,\"\")","v":""},null,null,null,{"$f":"IF(Indtastning!Y:Y=\"Positiv\",1,\"\")","v":""},null,null,null,{"$f":"IF(Indtastning!AC:AC=\"Positiv\",1,\"\")","v":""},null,null,null,{"$f":"IF(Indtastning!AG:AG=\"Positiv\",1,\"\")","v":""}]
[null,null,null,null,null,null,null,null,null,null,null,null,null,null,null,null,null,null,null,null,null,null,null,null,null,null,null,null,null,null,null,null,null,null,null,null,null,null,null,null,null,null,null,null,null,{"$f":"IF(Indtastning!Y:Y=\"Ikke Aflagt\",1,\"\")","v":""},null,null,{"$f":"IF(Indtastning!U:U=\"Positiv\",1,\"\")","v":""},null,null,null,{"$f":"IF(Indtastning!Y:Y=\"Positiv\",1,\"\")","v":""},null,null,null,{"$f":"IF(Indtastning!AC:AC=\"Positiv\",1,\"\")","v":""},null,null,null,{"$f":"IF(Indtastning!AG:AG=\"Positiv\",1,\"\")","v":""}]
[null,null,null,null,null,null,null,null,null,null,null,null,null,null,null,null,null,null,null,null,null,null,null,null,null,null,null,null,null,null,null,null,null,null,null,null,null,null,null,null,null,null,null,null,null,{"$f":"IF(Indtastning!Y:Y=\"Ikke Aflagt\",1,\"\")","v":""},null,null,{"$f":"IF(Indtastning!U:U=\"Positiv\",1,\"\")","v":""},null,null,null,{"$f":"IF(Indtastning!Y:Y=\"Positiv\",1,\"\")","v":""},null,null,null,{"$f":"IF(Indtastning!AC:AC=\"Positiv\",1,\"\")","v":""},null,null,null,{"$f":"IF(Indtastning!AG:AG=\"Positiv\",1,\"\")","v":""}]
[null,null,null,null,null,null,null,null,null,null,null,null,null,null,null,null,null,null,null,null,null,null,null,null,null,null,null,null,null,null,null,null,null,null,null,null,null,null,null,null,null,null,null,null,null,{"$f":"IF(Indtastning!Y:Y=\"Ikke Aflagt\",1,\"\")","v":""},null,null,{"$f":"IF(Indtastning!U:U=\"Positiv\",1,\"\")","v":""},null,null,null,{"$f":"IF(Indtastning!Y:Y=\"Positiv\",1,\"\")","v":""},null,null,null,{"$f":"IF(Indtastning!AC:AC=\"Positiv\",1,\"\")","v":""},null,null,null,{"$f":"IF(Indtastning!AG:AG=\"Positiv\",1,\"\")","v":""}]
[null,null,null,null,null,null,null,null,null,null,null,null,null,null,null,null,null,null,null,null,null,null,null,null,null,null,null,null,null,null,null,null,null,null,null,null,null,null,null,null,null,null,null,null,null,{"$f":"IF(Indtastning!Y:Y=\"Ikke Aflagt\",1,\"\")","v":""},null,null,{"$f":"IF(Indtastning!U:U=\"Positiv\",1,\"\")","v":""},null,null,null,{"$f":"IF(Indtastning!Y:Y=\"Positiv\",1,\"\")","v":""},null,null,null,{"$f":"IF(Indtastning!AC:AC=\"Positiv\",1,\"\")","v":""},null,null,null,{"$f":"IF(Indtastning!AG:AG=\"Positiv\",1,\"\")","v":""}]
[null,null,null,null,null,null,null,null,null,null,null,null,null,null,null,null,null,null,null,null,null,null,null,null,null,null,null,null,null,null,null,null,null,null,null,null,null,null,null,null,null,null,null,null,null,{"$f":"IF(Indtastning!Y:Y=\"Ikke Aflagt\",1,\"\")","v":""},null,null,{"$f":"IF(Indtastning!U:U=\"Positiv\",1,\"\")","v":""},null,null,null,{"$f":"IF(Indtastning!Y:Y=\"Positiv\",1,\"\")","v":""},null,null,null,{"$f":"IF(Indtastning!AC:AC=\"Positiv\",1,\"\")","v":""},null,null,null,{"$f":"IF(Indtastning!AG:AG=\"Positiv\",1,\"\")","v":""}]
[null,null,null,null,null,null,null,null,null,null,null,null,null,null,null,null,null,null,null,null,null,null,null,null,null,null,null,null,null,null,null,null,null,null,null,null,null,null,null,null,null,null,null,null,null,{"$f":"IF(Indtastning!Y:Y=\"Ikke Aflagt\",1,\"\")","v":""},null,null,{"$f":"IF(Indtastning!U:U=\"Positiv\",1,\"\")","v":""},null,null,null,{"$f":"IF(Indtastning!Y:Y=\"Positiv\",1,\"\")","v":""},null,null,null,{"$f":"IF(Indtastning!AC:AC=\"Positiv\",1,\"\")","v":""},null,null,null,{"$f":"IF(Indtastning!AG:AG=\"Positiv\",1,\"\")","v":""}]
[null,null,null,null,null,null,null,null,null,null,null,null,null,null,null,null,null,null,null,null,null,null,null,null,null,null,null,null,null,null,null,null,null,null,null,null,null,null,null,null,null,null,null,null,null,{"$f":"IF(Indtastning!Y:Y=\"Ikke Aflagt\",1,\"\")","v":""},null,null,{"$f":"IF(Indtastning!U:U=\"Positiv\",1,\"\")","v":""},null,null,null,{"$f":"IF(Indtastning!Y:Y=\"Positiv\",1,\"\")","v":""},null,null,null,{"$f":"IF(Indtastning!AC:AC=\"Positiv\",1,\"\")","v":""},null,null,null,{"$f":"IF(Indtastning!AG:AG=\"Positiv\",1,\"\")","v":""}]
[null,null,null,null,null,null,null,null,null,null,null,null,null,null,null,null,null,null,null,null,null,null,null,null,null,null,null,null,null,null,null,null,null,null,null,null,null,null,null,null,null,null,null,null,null,{"$f":"IF(Indtastning!Y:Y=\"Ikke Aflagt\",1,\"\")","v":""},null,null,{"$f":"IF(Indtastning!U:U=\"Positiv\",1,\"\")","v":""},null,null,null,{"$f":"IF(Indtastning!Y:Y=\"Positiv\",1,\"\")","v":""},null,null,null,{"$f":"IF(Indtastning!AC:AC=\"Positiv\",1,\"\")","v":""},null,null,null,{"$f":"IF(Indtastning!AG:AG=\"Positiv\",1,\"\")","v":""}]
[null,null,null,null,null,null,null,null,null,null,null,null,null,null,null,null,null,null,null,null,null,null,null,null,null,null,null,null,null,null,null,null,null,null,null,null,null,null,null,null,null,null,null,null,null,{"$f":"IF(Indtastning!Y:Y=\"Ikke Aflagt\",1,\"\")","v":""},null,null,{"$f":"IF(Indtastning!U:U=\"Positiv\",1,\"\")","v":""},null,null,null,{"$f":"IF(Indtastning!Y:Y=\"Positiv\",1,\"\")","v":""},null,null,null,{"$f":"IF(Indtastning!AC:AC=\"Positiv\",1,\"\")","v":""},null,null,null,{"$f":"IF(Indtastning!AG:AG=\"Positiv\",1,\"\")","v":""}]
[null,null,null,null,null,null,null,null,null,null,null,null,null,null,null,null,null,null,null,null,null,null,null,null,null,null,null,null,null,null,null,null,null,null,null,null,null,null,null,null,null,null,null,null,null,{"$f":"IF(Indtastning!Y:Y=\"Ikke Aflagt\",1,\"\")","v":""},null,null,{"$f":"IF(Indtastning!U:U=\"Positiv\",1,\"\")","v":""},null,null,null,{"$f":"IF(Indtastning!Y:Y=\"Positiv\",1,\"\")","v":""},null,null,null,{"$f":"IF(Indtastning!AC:AC=\"Positiv\",1,\"\")","v":""},null,null,null,{"$f":"IF(Indtastning!AG:AG=\"Positiv\",1,\"\")","v":""}]
[null,null,null,null,null,null,null,null,null,null,null,null,null,null,null,null,null,null,null,null,null,null,null,null,null,null,null,null,null,null,null,null,null,null,null,null,null,null,null,null,null,null,null,null,null,{"$f":"IF(Indtastning!Y:Y=\"Ikke Aflagt\",1,\"\")","v":""},null,null,{"$f":"IF(Indtastning!U:U=\"Positiv\",1,\"\")","v":""},null,null,null,{"$f":"IF(Indtastning!Y:Y=\"Positiv\",1,\"\")","v":""},null,null,null,{"$f":"IF(Indtastning!AC:AC=\"Positiv\",1,\"\")","v":""},null,null,null,{"$f":"IF(Indtastning!AG:AG=\"Positiv\",1,\"\")","v":""}]
[null,null,null,null,null,null,null,null,null,null,null,null,null,null,null,null,null,null,null,null,null,null,null,null,null,null,null,null,null,null,null,null,null,null,null,null,null,null,null,null,null,null,null,null,null,{"$f":"IF(Indtastning!Y:Y=\"Ikke Aflagt\",1,\"\")","v":""},null,null,{"$f":"IF(Indtastning!U:U=\"Positiv\",1,\"\")","v":""},null,null,null,{"$f":"IF(Indtastning!Y:Y=\"Positiv\",1,\"\")","v":""},null,null,null,{"$f":"IF(Indtastning!AC:AC=\"Positiv\",1,\"\")","v":""},null,null,null,{"$f":"IF(Indtastning!AG:AG=\"Positiv\",1,\"\")","v":""}]
[null,null,null,null,null,null,null,null,null,null,null,null,null,null,null,null,null,null,null,null,null,null,null,null,null,null,null,null,null,null,null,null,null,null,null,null,null,null,null,null,null,null,null,null,null,{"$f":"IF(Indtastning!Y:Y=\"Ikke Aflagt\",1,\"\")","v":""},null,null,{"$f":"IF(Indtastning!U:U=\"Positiv\",1,\"\")","v":""},null,null,null,{"$f":"IF(Indtastning!Y:Y=\"Positiv\",1,\"\")","v":""},null,null,null,{"$f":"IF(Indtastning!AC:AC=\"Positiv\",1,\"\")","v":""},null,null,null,{"$f":"IF(Indtastning!AG:AG=\"Positiv\",1,\"\")","v":""}]
[null,null,null,null,null,null,null,null,null,null,null,null,null,null,null,null,null,null,null,null,null,null,null,null,null,null,null,null,null,null,null,null,null,null,null,null,null,null,null,null,null,null,null,null,null,{"$f":"IF(Indtastning!Y:Y=\"Ikke Aflagt\",1,\"\")","v":""},null,null,{"$f":"IF(Indtastning!U:U=\"Positiv\",1,\"\")","v":""},null,null,null,{"$f":"IF(Indtastning!Y:Y=\"Positiv\",1,\"\")","v":""},null,null,null,{"$f":"IF(Indtastning!AC:AC=\"Positiv\",1,\"\")","v":""},null,null,null,{"$f":"IF(Indtastning!AG:AG=\"Positiv\",1,\"\")","v":""}]
[null,null,null,null,null,null,null,null,null,null,null,null,null,null,null,null,null,null,null,null,null,null,null,null,null,null,null,null,null,null,null,null,null,null,null,null,null,null,null,null,null,null,null,null,null,{"$f":"IF(Indtastning!Y:Y=\"Ikke Aflagt\",1,\"\")","v":""},null,null,{"$f":"IF(Indtastning!U:U=\"Positiv\",1,\"\")","v":""},null,null,null,{"$f":"IF(Indtastning!Y:Y=\"Positiv\",1,\"\")","v":""},null,null,null,{"$f":"IF(Indtastning!AC:AC=\"Positiv\",1,\"\")","v":""},null,null,null,{"$f":"IF(Indtastning!AG:AG=\"Positiv\",1,\"\")","v":""}]
[null,null,null,null,null,null,null,null,null,null,null,null,null,null,null,null,null,null,null,null,null,null,null,null,null,null,null,null,null,null,null,null,null,null,null,null,null,null,null,null,null,null,null,null,null,{"$f":"IF(Indtastning!Y:Y=\"Ikke Aflagt\",1,\"\")","v":""},null,null,{"$f":"IF(Indtastning!U:U=\"Positiv\",1,\"\")","v":""},null,null,null,{"$f":"IF(Indtastning!Y:Y=\"Positiv\",1,\"\")","v":""},null,null,null,{"$f":"IF(Indtastning!AC:AC=\"Positiv\",1,\"\")","v":""},null,null,null,{"$f":"IF(Indtastning!AG:AG=\"Positiv\",1,\"\")","v":""}]
[null,null,null,null,null,null,null,null,null,null,null,null,null,null,null,null,null,null,null,null,null,null,null,null,null,null,null,null,null,null,null,null,null,null,null,null,null,null,null,null,null,null,null,null,null,{"$f":"IF(Indtastning!Y:Y=\"Ikke Aflagt\",1,\"\")","v":""},null,null,{"$f":"IF(Indtastning!U:U=\"Positiv\",1,\"\")","v":""},null,null,null,{"$f":"IF(Indtastning!Y:Y=\"Positiv\",1,\"\")","v":""},null,null,null,{"$f":"IF(Indtastning!AC:AC=\"Positiv\",1,\"\")","v":""},null,null,null,{"$f":"IF(Indtastning!AG:AG=\"Positiv\",1,\"\")","v":""}]
[null,null,null,null,null,null,null,null,null,null,null,null,null,null,null,null,null,null,null,null,null,null,null,null,null,null,null,null,null,null,null,null,null,null,null,null,null,null,null,null,null,null,null,null,null,{"$f":"IF(Indtastning!Y:Y=\"Ikke Aflagt\",1,\"\")","v":""},null,null,{"$f":"IF(Indtastning!U:U=\"Positiv\",1,\"\")","v":""},null,null,null,{"$f":"IF(Indtastning!Y:Y=\"Positiv\",1,\"\")","v":""},null,null,null,{"$f":"IF(Indtastning!AC:AC=\"Positiv\",1,\"\")","v":""},null,null,null,{"$f":"IF(Indtastning!AG:AG=\"Positiv\",1,\"\")","v":""}]
[null,null,null,null,null,null,null,null,null,null,null,null,null,null,null,null,null,null,null,null,null,null,null,null,null,null,null,null,null,null,null,null,null,null,null,null,null,null,null,null,null,null,null,null,null,{"$f":"IF(Indtastning!Y:Y=\"Ikke Aflagt\",1,\"\")","v":""},null,null,{"$f":"IF(Indtastning!U:U=\"Positiv\",1,\"\")","v":""},null,null,null,{"$f":"IF(Indtastning!Y:Y=\"Positiv\",1,\"\")","v":""},null,null,null,{"$f":"IF(Indtastning!AC:AC=\"Positiv\",1,\"\")","v":""},null,null,null,{"$f":"IF(Indtastning!AG:AG=\"Positiv\",1,\"\")","v":""}]
[null,null,null,null,null,null,null,null,null,null,null,null,null,null,null,null,null,null,null,null,null,null,null,null,null,null,null,null,null,null,null,null,null,null,null,null,null,null,null,null,null,null,null,null,null,{"$f":"IF(Indtastning!Y:Y=\"Ikke Aflagt\",1,\"\")","v":""},null,null,{"$f":"IF(Indtastning!U:U=\"Positiv\",1,\"\")","v":""},null,null,null,{"$f":"IF(Indtastning!Y:Y=\"Positiv\",1,\"\")","v":""},null,null,null,{"$f":"IF(Indtastning!AC:AC=\"Positiv\",1,\"\")","v":""},null,null,null,{"$f":"IF(Indtastning!AG:AG=\"Positiv\",1,\"\")","v":""}]
[null,null,null,null,null,null,null,null,null,null,null,null,null,null,null,null,null,null,null,null,null,null,null,null,null,null,null,null,null,null,null,null,null,null,null,null,null,null,null,null,null,null,null,null,null,{"$f":"IF(Indtastning!Y:Y=\"Ikke Aflagt\",1,\"\")","v":""},null,null,{"$f":"IF(Indtastning!U:U=\"Positiv\",1,\"\")","v":""},null,null,null,{"$f":"IF(Indtastning!Y:Y=\"Positiv\",1,\"\")","v":""},null,null,null,{"$f":"IF(Indtastning!AC:AC=\"Positiv\",1,\"\")","v":""},null,null,null,{"$f":"IF(Indtastning!AG:AG=\"Positiv\",1,\"\")","v":""}]
[null,null,null,null,null,null,null,null,null,null,null,null,null,null,null,null,null,null,null,null,null,null,null,null,null,null,null,null,null,null,null,null,null,null,null,null,null,null,null,null,null,null,null,null,null,{"$f":"IF(Indtastning!Y:Y=\"Ikke Aflagt\",1,\"\")","v":""},null,null,{"$f":"IF(Indtastning!U:U=\"Positiv\",1,\"\")","v":""},null,null,null,{"$f":"IF(Indtastning!Y:Y=\"Positiv\",1,\"\")","v":""},null,null,null,{"$f":"IF(Indtastning!AC:AC=\"Positiv\",1,\"\")","v":""},null,null,null,{"$f":"IF(Indtastning!AG:AG=\"Positiv\",1,\"\")","v":""}]
[null,null,null,null,null,null,null,null,null,null,null,null,null,null,null,null,null,null,null,null,null,null,null,null,null,null,null,null,null,null,null,null,null,null,null,null,null,null,null,null,null,null,null,null,null,{"$f":"IF(Indtastning!Y:Y=\"Ikke Aflagt\",1,\"\")","v":""},null,null,{"$f":"IF(Indtastning!U:U=\"Positiv\",1,\"\")","v":""},null,null,null,{"$f":"IF(Indtastning!Y:Y=\"Positiv\",1,\"\")","v":""},null,null,null,{"$f":"IF(Indtastning!AC:AC=\"Positiv\",1,\"\")","v":""},null,null,null,{"$f":"IF(Indtastning!AG:AG=\"Positiv\",1,\"\")","v":""}]
[null,null,null,null,null,null,null,null,null,null,null,null,null,null,null,null,null,null,null,null,null,null,null,null,null,null,null,null,null,null,null,null,null,null,null,null,null,null,null,null,null,null,null,null,null,{"$f":"IF(Indtastning!Y:Y=\"Ikke Aflagt\",1,\"\")","v":""},null,null,{"$f":"IF(Indtastning!U:U=\"Positiv\",1,\"\")","v":""},null,null,null,{"$f":"IF(Indtastning!Y:Y=\"Positiv\",1,\"\")","v":""},null,null,null,{"$f":"IF(Indtastning!AC:AC=\"Positiv\",1,\"\")","v":""},null,null,null,{"$f":"IF(Indtastning!AG:AG=\"Positiv\",1,\"\")","v":""}]
[null,null,null,null,null,null,null,null,null,null,null,null,null,null,null,null,null,null,null,null,null,null,null,null,null,null,null,null,null,null,null,null,null,null,null,null,null,null,null,null,null,null,null,null,null,{"$f":"IF(Indtastning!Y:Y=\"Ikke Aflagt\",1,\"\")","v":""},null,null,{"$f":"IF(Indtastning!U:U=\"Positiv\",1,\"\")","v":""},null,null,null,{"$f":"IF(Indtastning!Y:Y=\"Positiv\",1,\"\")","v":""},null,null,null,{"$f":"IF(Indtastning!AC:AC=\"Positiv\",1,\"\")","v":""},null,null,null,{"$f":"IF(Indtastning!AG:AG=\"Positiv\",1,\"\")","v":""}]
[null,null,null,null,null,null,null,null,null,null,null,null,null,null,null,null,null,null,null,null,null,null,null,null,null,null,null,null,null,null,null,null,null,null,null,null,null,null,null,null,null,null,null,null,null,{"$f":"IF(Indtastning!Y:Y=\"Ikke Aflagt\",1,\"\")","v":""},null,null,{"$f":"IF(Indtastning!U:U=\"Positiv\",1,\"\")","v":""},null,null,null,{"$f":"IF(Indtastning!Y:Y=\"Positiv\",1,\"\")","v":""},null,null,null,{"$f":"IF(Indtastning!AC:AC=\"Positiv\",1,\"\")","v":""},null,null,null,{"$f":"IF(Indtastning!AG:AG=\"Positiv\",1,\"\")","v":""}]
[null,null,null,null,null,null,null,null,null,null,null,null,null,null,null,null,null,null,null,null,null,null,null,null,null,null,null,null,null,null,null,null,null,null,null,null,null,null,null,null,null,null,null,null,null,{"$f":"IF(Indtastning!Y:Y=\"Ikke Aflagt\",1,\"\")","v":""},null,null,{"$f":"IF(Indtastning!U:U=\"Positiv\",1,\"\")","v":""},null,null,null,{"$f":"IF(Indtastning!Y:Y=\"Positiv\",1,\"\")","v":""},null,null,null,{"$f":"IF(Indtastning!AC:AC=\"Positiv\",1,\"\")","v":""},null,null,null,{"$f":"IF(Indtastning!AG:AG=\"Positiv\",1,\"\")","v":""}]
[null,null,null,null,null,null,null,null,null,null,null,null,null,null,null,null,null,null,null,null,null,null,null,null,null,null,null,null,null,null,null,null,null,null,null,null,null,null,null,null,null,null,null,null,null,{"$f":"IF(Indtastning!Y:Y=\"Ikke Aflagt\",1,\"\")","v":""},null,null,{"$f":"IF(Indtastning!U:U=\"Positiv\",1,\"\")","v":""},null,null,null,{"$f":"IF(Indtastning!Y:Y=\"Positiv\",1,\"\")","v":""},null,null,null,{"$f":"IF(Indtastning!AC:AC=\"Positiv\",1,\"\")","v":""},null,null,null,{"$f":"IF(Indtastning!AG:AG=\"Positiv\",1,\"\")","v":""}]
[null,null,null,null,null,null,null,null,null,null,null,null,null,null,null,null,null,null,null,null,null,null,null,null,null,null,null,null,null,null,null,null,null,null,null,null,null,null,null,null,null,null,null,null,null,{"$f":"IF(Indtastning!Y:Y=\"Ikke Aflagt\",1,\"\")","v":""},null,null,{"$f":"IF(Indtastning!U:U=\"Positiv\",1,\"\")","v":""},null,null,null,{"$f":"IF(Indtastning!Y:Y=\"Positiv\",1,\"\")","v":""},null,null,null,{"$f":"IF(Indtastning!AC:AC=\"Positiv\",1,\"\")","v":""},null,null,null,{"$f":"IF(Indtastning!AG:AG=\"Positiv\",1,\"\")","v":""}]
[null,null,null,null,null,null,null,null,null,null,null,null,null,null,null,null,null,null,null,null,null,null,null,null,null,null,null,null,null,null,null,null,null,null,null,null,null,null,null,null,null,null,null,null,null,{"$f":"IF(Indtastning!Y:Y=\"Ikke Aflagt\",1,\"\")","v":""},null,null,{"$f":"IF(Indtastning!U:U=\"Positiv\",1,\"\")","v":""},null,null,null,{"$f":"IF(Indtastning!Y:Y=\"Positiv\",1,\"\")","v":""},null,null,null,{"$f":"IF(Indtastning!AC:AC=\"Positiv\",1,\"\")","v":""},null,null,null,{"$f":"IF(Indtastning!AG:AG=\"Positiv\",1,\"\")","v":""}]
[null,null,null,null,null,null,null,null,null,null,null,null,null,null,null,null,null,null,null,null,null,null,null,null,null,null,null,null,null,null,null,null,null,null,null,null,null,null,null,null,null,null,null,null,null,{"$f":"IF(Indtastning!Y:Y=\"Ikke Aflagt\",1,\"\")","v":""},null,null,{"$f":"IF(Indtastning!U:U=\"Positiv\",1,\"\")","v":""},null,null,null,{"$f":"IF(Indtastning!Y:Y=\"Positiv\",1,\"\")","v":""},null,null,null,{"$f":"IF(Indtastning!AC:AC=\"Positiv\",1,\"\")","v":""},null,null,null,{"$f":"IF(Indtastning!AG:AG=\"Positiv\",1,\"\")","v":""}]
[null,null,null,null,null,null,null,null,null,null,null,null,null,null,null,null,null,null,null,null,null,null,null,null,null,null,null,null,null,null,null,null,null,null,null,null,null,null,null,null,null,null,null,null,null,{"$f":"IF(Indtastning!Y:Y=\"Ikke Aflagt\",1,\"\")","v":""},null,null,{"$f":"IF(Indtastning!U:U=\"Positiv\",1,\"\")","v":""},null,null,null,{"$f":"IF(Indtastning!Y:Y=\"Positiv\",1,\"\")","v":""},null,null,null,{"$f":"IF(Indtastning!AC:AC=\"Positiv\",1,\"\")","v":""},null,null,null,{"$f":"IF(Indtastning!AG:AG=\"Positiv\",1,\"\")","v":""}]
[null,null,null,null,null,null,null,null,null,null,null,null,null,null,null,null,null,null,null,null,null,null,null,null,null,null,null,null,null,null,null,null,null,null,null,null,null,null,null,null,null,null,null,null,null,{"$f":"IF(Indtastning!Y:Y=\"Ikke Aflagt\",1,\"\")","v":""},null,null,{"$f":"IF(Indtastning!U:U=\"Positiv\",1,\"\")","v":""},null,null,null,{"$f":"IF(Indtastning!Y:Y=\"Positiv\",1,\"\")","v":""},null,null,null,{"$f":"IF(Indtastning!AC:AC=\"Positiv\",1,\"\")","v":""},null,null,null,{"$f":"IF(Indtastning!AG:AG=\"Positiv\",1,\"\")","v":""}]
[null,null,null,null,null,null,null,null,null,null,null,null,null,null,null,null,null,null,null,null,null,null,null,null,null,null,null,null,null,null,null,null,null,null,null,null,null,null,null,null,null,null,null,null,null,{"$f":"IF(Indtastning!Y:Y=\"Ikke Aflagt\",1,\"\")","v":""},null,null,{"$f":"IF(Indtastning!U:U=\"Positiv\",1,\"\")","v":""},null,null,null,{"$f":"IF(Indtastning!Y:Y=\"Positiv\",1,\"\")","v":""},null,null,null,{"$f":"IF(Indtastning!AC:AC=\"Positiv\",1,\"\")","v":""},null,null,null,{"$f":"IF(Indtastning!AG:AG=\"Positiv\",1,\"\")","v":""}]
[null,null,null,null,null,null,null,null,null,null,null,null,null,null,null,null,null,null,null,null,null,null,null,null,null,null,null,null,null,null,null,null,null,null,null,null,null,null,null,null,null,null,null,null,null,{"$f":"IF(Indtastning!Y:Y=\"Ikke Aflagt\",1,\"\")","v":""},null,null,{"$f":"IF(Indtastning!U:U=\"Positiv\",1,\"\")","v":""},null,null,null,{"$f":"IF(Indtastning!Y:Y=\"Positiv\",1,\"\")","v":""},null,null,null,{"$f":"IF(Indtastning!AC:AC=\"Positiv\",1,\"\")","v":""},null,null,null,{"$f":"IF(Indtastning!AG:AG=\"Positiv\",1,\"\")","v":""}]
[null,null,null,null,null,null,null,null,null,null,null,null,null,null,null,null,null,null,null,null,null,null,null,null,null,null,null,null,null,null,null,null,null,null,null,null,null,null,null,null,null,null,null,null,null,{"$f":"IF(Indtastning!Y:Y=\"Ikke Aflagt\",1,\"\")","v":""},null,null,{"$f":"IF(Indtastning!U:U=\"Positiv\",1,\"\")","v":""},null,null,null,{"$f":"IF(Indtastning!Y:Y=\"Positiv\",1,\"\")","v":""},null,null,null,{"$f":"IF(Indtastning!AC:AC=\"Positiv\",1,\"\")","v":""},null,null,null,{"$f":"IF(Indtastning!AG:AG=\"Positiv\",1,\"\")","v":""}]
[null,null,null,null,null,null,null,null,null,null,null,null,null,null,null,null,null,null,null,null,null,null,null,null,null,null,null,null,null,null,null,null,null,null,null,null,null,null,null,null,null,null,null,null,null,{"$f":"IF(Indtastning!Y:Y=\"Ikke Aflagt\",1,\"\")","v":""},null,null,{"$f":"IF(Indtastning!U:U=\"Positiv\",1,\"\")","v":""},null,null,null,{"$f":"IF(Indtastning!Y:Y=\"Positiv\",1,\"\")","v":""},null,null,null,{"$f":"IF(Indtastning!AC:AC=\"Positiv\",1,\"\")","v":""},null,null,null,{"$f":"IF(Indtastning!AG:AG=\"Positiv\",1,\"\")","v":""}]
[null,null,null,null,null,null,null,null,null,null,null,null,null,null,null,null,null,null,null,null,null,null,null,null,null,null,null,null,null,null,null,null,null,null,null,null,null,null,null,null,null,null,null,null,null,{"$f":"IF(Indtastning!Y:Y=\"Ikke Aflagt\",1,\"\")","v":""},null,null,{"$f":"IF(Indtastning!U:U=\"Positiv\",1,\"\")","v":""},null,null,null,{"$f":"IF(Indtastning!Y:Y=\"Positiv\",1,\"\")","v":""},null,null,null,{"$f":"IF(Indtastning!AC:AC=\"Positiv\",1,\"\")","v":""},null,null,null,{"$f":"IF(Indtastning!AG:AG=\"Positiv\",1,\"\")","v":""}]
[null,null,null,null,null,null,null,null,null,null,null,null,null,null,null,null,null,null,null,null,null,null,null,null,null,null,null,null,null,null,null,null,null,null,null,null,null,null,null,null,null,null,null,null,null,{"$f":"IF(Indtastning!Y:Y=\"Ikke Aflagt\",1,\"\")","v":""},null,null,{"$f":"IF(Indtastning!U:U=\"Positiv\",1,\"\")","v":""},null,null,null,{"$f":"IF(Indtastning!Y:Y=\"Positiv\",1,\"\")","v":""},null,null,null,{"$f":"IF(Indtastning!AC:AC=\"Positiv\",1,\"\")","v":""},null,null,null,{"$f":"IF(Indtastning!AG:AG=\"Positiv\",1,\"\")","v":""}]
[null,null,null,null,null,null,null,null,null,null,null,null,null,null,null,null,null,null,null,null,null,null,null,null,null,null,null,null,null,null,null,null,null,null,null,null,null,null,null,null,null,null,null,null,null,{"$f":"IF(Indtastning!Y:Y=\"Ikke Aflagt\",1,\"\")","v":""},null,null,{"$f":"IF(Indtastning!U:U=\"Positiv\",1,\"\")","v":""},null,null,null,{"$f":"IF(Indtastning!Y:Y=\"Positiv\",1,\"\")","v":""},null,null,null,{"$f":"IF(Indtastning!AC:AC=\"Positiv\",1,\"\")","v":""},null,null,null,{"$f":"IF(Indtastning!AG:AG=\"Positiv\",1,\"\")","v":""}]
[null,null,null,null,null,null,null,null,null,null,null,null,null,null,null,null,null,null,null,null,null,null,null,null,null,null,null,null,null,null,null,null,null,null,null,null,null,null,null,null,null,null,null,null,null,{"$f":"IF(Indtastning!Y:Y=\"Ikke Aflagt\",1,\"\")","v":""},null,null,{"$f":"IF(Indtastning!U:U=\"Positiv\",1,\"\")","v":""},null,null,null,{"$f":"IF(Indtastning!Y:Y=\"Positiv\",1,\"\")","v":""},null,null,null,{"$f":"IF(Indtastning!AC:AC=\"Positiv\",1,\"\")","v":""},null,null,null,{"$f":"IF(Indtastning!AG:AG=\"Positiv\",1,\"\")","v":""}]
[null,null,null,null,null,null,null,null,null,null,null,null,null,null,null,null,null,null,null,null,null,null,null,null,null,null,null,null,null,null,null,null,null,null,null,null,null,null,null,null,null,null,null,null,null,{"$f":"IF(Indtastning!Y:Y=\"Ikke Aflagt\",1,\"\")","v":""},null,null,{"$f":"IF(Indtastning!U:U=\"Positiv\",1,\"\")","v":""},null,null,null,{"$f":"IF(Indtastning!Y:Y=\"Positiv\",1,\"\")","v":""},null,null,null,{"$f":"IF(Indtastning!AC:AC=\"Positiv\",1,\"\")","v":""},null,null,null,{"$f":"IF(Indtastning!AG:AG=\"Positiv\",1,\"\")","v":""}]
[null,null,null,null,null,null,null,null,null,null,null,null,null,null,null,null,null,null,null,null,null,null,null,null,null,null,null,null,null,null,null,null,null,null,null,null,null,null,null,null,null,null,null,null,null,{"$f":"IF(Indtastning!Y:Y=\"Ikke Aflagt\",1,\"\")","v":""},null,null,{"$f":"IF(Indtastning!U:U=\"Positiv\",1,\"\")","v":""},null,null,null,{"$f":"IF(Indtastning!Y:Y=\"Positiv\",1,\"\")","v":""},null,null,null,{"$f":"IF(Indtastning!AC:AC=\"Positiv\",1,\"\")","v":""},null,null,null,{"$f":"IF(Indtastning!AG:AG=\"Positiv\",1,\"\")","v":""}]
[null,null,null,null,null,null,null,null,null,null,null,null,null,null,null,null,null,null,null,null,null,null,null,null,null,null,null,null,null,null,null,null,null,null,null,null,null,null,null,null,null,null,null,null,null,{"$f":"IF(Indtastning!Y:Y=\"Ikke Aflagt\",1,\"\")","v":""},null,null,{"$f":"IF(Indtastning!U:U=\"Positiv\",1,\"\")","v":""},null,null,null,{"$f":"IF(Indtastning!Y:Y=\"Positiv\",1,\"\")","v":""},null,null,null,{"$f":"IF(Indtastning!AC:AC=\"Positiv\",1,\"\")","v":""},null,null,null,{"$f":"IF(Indtastning!AG:AG=\"Positiv\",1,\"\")","v":""}]
[null,null,null,null,null,null,null,null,null,null,null,null,null,null,null,null,null,null,null,null,null,null,null,null,null,null,null,null,null,null,null,null,null,null,null,null,null,null,null,null,null,null,null,null,null,{"$f":"IF(Indtastning!Y:Y=\"Ikke Aflagt\",1,\"\")","v":""},null,null,{"$f":"IF(Indtastning!U:U=\"Positiv\",1,\"\")","v":""},null,null,null,{"$f":"IF(Indtastning!Y:Y=\"Positiv\",1,\"\")","v":""},null,null,null,{"$f":"IF(Indtastning!AC:AC=\"Positiv\",1,\"\")","v":""},null,null,null,{"$f":"IF(Indtastning!AG:AG=\"Positiv\",1,\"\")","v":""}]
[null,null,null,null,null,null,null,null,null,null,null,null,null,null,null,null,null,null,null,null,null,null,null,null,null,null,null,null,null,null,null,null,null,null,null,null,null,null,null,null,null,null,null,null,null,{"$f":"IF(Indtastning!Y:Y=\"Ikke Aflagt\",1,\"\")","v":""},null,null,{"$f":"IF(Indtastning!U:U=\"Positiv\",1,\"\")","v":""},null,null,null,{"$f":"IF(Indtastning!Y:Y=\"Positiv\",1,\"\")","v":""},null,null,null,{"$f":"IF(Indtastning!AC:AC=\"Positiv\",1,\"\")","v":""},null,null,null,{"$f":"IF(Indtastning!AG:AG=\"Positiv\",1,\"\")","v":""}]
[null,null,null,null,null,null,null,null,null,null,null,null,null,null,null,null,null,null,null,null,null,null,null,null,null,null,null,null,null,null,null,null,null,null,null,null,null,null,null,null,null,null,null,null,null,{"$f":"IF(Indtastning!Y:Y=\"Ikke Aflagt\",1,\"\")","v":""},null,null,{"$f":"IF(Indtastning!U:U=\"Positiv\",1,\"\")","v":""},null,null,null,{"$f":"IF(Indtastning!Y:Y=\"Positiv\",1,\"\")","v":""},null,null,null,{"$f":"IF(Indtastning!AC:AC=\"Positiv\",1,\"\")","v":""},null,null,null,{"$f":"IF(Indtastning!AG:AG=\"Positiv\",1,\"\")","v":""}]
[null,null,null,null,null,null,null,null,null,null,null,null,null,null,null,null,null,null,null,null,null,null,null,null,null,null,null,null,null,null,null,null,null,null,null,null,null,null,null,null,null,null,null,null,null,{"$f":"IF(Indtastning!Y:Y=\"Ikke Aflagt\",1,\"\")","v":""},null,null,{"$f":"IF(Indtastning!U:U=\"Positiv\",1,\"\")","v":""},null,null,null,{"$f":"IF(Indtastning!Y:Y=\"Positiv\",1,\"\")","v":""},null,null,null,{"$f":"IF(Indtastning!AC:AC=\"Positiv\",1,\"\")","v":""},null,null,null,{"$f":"IF(Indtastning!AG:AG=\"Positiv\",1,\"\")","v":""}]
[null,null,null,null,null,null,null,null,null,null,null,null,null,null,null,null,null,null,null,null,null,null,null,null,null,null,null,null,null,null,null,null,null,null,null,null,null,null,null,null,null,null,null,null,null,{"$f":"IF(Indtastning!Y:Y=\"Ikke Aflagt\",1,\"\")","v":""},null,null,{"$f":"IF(Indtastning!U:U=\"Positiv\",1,\"\")","v":""},null,null,null,{"$f":"IF(Indtastning!Y:Y=\"Positiv\",1,\"\")","v":""},null,null,null,{"$f":"IF(Indtastning!AC:AC=\"Positiv\",1,\"\")","v":""},null,null,null,{"$f":"IF(Indtastning!AG:AG=\"Positiv\",1,\"\")","v":""}]
[null,null,null,null,null,null,null,null,null,null,null,null,null,null,null,null,null,null,null,null,null,null,null,null,null,null,null,null,null,null,null,null,null,null,null,null,null,null,null,null,null,null,null,null,null,{"$f":"IF(Indtastning!Y:Y=\"Ikke Aflagt\",1,\"\")","v":""},null,null,{"$f":"IF(Indtastning!U:U=\"Positiv\",1,\"\")","v":""},null,null,null,{"$f":"IF(Indtastning!Y:Y=\"Positiv\",1,\"\")","v":""},null,null,null,{"$f":"IF(Indtastning!AC:AC=\"Positiv\",1,\"\")","v":""},null,null,null,{"$f":"IF(Indtastning!AG:AG=\"Positiv\",1,\"\")","v":""}]
[null,null,null,null,null,null,null,null,null,null,null,null,null,null,null,null,null,null,null,null,null,null,null,null,null,null,null,null,null,null,null,null,null,null,null,null,null,null,null,null,null,null,null,null,null,{"$f":"IF(Indtastning!Y:Y=\"Ikke Aflagt\",1,\"\")","v":""},null,null,{"$f":"IF(Indtastning!U:U=\"Positiv\",1,\"\")","v":""},null,null,null,{"$f":"IF(Indtastning!Y:Y=\"Positiv\",1,\"\")","v":""},null,null,null,{"$f":"IF(Indtastning!AC:AC=\"Positiv\",1,\"\")","v":""},null,null,null,{"$f":"IF(Indtastning!AG:AG=\"Positiv\",1,\"\")","v":""}]
[null,null,null,null,null,null,null,null,null,null,null,null,null,null,null,null,null,null,null,null,null,null,null,null,null,null,null,null,null,null,null,null,null,null,null,null,null,null,null,null,null,null,null,null,null,{"$f":"IF(Indtastning!Y:Y=\"Ikke Aflagt\",1,\"\")","v":""},null,null,{"$f":"IF(Indtastning!U:U=\"Positiv\",1,\"\")","v":""},null,null,null,{"$f":"IF(Indtastning!Y:Y=\"Positiv\",1,\"\")","v":""},null,null,null,{"$f":"IF(Indtastning!AC:AC=\"Positiv\",1,\"\")","v":""},null,null,null,{"$f":"IF(Indtastning!AG:AG=\"Positiv\",1,\"\")","v":""}]
[null,null,null,null,null,null,null,null,null,null,null,null,null,null,null,null,null,null,null,null,null,null,null,null,null,null,null,null,null,null,null,null,null,null,null,null,null,null,null,null,null,null,null,null,null,{"$f":"IF(Indtastning!Y:Y=\"Ikke Aflagt\",1,\"\")","v":""},null,null,{"$f":"IF(Indtastning!U:U=\"Positiv\",1,\"\")","v":""},null,null,null,{"$f":"IF(Indtastning!Y:Y=\"Positiv\",1,\"\")","v":""},null,null,null,{"$f":"IF(Indtastning!AC:AC=\"Positiv\",1,\"\")","v":""},null,null,null,{"$f":"IF(Indtastning!AG:AG=\"Positiv\",1,\"\")","v":""}]
[null,null,null,null,null,null,null,null,null,null,null,null,null,null,null,null,null,null,null,null,null,null,null,null,null,null,null,null,null,null,null,null,null,null,null,null,null,null,null,null,null,null,null,null,null,{"$f":"IF(Indtastning!Y:Y=\"Ikke Aflagt\",1,\"\")","v":""},null,null,{"$f":"IF(Indtastning!U:U=\"Positiv\",1,\"\")","v":""},null,null,null,{"$f":"IF(Indtastning!Y:Y=\"Positiv\",1,\"\")","v":""},null,null,null,{"$f":"IF(Indtastning!AC:AC=\"Positiv\",1,\"\")","v":""},null,null,null,{"$f":"IF(Indtastning!AG:AG=\"Positiv\",1,\"\")","v":""}]
[null,null,null,null,null,null,null,null,null,null,null,null,null,null,null,null,null,null,null,null,null,null,null,null,null,null,null,null,null,null,null,null,null,null,null,null,null,null,null,null,null,null,null,null,null,{"$f":"IF(Indtastning!Y:Y=\"Ikke Aflagt\",1,\"\")","v":""},null,null,{"$f":"IF(Indtastning!U:U=\"Positiv\",1,\"\")","v":""},null,null,null,{"$f":"IF(Indtastning!Y:Y=\"Positiv\",1,\"\")","v":""},null,null,null,{"$f":"IF(Indtastning!AC:AC=\"Positiv\",1,\"\")","v":""},null,null,null,{"$f":"IF(Indtastning!AG:AG=\"Positiv\",1,\"\")","v":""}]
[null,null,null,null,null,null,null,null,null,null,null,null,null,null,null,null,null,null,null,null,null,null,null,null,null,null,null,null,null,null,null,null,null,null,null,null,null,null,null,null,null,null,null,null,null,{"$f":"IF(Indtastning!Y:Y=\"Ikke Aflagt\",1,\"\")","v":""},null,null,{"$f":"IF(Indtastning!U:U=\"Positiv\",1,\"\")","v":""},null,null,null,{"$f":"IF(Indtastning!Y:Y=\"Positiv\",1,\"\")","v":""},null,null,null,{"$f":"IF(Indtastning!AC:AC=\"Positiv\",1,\"\")","v":""},null,null,null,{"$f":"IF(Indtastning!AG:AG=\"Positiv\",1,\"\")","v":""}]
[null,null,null,null,null,null,null,null,null,null,null,null,null,null,null,null,null,null,null,null,null,null,null,null,null,null,null,null,null,null,null,null,null,null,null,null,null,null,null,null,null,null,null,null,null,{"$f":"IF(Indtastning!Y:Y=\"Ikke Aflagt\",1,\"\")","v":""},null,null,{"$f":"IF(Indtastning!U:U=\"Positiv\",1,\"\")","v":""},null,null,null,{"$f":"IF(Indtastning!Y:Y=\"Positiv\",1,\"\")","v":""},null,null,null,{"$f":"IF(Indtastning!AC:AC=\"Positiv\",1,\"\")","v":""},null,null,null,{"$f":"IF(Indtastning!AG:AG=\"Positiv\",1,\"\")","v":""}]
[null,null,null,null,null,null,null,null,null,null,null,null,null,null,null,null,null,null,null,null,null,null,null,null,null,null,null,null,null,null,null,null,null,null,null,null,null,null,null,null,null,null,null,null,null,{"$f":"IF(Indtastning!Y:Y=\"Ikke Aflagt\",1,\"\")","v":""},null,null,{"$f":"IF(Indtastning!U:U=\"Positiv\",1,\"\")","v":""},null,null,null,{"$f":"IF(Indtastning!Y:Y=\"Positiv\",1,\"\")","v":""},null,null,null,{"$f":"IF(Indtastning!AC:AC=\"Positiv\",1,\"\")","v":""},null,null,null,{"$f":"IF(Indtastning!AG:AG=\"Positiv\",1,\"\")","v":""}]
[null,null,null,null,null,null,null,null,null,null,null,null,null,null,null,null,null,null,null,null,null,null,null,null,null,null,null,null,null,null,null,null,null,null,null,null,null,null,null,null,null,null,null,null,null,{"$f":"IF(Indtastning!Y:Y=\"Ikke Aflagt\",1,\"\")","v":""},null,null,{"$f":"IF(Indtastning!U:U=\"Positiv\",1,\"\")","v":""},null,null,null,{"$f":"IF(Indtastning!Y:Y=\"Positiv\",1,\"\")","v":""},null,null,null,{"$f":"IF(Indtastning!AC:AC=\"Positiv\",1,\"\")","v":""},null,null,null,{"$f":"IF(Indtastning!AG:AG=\"Positiv\",1,\"\")","v":""}]
[null,null,null,null,null,null,null,null,null,null,null,null,null,null,null,null,null,null,null,null,null,null,null,null,null,null,null,null,null,null,null,null,null,null,null,null,null,null,null,null,null,null,null,null,null,{"$f":"IF(Indtastning!Y:Y=\"Ikke Aflagt\",1,\"\")","v":""},null,null,{"$f":"IF(Indtastning!U:U=\"Positiv\",1,\"\")","v":""},null,null,null,{"$f":"IF(Indtastning!Y:Y=\"Positiv\",1,\"\")","v":""},null,null,null,{"$f":"IF(Indtastning!AC:AC=\"Positiv\",1,\"\")","v":""},null,null,null,{"$f":"IF(Indtastning!AG:AG=\"Positiv\",1,\"\")","v":""}]
[null,null,null,null,null,null,null,null,null,null,null,null,null,null,null,null,null,null,null,null,null,null,null,null,null,null,null,null,null,null,null,null,null,null,null,null,null,null,null,null,null,null,null,null,null,{"$f":"IF(Indtastning!Y:Y=\"Ikke Aflagt\",1,\"\")","v":""},null,null,{"$f":"IF(Indtastning!U:U=\"Positiv\",1,\"\")","v":""},null,null,null,{"$f":"IF(Indtastning!Y:Y=\"Positiv\",1,\"\")","v":""},null,null,null,{"$f":"IF(Indtastning!AC:AC=\"Positiv\",1,\"\")","v":""},null,null,null,{"$f":"IF(Indtastning!AG:AG=\"Positiv\",1,\"\")","v":""}]
[null,null,null,null,null,null,null,null,null,null,null,null,null,null,null,null,null,null,null,null,null,null,null,null,null,null,null,null,null,null,null,null,null,null,null,null,null,null,null,null,null,null,null,null,null,{"$f":"IF(Indtastning!Y:Y=\"Ikke Aflagt\",1,\"\")","v":""},null,null,{"$f":"IF(Indtastning!U:U=\"Positiv\",1,\"\")","v":""},null,null,null,{"$f":"IF(Indtastning!Y:Y=\"Positiv\",1,\"\")","v":""},null,null,null,{"$f":"IF(Indtastning!AC:AC=\"Positiv\",1,\"\")","v":""},null,null,null,{"$f":"IF(Indtastning!AG:AG=\"Positiv\",1,\"\")","v":""}]
[null,null,null,null,null,null,null,null,null,null,null,null,null,null,null,null,null,null,null,null,null,null,null,null,null,null,null,null,null,null,null,null,null,null,null,null,null,null,null,null,null,null,null,null,null,{"$f":"IF(Indtastning!Y:Y=\"Ikke Aflagt\",1,\"\")","v":""},null,null,{"$f":"IF(Indtastning!U:U=\"Positiv\",1,\"\")","v":""},null,null,null,{"$f":"IF(Indtastning!Y:Y=\"Positiv\",1,\"\")","v":""},null,null,null,{"$f":"IF(Indtastning!AC:AC=\"Positiv\",1,\"\")","v":""},null,null,null,{"$f":"IF(Indtastning!AG:AG=\"Positiv\",1,\"\")","v":""}]
[null,null,null,null,null,null,null,null,null,null,null,null,null,null,null,null,null,null,null,null,null,null,null,null,null,null,null,null,null,null,null,null,null,null,null,null,null,null,null,null,null,null,null,null,null,{"$f":"IF(Indtastning!Y:Y=\"Ikke Aflagt\",1,\"\")","v":""},null,null,{"$f":"IF(Indtastning!U:U=\"Positiv\",1,\"\")","v":""},null,null,null,{"$f":"IF(Indtastning!Y:Y=\"Positiv\",1,\"\")","v":""},null,null,null,{"$f":"IF(Indtastning!AC:AC=\"Positiv\",1,\"\")","v":""},null,null,null,{"$f":"IF(Indtastning!AG:AG=\"Positiv\",1,\"\")","v":""}]
[null,null,null,null,null,null,null,null,null,null,null,null,null,null,null,null,null,null,null,null,null,null,null,null,null,null,null,null,null,null,null,null,null,null,null,null,null,null,null,null,null,null,null,null,null,{"$f":"IF(Indtastning!Y:Y=\"Ikke Aflagt\",1,\"\")","v":""},null,null,{"$f":"IF(Indtastning!U:U=\"Positiv\",1,\"\")","v":""},null,null,null,{"$f":"IF(Indtastning!Y:Y=\"Positiv\",1,\"\")","v":""},null,null,null,{"$f":"IF(Indtastning!AC:AC=\"Positiv\",1,\"\")","v":""},null,null,null,{"$f":"IF(Indtastning!AG:AG=\"Positiv\",1,\"\")","v":""}]
[null,null,null,null,null,null,null,null,null,null,null,null,null,null,null,null,null,null,null,null,null,null,null,null,null,null,null,null,null,null,null,null,null,null,null,null,null,null,null,null,null,null,null,null,null,{"$f":"IF(Indtastning!Y:Y=\"Ikke Aflagt\",1,\"\")","v":""},null,null,{"$f":"IF(Indtastning!U:U=\"Positiv\",1,\"\")","v":""},null,null,null,{"$f":"IF(Indtastning!Y:Y=\"Positiv\",1,\"\")","v":""},null,null,null,{"$f":"IF(Indtastning!AC:AC=\"Positiv\",1,\"\")","v":""},null,null,null,{"$f":"IF(Indtastning!AG:AG=\"Positiv\",1,\"\")","v":""}]
[null,null,null,null,null,null,null,null,null,null,null,null,null,null,null,null,null,null,null,null,null,null,null,null,null,null,null,null,null,null,null,null,null,null,null,null,null,null,null,null,null,null,null,null,null,{"$f":"IF(Indtastning!Y:Y=\"Ikke Aflagt\",1,\"\")","v":""},null,null,{"$f":"IF(Indtastning!U:U=\"Positiv\",1,\"\")","v":""},null,null,null,{"$f":"IF(Indtastning!Y:Y=\"Positiv\",1,\"\")","v":""},null,null,null,{"$f":"IF(Indtastning!AC:AC=\"Positiv\",1,\"\")","v":""},null,null,null,{"$f":"IF(Indtastning!AG:AG=\"Positiv\",1,\"\")","v":""}]
[null,null,null,null,null,null,null,null,null,null,null,null,null,null,null,null,null,null,null,null,null,null,null,null,null,null,null,null,null,null,null,null,null,null,null,null,null,null,null,null,null,null,null,null,null,{"$f":"IF(Indtastning!Y:Y=\"Ikke Aflagt\",1,\"\")","v":""},null,null,{"$f":"IF(Indtastning!U:U=\"Positiv\",1,\"\")","v":""},null,null,null,{"$f":"IF(Indtastning!Y:Y=\"Positiv\",1,\"\")","v":""},null,null,null,{"$f":"IF(Indtastning!AC:AC=\"Positiv\",1,\"\")","v":""},null,null,null,{"$f":"IF(Indtastning!AG:AG=\"Positiv\",1,\"\")","v":""}]
[null,null,null,null,null,null,null,null,null,null,null,null,null,null,null,null,null,null,null,null,null,null,null,null,null,null,null,null,null,null,null,null,null,null,null,null,null,null,null,null,null,null,null,null,null,{"$f":"IF(Indtastning!Y:Y=\"Ikke Aflagt\",1,\"\")","v":""},null,null,{"$f":"IF(Indtastning!U:U=\"Positiv\",1,\"\")","v":""},null,null,null,{"$f":"IF(Indtastning!Y:Y=\"Positiv\",1,\"\")","v":""},null,null,null,{"$f":"IF(Indtastning!AC:AC=\"Positiv\",1,\"\")","v":""},null,null,null,{"$f":"IF(Indtastning!AG:AG=\"Positiv\",1,\"\")","v":""}]
[null,null,null,null,null,null,null,null,null,null,null,null,null,null,null,null,null,null,null,null,null,null,null,null,null,null,null,null,null,null,null,null,null,null,null,null,null,null,null,null,null,null,null,null,null,{"$f":"IF(Indtastning!Y:Y=\"Ikke Aflagt\",1,\"\")","v":""},null,null,{"$f":"IF(Indtastning!U:U=\"Positiv\",1,\"\")","v":""},null,null,null,{"$f":"IF(Indtastning!Y:Y=\"Positiv\",1,\"\")","v":""},null,null,null,{"$f":"IF(Indtastning!AC:AC=\"Positiv\",1,\"\")","v":""},null,null,null,{"$f":"IF(Indtastning!AG:AG=\"Positiv\",1,\"\")","v":""}]
[null,null,null,null,null,null,null,null,null,null,null,null,null,null,null,null,null,null,null,null,null,null,null,null,null,null,null,null,null,null,null,null,null,null,null,null,null,null,null,null,null,null,null,null,null,{"$f":"IF(Indtastning!Y:Y=\"Ikke Aflagt\",1,\"\")","v":""},null,null,{"$f":"IF(Indtastning!U:U=\"Positiv\",1,\"\")","v":""},null,null,null,{"$f":"IF(Indtastning!Y:Y=\"Positiv\",1,\"\")","v":""},null,null,null,{"$f":"IF(Indtastning!AC:AC=\"Positiv\",1,\"\")","v":""},null,null,null,{"$f":"IF(Indtastning!AG:AG=\"Positiv\",1,\"\")","v":""}]
[null,null,null,null,null,null,null,null,null,null,null,null,null,null,null,null,null,null,null,null,null,null,null,null,null,null,null,null,null,null,null,null,null,null,null,null,null,null,null,null,null,null,null,null,null,{"$f":"IF(Indtastning!Y:Y=\"Ikke Aflagt\",1,\"\")","v":""},null,null,{"$f":"IF(Indtastning!U:U=\"Positiv\",1,\"\")","v":""},null,null,null,{"$f":"IF(Indtastning!Y:Y=\"Positiv\",1,\"\")","v":""},null,null,null,{"$f":"IF(Indtastning!AC:AC=\"Positiv\",1,\"\")","v":""},null,null,null,{"$f":"IF(Indtastning!AG:AG=\"Positiv\",1,\"\")","v":""}]
[null,null,null,null,null,null,null,null,null,null,null,null,null,null,null,null,null,null,null,null,null,null,null,null,null,null,null,null,null,null,null,null,null,null,null,null,null,null,null,null,null,null,null,null,null,{"$f":"IF(Indtastning!Y:Y=\"Ikke Aflagt\",1,\"\")","v":""},null,null,{"$f":"IF(Indtastning!U:U=\"Positiv\",1,\"\")","v":""},null,null,null,{"$f":"IF(Indtastning!Y:Y=\"Positiv\",1,\"\")","v":""},null,null,null,{"$f":"IF(Indtastning!AC:AC=\"Positiv\",1,\"\")","v":""},null,null,null,{"$f":"IF(Indtastning!AG:AG=\"Positiv\",1,\"\")","v":""}]
[null,null,null,null,null,null,null,null,null,null,null,null,null,null,null,null,null,null,null,null,null,null,null,null,null,null,null,null,null,null,null,null,null,null,null,null,null,null,null,null,null,null,null,null,null,{"$f":"IF(Indtastning!Y:Y=\"Ikke Aflagt\",1,\"\")","v":""},null,null,{"$f":"IF(Indtastning!U:U=\"Positiv\",1,\"\")","v":""},null,null,null,{"$f":"IF(Indtastning!Y:Y=\"Positiv\",1,\"\")","v":""},null,null,null,{"$f":"IF(Indtastning!AC:AC=\"Positiv\",1,\"\")","v":""},null,null,null,{"$f":"IF(Indtastning!AG:AG=\"Positiv\",1,\"\")","v":""}]
[null,null,null,null,null,null,null,null,null,null,null,null,null,null,null,null,null,null,null,null,null,null,null,null,null,null,null,null,null,null,null,null,null,null,null,null,null,null,null,null,null,null,null,null,null,{"$f":"IF(Indtastning!Y:Y=\"Ikke Aflagt\",1,\"\")","v":""},null,null,{"$f":"IF(Indtastning!U:U=\"Positiv\",1,\"\")","v":""},null,null,null,{"$f":"IF(Indtastning!Y:Y=\"Positiv\",1,\"\")","v":""},null,null,null,{"$f":"IF(Indtastning!AC:AC=\"Positiv\",1,\"\")","v":""},null,null,null,{"$f":"IF(Indtastning!AG:AG=\"Positiv\",1,\"\")","v":""}]
[null,null,null,null,null,null,null,null,null,null,null,null,null,null,null,null,null,null,null,null,null,null,null,null,null,null,null,null,null,null,null,null,null,null,null,null,null,null,null,null,null,null,null,null,null,{"$f":"IF(Indtastning!Y:Y=\"Ikke Aflagt\",1,\"\")","v":""},null,null,{"$f":"IF(Indtastning!U:U=\"Positiv\",1,\"\")","v":""},null,null,null,{"$f":"IF(Indtastning!Y:Y=\"Positiv\",1,\"\")","v":""},null,null,null,{"$f":"IF(Indtastning!AC:AC=\"Positiv\",1,\"\")","v":""},null,null,null,{"$f":"IF(Indtastning!AG:AG=\"Positiv\",1,\"\")","v":""}]
[null,null,null,null,null,null,null,null,null,null,null,null,null,null,null,null,null,null,null,null,null,null,null,null,null,null,null,null,null,null,null,null,null,null,null,null,null,null,null,null,null,null,null,null,null,{"$f":"IF(Indtastning!Y:Y=\"Ikke Aflagt\",1,\"\")","v":""},null,null,{"$f":"IF(Indtastning!U:U=\"Positiv\",1,\"\")","v":""},null,null,null,{"$f":"IF(Indtastning!Y:Y=\"Positiv\",1,\"\")","v":""},null,null,null,{"$f":"IF(Indtastning!AC:AC=\"Positiv\",1,\"\")","v":""},null,null,null,{"$f":"IF(Indtastning!AG:AG=\"Positiv\",1,\"\")","v":""}]
[null,null,null,null,null,null,null,null,null,null,null,null,null,null,null,null,null,null,null,null,null,null,null,null,null,null,null,null,null,null,null,null,null,null,null,null,null,null,null,null,null,null,null,null,null,{"$f":"IF(Indtastning!Y:Y=\"Ikke Aflagt\",1,\"\")","v":""},null,null,{"$f":"IF(Indtastning!U:U=\"Positiv\",1,\"\")","v":""},null,null,null,{"$f":"IF(Indtastning!Y:Y=\"Positiv\",1,\"\")","v":""},null,null,null,{"$f":"IF(Indtastning!AC:AC=\"Positiv\",1,\"\")","v":""},null,null,null,{"$f":"IF(Indtastning!AG:AG=\"Positiv\",1,\"\")","v":""}]
[null,null,null,null,null,null,null,null,null,null,null,null,null,null,null,null,null,null,null,null,null,null,null,null,null,null,null,null,null,null,null,null,null,null,null,null,null,null,null,null,null,null,null,null,null,{"$f":"IF(Indtastning!Y:Y=\"Ikke Aflagt\",1,\"\")","v":""},null,null,{"$f":"IF(Indtastning!U:U=\"Positiv\",1,\"\")","v":""},null,null,null,{"$f":"IF(Indtastning!Y:Y=\"Positiv\",1,\"\")","v":""},null,null,null,{"$f":"IF(Indtastning!AC:AC=\"Positiv\",1,\"\")","v":""},null,null,null,{"$f":"IF(Indtastning!AG:AG=\"Positiv\",1,\"\")","v":""}]
[null,null,null,null,null,null,null,null,null,null,null,null,null,null,null,null,null,null,null,null,null,null,null,null,null,null,null,null,null,null,null,null,null,null,null,null,null,null,null,null,null,null,null,null,null,{"$f":"IF(Indtastning!Y:Y=\"Ikke Aflagt\",1,\"\")","v":""},null,null,{"$f":"IF(Indtastning!U:U=\"Positiv\",1,\"\")","v":""},null,null,null,{"$f":"IF(Indtastning!Y:Y=\"Positiv\",1,\"\")","v":""},null,null,null,{"$f":"IF(Indtastning!AC:AC=\"Positiv\",1,\"\")","v":""},null,null,null,{"$f":"IF(Indtastning!AG:AG=\"Positiv\",1,\"\")","v":""}]
[null,null,null,null,null,null,null,null,null,null,null,null,null,null,null,null,null,null,null,null,null,null,null,null,null,null,null,null,null,null,null,null,null,null,null,null,null,null,null,null,null,null,null,null,null,{"$f":"IF(Indtastning!Y:Y=\"Ikke Aflagt\",1,\"\")","v":""},null,null,{"$f":"IF(Indtastning!U:U=\"Positiv\",1,\"\")","v":""},null,null,null,{"$f":"IF(Indtastning!Y:Y=\"Positiv\",1,\"\")","v":""},null,null,null,{"$f":"IF(Indtastning!AC:AC=\"Positiv\",1,\"\")","v":""},null,null,null,{"$f":"IF(Indtastning!AG:AG=\"Positiv\",1,\"\")","v":""}]
[null,null,null,null,null,null,null,null,null,null,null,null,null,null,null,null,null,null,null,null,null,null,null,null,null,null,null,null,null,null,null,null,null,null,null,null,null,null,null,null,null,null,null,null,null,{"$f":"IF(Indtastning!Y:Y=\"Ikke Aflagt\",1,\"\")","v":""},null,null,{"$f":"IF(Indtastning!U:U=\"Positiv\",1,\"\")","v":""},null,null,null,{"$f":"IF(Indtastning!Y:Y=\"Positiv\",1,\"\")","v":""},null,null,null,{"$f":"IF(Indtastning!AC:AC=\"Positiv\",1,\"\")","v":""},null,null,null,{"$f":"IF(Indtastning!AG:AG=\"Positiv\",1,\"\")","v":""}]
[null,null,null,null,null,null,null,null,null,null,null,null,null,null,null,null,null,null,null,null,null,null,null,null,null,null,null,null,null,null,null,null,null,null,null,null,null,null,null,null,null,null,null,null,null,{"$f":"IF(Indtastning!Y:Y=\"Ikke Aflagt\",1,\"\")","v":""},null,null,{"$f":"IF(Indtastning!U:U=\"Positiv\",1,\"\")","v":""},null,null,null,{"$f":"IF(Indtastning!Y:Y=\"Positiv\",1,\"\")","v":""},null,null,null,{"$f":"IF(Indtastning!AC:AC=\"Positiv\",1,\"\")","v":""},null,null,null,{"$f":"IF(Indtastning!AG:AG=\"Positiv\",1,\"\")","v":""}]
[null,null,null,null,null,null,null,null,null,null,null,null,null,null,null,null,null,null,null,null,null,null,null,null,null,null,null,null,null,null,null,null,null,null,null,null,null,null,null,null,null,null,null,null,null,{"$f":"IF(Indtastning!Y:Y=\"Ikke Aflagt\",1,\"\")","v":""},null,null,{"$f":"IF(Indtastning!U:U=\"Positiv\",1,\"\")","v":""},null,null,null,{"$f":"IF(Indtastning!Y:Y=\"Positiv\",1,\"\")","v":""},null,null,null,{"$f":"IF(Indtastning!AC:AC=\"Positiv\",1,\"\")","v":""},null,null,null,{"$f":"IF(Indtastning!AG:AG=\"Positiv\",1,\"\")","v":""}]
[null,null,null,null,null,null,null,null,null,null,null,null,null,null,null,null,null,null,null,null,null,null,null,null,null,null,null,null,null,null,null,null,null,null,null,null,null,null,null,null,null,null,null,null,null,{"$f":"IF(Indtastning!Y:Y=\"Ikke Aflagt\",1,\"\")","v":""},null,null,{"$f":"IF(Indtastning!U:U=\"Positiv\",1,\"\")","v":""},null,null,null,{"$f":"IF(Indtastning!Y:Y=\"Positiv\",1,\"\")","v":""},null,null,null,{"$f":"IF(Indtastning!AC:AC=\"Positiv\",1,\"\")","v":""},null,null,null,{"$f":"IF(Indtastning!AG:AG=\"Positiv\",1,\"\")","v":""}]
[null,null,null,null,null,null,null,null,null,null,null,null,null,null,null,null,null,null,null,null,null,null,null,null,null,null,null,null,null,null,null,null,null,null,null,null,null,null,null,null,null,null,null,null,null,{"$f":"IF(Indtastning!Y:Y=\"Ikke Aflagt\",1,\"\")","v":""},null,null,{"$f":"IF(Indtastning!U:U=\"Positiv\",1,\"\")","v":""},null,null,null,{"$f":"IF(Indtastning!Y:Y=\"Positiv\",1,\"\")","v":""},null,null,null,{"$f":"IF(Indtastning!AC:AC=\"Positiv\",1,\"\")","v":""},null,null,null,{"$f":"IF(Indtastning!AG:AG=\"Positiv\",1,\"\")","v":""}]
[null,null,null,null,null,null,null,null,null,null,null,null,null,null,null,null,null,null,null,null,null,null,null,null,null,null,null,null,null,null,null,null,null,null,null,null,null,null,null,null,null,null,null,null,null,{"$f":"IF(Indtastning!Y:Y=\"Ikke Aflagt\",1,\"\")","v":""},null,null,{"$f":"IF(Indtastning!U:U=\"Positiv\",1,\"\")","v":""},null,null,null,{"$f":"IF(Indtastning!Y:Y=\"Positiv\",1,\"\")","v":""},null,null,null,{"$f":"IF(Indtastning!AC:AC=\"Positiv\",1,\"\")","v":""},null,null,null,{"$f":"IF(Indtastning!AG:AG=\"Positiv\",1,\"\")","v":""}]
[null,null,null,null,null,null,null,null,null,null,null,null,null,null,null,null,null,null,null,null,null,null,null,null,null,null,null,null,null,null,null,null,null,null,null,null,null,null,null,null,null,null,null,null,null,{"$f":"IF(Indtastning!Y:Y=\"Ikke Aflagt\",1,\"\")","v":""},null,null,{"$f":"IF(Indtastning!U:U=\"Positiv\",1,\"\")","v":""},null,null,null,{"$f":"IF(Indtastning!Y:Y=\"Positiv\",1,\"\")","v":""},null,null,null,{"$f":"IF(Indtastning!AC:AC=\"Positiv\",1,\"\")","v":""},null,null,null,{"$f":"IF(Indtastning!AG:AG=\"Positiv\",1,\"\")","v":""}]
[null,null,null,null,null,null,null,null,null,null,null,null,null,null,null,null,null,null,null,null,null,null,null,null,null,null,null,null,null,null,null,null,null,null,null,null,null,null,null,null,null,null,null,null,null,{"$f":"IF(Indtastning!Y:Y=\"Ikke Aflagt\",1,\"\")","v":""},null,null,{"$f":"IF(Indtastning!U:U=\"Positiv\",1,\"\")","v":""},null,null,null,{"$f":"IF(Indtastning!Y:Y=\"Positiv\",1,\"\")","v":""},null,null,null,{"$f":"IF(Indtastning!AC:AC=\"Positiv\",1,\"\")","v":""},null,null,null,{"$f":"IF(Indtastning!AG:AG=\"Positiv\",1,\"\")","v":""}]
[null,null,null,null,null,null,null,null,null,null,null,null,null,null,null,null,null,null,null,null,null,null,null,null,null,null,null,null,null,null,null,null,null,null,null,null,null,null,null,null,null,null,null,null,null,{"$f":"IF(Indtastning!Y:Y=\"Ikke Aflagt\",1,\"\")","v":""},null,null,{"$f":"IF(Indtastning!U:U=\"Positiv\",1,\"\")","v":""},null,null,null,{"$f":"IF(Indtastning!Y:Y=\"Positiv\",1,\"\")","v":""},null,null,null,{"$f":"IF(Indtastning!AC:AC=\"Positiv\",1,\"\")","v":""},null,null,null,{"$f":"IF(Indtastning!AG:AG=\"Positiv\",1,\"\")","v":""}]
[null,null,null,null,null,null,null,null,null,null,null,null,null,null,null,null,null,null,null,null,null,null,null,null,null,null,null,null,null,null,null,null,null,null,null,null,null,null,null,null,null,null,null,null,null,{"$f":"IF(Indtastning!Y:Y=\"Ikke Aflagt\",1,\"\")","v":""},null,null,{"$f":"IF(Indtastning!U:U=\"Positiv\",1,\"\")","v":""},null,null,null,{"$f":"IF(Indtastning!Y:Y=\"Positiv\",1,\"\")","v":""},null,null,null,{"$f":"IF(Indtastning!AC:AC=\"Positiv\",1,\"\")","v":""},null,null,null,{"$f":"IF(Indtastning!AG:AG=\"Positiv\",1,\"\")","v":""}]
[null,null,null,null,null,null,null,null,null,null,null,null,null,null,null,null,null,null,null,null,null,null,null,null,null,null,null,null,null,null,null,null,null,null,null,null,null,null,null,null,null,null,null,null,null,{"$f":"IF(Indtastning!Y:Y=\"Ikke Aflagt\",1,\"\")","v":""},null,null,{"$f":"IF(Indtastning!U:U=\"Positiv\",1,\"\")","v":""},null,null,null,{"$f":"IF(Indtastning!Y:Y=\"Positiv\",1,\"\")","v":""},null,null,null,{"$f":"IF(Indtastning!AC:AC=\"Positiv\",1,\"\")","v":""},null,null,null,{"$f":"IF(Indtastning!AG:AG=\"Positiv\",1,\"\")","v":""}]
[null,null,null,null,null,null,null,null,null,null,null,null,null,null,null,null,null,null,null,null,null,null,null,null,null,null,null,null,null,null,null,null,null,null,null,null,null,null,null,null,null,null,null,null,null,{"$f":"IF(Indtastning!Y:Y=\"Ikke Aflagt\",1,\"\")","v":""},null,null,{"$f":"IF(Indtastning!U:U=\"Positiv\",1,\"\")","v":""},null,null,null,{"$f":"IF(Indtastning!Y:Y=\"Positiv\",1,\"\")","v":""},null,null,null,{"$f":"IF(Indtastning!AC:AC=\"Positiv\",1,\"\")","v":""},null,null,null,{"$f":"IF(Indtastning!AG:AG=\"Positiv\",1,\"\")","v":""}]
[null,null,null,null,null,null,null,null,null,null,null,null,null,null,null,null,null,null,null,null,null,null,null,null,null,null,null,null,null,null,null,null,null,null,null,null,null,null,null,null,null,null,null,null,null,{"$f":"IF(Indtastning!Y:Y=\"Ikke Aflagt\",1,\"\")","v":""},null,null,{"$f":"IF(Indtastning!U:U=\"Positiv\",1,\"\")","v":""},null,null,null,{"$f":"IF(Indtastning!Y:Y=\"Positiv\",1,\"\")","v":""},null,null,null,{"$f":"IF(Indtastning!AC:AC=\"Positiv\",1,\"\")","v":""},null,null,null,{"$f":"IF(Indtastning!AG:AG=\"Positiv\",1,\"\")","v":""}]
[null,null,null,null,null,null,null,null,null,null,null,null,null,null,null,null,null,null,null,null,null,null,null,null,null,null,null,null,null,null,null,null,null,null,null,null,null,null,null,null,null,null,null,null,null,{"$f":"IF(Indtastning!Y:Y=\"Ikke Aflagt\",1,\"\")","v":""},null,null,{"$f":"IF(Indtastning!U:U=\"Positiv\",1,\"\")","v":""},null,null,null,{"$f":"IF(Indtastning!Y:Y=\"Positiv\",1,\"\")","v":""},null,null,null,{"$f":"IF(Indtastning!AC:AC=\"Positiv\",1,\"\")","v":""},null,null,null,{"$f":"IF(Indtastning!AG:AG=\"Positiv\",1,\"\")","v":""}]
[null,null,null,null,null,null,null,null,null,null,null,null,null,null,null,null,null,null,null,null,null,null,null,null,null,null,null,null,null,null,null,null,null,null,null,null,null,null,null,null,null,null,null,null,null,{"$f":"IF(Indtastning!Y:Y=\"Ikke Aflagt\",1,\"\")","v":""},null,null,{"$f":"IF(Indtastning!U:U=\"Positiv\",1,\"\")","v":""},null,null,null,{"$f":"IF(Indtastning!Y:Y=\"Positiv\",1,\"\")","v":""},null,null,null,{"$f":"IF(Indtastning!AC:AC=\"Positiv\",1,\"\")","v":""},null,null,null,{"$f":"IF(Indtastning!AG:AG=\"Positiv\",1,\"\")","v":""}]
[null,null,null,null,null,null,null,null,null,null,null,null,null,null,null,null,null,null,null,null,null,null,null,null,null,null,null,null,null,null,null,null,null,null,null,null,null,null,null,null,null,null,null,null,null,{"$f":"IF(Indtastning!Y:Y=\"Ikke Aflagt\",1,\"\")","v":""},null,null,{"$f":"IF(Indtastning!U:U=\"Positiv\",1,\"\")","v":""},null,null,null,{"$f":"IF(Indtastning!Y:Y=\"Positiv\",1,\"\")","v":""},null,null,null,{"$f":"IF(Indtastning!AC:AC=\"Positiv\",1,\"\")","v":""},null,null,null,{"$f":"IF(Indtastning!AG:AG=\"Positiv\",1,\"\")","v":""}]
[null,null,null,null,null,null,null,null,null,null,null,null,null,null,null,null,null,null,null,null,null,null,null,null,null,null,null,null,null,null,null,null,null,null,null,null,null,null,null,null,null,null,null,null,null,{"$f":"IF(Indtastning!Y:Y=\"Ikke Aflagt\",1,\"\")","v":""},null,null,{"$f":"IF(Indtastning!U:U=\"Positiv\",1,\"\")","v":""},null,null,null,{"$f":"IF(Indtastning!Y:Y=\"Positiv\",1,\"\")","v":""},null,null,null,{"$f":"IF(Indtastning!AC:AC=\"Positiv\",1,\"\")","v":""},null,null,null,{"$f":"IF(Indtastning!AG:AG=\"Positiv\",1,\"\")","v":""}]
[null,null,null,null,null,null,null,null,null,null,null,null,null,null,null,null,null,null,null,null,null,null,null,null,null,null,null,null,null,null,null,null,null,null,null,null,null,null,null,null,null,null,null,null,null,{"$f":"IF(Indtastning!Y:Y=\"Ikke Aflagt\",1,\"\")","v":""},null,null,{"$f":"IF(Indtastning!U:U=\"Positiv\",1,\"\")","v":""},null,null,null,{"$f":"IF(Indtastning!Y:Y=\"Positiv\",1,\"\")","v":""},null,null,null,{"$f":"IF(Indtastning!AC:AC=\"Positiv\",1,\"\")","v":""},null,null,null,{"$f":"IF(Indtastning!AG:AG=\"Positiv\",1,\"\")","v":""}]
[null,null,null,null,null,null,null,null,null,null,null,null,null,null,null,null,null,null,null,null,null,null,null,null,null,null,null,null,null,null,null,null,null,null,null,null,null,null,null,null,null,null,null,null,null,{"$f":"IF(Indtastning!Y:Y=\"Ikke Aflagt\",1,\"\")","v":""},null,null,{"$f":"IF(Indtastning!U:U=\"Positiv\",1,\"\")","v":""},null,null,null,{"$f":"IF(Indtastning!Y:Y=\"Positiv\",1,\"\")","v":""},null,null,null,{"$f":"IF(Indtastning!AC:AC=\"Positiv\",1,\"\")","v":""},null,null,null,{"$f":"IF(Indtastning!AG:AG=\"Positiv\",1,\"\")","v":""}]
[null,null,null,null,null,null,null,null,null,null,null,null,null,null,null,null,null,null,null,null,null,null,null,null,null,null,null,null,null,null,null,null,null,null,null,null,null,null,null,null,null,null,null,null,null,{"$f":"IF(Indtastning!Y:Y=\"Ikke Aflagt\",1,\"\")","v":""},null,null,{"$f":"IF(Indtastning!U:U=\"Positiv\",1,\"\")","v":""},null,null,null,{"$f":"IF(Indtastning!Y:Y=\"Positiv\",1,\"\")","v":""},null,null,null,{"$f":"IF(Indtastning!AC:AC=\"Positiv\",1,\"\")","v":""},null,null,null,{"$f":"IF(Indtastning!AG:AG=\"Positiv\",1,\"\")","v":""}]
[null,null,null,null,null,null,null,null,null,null,null,null,null,null,null,null,null,null,null,null,null,null,null,null,null,null,null,null,null,null,null,null,null,null,null,null,null,null,null,null,null,null,null,null,null,{"$f":"IF(Indtastning!Y:Y=\"Ikke Aflagt\",1,\"\")","v":""},null,null,{"$f":"IF(Indtastning!U:U=\"Positiv\",1,\"\")","v":""},null,null,null,{"$f":"IF(Indtastning!Y:Y=\"Positiv\",1,\"\")","v":""},null,null,null,{"$f":"IF(Indtastning!AC:AC=\"Positiv\",1,\"\")","v":""},null,null,null,{"$f":"IF(Indtastning!AG:AG=\"Positiv\",1,\"\")","v":""}]
[null,null,null,null,null,null,null,null,null,null,null,null,null,null,null,null,null,null,null,null,null,null,null,null,null,null,null,null,null,null,null,null,null,null,null,null,null,null,null,null,null,null,null,null,null,{"$f":"IF(Indtastning!Y:Y=\"Ikke Aflagt\",1,\"\")","v":""},null,null,{"$f":"IF(Indtastning!U:U=\"Positiv\",1,\"\")","v":""},null,null,null,{"$f":"IF(Indtastning!Y:Y=\"Positiv\",1,\"\")","v":""},null,null,null,{"$f":"IF(Indtastning!AC:AC=\"Positiv\",1,\"\")","v":""},null,null,null,{"$f":"IF(Indtastning!AG:AG=\"Positiv\",1,\"\")","v":""}]
[null,null,null,null,null,null,null,null,null,null,null,null,null,null,null,null,null,null,null,null,null,null,null,null,null,null,null,null,null,null,null,null,null,null,null,null,null,null,null,null,null,null,null,null,null,{"$f":"IF(Indtastning!Y:Y=\"Ikke Aflagt\",1,\"\")","v":""},null,null,{"$f":"IF(Indtastning!U:U=\"Positiv\",1,\"\")","v":""},null,null,null,{"$f":"IF(Indtastning!Y:Y=\"Positiv\",1,\"\")","v":""},null,null,null,{"$f":"IF(Indtastning!AC:AC=\"Positiv\",1,\"\")","v":""},null,null,null,{"$f":"IF(Indtastning!AG:AG=\"Positiv\",1,\"\")","v":""}]
[null,null,null,null,null,null,null,null,null,null,null,null,null,null,null,null,null,null,null,null,null,null,null,null,null,null,null,null,null,null,null,null,null,null,null,null,null,null,null,null,null,null,null,null,null,{"$f":"IF(Indtastning!Y:Y=\"Ikke Aflagt\",1,\"\")","v":""},null,null,{"$f":"IF(Indtastning!U:U=\"Positiv\",1,\"\")","v":""},null,null,null,{"$f":"IF(Indtastning!Y:Y=\"Positiv\",1,\"\")","v":""},null,null,null,{"$f":"IF(Indtastning!AC:AC=\"Positiv\",1,\"\")","v":""},null,null,null,{"$f":"IF(Indtastning!AG:AG=\"Positiv\",1,\"\")","v":""}]
[null,null,null,null,null,null,null,null,null,null,null,null,null,null,null,null,null,null,null,null,null,null,null,null,null,null,null,null,null,null,null,null,null,null,null,null,null,null,null,null,null,null,null,null,null,{"$f":"IF(Indtastning!Y:Y=\"Ikke Aflagt\",1,\"\")","v":""},null,null,{"$f":"IF(Indtastning!U:U=\"Positiv\",1,\"\")","v":""},null,null,null,{"$f":"IF(Indtastning!Y:Y=\"Positiv\",1,\"\")","v":""},null,null,null,{"$f":"IF(Indtastning!AC:AC=\"Positiv\",1,\"\")","v":""},null,null,null,{"$f":"IF(Indtastning!AG:AG=\"Positiv\",1,\"\")","v":""}]
[null,null,null,null,null,null,null,null,null,null,null,null,null,null,null,null,null,null,null,null,null,null,null,null,null,null,null,null,null,null,null,null,null,null,null,null,null,null,null,null,null,null,null,null,null,{"$f":"IF(Indtastning!Y:Y=\"Ikke Aflagt\",1,\"\")","v":""},null,null,{"$f":"IF(Indtastning!U:U=\"Positiv\",1,\"\")","v":""},null,null,null,{"$f":"IF(Indtastning!Y:Y=\"Positiv\",1,\"\")","v":""},null,null,null,{"$f":"IF(Indtastning!AC:AC=\"Positiv\",1,\"\")","v":""},null,null,null,{"$f":"IF(Indtastning!AG:AG=\"Positiv\",1,\"\")","v":""}]
[null,null,null,null,null,null,null,null,null,null,null,null,null,null,null,null,null,null,null,null,null,null,null,null,null,null,null,null,null,null,null,null,null,null,null,null,null,null,null,null,null,null,null,null,null,{"$f":"IF(Indtastning!Y:Y=\"Ikke Aflagt\",1,\"\")","v":""},null,null,{"$f":"IF(Indtastning!U:U=\"Positiv\",1,\"\")","v":""},null,null,null,{"$f":"IF(Indtastning!Y:Y=\"Positiv\",1,\"\")","v":""},null,null,null,{"$f":"IF(Indtastning!AC:AC=\"Positiv\",1,\"\")","v":""},null,null,null,{"$f":"IF(Indtastning!AG:AG=\"Positiv\",1,\"\")","v":""}]
[null,null,null,null,null,null,null,null,null,null,null,null,null,null,null,null,null,null,null,null,null,null,null,null,null,null,null,null,null,null,null,null,null,null,null,null,null,null,null,null,null,null,null,null,null,{"$f":"IF(Indtastning!Y:Y=\"Ikke Aflagt\",1,\"\")","v":""},null,null,{"$f":"IF(Indtastning!U:U=\"Positiv\",1,\"\")","v":""},null,null,null,{"$f":"IF(Indtastning!Y:Y=\"Positiv\",1,\"\")","v":""},null,null,null,{"$f":"IF(Indtastning!AC:AC=\"Positiv\",1,\"\")","v":""},null,null,null,{"$f":"IF(Indtastning!AG:AG=\"Positiv\",1,\"\")","v":""}]
[null,null,null,null,null,null,null,null,null,null,null,null,null,null,null,null,null,null,null,null,null,null,null,null,null,null,null,null,null,null,null,null,null,null,null,null,null,null,null,null,null,null,null,null,null,{"$f":"IF(Indtastning!Y:Y=\"Ikke Aflagt\",1,\"\")","v":""},null,null,{"$f":"IF(Indtastning!U:U=\"Positiv\",1,\"\")","v":""},null,null,null,{"$f":"IF(Indtastning!Y:Y=\"Positiv\",1,\"\")","v":""},null,null,null,{"$f":"IF(Indtastning!AC:AC=\"Positiv\",1,\"\")","v":""},null,null,null,{"$f":"IF(Indtastning!AG:AG=\"Positiv\",1,\"\")","v":""}]
[null,null,null,null,null,null,null,null,null,null,null,null,null,null,null,null,null,null,null,null,null,null,null,null,null,null,null,null,null,null,null,null,null,null,null,null,null,null,null,null,null,null,null,null,null,{"$f":"IF(Indtastning!Y:Y=\"Ikke Aflagt\",1,\"\")","v":""},null,null,{"$f":"IF(Indtastning!U:U=\"Positiv\",1,\"\")","v":""},null,null,null,{"$f":"IF(Indtastning!Y:Y=\"Positiv\",1,\"\")","v":""},null,null,null,{"$f":"IF(Indtastning!AC:AC=\"Positiv\",1,\"\")","v":""},null,null,null,{"$f":"IF(Indtastning!AG:AG=\"Positiv\",1,\"\")","v":""}]
[null,null,null,null,null,null,null,null,null,null,null,null,null,null,null,null,null,null,null,null,null,null,null,null,null,null,null,null,null,null,null,null,null,null,null,null,null,null,null,null,null,null,null,null,null,{"$f":"IF(Indtastning!Y:Y=\"Ikke Aflagt\",1,\"\")","v":""},null,null,{"$f":"IF(Indtastning!U:U=\"Positiv\",1,\"\")","v":""},null,null,null,{"$f":"IF(Indtastning!Y:Y=\"Positiv\",1,\"\")","v":""},null,null,null,{"$f":"IF(Indtastning!AC:AC=\"Positiv\",1,\"\")","v":""},null,null,null,{"$f":"IF(Indtastning!AG:AG=\"Positiv\",1,\"\")","v":""}]
[null,null,null,null,null,null,null,null,null,null,null,null,null,null,null,null,null,null,null,null,null,null,null,null,null,null,null,null,null,null,null,null,null,null,null,null,null,null,null,null,null,null,null,null,null,{"$f":"IF(Indtastning!Y:Y=\"Ikke Aflagt\",1,\"\")","v":""},null,null,{"$f":"IF(Indtastning!U:U=\"Positiv\",1,\"\")","v":""},null,null,null,{"$f":"IF(Indtastning!Y:Y=\"Positiv\",1,\"\")","v":""},null,null,null,{"$f":"IF(Indtastning!AC:AC=\"Positiv\",1,\"\")","v":""},null,null,null,{"$f":"IF(Indtastning!AG:AG=\"Positiv\",1,\"\")","v":""}]
[null,null,null,null,null,null,null,null,null,null,null,null,null,null,null,null,null,null,null,null,null,null,null,null,null,null,null,null,null,null,null,null,null,null,null,null,null,null,null,null,null,null,null,null,null,{"$f":"IF(Indtastning!Y:Y=\"Ikke Aflagt\",1,\"\")","v":""},null,null,{"$f":"IF(Indtastning!U:U=\"Positiv\",1,\"\")","v":""},null,null,null,{"$f":"IF(Indtastning!Y:Y=\"Positiv\",1,\"\")","v":""},null,null,null,{"$f":"IF(Indtastning!AC:AC=\"Positiv\",1,\"\")","v":""},null,null,null,{"$f":"IF(Indtastning!AG:AG=\"Positiv\",1,\"\")","v":""}]
[null,null,null,null,null,null,null,null,null,null,null,null,null,null,null,null,null,null,null,null,null,null,null,null,null,null,null,null,null,null,null,null,null,null,null,null,null,null,null,null,null,null,null,null,null,{"$f":"IF(Indtastning!Y:Y=\"Ikke Aflagt\",1,\"\")","v":""},null,null,{"$f":"IF(Indtastning!U:U=\"Positiv\",1,\"\")","v":""},null,null,null,{"$f":"IF(Indtastning!Y:Y=\"Positiv\",1,\"\")","v":""},null,null,null,{"$f":"IF(Indtastning!AC:AC=\"Positiv\",1,\"\")","v":""},null,null,null,{"$f":"IF(Indtastning!AG:AG=\"Positiv\",1,\"\")","v":""}]
[null,null,null,null,null,null,null,null,null,null,null,null,null,null,null,null,null,null,null,null,null,null,null,null,null,null,null,null,null,null,null,null,null,null,null,null,null,null,null,null,null,null,null,null,null,{"$f":"IF(Indtastning!Y:Y=\"Ikke Aflagt\",1,\"\")","v":""},null,null,{"$f":"IF(Indtastning!U:U=\"Positiv\",1,\"\")","v":""},null,null,null,{"$f":"IF(Indtastning!Y:Y=\"Positiv\",1,\"\")","v":""},null,null,null,{"$f":"IF(Indtastning!AC:AC=\"Positiv\",1,\"\")","v":""},null,null,null,{"$f":"IF(Indtastning!AG:AG=\"Positiv\",1,\"\")","v":""}]
[null,null,null,null,null,null,null,null,null,null,null,null,null,null,null,null,null,null,null,null,null,null,null,null,null,null,null,null,null,null,null,null,null,null,null,null,null,null,null,null,null,null,null,null,null,{"$f":"IF(Indtastning!Y:Y=\"Ikke Aflagt\",1,\"\")","v":""},null,null,{"$f":"IF(Indtastning!U:U=\"Positiv\",1,\"\")","v":""},null,null,null,{"$f":"IF(Indtastning!Y:Y=\"Positiv\",1,\"\")","v":""},null,null,null,{"$f":"IF(Indtastning!AC:AC=\"Positiv\",1,\"\")","v":""},null,null,null,{"$f":"IF(Indtastning!AG:AG=\"Positiv\",1,\"\")","v":""}]
[null,null,null,null,null,null,null,null,null,null,null,null,null,null,null,null,null,null,null,null,null,null,null,null,null,null,null,null,null,null,null,null,null,null,null,null,null,null,null,null,null,null,null,null,null,{"$f":"IF(Indtastning!Y:Y=\"Ikke Aflagt\",1,\"\")","v":""},null,null,{"$f":"IF(Indtastning!U:U=\"Positiv\",1,\"\")","v":""},null,null,null,{"$f":"IF(Indtastning!Y:Y=\"Positiv\",1,\"\")","v":""},null,null,null,{"$f":"IF(Indtastning!AC:AC=\"Positiv\",1,\"\")","v":""},null,null,null,{"$f":"IF(Indtastning!AG:AG=\"Positiv\",1,\"\")","v":""}]
[null,null,null,null,null,null,null,null,null,null,null,null,null,null,null,null,null,null,null,null,null,null,null,null,null,null,null,null,null,null,null,null,null,null,null,null,null,null,null,null,null,null,null,null,null,{"$f":"IF(Indtastning!Y:Y=\"Ikke Aflagt\",1,\"\")","v":""},null,null,{"$f":"IF(Indtastning!U:U=\"Positiv\",1,\"\")","v":""},null,null,null,{"$f":"IF(Indtastning!Y:Y=\"Positiv\",1,\"\")","v":""},null,null,null,{"$f":"IF(Indtastning!AC:AC=\"Positiv\",1,\"\")","v":""},null,null,null,{"$f":"IF(Indtastning!AG:AG=\"Positiv\",1,\"\")","v":""}]
[null,null,null,null,null,null,null,null,null,null,null,null,null,null,null,null,null,null,null,null,null,null,null,null,null,null,null,null,null,null,null,null,null,null,null,null,null,null,null,null,null,null,null,null,null,{"$f":"IF(Indtastning!Y:Y=\"Ikke Aflagt\",1,\"\")","v":""},null,null,{"$f":"IF(Indtastning!U:U=\"Positiv\",1,\"\")","v":""},null,null,null,{"$f":"IF(Indtastning!Y:Y=\"Positiv\",1,\"\")","v":""},null,null,null,{"$f":"IF(Indtastning!AC:AC=\"Positiv\",1,\"\")","v":""},null,null,null,{"$f":"IF(Indtastning!AG:AG=\"Positiv\",1,\"\")","v":""}]
[null,null,null,null,null,null,null,null,null,null,null,null,null,null,null,null,null,null,null,null,null,null,null,null,null,null,null,null,null,null,null,null,null,null,null,null,null,null,null,null,null,null,null,null,null,{"$f":"IF(Indtastning!Y:Y=\"Ikke Aflagt\",1,\"\")","v":""},null,null,{"$f":"IF(Indtastning!U:U=\"Positiv\",1,\"\")","v":""},null,null,null,{"$f":"IF(Indtastning!Y:Y=\"Positiv\",1,\"\")","v":""},null,null,null,{"$f":"IF(Indtastning!AC:AC=\"Positiv\",1,\"\")","v":""},null,null,null,{"$f":"IF(Indtastning!AG:AG=\"Positiv\",1,\"\")","v":""}]
[null,null,null,null,null,null,null,null,null,null,null,null,null,null,null,null,null,null,null,null,null,null,null,null,null,null,null,null,null,null,null,null,null,null,null,null,null,null,null,null,null,null,null,null,null,{"$f":"IF(Indtastning!Y:Y=\"Ikke Aflagt\",1,\"\")","v":""},null,null,{"$f":"IF(Indtastning!U:U=\"Positiv\",1,\"\")","v":""},null,null,null,{"$f":"IF(Indtastning!Y:Y=\"Positiv\",1,\"\")","v":""},null,null,null,{"$f":"IF(Indtastning!AC:AC=\"Positiv\",1,\"\")","v":""},null,null,null,{"$f":"IF(Indtastning!AG:AG=\"Positiv\",1,\"\")","v":""}]
[null,null,null,null,null,null,null,null,null,null,null,null,null,null,null,null,null,null,null,null,null,null,null,null,null,null,null,null,null,null,null,null,null,null,null,null,null,null,null,null,null,null,null,null,null,{"$f":"IF(Indtastning!Y:Y=\"Ikke Aflagt\",1,\"\")","v":""},null,null,{"$f":"IF(Indtastning!U:U=\"Positiv\",1,\"\")","v":""},null,null,null,{"$f":"IF(Indtastning!Y:Y=\"Positiv\",1,\"\")","v":""},null,null,null,{"$f":"IF(Indtastning!AC:AC=\"Positiv\",1,\"\")","v":""},null,null,null,{"$f":"IF(Indtastning!AG:AG=\"Positiv\",1,\"\")","v":""}]
[null,null,null,null,null,null,null,null,null,null,null,null,null,null,null,null,null,null,null,null,null,null,null,null,null,null,null,null,null,null,null,null,null,null,null,null,null,null,null,null,null,null,null,null,null,{"$f":"IF(Indtastning!Y:Y=\"Ikke Aflagt\",1,\"\")","v":""},null,null,{"$f":"IF(Indtastning!U:U=\"Positiv\",1,\"\")","v":""},null,null,null,{"$f":"IF(Indtastning!Y:Y=\"Positiv\",1,\"\")","v":""},null,null,null,{"$f":"IF(Indtastning!AC:AC=\"Positiv\",1,\"\")","v":""},null,null,null,{"$f":"IF(Indtastning!AG:AG=\"Positiv\",1,\"\")","v":""}]
[null,null,null,null,null,null,null,null,null,null,null,null,null,null,null,null,null,null,null,null,null,null,null,null,null,null,null,null,null,null,null,null,null,null,null,null,null,null,null,null,null,null,null,null,null,{"$f":"IF(Indtastning!Y:Y=\"Ikke Aflagt\",1,\"\")","v":""},null,null,{"$f":"IF(Indtastning!U:U=\"Positiv\",1,\"\")","v":""},null,null,null,{"$f":"IF(Indtastning!Y:Y=\"Positiv\",1,\"\")","v":""},null,null,null,{"$f":"IF(Indtastning!AC:AC=\"Positiv\",1,\"\")","v":""},null,null,null,{"$f":"IF(Indtastning!AG:AG=\"Positiv\",1,\"\")","v":""}]
[null,null,null,null,null,null,null,null,null,null,null,null,null,null,null,null,null,null,null,null,null,null,null,null,null,null,null,null,null,null,null,null,null,null,null,null,null,null,null,null,null,null,null,null,null,{"$f":"IF(Indtastning!Y:Y=\"Ikke Aflagt\",1,\"\")","v":""},null,null,{"$f":"IF(Indtastning!U:U=\"Positiv\",1,\"\")","v":""},null,null,null,{"$f":"IF(Indtastning!Y:Y=\"Positiv\",1,\"\")","v":""},null,null,null,{"$f":"IF(Indtastning!AC:AC=\"Positiv\",1,\"\")","v":""},null,null,null,{"$f":"IF(Indtastning!AG:AG=\"Positiv\",1,\"\")","v":""}]
[null,null,null,null,null,null,null,null,null,null,null,null,null,null,null,null,null,null,null,null,null,null,null,null,null,null,null,null,null,null,null,null,null,null,null,null,null,null,null,null,null,null,null,null,null,{"$f":"IF(Indtastning!Y:Y=\"Ikke Aflagt\",1,\"\")","v":""},null,null,{"$f":"IF(Indtastning!U:U=\"Positiv\",1,\"\")","v":""},null,null,null,{"$f":"IF(Indtastning!Y:Y=\"Positiv\",1,\"\")","v":""},null,null,null,{"$f":"IF(Indtastning!AC:AC=\"Positiv\",1,\"\")","v":""},null,null,null,{"$f":"IF(Indtastning!AG:AG=\"Positiv\",1,\"\")","v":""}]
[null,null,null,null,null,null,null,null,null,null,null,null,null,null,null,null,null,null,null,null,null,null,null,null,null,null,null,null,null,null,null,null,null,null,null,null,null,null,null,null,null,null,null,null,null,{"$f":"IF(Indtastning!Y:Y=\"Ikke Aflagt\",1,\"\")","v":""},null,null,{"$f":"IF(Indtastning!U:U=\"Positiv\",1,\"\")","v":""},null,null,null,{"$f":"IF(Indtastning!Y:Y=\"Positiv\",1,\"\")","v":""},null,null,null,{"$f":"IF(Indtastning!AC:AC=\"Positiv\",1,\"\")","v":""},null,null,null,{"$f":"IF(Indtastning!AG:AG=\"Positiv\",1,\"\")","v":""}]
[null,null,null,null,null,null,null,null,null,null,null,null,null,null,null,null,null,null,null,null,null,null,null,null,null,null,null,null,null,null,null,null,null,null,null,null,null,null,null,null,null,null,null,null,null,{"$f":"IF(Indtastning!Y:Y=\"Ikke Aflagt\",1,\"\")","v":""},null,null,{"$f":"IF(Indtastning!U:U=\"Positiv\",1,\"\")","v":""},null,null,null,{"$f":"IF(Indtastning!Y:Y=\"Positiv\",1,\"\")","v":""},null,null,null,{"$f":"IF(Indtastning!AC:AC=\"Positiv\",1,\"\")","v":""},null,null,null,{"$f":"IF(Indtastning!AG:AG=\"Positiv\",1,\"\")","v":""}]
[null,null,null,null,null,null,null,null,null,null,null,null,null,null,null,null,null,null,null,null,null,null,null,null,null,null,null,null,null,null,null,null,null,null,null,null,null,null,null,null,null,null,null,null,null,{"$f":"IF(Indtastning!Y:Y=\"Ikke Aflagt\",1,\"\")","v":""},null,null,{"$f":"IF(Indtastning!U:U=\"Positiv\",1,\"\")","v":""},null,null,null,{"$f":"IF(Indtastning!Y:Y=\"Positiv\",1,\"\")","v":""},null,null,null,{"$f":"IF(Indtastning!AC:AC=\"Positiv\",1,\"\")","v":""},null,null,null,{"$f":"IF(Indtastning!AG:AG=\"Positiv\",1,\"\")","v":""}]
[null,null,null,null,null,null,null,null,null,null,null,null,null,null,null,null,null,null,null,null,null,null,null,null,null,null,null,null,null,null,null,null,null,null,null,null,null,null,null,null,null,null,null,null,null,{"$f":"IF(Indtastning!Y:Y=\"Ikke Aflagt\",1,\"\")","v":""},null,null,{"$f":"IF(Indtastning!U:U=\"Positiv\",1,\"\")","v":""},null,null,null,{"$f":"IF(Indtastning!Y:Y=\"Positiv\",1,\"\")","v":""},null,null,null,{"$f":"IF(Indtastning!AC:AC=\"Positiv\",1,\"\")","v":""},null,null,null,{"$f":"IF(Indtastning!AG:AG=\"Positiv\",1,\"\")","v":""}]
[null,null,null,null,null,null,null,null,null,null,null,null,null,null,null,null,null,null,null,null,null,null,null,null,null,null,null,null,null,null,null,null,null,null,null,null,null,null,null,null,null,null,null,null,null,{"$f":"IF(Indtastning!Y:Y=\"Ikke Aflagt\",1,\"\")","v":""},null,null,{"$f":"IF(Indtastning!U:U=\"Positiv\",1,\"\")","v":""},null,null,null,{"$f":"IF(Indtastning!Y:Y=\"Positiv\",1,\"\")","v":""},null,null,null,{"$f":"IF(Indtastning!AC:AC=\"Positiv\",1,\"\")","v":""},null,null,null,{"$f":"IF(Indtastning!AG:AG=\"Positiv\",1,\"\")","v":""}]
[null,null,null,null,null,null,null,null,null,null,null,null,null,null,null,null,null,null,null,null,null,null,null,null,null,null,null,null,null,null,null,null,null,null,null,null,null,null,null,null,null,null,null,null,null,{"$f":"IF(Indtastning!Y:Y=\"Ikke Aflagt\",1,\"\")","v":""},null,null,{"$f":"IF(Indtastning!U:U=\"Positiv\",1,\"\")","v":""},null,null,null,{"$f":"IF(Indtastning!Y:Y=\"Positiv\",1,\"\")","v":""},null,null,null,{"$f":"IF(Indtastning!AC:AC=\"Positiv\",1,\"\")","v":""},null,null,null,{"$f":"IF(Indtastning!AG:AG=\"Positiv\",1,\"\")","v":""}]
[null,null,null,null,null,null,null,null,null,null,null,null,null,null,null,null,null,null,null,null,null,null,null,null,null,null,null,null,null,null,null,null,null,null,null,null,null,null,null,null,null,null,null,null,null,{"$f":"IF(Indtastning!Y:Y=\"Ikke Aflagt\",1,\"\")","v":""},null,null,{"$f":"IF(Indtastning!U:U=\"Positiv\",1,\"\")","v":""},null,null,null,{"$f":"IF(Indtastning!Y:Y=\"Positiv\",1,\"\")","v":""},null,null,null,{"$f":"IF(Indtastning!AC:AC=\"Positiv\",1,\"\")","v":""},null,null,null,{"$f":"IF(Indtastning!AG:AG=\"Positiv\",1,\"\")","v":""}]
[null,null,null,null,null,null,null,null,null,null,null,null,null,null,null,null,null,null,null,null,null,null,null,null,null,null,null,null,null,null,null,null,null,null,null,null,null,null,null,null,null,null,null,null,null,{"$f":"IF(Indtastning!Y:Y=\"Ikke Aflagt\",1,\"\")","v":""},null,null,{"$f":"IF(Indtastning!U:U=\"Positiv\",1,\"\")","v":""},null,null,null,{"$f":"IF(Indtastning!Y:Y=\"Positiv\",1,\"\")","v":""},null,null,null,{"$f":"IF(Indtastning!AC:AC=\"Positiv\",1,\"\")","v":""},null,null,null,{"$f":"IF(Indtastning!AG:AG=\"Positiv\",1,\"\")","v":""}]
[null,null,null,null,null,null,null,null,null,null,null,null,null,null,null,null,null,null,null,null,null,null,null,null,null,null,null,null,null,null,null,null,null,null,null,null,null,null,null,null,null,null,null,null,null,{"$f":"IF(Indtastning!Y:Y=\"Ikke Aflagt\",1,\"\")","v":""},null,null,{"$f":"IF(Indtastning!U:U=\"Positiv\",1,\"\")","v":""},null,null,null,{"$f":"IF(Indtastning!Y:Y=\"Positiv\",1,\"\")","v":""},null,null,null,{"$f":"IF(Indtastning!AC:AC=\"Positiv\",1,\"\")","v":""},null,null,null,{"$f":"IF(Indtastning!AG:AG=\"Positiv\",1,\"\")","v":""}]
[null,null,null,null,null,null,null,null,null,null,null,null,null,null,null,null,null,null,null,null,null,null,null,null,null,null,null,null,null,null,null,null,null,null,null,null,null,null,null,null,null,null,null,null,null,{"$f":"IF(Indtastning!Y:Y=\"Ikke Aflagt\",1,\"\")","v":""},null,null,{"$f":"IF(Indtastning!U:U=\"Positiv\",1,\"\")","v":""},null,null,null,{"$f":"IF(Indtastning!Y:Y=\"Positiv\",1,\"\")","v":""},null,null,null,{"$f":"IF(Indtastning!AC:AC=\"Positiv\",1,\"\")","v":""},null,null,null,{"$f":"IF(Indtastning!AG:AG=\"Positiv\",1,\"\")","v":""}]
[null,null,null,null,null,null,null,null,null,null,null,null,null,null,null,null,null,null,null,null,null,null,null,null,null,null,null,null,null,null,null,null,null,null,null,null,null,null,null,null,null,null,null,null,null,{"$f":"IF(Indtastning!Y:Y=\"Ikke Aflagt\",1,\"\")","v":""},null,null,{"$f":"IF(Indtastning!U:U=\"Positiv\",1,\"\")","v":""},null,null,null,{"$f":"IF(Indtastning!Y:Y=\"Positiv\",1,\"\")","v":""},null,null,null,{"$f":"IF(Indtastning!AC:AC=\"Positiv\",1,\"\")","v":""},null,null,null,{"$f":"IF(Indtastning!AG:AG=\"Positiv\",1,\"\")","v":""}]
[null,null,null,null,null,null,null,null,null,null,null,null,null,null,null,null,null,null,null,null,null,null,null,null,null,null,null,null,null,null,null,null,null,null,null,null,null,null,null,null,null,null,null,null,null,{"$f":"IF(Indtastning!Y:Y=\"Ikke Aflagt\",1,\"\")","v":""},null,null,{"$f":"IF(Indtastning!U:U=\"Positiv\",1,\"\")","v":""},null,null,null,{"$f":"IF(Indtastning!Y:Y=\"Positiv\",1,\"\")","v":""},null,null,null,{"$f":"IF(Indtastning!AC:AC=\"Positiv\",1,\"\")","v":""},null,null,null,{"$f":"IF(Indtastning!AG:AG=\"Positiv\",1,\"\")","v":""}]
[null,null,null,null,null,null,null,null,null,null,null,null,null,null,null,null,null,null,null,null,null,null,null,null,null,null,null,null,null,null,null,null,null,null,null,null,null,null,null,null,null,null,null,null,null,{"$f":"IF(Indtastning!Y:Y=\"Ikke Aflagt\",1,\"\")","v":""},null,null,{"$f":"IF(Indtastning!U:U=\"Positiv\",1,\"\")","v":""},null,null,null,{"$f":"IF(Indtastning!Y:Y=\"Positiv\",1,\"\")","v":""},null,null,null,{"$f":"IF(Indtastning!AC:AC=\"Positiv\",1,\"\")","v":""},null,null,null,{"$f":"IF(Indtastning!AG:AG=\"Positiv\",1,\"\")","v":""}]
[null,null,null,null,null,null,null,null,null,null,null,null,null,null,null,null,null,null,null,null,null,null,null,null,null,null,null,null,null,null,null,null,null,null,null,null,null,null,null,null,null,null,null,null,null,{"$f":"IF(Indtastning!Y:Y=\"Ikke Aflagt\",1,\"\")","v":""},null,null,{"$f":"IF(Indtastning!U:U=\"Positiv\",1,\"\")","v":""},null,null,null,{"$f":"IF(Indtastning!Y:Y=\"Positiv\",1,\"\")","v":""},null,null,null,{"$f":"IF(Indtastning!AC:AC=\"Positiv\",1,\"\")","v":""},null,null,null,{"$f":"IF(Indtastning!AG:AG=\"Positiv\",1,\"\")","v":""}]
[null,null,null,null,null,null,null,null,null,null,null,null,null,null,null,null,null,null,null,null,null,null,null,null,null,null,null,null,null,null,null,null,null,null,null,null,null,null,null,null,null,null,null,null,null,{"$f":"IF(Indtastning!Y:Y=\"Ikke Aflagt\",1,\"\")","v":""},null,null,{"$f":"IF(Indtastning!U:U=\"Positiv\",1,\"\")","v":""},null,null,null,{"$f":"IF(Indtastning!Y:Y=\"Positiv\",1,\"\")","v":""},null,null,null,{"$f":"IF(Indtastning!AC:AC=\"Positiv\",1,\"\")","v":""},null,null,null,{"$f":"IF(Indtastning!AG:AG=\"Positiv\",1,\"\")","v":""}]
[null,null,null,null,null,null,null,null,null,null,null,null,null,null,null,null,null,null,null,null,null,null,null,null,null,null,null,null,null,null,null,null,null,null,null,null,null,null,null,null,null,null,null,null,null,{"$f":"IF(Indtastning!Y:Y=\"Ikke Aflagt\",1,\"\")","v":""},null,null,{"$f":"IF(Indtastning!U:U=\"Positiv\",1,\"\")","v":""},null,null,null,{"$f":"IF(Indtastning!Y:Y=\"Positiv\",1,\"\")","v":""},null,null,null,{"$f":"IF(Indtastning!AC:AC=\"Positiv\",1,\"\")","v":""},null,null,null,{"$f":"IF(Indtastning!AG:AG=\"Positiv\",1,\"\")","v":""}]
[null,null,null,null,null,null,null,null,null,null,null,null,null,null,null,null,null,null,null,null,null,null,null,null,null,null,null,null,null,null,null,null,null,null,null,null,null,null,null,null,null,null,null,null,null,{"$f":"IF(Indtastning!Y:Y=\"Ikke Aflagt\",1,\"\")","v":""},null,null,{"$f":"IF(Indtastning!U:U=\"Positiv\",1,\"\")","v":""},null,null,null,{"$f":"IF(Indtastning!Y:Y=\"Positiv\",1,\"\")","v":""},null,null,null,{"$f":"IF(Indtastning!AC:AC=\"Positiv\",1,\"\")","v":""},null,null,null,{"$f":"IF(Indtastning!AG:AG=\"Positiv\",1,\"\")","v":""}]
[null,null,null,null,null,null,null,null,null,null,null,null,null,null,null,null,null,null,null,null,null,null,null,null,null,null,null,null,null,null,null,null,null,null,null,null,null,null,null,null,null,null,null,null,null,{"$f":"IF(Indtastning!Y:Y=\"Ikke Aflagt\",1,\"\")","v":""},null,null,{"$f":"IF(Indtastning!U:U=\"Positiv\",1,\"\")","v":""},null,null,null,{"$f":"IF(Indtastning!Y:Y=\"Positiv\",1,\"\")","v":""},null,null,null,{"$f":"IF(Indtastning!AC:AC=\"Positiv\",1,\"\")","v":""},null,null,null,{"$f":"IF(Indtastning!AG:AG=\"Positiv\",1,\"\")","v":""}]
[null,null,null,null,null,null,null,null,null,null,null,null,null,null,null,null,null,null,null,null,null,null,null,null,null,null,null,null,null,null,null,null,null,null,null,null,null,null,null,null,null,null,null,null,null,{"$f":"IF(Indtastning!Y:Y=\"Ikke Aflagt\",1,\"\")","v":""},null,null,{"$f":"IF(Indtastning!U:U=\"Positiv\",1,\"\")","v":""},null,null,null,{"$f":"IF(Indtastning!Y:Y=\"Positiv\",1,\"\")","v":""},null,null,null,{"$f":"IF(Indtastning!AC:AC=\"Positiv\",1,\"\")","v":""},null,null,null,{"$f":"IF(Indtastning!AG:AG=\"Positiv\",1,\"\")","v":""}]
[null,null,null,null,null,null,null,null,null,null,null,null,null,null,null,null,null,null,null,null,null,null,null,null,null,null,null,null,null,null,null,null,null,null,null,null,null,null,null,null,null,null,null,null,null,{"$f":"IF(Indtastning!Y:Y=\"Ikke Aflagt\",1,\"\")","v":""},null,null,{"$f":"IF(Indtastning!U:U=\"Positiv\",1,\"\")","v":""},null,null,null,{"$f":"IF(Indtastning!Y:Y=\"Positiv\",1,\"\")","v":""},null,null,null,{"$f":"IF(Indtastning!AC:AC=\"Positiv\",1,\"\")","v":""},null,null,null,{"$f":"IF(Indtastning!AG:AG=\"Positiv\",1,\"\")","v":""}]
[null,null,null,null,null,null,null,null,null,null,null,null,null,null,null,null,null,null,null,null,null,null,null,null,null,null,null,null,null,null,null,null,null,null,null,null,null,null,null,null,null,null,null,null,null,{"$f":"IF(Indtastning!Y:Y=\"Ikke Aflagt\",1,\"\")","v":""},null,null,{"$f":"IF(Indtastning!U:U=\"Positiv\",1,\"\")","v":""},null,null,null,{"$f":"IF(Indtastning!Y:Y=\"Positiv\",1,\"\")","v":""},null,null,null,{"$f":"IF(Indtastning!AC:AC=\"Positiv\",1,\"\")","v":""},null,null,null,{"$f":"IF(Indtastning!AG:AG=\"Positiv\",1,\"\")","v":""}]
[null,null,null,null,null,null,null,null,null,null,null,null,null,null,null,null,null,null,null,null,null,null,null,null,null,null,null,null,null,null,null,null,null,null,null,null,null,null,null,null,null,null,null,null,null,{"$f":"IF(Indtastning!Y:Y=\"Ikke Aflagt\",1,\"\")","v":""},null,null,{"$f":"IF(Indtastning!U:U=\"Positiv\",1,\"\")","v":""},null,null,null,{"$f":"IF(Indtastning!Y:Y=\"Positiv\",1,\"\")","v":""},null,null,null,{"$f":"IF(Indtastning!AC:AC=\"Positiv\",1,\"\")","v":""},null,null,null,{"$f":"IF(Indtastning!AG:AG=\"Positiv\",1,\"\")","v":""}]
[null,null,null,null,null,null,null,null,null,null,null,null,null,null,null,null,null,null,null,null,null,null,null,null,null,null,null,null,null,null,null,null,null,null,null,null,null,null,null,null,null,null,null,null,null,{"$f":"IF(Indtastning!Y:Y=\"Ikke Aflagt\",1,\"\")","v":""},null,null,{"$f":"IF(Indtastning!U:U=\"Positiv\",1,\"\")","v":""},null,null,null,{"$f":"IF(Indtastning!Y:Y=\"Positiv\",1,\"\")","v":""},null,null,null,{"$f":"IF(Indtastning!AC:AC=\"Positiv\",1,\"\")","v":""},null,null,null,{"$f":"IF(Indtastning!AG:AG=\"Positiv\",1,\"\")","v":""}]
[null,null,null,null,null,null,null,null,null,null,null,null,null,null,null,null,null,null,null,null,null,null,null,null,null,null,null,null,null,null,null,null,null,null,null,null,null,null,null,null,null,null,null,null,null,{"$f":"IF(Indtastning!Y:Y=\"Ikke Aflagt\",1,\"\")","v":""},null,null,{"$f":"IF(Indtastning!U:U=\"Positiv\",1,\"\")","v":""},null,null,null,{"$f":"IF(Indtastning!Y:Y=\"Positiv\",1,\"\")","v":""},null,null,null,{"$f":"IF(Indtastning!AC:AC=\"Positiv\",1,\"\")","v":""},null,null,null,{"$f":"IF(Indtastning!AG:AG=\"Positiv\",1,\"\")","v":""}]
[null,null,null,null,null,null,null,null,null,null,null,null,null,null,null,null,null,null,null,null,null,null,null,null,null,null,null,null,null,null,null,null,null,null,null,null,null,null,null,null,null,null,null,null,null,{"$f":"IF(Indtastning!Y:Y=\"Ikke Aflagt\",1,\"\")","v":""},null,null,{"$f":"IF(Indtastning!U:U=\"Positiv\",1,\"\")","v":""},null,null,null,{"$f":"IF(Indtastning!Y:Y=\"Positiv\",1,\"\")","v":""},null,null,null,{"$f":"IF(Indtastning!AC:AC=\"Positiv\",1,\"\")","v":""},null,null,null,{"$f":"IF(Indtastning!AG:AG=\"Positiv\",1,\"\")","v":""}]
[null,null,null,null,null,null,null,null,null,null,null,null,null,null,null,null,null,null,null,null,null,null,null,null,null,null,null,null,null,null,null,null,null,null,null,null,null,null,null,null,null,null,null,null,null,{"$f":"IF(Indtastning!Y:Y=\"Ikke Aflagt\",1,\"\")","v":""},null,null,{"$f":"IF(Indtastning!U:U=\"Positiv\",1,\"\")","v":""},null,null,null,{"$f":"IF(Indtastning!Y:Y=\"Positiv\",1,\"\")","v":""},null,null,null,{"$f":"IF(Indtastning!AC:AC=\"Positiv\",1,\"\")","v":""},null,null,null,{"$f":"IF(Indtastning!AG:AG=\"Positiv\",1,\"\")","v":""}]
[null,null,null,null,null,null,null,null,null,null,null,null,null,null,null,null,null,null,null,null,null,null,null,null,null,null,null,null,null,null,null,null,null,null,null,null,null,null,null,null,null,null,null,null,null,{"$f":"IF(Indtastning!Y:Y=\"Ikke Aflagt\",1,\"\")","v":""},null,null,{"$f":"IF(Indtastning!U:U=\"Positiv\",1,\"\")","v":""},null,null,null,{"$f":"IF(Indtastning!Y:Y=\"Positiv\",1,\"\")","v":""},null,null,null,{"$f":"IF(Indtastning!AC:AC=\"Positiv\",1,\"\")","v":""},null,null,null,{"$f":"IF(Indtastning!AG:AG=\"Positiv\",1,\"\")","v":""}]
[null,null,null,null,null,null,null,null,null,null,null,null,null,null,null,null,null,null,null,null,null,null,null,null,null,null,null,null,null,null,null,null,null,null,null,null,null,null,null,null,null,null,null,null,null,{"$f":"IF(Indtastning!Y:Y=\"Ikke Aflagt\",1,\"\")","v":""},null,null,{"$f":"IF(Indtastning!U:U=\"Positiv\",1,\"\")","v":""},null,null,null,{"$f":"IF(Indtastning!Y:Y=\"Positiv\",1,\"\")","v":""},null,null,null,{"$f":"IF(Indtastning!AC:AC=\"Positiv\",1,\"\")","v":""},null,null,null,{"$f":"IF(Indtastning!AG:AG=\"Positiv\",1,\"\")","v":""}]
[null,null,null,null,null,null,null,null,null,null,null,null,null,null,null,null,null,null,null,null,null,null,null,null,null,null,null,null,null,null,null,null,null,null,null,null,null,null,null,null,null,null,null,null,null,{"$f":"IF(Indtastning!Y:Y=\"Ikke Aflagt\",1,\"\")","v":""},null,null,{"$f":"IF(Indtastning!U:U=\"Positiv\",1,\"\")","v":""},null,null,null,{"$f":"IF(Indtastning!Y:Y=\"Positiv\",1,\"\")","v":""},null,null,null,{"$f":"IF(Indtastning!AC:AC=\"Positiv\",1,\"\")","v":""},null,null,null,{"$f":"IF(Indtastning!AG:AG=\"Positiv\",1,\"\")","v":""}]
[null,null,null,null,null,null,null,null,null,null,null,null,null,null,null,null,null,null,null,null,null,null,null,null,null,null,null,null,null,null,null,null,null,null,null,null,null,null,null,null,null,null,null,null,null,{"$f":"IF(Indtastning!Y:Y=\"Ikke Aflagt\",1,\"\")","v":""},null,null,{"$f":"IF(Indtastning!U:U=\"Positiv\",1,\"\")","v":""},null,null,null,{"$f":"IF(Indtastning!Y:Y=\"Positiv\",1,\"\")","v":""},null,null,null,{"$f":"IF(Indtastning!AC:AC=\"Positiv\",1,\"\")","v":""},null,null,null,{"$f":"IF(Indtastning!AG:AG=\"Positiv\",1,\"\")","v":""}]
[null,null,null,null,null,null,null,null,null,null,null,null,null,null,null,null,null,null,null,null,null,null,null,null,null,null,null,null,null,null,null,null,null,null,null,null,null,null,null,null,null,null,null,null,null,{"$f":"IF(Indtastning!Y:Y=\"Ikke Aflagt\",1,\"\")","v":""},null,null,{"$f":"IF(Indtastning!U:U=\"Positiv\",1,\"\")","v":""},null,null,null,{"$f":"IF(Indtastning!Y:Y=\"Positiv\",1,\"\")","v":""},null,null,null,{"$f":"IF(Indtastning!AC:AC=\"Positiv\",1,\"\")","v":""},null,null,null,{"$f":"IF(Indtastning!AG:AG=\"Positiv\",1,\"\")","v":""}]
[null,null,null,null,null,null,null,null,null,null,null,null,null,null,null,null,null,null,null,null,null,null,null,null,null,null,null,null,null,null,null,null,null,null,null,null,null,null,null,null,null,null,null,null,null,{"$f":"IF(Indtastning!Y:Y=\"Ikke Aflagt\",1,\"\")","v":""},null,null,{"$f":"IF(Indtastning!U:U=\"Positiv\",1,\"\")","v":""},null,null,null,{"$f":"IF(Indtastning!Y:Y=\"Positiv\",1,\"\")","v":""},null,null,null,{"$f":"IF(Indtastning!AC:AC=\"Positiv\",1,\"\")","v":""},null,null,null,{"$f":"IF(Indtastning!AG:AG=\"Positiv\",1,\"\")","v":""}]
[null,null,null,null,null,null,null,null,null,null,null,null,null,null,null,null,null,null,null,null,null,null,null,null,null,null,null,null,null,null,null,null,null,null,null,null,null,null,null,null,null,null,null,null,null,{"$f":"IF(Indtastning!Y:Y=\"Ikke Aflagt\",1,\"\")","v":""},null,null,{"$f":"IF(Indtastning!U:U=\"Positiv\",1,\"\")","v":""},null,null,null,{"$f":"IF(Indtastning!Y:Y=\"Positiv\",1,\"\")","v":""},null,null,null,{"$f":"IF(Indtastning!AC:AC=\"Positiv\",1,\"\")","v":""},null,null,null,{"$f":"IF(Indtastning!AG:AG=\"Positiv\",1,\"\")","v":""}]
[null,null,null,null,null,null,null,null,null,null,null,null,null,null,null,null,null,null,null,null,null,null,null,null,null,null,null,null,null,null,null,null,null,null,null,null,null,null,null,null,null,null,null,null,null,{"$f":"IF(Indtastning!Y:Y=\"Ikke Aflagt\",1,\"\")","v":""},null,null,{"$f":"IF(Indtastning!U:U=\"Positiv\",1,\"\")","v":""},null,null,null,{"$f":"IF(Indtastning!Y:Y=\"Positiv\",1,\"\")","v":""},null,null,null,{"$f":"IF(Indtastning!AC:AC=\"Positiv\",1,\"\")","v":""},null,null,null,{"$f":"IF(Indtastning!AG:AG=\"Positiv\",1,\"\")","v":""}]
[null,null,null,null,null,null,null,null,null,null,null,null,null,null,null,null,null,null,null,null,null,null,null,null,null,null,null,null,null,null,null,null,null,null,null,null,null,null,null,null,null,null,null,null,null,{"$f":"IF(Indtastning!Y:Y=\"Ikke Aflagt\",1,\"\")","v":""},null,null,{"$f":"IF(Indtastning!U:U=\"Positiv\",1,\"\")","v":""},null,null,null,{"$f":"IF(Indtastning!Y:Y=\"Positiv\",1,\"\")","v":""},null,null,null,{"$f":"IF(Indtastning!AC:AC=\"Positiv\",1,\"\")","v":""},null,null,null,{"$f":"IF(Indtastning!AG:AG=\"Positiv\",1,\"\")","v":""}]
[null,null,null,null,null,null,null,null,null,null,null,null,null,null,null,null,null,null,null,null,null,null,null,null,null,null,null,null,null,null,null,null,null,null,null,null,null,null,null,null,null,null,null,null,null,{"$f":"IF(Indtastning!Y:Y=\"Ikke Aflagt\",1,\"\")","v":""},null,null,{"$f":"IF(Indtastning!U:U=\"Positiv\",1,\"\")","v":""},null,null,null,{"$f":"IF(Indtastning!Y:Y=\"Positiv\",1,\"\")","v":""},null,null,null,{"$f":"IF(Indtastning!AC:AC=\"Positiv\",1,\"\")","v":""},null,null,null,{"$f":"IF(Indtastning!AG:AG=\"Positiv\",1,\"\")","v":""}]
[null,null,null,null,null,null,null,null,null,null,null,null,null,null,null,null,null,null,null,null,null,null,null,null,null,null,null,null,null,null,null,null,null,null,null,null,null,null,null,null,null,null,null,null,null,{"$f":"IF(Indtastning!Y:Y=\"Ikke Aflagt\",1,\"\")","v":""},null,null,{"$f":"IF(Indtastning!U:U=\"Positiv\",1,\"\")","v":""},null,null,null,{"$f":"IF(Indtastning!Y:Y=\"Positiv\",1,\"\")","v":""},null,null,null,{"$f":"IF(Indtastning!AC:AC=\"Positiv\",1,\"\")","v":""},null,null,null,{"$f":"IF(Indtastning!AG:AG=\"Positiv\",1,\"\")","v":""}]
[null,null,null,null,null,null,null,null,null,null,null,null,null,null,null,null,null,null,null,null,null,null,null,null,null,null,null,null,null,null,null,null,null,null,null,null,null,null,null,null,null,null,null,null,null,{"$f":"IF(Indtastning!Y:Y=\"Ikke Aflagt\",1,\"\")","v":""},null,null,{"$f":"IF(Indtastning!U:U=\"Positiv\",1,\"\")","v":""},null,null,null,{"$f":"IF(Indtastning!Y:Y=\"Positiv\",1,\"\")","v":""},null,null,null,{"$f":"IF(Indtastning!AC:AC=\"Positiv\",1,\"\")","v":""},null,null,null,{"$f":"IF(Indtastning!AG:AG=\"Positiv\",1,\"\")","v":""}]
[null,null,null,null,null,null,null,null,null,null,null,null,null,null,null,null,null,null,null,null,null,null,null,null,null,null,null,null,null,null,null,null,null,null,null,null,null,null,null,null,null,null,null,null,null,{"$f":"IF(Indtastning!Y:Y=\"Ikke Aflagt\",1,\"\")","v":""},null,null,{"$f":"IF(Indtastning!U:U=\"Positiv\",1,\"\")","v":""},null,null,null,{"$f":"IF(Indtastning!Y:Y=\"Positiv\",1,\"\")","v":""},null,null,null,{"$f":"IF(Indtastning!AC:AC=\"Positiv\",1,\"\")","v":""},null,null,null,{"$f":"IF(Indtastning!AG:AG=\"Positiv\",1,\"\")","v":""}]
[null,null,null,null,null,null,null,null,null,null,null,null,null,null,null,null,null,null,null,null,null,null,null,null,null,null,null,null,null,null,null,null,null,null,null,null,null,null,null,null,null,null,null,null,null,{"$f":"IF(Indtastning!Y:Y=\"Ikke Aflagt\",1,\"\")","v":""},null,null,{"$f":"IF(Indtastning!U:U=\"Positiv\",1,\"\")","v":""},null,null,null,{"$f":"IF(Indtastning!Y:Y=\"Positiv\",1,\"\")","v":""},null,null,null,{"$f":"IF(Indtastning!AC:AC=\"Positiv\",1,\"\")","v":""},null,null,null,{"$f":"IF(Indtastning!AG:AG=\"Positiv\",1,\"\")","v":""}]
[null,null,null,null,null,null,null,null,null,null,null,null,null,null,null,null,null,null,null,null,null,null,null,null,null,null,null,null,null,null,null,null,null,null,null,null,null,null,null,null,null,null,null,null,null,{"$f":"IF(Indtastning!Y:Y=\"Ikke Aflagt\",1,\"\")","v":""},null,null,{"$f":"IF(Indtastning!U:U=\"Positiv\",1,\"\")","v":""},null,null,null,{"$f":"IF(Indtastning!Y:Y=\"Positiv\",1,\"\")","v":""},null,null,null,{"$f":"IF(Indtastning!AC:AC=\"Positiv\",1,\"\")","v":""},null,null,null,{"$f":"IF(Indtastning!AG:AG=\"Positiv\",1,\"\")","v":""}]
[null,null,null,null,null,null,null,null,null,null,null,null,null,null,null,null,null,null,null,null,null,null,null,null,null,null,null,null,null,null,null,null,null,null,null,null,null,null,null,null,null,null,null,null,null,{"$f":"IF(Indtastning!Y:Y=\"Ikke Aflagt\",1,\"\")","v":""},null,null,{"$f":"IF(Indtastning!U:U=\"Positiv\",1,\"\")","v":""},null,null,null,{"$f":"IF(Indtastning!Y:Y=\"Positiv\",1,\"\")","v":""},null,null,null,{"$f":"IF(Indtastning!AC:AC=\"Positiv\",1,\"\")","v":""},null,null,null,{"$f":"IF(Indtastning!AG:AG=\"Positiv\",1,\"\")","v":""}]
[null,null,null,null,null,null,null,null,null,null,null,null,null,null,null,null,null,null,null,null,null,null,null,null,null,null,null,null,null,null,null,null,null,null,null,null,null,null,null,null,null,null,null,null,null,{"$f":"IF(Indtastning!Y:Y=\"Ikke Aflagt\",1,\"\")","v":""},null,null,{"$f":"IF(Indtastning!U:U=\"Positiv\",1,\"\")","v":""},null,null,null,{"$f":"IF(Indtastning!Y:Y=\"Positiv\",1,\"\")","v":""},null,null,null,{"$f":"IF(Indtastning!AC:AC=\"Positiv\",1,\"\")","v":""},null,null,null,{"$f":"IF(Indtastning!AG:AG=\"Positiv\",1,\"\")","v":""}]
[null,null,null,null,null,null,null,null,null,null,null,null,null,null,null,null,null,null,null,null,null,null,null,null,null,null,null,null,null,null,null,null,null,null,null,null,null,null,null,null,null,null,null,null,null,{"$f":"IF(Indtastning!Y:Y=\"Ikke Aflagt\",1,\"\")","v":""},null,null,{"$f":"IF(Indtastning!U:U=\"Positiv\",1,\"\")","v":""},null,null,null,{"$f":"IF(Indtastning!Y:Y=\"Positiv\",1,\"\")","v":""},null,null,null,{"$f":"IF(Indtastning!AC:AC=\"Positiv\",1,\"\")","v":""},null,null,null,{"$f":"IF(Indtastning!AG:AG=\"Positiv\",1,\"\")","v":""}]
[null,null,null,null,null,null,null,null,null,null,null,null,null,null,null,null,null,null,null,null,null,null,null,null,null,null,null,null,null,null,null,null,null,null,null,null,null,null,null,null,null,null,null,null,null,{"$f":"IF(Indtastning!Y:Y=\"Ikke Aflagt\",1,\"\")","v":""},null,null,{"$f":"IF(Indtastning!U:U=\"Positiv\",1,\"\")","v":""},null,null,null,{"$f":"IF(Indtastning!Y:Y=\"Positiv\",1,\"\")","v":""},null,null,null,{"$f":"IF(Indtastning!AC:AC=\"Positiv\",1,\"\")","v":""},null,null,null,{"$f":"IF(Indtastning!AG:AG=\"Positiv\",1,\"\")","v":""}]
[null,null,null,null,null,null,null,null,null,null,null,null,null,null,null,null,null,null,null,null,null,null,null,null,null,null,null,null,null,null,null,null,null,null,null,null,null,null,null,null,null,null,null,null,null,{"$f":"IF(Indtastning!Y:Y=\"Ikke Aflagt\",1,\"\")","v":""},null,null,{"$f":"IF(Indtastning!U:U=\"Positiv\",1,\"\")","v":""},null,null,null,{"$f":"IF(Indtastning!Y:Y=\"Positiv\",1,\"\")","v":""},null,null,null,{"$f":"IF(Indtastning!AC:AC=\"Positiv\",1,\"\")","v":""},null,null,null,{"$f":"IF(Indtastning!AG:AG=\"Positiv\",1,\"\")","v":""}]
[null,null,null,null,null,null,null,null,null,null,null,null,null,null,null,null,null,null,null,null,null,null,null,null,null,null,null,null,null,null,null,null,null,null,null,null,null,null,null,null,null,null,null,null,null,{"$f":"IF(Indtastning!Y:Y=\"Ikke Aflagt\",1,\"\")","v":""},null,null,{"$f":"IF(Indtastning!U:U=\"Positiv\",1,\"\")","v":""},null,null,null,{"$f":"IF(Indtastning!Y:Y=\"Positiv\",1,\"\")","v":""},null,null,null,{"$f":"IF(Indtastning!AC:AC=\"Positiv\",1,\"\")","v":""},null,null,null,{"$f":"IF(Indtastning!AG:AG=\"Positiv\",1,\"\")","v":""}]
[null,null,null,null,null,null,null,null,null,null,null,null,null,null,null,null,null,null,null,null,null,null,null,null,null,null,null,null,null,null,null,null,null,null,null,null,null,null,null,null,null,null,null,null,null,{"$f":"IF(Indtastning!Y:Y=\"Ikke Aflagt\",1,\"\")","v":""},null,null,{"$f":"IF(Indtastning!U:U=\"Positiv\",1,\"\")","v":""},null,null,null,{"$f":"IF(Indtastning!Y:Y=\"Positiv\",1,\"\")","v":""},null,null,null,{"$f":"IF(Indtastning!AC:AC=\"Positiv\",1,\"\")","v":""},null,null,null,{"$f":"IF(Indtastning!AG:AG=\"Positiv\",1,\"\")","v":""}]
[null,null,null,null,null,null,null,null,null,null,null,null,null,null,null,null,null,null,null,null,null,null,null,null,null,null,null,null,null,null,null,null,null,null,null,null,null,null,null,null,null,null,null,null,null,{"$f":"IF(Indtastning!Y:Y=\"Ikke Aflagt\",1,\"\")","v":""},null,null,{"$f":"IF(Indtastning!U:U=\"Positiv\",1,\"\")","v":""},null,null,null,{"$f":"IF(Indtastning!Y:Y=\"Positiv\",1,\"\")","v":""},null,null,null,{"$f":"IF(Indtastning!AC:AC=\"Positiv\",1,\"\")","v":""},null,null,null,{"$f":"IF(Indtastning!AG:AG=\"Positiv\",1,\"\")","v":""}]
[null,null,null,null,null,null,null,null,null,null,null,null,null,null,null,null,null,null,null,null,null,null,null,null,null,null,null,null,null,null,null,null,null,null,null,null,null,null,null,null,null,null,null,null,null,{"$f":"IF(Indtastning!Y:Y=\"Ikke Aflagt\",1,\"\")","v":""},null,null,{"$f":"IF(Indtastning!U:U=\"Positiv\",1,\"\")","v":""},null,null,null,{"$f":"IF(Indtastning!Y:Y=\"Positiv\",1,\"\")","v":""},null,null,null,{"$f":"IF(Indtastning!AC:AC=\"Positiv\",1,\"\")","v":""},null,null,null,{"$f":"IF(Indtastning!AG:AG=\"Positiv\",1,\"\")","v":""}]
[null,null,null,null,null,null,null,null,null,null,null,null,null,null,null,null,null,null,null,null,null,null,null,null,null,null,null,null,null,null,null,null,null,null,null,null,null,null,null,null,null,null,null,null,null,{"$f":"IF(Indtastning!Y:Y=\"Ikke Aflagt\",1,\"\")","v":""},null,null,{"$f":"IF(Indtastning!U:U=\"Positiv\",1,\"\")","v":""},null,null,null,{"$f":"IF(Indtastning!Y:Y=\"Positiv\",1,\"\")","v":""},null,null,null,{"$f":"IF(Indtastning!AC:AC=\"Positiv\",1,\"\")","v":""},null,null,null,{"$f":"IF(Indtastning!AG:AG=\"Positiv\",1,\"\")","v":""}]
[null,null,null,null,null,null,null,null,null,null,null,null,null,null,null,null,null,null,null,null,null,null,null,null,null,null,null,null,null,null,null,null,null,null,null,null,null,null,null,null,null,null,null,null,null,{"$f":"IF(Indtastning!Y:Y=\"Ikke Aflagt\",1,\"\")","v":""},null,null,{"$f":"IF(Indtastning!U:U=\"Positiv\",1,\"\")","v":""},null,null,null,{"$f":"IF(Indtastning!Y:Y=\"Positiv\",1,\"\")","v":""},null,null,null,{"$f":"IF(Indtastning!AC:AC=\"Positiv\",1,\"\")","v":""},null,null,null,{"$f":"IF(Indtastning!AG:AG=\"Positiv\",1,\"\")","v":""}]
[null,null,null,null,null,null,null,null,null,null,null,null,null,null,null,null,null,null,null,null,null,null,null,null,null,null,null,null,null,null,null,null,null,null,null,null,null,null,null,null,null,null,null,null,null,{"$f":"IF(Indtastning!Y:Y=\"Ikke Aflagt\",1,\"\")","v":""},null,null,{"$f":"IF(Indtastning!U:U=\"Positiv\",1,\"\")","v":""},null,null,null,{"$f":"IF(Indtastning!Y:Y=\"Positiv\",1,\"\")","v":""},null,null,null,{"$f":"IF(Indtastning!AC:AC=\"Positiv\",1,\"\")","v":""},null,null,null,{"$f":"IF(Indtastning!AG:AG=\"Positiv\",1,\"\")","v":""}]
[null,null,null,null,null,null,null,null,null,null,null,null,null,null,null,null,null,null,null,null,null,null,null,null,null,null,null,null,null,null,null,null,null,null,null,null,null,null,null,null,null,null,null,null,null,{"$f":"IF(Indtastning!Y:Y=\"Ikke Aflagt\",1,\"\")","v":""},null,null,{"$f":"IF(Indtastning!U:U=\"Positiv\",1,\"\")","v":""},null,null,null,{"$f":"IF(Indtastning!Y:Y=\"Positiv\",1,\"\")","v":""},null,null,null,{"$f":"IF(Indtastning!AC:AC=\"Positiv\",1,\"\")","v":""},null,null,null,{"$f":"IF(Indtastning!AG:AG=\"Positiv\",1,\"\")","v":""}]
[null,null,null,null,null,null,null,null,null,null,null,null,null,null,null,null,null,null,null,null,null,null,null,null,null,null,null,null,null,null,null,null,null,null,null,null,null,null,null,null,null,null,null,null,null,{"$f":"IF(Indtastning!Y:Y=\"Ikke Aflagt\",1,\"\")","v":""},null,null,{"$f":"IF(Indtastning!U:U=\"Positiv\",1,\"\")","v":""},null,null,null,{"$f":"IF(Indtastning!Y:Y=\"Positiv\",1,\"\")","v":""},null,null,null,{"$f":"IF(Indtastning!AC:AC=\"Positiv\",1,\"\")","v":""},null,null,null,{"$f":"IF(Indtastning!AG:AG=\"Positiv\",1,\"\")","v":""}]
[null,null,null,null,null,null,null,null,null,null,null,null,null,null,null,null,null,null,null,null,null,null,null,null,null,null,null,null,null,null,null,null,null,null,null,null,null,null,null,null,null,null,null,null,null,{"$f":"IF(Indtastning!Y:Y=\"Ikke Aflagt\",1,\"\")","v":""},null,null,{"$f":"IF(Indtastning!U:U=\"Positiv\",1,\"\")","v":""},null,null,null,{"$f":"IF(Indtastning!Y:Y=\"Positiv\",1,\"\")","v":""},null,null,null,{"$f":"IF(Indtastning!AC:AC=\"Positiv\",1,\"\")","v":""},null,null,null,{"$f":"IF(Indtastning!AG:AG=\"Positiv\",1,\"\")","v":""}]
[null,null,null,null,null,null,null,null,null,null,null,null,null,null,null,null,null,null,null,null,null,null,null,null,null,null,null,null,null,null,null,null,null,null,null,null,null,null,null,null,null,null,null,null,null,{"$f":"IF(Indtastning!Y:Y=\"Ikke Aflagt\",1,\"\")","v":""},null,null,{"$f":"IF(Indtastning!U:U=\"Positiv\",1,\"\")","v":""},null,null,null,{"$f":"IF(Indtastning!Y:Y=\"Positiv\",1,\"\")","v":""},null,null,null,{"$f":"IF(Indtastning!AC:AC=\"Positiv\",1,\"\")","v":""},null,null,null,{"$f":"IF(Indtastning!AG:AG=\"Positiv\",1,\"\")","v":""}]
[null,null,null,null,null,null,null,null,null,null,null,null,null,null,null,null,null,null,null,null,null,null,null,null,null,null,null,null,null,null,null,null,null,null,null,null,null,null,null,null,null,null,null,null,null,{"$f":"IF(Indtastning!Y:Y=\"Ikke Aflagt\",1,\"\")","v":""},null,null,{"$f":"IF(Indtastning!U:U=\"Positiv\",1,\"\")","v":""},null,null,null,{"$f":"IF(Indtastning!Y:Y=\"Positiv\",1,\"\")","v":""},null,null,null,{"$f":"IF(Indtastning!AC:AC=\"Positiv\",1,\"\")","v":""},null,null,null,{"$f":"IF(Indtastning!AG:AG=\"Positiv\",1,\"\")","v":""}]
[null,null,null,null,null,null,null,null,null,null,null,null,null,null,null,null,null,null,null,null,null,null,null,null,null,null,null,null,null,null,null,null,null,null,null,null,null,null,null,null,null,null,null,null,null,{"$f":"IF(Indtastning!Y:Y=\"Ikke Aflagt\",1,\"\")","v":""},null,null,{"$f":"IF(Indtastning!U:U=\"Positiv\",1,\"\")","v":""},null,null,null,{"$f":"IF(Indtastning!Y:Y=\"Positiv\",1,\"\")","v":""},null,null,null,{"$f":"IF(Indtastning!AC:AC=\"Positiv\",1,\"\")","v":""},null,null,null,{"$f":"IF(Indtastning!AG:AG=\"Positiv\",1,\"\")","v":""}]
[null,null,null,null,null,null,null,null,null,null,null,null,null,null,null,null,null,null,null,null,null,null,null,null,null,null,null,null,null,null,null,null,null,null,null,null,null,null,null,null,null,null,null,null,null,{"$f":"IF(Indtastning!Y:Y=\"Ikke Aflagt\",1,\"\")","v":""},null,null,{"$f":"IF(Indtastning!U:U=\"Positiv\",1,\"\")","v":""},null,null,null,{"$f":"IF(Indtastning!Y:Y=\"Positiv\",1,\"\")","v":""},null,null,null,{"$f":"IF(Indtastning!AC:AC=\"Positiv\",1,\"\")","v":""},null,null,null,{"$f":"IF(Indtastning!AG:AG=\"Positiv\",1,\"\")","v":""}]
[null,null,null,null,null,null,null,null,null,null,null,null,null,null,null,null,null,null,null,null,null,null,null,null,null,null,null,null,null,null,null,null,null,null,null,null,null,null,null,null,null,null,null,null,null,{"$f":"IF(Indtastning!Y:Y=\"Ikke Aflagt\",1,\"\")","v":""},null,null,{"$f":"IF(Indtastning!U:U=\"Positiv\",1,\"\")","v":""},null,null,null,{"$f":"IF(Indtastning!Y:Y=\"Positiv\",1,\"\")","v":""},null,null,null,{"$f":"IF(Indtastning!AC:AC=\"Positiv\",1,\"\")","v":""},null,null,null,{"$f":"IF(Indtastning!AG:AG=\"Positiv\",1,\"\")","v":""}]
[null,null,null,null,null,null,null,null,null,null,null,null,null,null,null,null,null,null,null,null,null,null,null,null,null,null,null,null,null,null,null,null,null,null,null,null,null,null,null,null,null,null,null,null,null,{"$f":"IF(Indtastning!Y:Y=\"Ikke Aflagt\",1,\"\")","v":""},null,null,{"$f":"IF(Indtastning!U:U=\"Positiv\",1,\"\")","v":""},null,null,null,{"$f":"IF(Indtastning!Y:Y=\"Positiv\",1,\"\")","v":""},null,null,null,{"$f":"IF(Indtastning!AC:AC=\"Positiv\",1,\"\")","v":""},null,null,null,{"$f":"IF(Indtastning!AG:AG=\"Positiv\",1,\"\")","v":""}]
[null,null,null,null,null,null,null,null,null,null,null,null,null,null,null,null,null,null,null,null,null,null,null,null,null,null,null,null,null,null,null,null,null,null,null,null,null,null,null,null,null,null,null,null,null,{"$f":"IF(Indtastning!Y:Y=\"Ikke Aflagt\",1,\"\")","v":""},null,null,{"$f":"IF(Indtastning!U:U=\"Positiv\",1,\"\")","v":""},null,null,null,{"$f":"IF(Indtastning!Y:Y=\"Positiv\",1,\"\")","v":""},null,null,null,{"$f":"IF(Indtastning!AC:AC=\"Positiv\",1,\"\")","v":""},null,null,null,{"$f":"IF(Indtastning!AG:AG=\"Positiv\",1,\"\")","v":""}]
[null,null,null,null,null,null,null,null,null,null,null,null,null,null,null,null,null,null,null,null,null,null,null,null,null,null,null,null,null,null,null,null,null,null,null,null,null,null,null,null,null,null,null,null,null,{"$f":"IF(Indtastning!Y:Y=\"Ikke Aflagt\",1,\"\")","v":""},null,null,{"$f":"IF(Indtastning!U:U=\"Positiv\",1,\"\")","v":""},null,null,null,{"$f":"IF(Indtastning!Y:Y=\"Positiv\",1,\"\")","v":""},null,null,null,{"$f":"IF(Indtastning!AC:AC=\"Positiv\",1,\"\")","v":""},null,null,null,{"$f":"IF(Indtastning!AG:AG=\"Positiv\",1,\"\")","v":""}]
[null,null,null,null,null,null,null,null,null,null,null,null,null,null,null,null,null,null,null,null,null,null,null,null,null,null,null,null,null,null,null,null,null,null,null,null,null,null,null,null,null,null,null,null,null,{"$f":"IF(Indtastning!Y:Y=\"Ikke Aflagt\",1,\"\")","v":""},null,null,{"$f":"IF(Indtastning!U:U=\"Positiv\",1,\"\")","v":""},null,null,null,{"$f":"IF(Indtastning!Y:Y=\"Positiv\",1,\"\")","v":""},null,null,null,{"$f":"IF(Indtastning!AC:AC=\"Positiv\",1,\"\")","v":""},null,null,null,{"$f":"IF(Indtastning!AG:AG=\"Positiv\",1,\"\")","v":""}]
[null,null,null,null,null,null,null,null,null,null,null,null,null,null,null,null,null,null,null,null,null,null,null,null,null,null,null,null,null,null,null,null,null,null,null,null,null,null,null,null,null,null,null,null,null,{"$f":"IF(Indtastning!Y:Y=\"Ikke Aflagt\",1,\"\")","v":""},null,null,{"$f":"IF(Indtastning!U:U=\"Positiv\",1,\"\")","v":""},null,null,null,{"$f":"IF(Indtastning!Y:Y=\"Positiv\",1,\"\")","v":""},null,null,null,{"$f":"IF(Indtastning!AC:AC=\"Positiv\",1,\"\")","v":""},null,null,null,{"$f":"IF(Indtastning!AG:AG=\"Positiv\",1,\"\")","v":""}]
[null,null,null,null,null,null,null,null,null,null,null,null,null,null,null,null,null,null,null,null,null,null,null,null,null,null,null,null,null,null,null,null,null,null,null,null,null,null,null,null,null,null,null,null,null,{"$f":"IF(Indtastning!Y:Y=\"Ikke Aflagt\",1,\"\")","v":""},null,null,{"$f":"IF(Indtastning!U:U=\"Positiv\",1,\"\")","v":""},null,null,null,{"$f":"IF(Indtastning!Y:Y=\"Positiv\",1,\"\")","v":""},null,null,null,{"$f":"IF(Indtastning!AC:AC=\"Positiv\",1,\"\")","v":""},null,null,null,{"$f":"IF(Indtastning!AG:AG=\"Positiv\",1,\"\")","v":""}]
[null,null,null,null,null,null,null,null,null,null,null,null,null,null,null,null,null,null,null,null,null,null,null,null,null,null,null,null,null,null,null,null,null,null,null,null,null,null,null,null,null,null,null,null,null,{"$f":"IF(Indtastning!Y:Y=\"Ikke Aflagt\",1,\"\")","v":""},null,null,{"$f":"IF(Indtastning!U:U=\"Positiv\",1,\"\")","v":""},null,null,null,{"$f":"IF(Indtastning!Y:Y=\"Positiv\",1,\"\")","v":""},null,null,null,{"$f":"IF(Indtastning!AC:AC=\"Positiv\",1,\"\")","v":""},null,null,null,{"$f":"IF(Indtastning!AG:AG=\"Positiv\",1,\"\")","v":""}]
[null,null,null,null,null,null,null,null,null,null,null,null,null,null,null,null,null,null,null,null,null,null,null,null,null,null,null,null,null,null,null,null,null,null,null,null,null,null,null,null,null,null,null,null,null,{"$f":"IF(Indtastning!Y:Y=\"Ikke Aflagt\",1,\"\")","v":""},null,null,{"$f":"IF(Indtastning!U:U=\"Positiv\",1,\"\")","v":""},null,null,null,{"$f":"IF(Indtastning!Y:Y=\"Positiv\",1,\"\")","v":""},null,null,null,{"$f":"IF(Indtastning!AC:AC=\"Positiv\",1,\"\")","v":""},null,null,null,{"$f":"IF(Indtastning!AG:AG=\"Positiv\",1,\"\")","v":""}]
[null,null,null,null,null,null,null,null,null,null,null,null,null,null,null,null,null,null,null,null,null,null,null,null,null,null,null,null,null,null,null,null,null,null,null,null,null,null,null,null,null,null,null,null,null,{"$f":"IF(Indtastning!Y:Y=\"Ikke Aflagt\",1,\"\")","v":""},null,null,{"$f":"IF(Indtastning!U:U=\"Positiv\",1,\"\")","v":""},null,null,null,{"$f":"IF(Indtastning!Y:Y=\"Positiv\",1,\"\")","v":""},null,null,null,{"$f":"IF(Indtastning!AC:AC=\"Positiv\",1,\"\")","v":""},null,null,null,{"$f":"IF(Indtastning!AG:AG=\"Positiv\",1,\"\")","v":""}]
[null,null,null,null,null,null,null,null,null,null,null,null,null,null,null,null,null,null,null,null,null,null,null,null,null,null,null,null,null,null,null,null,null,null,null,null,null,null,null,null,null,null,null,null,null,{"$f":"IF(Indtastning!Y:Y=\"Ikke Aflagt\",1,\"\")","v":""},null,null,{"$f":"IF(Indtastning!U:U=\"Positiv\",1,\"\")","v":""},null,null,null,{"$f":"IF(Indtastning!Y:Y=\"Positiv\",1,\"\")","v":""},null,null,null,{"$f":"IF(Indtastning!AC:AC=\"Positiv\",1,\"\")","v":""},null,null,null,{"$f":"IF(Indtastning!AG:AG=\"Positiv\",1,\"\")","v":""}]
[null,null,null,null,null,null,null,null,null,null,null,null,null,null,null,null,null,null,null,null,null,null,null,null,null,null,null,null,null,null,null,null,null,null,null,null,null,null,null,null,null,null,null,null,null,{"$f":"IF(Indtastning!Y:Y=\"Ikke Aflagt\",1,\"\")","v":""},null,null,{"$f":"IF(Indtastning!U:U=\"Positiv\",1,\"\")","v":""},null,null,null,{"$f":"IF(Indtastning!Y:Y=\"Positiv\",1,\"\")","v":""},null,null,null,{"$f":"IF(Indtastning!AC:AC=\"Positiv\",1,\"\")","v":""},null,null,null,{"$f":"IF(Indtastning!AG:AG=\"Positiv\",1,\"\")","v":""}]
[null,null,null,null,null,null,null,null,null,null,null,null,null,null,null,null,null,null,null,null,null,null,null,null,null,null,null,null,null,null,null,null,null,null,null,null,null,null,null,null,null,null,null,null,null,{"$f":"IF(Indtastning!Y:Y=\"Ikke Aflagt\",1,\"\")","v":""},null,null,{"$f":"IF(Indtastning!U:U=\"Positiv\",1,\"\")","v":""},null,null,null,{"$f":"IF(Indtastning!Y:Y=\"Positiv\",1,\"\")","v":""},null,null,null,{"$f":"IF(Indtastning!AC:AC=\"Positiv\",1,\"\")","v":""},null,null,null,{"$f":"IF(Indtastning!AG:AG=\"Positiv\",1,\"\")","v":""}]
[null,null,null,null,null,null,null,null,null,null,null,null,null,null,null,null,null,null,null,null,null,null,null,null,null,null,null,null,null,null,null,null,null,null,null,null,null,null,null,null,null,null,null,null,null,{"$f":"IF(Indtastning!Y:Y=\"Ikke Aflagt\",1,\"\")","v":""},null,null,{"$f":"IF(Indtastning!U:U=\"Positiv\",1,\"\")","v":""},null,null,null,{"$f":"IF(Indtastning!Y:Y=\"Positiv\",1,\"\")","v":""},null,null,null,{"$f":"IF(Indtastning!AC:AC=\"Positiv\",1,\"\")","v":""},null,null,null,{"$f":"IF(Indtastning!AG:AG=\"Positiv\",1,\"\")","v":""}]
[null,null,null,null,null,null,null,null,null,null,null,null,null,null,null,null,null,null,null,null,null,null,null,null,null,null,null,null,null,null,null,null,null,null,null,null,null,null,null,null,null,null,null,null,null,{"$f":"IF(Indtastning!Y:Y=\"Ikke Aflagt\",1,\"\")","v":""},null,null,{"$f":"IF(Indtastning!U:U=\"Positiv\",1,\"\")","v":""},null,null,null,{"$f":"IF(Indtastning!Y:Y=\"Positiv\",1,\"\")","v":""},null,null,null,{"$f":"IF(Indtastning!AC:AC=\"Positiv\",1,\"\")","v":""},null,null,null,{"$f":"IF(Indtastning!AG:AG=\"Positiv\",1,\"\")","v":""}]
[null,null,null,null,null,null,null,null,null,null,null,null,null,null,null,null,null,null,null,null,null,null,null,null,null,null,null,null,null,null,null,null,null,null,null,null,null,null,null,null,null,null,null,null,null,{"$f":"IF(Indtastning!Y:Y=\"Ikke Aflagt\",1,\"\")","v":""},null,null,{"$f":"IF(Indtastning!U:U=\"Positiv\",1,\"\")","v":""},null,null,null,{"$f":"IF(Indtastning!Y:Y=\"Positiv\",1,\"\")","v":""},null,null,null,{"$f":"IF(Indtastning!AC:AC=\"Positiv\",1,\"\")","v":""},null,null,null,{"$f":"IF(Indtastning!AG:AG=\"Positiv\",1,\"\")","v":""}]
[null,null,null,null,null,null,null,null,null,null,null,null,null,null,null,null,null,null,null,null,null,null,null,null,null,null,null,null,null,null,null,null,null,null,null,null,null,null,null,null,null,null,null,null,null,{"$f":"IF(Indtastning!Y:Y=\"Ikke Aflagt\",1,\"\")","v":""},null,null,{"$f":"IF(Indtastning!U:U=\"Positiv\",1,\"\")","v":""},null,null,null,{"$f":"IF(Indtastning!Y:Y=\"Positiv\",1,\"\")","v":""},null,null,null,{"$f":"IF(Indtastning!AC:AC=\"Positiv\",1,\"\")","v":""},null,null,null,{"$f":"IF(Indtastning!AG:AG=\"Positiv\",1,\"\")","v":""}]
[null,null,null,null,null,null,null,null,null,null,null,null,null,null,null,null,null,null,null,null,null,null,null,null,null,null,null,null,null,null,null,null,null,null,null,null,null,null,null,null,null,null,null,null,null,{"$f":"IF(Indtastning!Y:Y=\"Ikke Aflagt\",1,\"\")","v":""},null,null,{"$f":"IF(Indtastning!U:U=\"Positiv\",1,\"\")","v":""},null,null,null,{"$f":"IF(Indtastning!Y:Y=\"Positiv\",1,\"\")","v":""},null,null,null,{"$f":"IF(Indtastning!AC:AC=\"Positiv\",1,\"\")","v":""},null,null,null,{"$f":"IF(Indtastning!AG:AG=\"Positiv\",1,\"\")","v":""}]
[null,null,null,null,null,null,null,null,null,null,null,null,null,null,null,null,null,null,null,null,null,null,null,null,null,null,null,null,null,null,null,null,null,null,null,null,null,null,null,null,null,null,null,null,null,{"$f":"IF(Indtastning!Y:Y=\"Ikke Aflagt\",1,\"\")","v":""},null,null,{"$f":"IF(Indtastning!U:U=\"Positiv\",1,\"\")","v":""},null,null,null,{"$f":"IF(Indtastning!Y:Y=\"Positiv\",1,\"\")","v":""},null,null,null,{"$f":"IF(Indtastning!AC:AC=\"Positiv\",1,\"\")","v":""},null,null,null,{"$f":"IF(Indtastning!AG:AG=\"Positiv\",1,\"\")","v":""}]
[null,null,null,null,null,null,null,null,null,null,null,null,null,null,null,null,null,null,null,null,null,null,null,null,null,null,null,null,null,null,null,null,null,null,null,null,null,null,null,null,null,null,null,null,null,{"$f":"IF(Indtastning!Y:Y=\"Ikke Aflagt\",1,\"\")","v":""},null,null,{"$f":"IF(Indtastning!U:U=\"Positiv\",1,\"\")","v":""},null,null,null,{"$f":"IF(Indtastning!Y:Y=\"Positiv\",1,\"\")","v":""},null,null,null,{"$f":"IF(Indtastning!AC:AC=\"Positiv\",1,\"\")","v":""},null,null,null,{"$f":"IF(Indtastning!AG:AG=\"Positiv\",1,\"\")","v":""}]
[null,null,null,null,null,null,null,null,null,null,null,null,null,null,null,null,null,null,null,null,null,null,null,null,null,null,null,null,null,null,null,null,null,null,null,null,null,null,null,null,null,null,null,null,null,{"$f":"IF(Indtastning!Y:Y=\"Ikke Aflagt\",1,\"\")","v":""},null,null,{"$f":"IF(Indtastning!U:U=\"Positiv\",1,\"\")","v":""},null,null,null,{"$f":"IF(Indtastning!Y:Y=\"Positiv\",1,\"\")","v":""},null,null,null,{"$f":"IF(Indtastning!AC:AC=\"Positiv\",1,\"\")","v":""},null,null,null,{"$f":"IF(Indtastning!AG:AG=\"Positiv\",1,\"\")","v":""}]
[null,null,null,null,null,null,null,null,null,null,null,null,null,null,null,null,null,null,null,null,null,null,null,null,null,null,null,null,null,null,null,null,null,null,null,null,null,null,null,null,null,null,null,null,null,{"$f":"IF(Indtastning!Y:Y=\"Ikke Aflagt\",1,\"\")","v":""},null,null,{"$f":"IF(Indtastning!U:U=\"Positiv\",1,\"\")","v":""},null,null,null,{"$f":"IF(Indtastning!Y:Y=\"Positiv\",1,\"\")","v":""},null,null,null,{"$f":"IF(Indtastning!AC:AC=\"Positiv\",1,\"\")","v":""},null,null,null,{"$f":"IF(Indtastning!AG:AG=\"Positiv\",1,\"\")","v":""}]
[null,null,null,null,null,null,null,null,null,null,null,null,null,null,null,null,null,null,null,null,null,null,null,null,null,null,null,null,null,null,null,null,null,null,null,null,null,null,null,null,null,null,null,null,null,{"$f":"IF(Indtastning!Y:Y=\"Ikke Aflagt\",1,\"\")","v":""},null,null,{"$f":"IF(Indtastning!U:U=\"Positiv\",1,\"\")","v":""},null,null,null,{"$f":"IF(Indtastning!Y:Y=\"Positiv\",1,\"\")","v":""},null,null,null,{"$f":"IF(Indtastning!AC:AC=\"Positiv\",1,\"\")","v":""},null,null,null,{"$f":"IF(Indtastning!AG:AG=\"Positiv\",1,\"\")","v":""}]
[null,null,null,null,null,null,null,null,null,null,null,null,null,null,null,null,null,null,null,null,null,null,null,null,null,null,null,null,null,null,null,null,null,null,null,null,null,null,null,null,null,null,null,null,null,{"$f":"IF(Indtastning!Y:Y=\"Ikke Aflagt\",1,\"\")","v":""},null,null,{"$f":"IF(Indtastning!U:U=\"Positiv\",1,\"\")","v":""},null,null,null,{"$f":"IF(Indtastning!Y:Y=\"Positiv\",1,\"\")","v":""},null,null,null,{"$f":"IF(Indtastning!AC:AC=\"Positiv\",1,\"\")","v":""},null,null,null,{"$f":"IF(Indtastning!AG:AG=\"Positiv\",1,\"\")","v":""}]
[null,null,null,null,null,null,null,null,null,null,null,null,null,null,null,null,null,null,null,null,null,null,null,null,null,null,null,null,null,null,null,null,null,null,null,null,null,null,null,null,null,null,null,null,null,{"$f":"IF(Indtastning!Y:Y=\"Ikke Aflagt\",1,\"\")","v":""},null,null,{"$f":"IF(Indtastning!U:U=\"Positiv\",1,\"\")","v":""},null,null,null,{"$f":"IF(Indtastning!Y:Y=\"Positiv\",1,\"\")","v":""},null,null,null,{"$f":"IF(Indtastning!AC:AC=\"Positiv\",1,\"\")","v":""},null,null,null,{"$f":"IF(Indtastning!AG:AG=\"Positiv\",1,\"\")","v":""}]
[null,null,null,null,null,null,null,null,null,null,null,null,null,null,null,null,null,null,null,null,null,null,null,null,null,null,null,null,null,null,null,null,null,null,null,null,null,null,null,null,null,null,null,null,null,{"$f":"IF(Indtastning!Y:Y=\"Ikke Aflagt\",1,\"\")","v":""},null,null,{"$f":"IF(Indtastning!U:U=\"Positiv\",1,\"\")","v":""},null,null,null,{"$f":"IF(Indtastning!Y:Y=\"Positiv\",1,\"\")","v":""},null,null,null,{"$f":"IF(Indtastning!AC:AC=\"Positiv\",1,\"\")","v":""},null,null,null,{"$f":"IF(Indtastning!AG:AG=\"Positiv\",1,\"\")","v":""}]
[null,null,null,null,null,null,null,null,null,null,null,null,null,null,null,null,null,null,null,null,null,null,null,null,null,null,null,null,null,null,null,null,null,null,null,null,null,null,null,null,null,null,null,null,null,{"$f":"IF(Indtastning!Y:Y=\"Ikke Aflagt\",1,\"\")","v":""},null,null,{"$f":"IF(Indtastning!U:U=\"Positiv\",1,\"\")","v":""},null,null,null,{"$f":"IF(Indtastning!Y:Y=\"Positiv\",1,\"\")","v":""},null,null,null,{"$f":"IF(Indtastning!AC:AC=\"Positiv\",1,\"\")","v":""},null,null,null,{"$f":"IF(Indtastning!AG:AG=\"Positiv\",1,\"\")","v":""}]
[null,null,null,null,null,null,null,null,null,null,null,null,null,null,null,null,null,null,null,null,null,null,null,null,null,null,null,null,null,null,null,null,null,null,null,null,null,null,null,null,null,null,null,null,null,{"$f":"IF(Indtastning!Y:Y=\"Ikke Aflagt\",1,\"\")","v":""},null,null,{"$f":"IF(Indtastning!U:U=\"Positiv\",1,\"\")","v":""},null,null,null,{"$f":"IF(Indtastning!Y:Y=\"Positiv\",1,\"\")","v":""},null,null,null,{"$f":"IF(Indtastning!AC:AC=\"Positiv\",1,\"\")","v":""},null,null,null,{"$f":"IF(Indtastning!AG:AG=\"Positiv\",1,\"\")","v":""}]
[null,null,null,null,null,null,null,null,null,null,null,null,null,null,null,null,null,null,null,null,null,null,null,null,null,null,null,null,null,null,null,null,null,null,null,null,null,null,null,null,null,null,null,null,null,{"$f":"IF(Indtastning!Y:Y=\"Ikke Aflagt\",1,\"\")","v":""},null,null,{"$f":"IF(Indtastning!U:U=\"Positiv\",1,\"\")","v":""},null,null,null,{"$f":"IF(Indtastning!Y:Y=\"Positiv\",1,\"\")","v":""},null,null,null,{"$f":"IF(Indtastning!AC:AC=\"Positiv\",1,\"\")","v":""},null,null,null,{"$f":"IF(Indtastning!AG:AG=\"Positiv\",1,\"\")","v":""}]
[null,null,null,null,null,null,null,null,null,null,null,null,null,null,null,null,null,null,null,null,null,null,null,null,null,null,null,null,null,null,null,null,null,null,null,null,null,null,null,null,null,null,null,null,null,{"$f":"IF(Indtastning!Y:Y=\"Ikke Aflagt\",1,\"\")","v":""},null,null,{"$f":"IF(Indtastning!U:U=\"Positiv\",1,\"\")","v":""},null,null,null,{"$f":"IF(Indtastning!Y:Y=\"Positiv\",1,\"\")","v":""},null,null,null,{"$f":"IF(Indtastning!AC:AC=\"Positiv\",1,\"\")","v":""},null,null,null,{"$f":"IF(Indtastning!AG:AG=\"Positiv\",1,\"\")","v":""}]
[null,null,null,null,null,null,null,null,null,null,null,null,null,null,null,null,null,null,null,null,null,null,null,null,null,null,null,null,null,null,null,null,null,null,null,null,null,null,null,null,null,null,null,null,null,{"$f":"IF(Indtastning!Y:Y=\"Ikke Aflagt\",1,\"\")","v":""},null,null,{"$f":"IF(Indtastning!U:U=\"Positiv\",1,\"\")","v":""},null,null,null,{"$f":"IF(Indtastning!Y:Y=\"Positiv\",1,\"\")","v":""},null,null,null,{"$f":"IF(Indtastning!AC:AC=\"Positiv\",1,\"\")","v":""},null,null,null,{"$f":"IF(Indtastning!AG:AG=\"Positiv\",1,\"\")","v":""}]
[null,null,null,null,null,null,null,null,null,null,null,null,null,null,null,null,null,null,null,null,null,null,null,null,null,null,null,null,null,null,null,null,null,null,null,null,null,null,null,null,null,null,null,null,null,{"$f":"IF(Indtastning!Y:Y=\"Ikke Aflagt\",1,\"\")","v":""},null,null,{"$f":"IF(Indtastning!U:U=\"Positiv\",1,\"\")","v":""},null,null,null,{"$f":"IF(Indtastning!Y:Y=\"Positiv\",1,\"\")","v":""},null,null,null,{"$f":"IF(Indtastning!AC:AC=\"Positiv\",1,\"\")","v":""},null,null,null,{"$f":"IF(Indtastning!AG:AG=\"Positiv\",1,\"\")","v":""}]
[null,null,null,null,null,null,null,null,null,null,null,null,null,null,null,null,null,null,null,null,null,null,null,null,null,null,null,null,null,null,null,null,null,null,null,null,null,null,null,null,null,null,null,null,null,{"$f":"IF(Indtastning!Y:Y=\"Ikke Aflagt\",1,\"\")","v":""},null,null,{"$f":"IF(Indtastning!U:U=\"Positiv\",1,\"\")","v":""},null,null,null,{"$f":"IF(Indtastning!Y:Y=\"Positiv\",1,\"\")","v":""},null,null,null,{"$f":"IF(Indtastning!AC:AC=\"Positiv\",1,\"\")","v":""},null,null,null,{"$f":"IF(Indtastning!AG:AG=\"Positiv\",1,\"\")","v":""}]
[null,null,null,null,null,null,null,null,null,null,null,null,null,null,null,null,null,null,null,null,null,null,null,null,null,null,null,null,null,null,null,null,null,null,null,null,null,null,null,null,null,null,null,null,null,{"$f":"IF(Indtastning!Y:Y=\"Ikke Aflagt\",1,\"\")","v":""},null,null,{"$f":"IF(Indtastning!U:U=\"Positiv\",1,\"\")","v":""},null,null,null,{"$f":"IF(Indtastning!Y:Y=\"Positiv\",1,\"\")","v":""},null,null,null,{"$f":"IF(Indtastning!AC:AC=\"Positiv\",1,\"\")","v":""},null,null,null,{"$f":"IF(Indtastning!AG:AG=\"Positiv\",1,\"\")","v":""}]
[null,null,null,null,null,null,null,null,null,null,null,null,null,null,null,null,null,null,null,null,null,null,null,null,null,null,null,null,null,null,null,null,null,null,null,null,null,null,null,null,null,null,null,null,null,{"$f":"IF(Indtastning!Y:Y=\"Ikke Aflagt\",1,\"\")","v":""},null,null,{"$f":"IF(Indtastning!U:U=\"Positiv\",1,\"\")","v":""},null,null,null,{"$f":"IF(Indtastning!Y:Y=\"Positiv\",1,\"\")","v":""},null,null,null,{"$f":"IF(Indtastning!AC:AC=\"Positiv\",1,\"\")","v":""},null,null,null,{"$f":"IF(Indtastning!AG:AG=\"Positiv\",1,\"\")","v":""}]
[null,null,null,null,null,null,null,null,null,null,null,null,null,null,null,null,null,null,null,null,null,null,null,null,null,null,null,null,null,null,null,null,null,null,null,null,null,null,null,null,null,null,null,null,null,{"$f":"IF(Indtastning!Y:Y=\"Ikke Aflagt\",1,\"\")","v":""},null,null,{"$f":"IF(Indtastning!U:U=\"Positiv\",1,\"\")","v":""},null,null,null,{"$f":"IF(Indtastning!Y:Y=\"Positiv\",1,\"\")","v":""},null,null,null,{"$f":"IF(Indtastning!AC:AC=\"Positiv\",1,\"\")","v":""},null,null,null,{"$f":"IF(Indtastning!AG:AG=\"Positiv\",1,\"\")","v":""}]
[null,null,null,null,null,null,null,null,null,null,null,null,null,null,null,null,null,null,null,null,null,null,null,null,null,null,null,null,null,null,null,null,null,null,null,null,null,null,null,null,null,null,null,null,null,{"$f":"IF(Indtastning!Y:Y=\"Ikke Aflagt\",1,\"\")","v":""},null,null,{"$f":"IF(Indtastning!U:U=\"Positiv\",1,\"\")","v":""},null,null,null,{"$f":"IF(Indtastning!Y:Y=\"Positiv\",1,\"\")","v":""},null,null,null,{"$f":"IF(Indtastning!AC:AC=\"Positiv\",1,\"\")","v":""},null,null,null,{"$f":"IF(Indtastning!AG:AG=\"Positiv\",1,\"\")","v":""}]
[null,null,null,null,null,null,null,null,null,null,null,null,null,null,null,null,null,null,null,null,null,null,null,null,null,null,null,null,null,null,null,null,null,null,null,null,null,null,null,null,null,null,null,null,null,{"$f":"IF(Indtastning!Y:Y=\"Ikke Aflagt\",1,\"\")","v":""},null,null,{"$f":"IF(Indtastning!U:U=\"Positiv\",1,\"\")","v":""},null,null,null,{"$f":"IF(Indtastning!Y:Y=\"Positiv\",1,\"\")","v":""},null,null,null,{"$f":"IF(Indtastning!AC:AC=\"Positiv\",1,\"\")","v":""},null,null,null,{"$f":"IF(Indtastning!AG:AG=\"Positiv\",1,\"\")","v":""}]
[null,null,null,null,null,null,null,null,null,null,null,null,null,null,null,null,null,null,null,null,null,null,null,null,null,null,null,null,null,null,null,null,null,null,null,null,null,null,null,null,null,null,null,null,null,{"$f":"IF(Indtastning!Y:Y=\"Ikke Aflagt\",1,\"\")","v":""},null,null,{"$f":"IF(Indtastning!U:U=\"Positiv\",1,\"\")","v":""},null,null,null,{"$f":"IF(Indtastning!Y:Y=\"Positiv\",1,\"\")","v":""},null,null,null,{"$f":"IF(Indtastning!AC:AC=\"Positiv\",1,\"\")","v":""},null,null,null,{"$f":"IF(Indtastning!AG:AG=\"Positiv\",1,\"\")","v":""}]
[null,null,null,null,null,null,null,null,null,null,null,null,null,null,null,null,null,null,null,null,null,null,null,null,null,null,null,null,null,null,null,null,null,null,null,null,null,null,null,null,null,null,null,null,null,{"$f":"IF(Indtastning!Y:Y=\"Ikke Aflagt\",1,\"\")","v":""},null,null,{"$f":"IF(Indtastning!U:U=\"Positiv\",1,\"\")","v":""},null,null,null,{"$f":"IF(Indtastning!Y:Y=\"Positiv\",1,\"\")","v":""},null,null,null,{"$f":"IF(Indtastning!AC:AC=\"Positiv\",1,\"\")","v":""},null,null,null,{"$f":"IF(Indtastning!AG:AG=\"Positiv\",1,\"\")","v":""}]
[null,null,null,null,null,null,null,null,null,null,null,null,null,null,null,null,null,null,null,null,null,null,null,null,null,null,null,null,null,null,null,null,null,null,null,null,null,null,null,null,null,null,null,null,null,{"$f":"IF(Indtastning!Y:Y=\"Ikke Aflagt\",1,\"\")","v":""},null,null,{"$f":"IF(Indtastning!U:U=\"Positiv\",1,\"\")","v":""},null,null,null,{"$f":"IF(Indtastning!Y:Y=\"Positiv\",1,\"\")","v":""},null,null,null,{"$f":"IF(Indtastning!AC:AC=\"Positiv\",1,\"\")","v":""},null,null,null,{"$f":"IF(Indtastning!AG:AG=\"Positiv\",1,\"\")","v":""}]
[null,null,null,null,null,null,null,null,null,null,null,null,null,null,null,null,null,null,null,null,null,null,null,null,null,null,null,null,null,null,null,null,null,null,null,null,null,null,null,null,null,null,null,null,null,{"$f":"IF(Indtastning!Y:Y=\"Ikke Aflagt\",1,\"\")","v":""},null,null,{"$f":"IF(Indtastning!U:U=\"Positiv\",1,\"\")","v":""},null,null,null,{"$f":"IF(Indtastning!Y:Y=\"Positiv\",1,\"\")","v":""},null,null,null,{"$f":"IF(Indtastning!AC:AC=\"Positiv\",1,\"\")","v":""},null,null,null,{"$f":"IF(Indtastning!AG:AG=\"Positiv\",1,\"\")","v":""}]
[null,null,null,null,null,null,null,null,null,null,null,null,null,null,null,null,null,null,null,null,null,null,null,null,null,null,null,null,null,null,null,null,null,null,null,null,null,null,null,null,null,null,null,null,null,{"$f":"IF(Indtastning!Y:Y=\"Ikke Aflagt\",1,\"\")","v":""},null,null,{"$f":"IF(Indtastning!U:U=\"Positiv\",1,\"\")","v":""},null,null,null,{"$f":"IF(Indtastning!Y:Y=\"Positiv\",1,\"\")","v":""},null,null,null,{"$f":"IF(Indtastning!AC:AC=\"Positiv\",1,\"\")","v":""},null,null,null,{"$f":"IF(Indtastning!AG:AG=\"Positiv\",1,\"\")","v":""}]
[null,null,null,null,null,null,null,null,null,null,null,null,null,null,null,null,null,null,null,null,null,null,null,null,null,null,null,null,null,null,null,null,null,null,null,null,null,null,null,null,null,null,null,null,null,{"$f":"IF(Indtastning!Y:Y=\"Ikke Aflagt\",1,\"\")","v":""},null,null,{"$f":"IF(Indtastning!U:U=\"Positiv\",1,\"\")","v":""},null,null,null,{"$f":"IF(Indtastning!Y:Y=\"Positiv\",1,\"\")","v":""},null,null,null,{"$f":"IF(Indtastning!AC:AC=\"Positiv\",1,\"\")","v":""},null,null,null,{"$f":"IF(Indtastning!AG:AG=\"Positiv\",1,\"\")","v":""}]
[null,null,null,null,null,null,null,null,null,null,null,null,null,null,null,null,null,null,null,null,null,null,null,null,null,null,null,null,null,null,null,null,null,null,null,null,null,null,null,null,null,null,null,null,null,{"$f":"IF(Indtastning!Y:Y=\"Ikke Aflagt\",1,\"\")","v":""},null,null,{"$f":"IF(Indtastning!U:U=\"Positiv\",1,\"\")","v":""},null,null,null,{"$f":"IF(Indtastning!Y:Y=\"Positiv\",1,\"\")","v":""},null,null,null,{"$f":"IF(Indtastning!AC:AC=\"Positiv\",1,\"\")","v":""},null,null,null,{"$f":"IF(Indtastning!AG:AG=\"Positiv\",1,\"\")","v":""}]
[null,null,null,null,null,null,null,null,null,null,null,null,null,null,null,null,null,null,null,null,null,null,null,null,null,null,null,null,null,null,null,null,null,null,null,null,null,null,null,null,null,null,null,null,null,{"$f":"IF(Indtastning!Y:Y=\"Ikke Aflagt\",1,\"\")","v":""},null,null,{"$f":"IF(Indtastning!U:U=\"Positiv\",1,\"\")","v":""},null,null,null,{"$f":"IF(Indtastning!Y:Y=\"Positiv\",1,\"\")","v":""},null,null,null,{"$f":"IF(Indtastning!AC:AC=\"Positiv\",1,\"\")","v":""},null,null,null,{"$f":"IF(Indtastning!AG:AG=\"Positiv\",1,\"\")","v":""}]
[null,null,null,null,null,null,null,null,null,null,null,null,null,null,null,null,null,null,null,null,null,null,null,null,null,null,null,null,null,null,null,null,null,null,null,null,null,null,null,null,null,null,null,null,null,{"$f":"IF(Indtastning!Y:Y=\"Ikke Aflagt\",1,\"\")","v":""},null,null,{"$f":"IF(Indtastning!U:U=\"Positiv\",1,\"\")","v":""},null,null,null,{"$f":"IF(Indtastning!Y:Y=\"Positiv\",1,\"\")","v":""},null,null,null,{"$f":"IF(Indtastning!AC:AC=\"Positiv\",1,\"\")","v":""},null,null,null,{"$f":"IF(Indtastning!AG:AG=\"Positiv\",1,\"\")","v":""}]
[null,null,null,null,null,null,null,null,null,null,null,null,null,null,null,null,null,null,null,null,null,null,null,null,null,null,null,null,null,null,null,null,null,null,null,null,null,null,null,null,null,null,null,null,null,{"$f":"IF(Indtastning!Y:Y=\"Ikke Aflagt\",1,\"\")","v":""},null,null,{"$f":"IF(Indtastning!U:U=\"Positiv\",1,\"\")","v":""},null,null,null,{"$f":"IF(Indtastning!Y:Y=\"Positiv\",1,\"\")","v":""},null,null,null,{"$f":"IF(Indtastning!AC:AC=\"Positiv\",1,\"\")","v":""},null,null,null,{"$f":"IF(Indtastning!AG:AG=\"Positiv\",1,\"\")","v":""}]
[null,null,null,null,null,null,null,null,null,null,null,null,null,null,null,null,null,null,null,null,null,null,null,null,null,null,null,null,null,null,null,null,null,null,null,null,null,null,null,null,null,null,null,null,null,{"$f":"IF(Indtastning!Y:Y=\"Ikke Aflagt\",1,\"\")","v":""},null,null,{"$f":"IF(Indtastning!U:U=\"Positiv\",1,\"\")","v":""},null,null,null,{"$f":"IF(Indtastning!Y:Y=\"Positiv\",1,\"\")","v":""},null,null,null,{"$f":"IF(Indtastning!AC:AC=\"Positiv\",1,\"\")","v":""},null,null,null,{"$f":"IF(Indtastning!AG:AG=\"Positiv\",1,\"\")","v":""}]
[null,null,null,null,null,null,null,null,null,null,null,null,null,null,null,null,null,null,null,null,null,null,null,null,null,null,null,null,null,null,null,null,null,null,null,null,null,null,null,null,null,null,null,null,null,{"$f":"IF(Indtastning!Y:Y=\"Ikke Aflagt\",1,\"\")","v":""},null,null,{"$f":"IF(Indtastning!U:U=\"Positiv\",1,\"\")","v":""},null,null,null,{"$f":"IF(Indtastning!Y:Y=\"Positiv\",1,\"\")","v":""},null,null,null,{"$f":"IF(Indtastning!AC:AC=\"Positiv\",1,\"\")","v":""},null,null,null,{"$f":"IF(Indtastning!AG:AG=\"Positiv\",1,\"\")","v":""}]
[null,null,null,null,null,null,null,null,null,null,null,null,null,null,null,null,null,null,null,null,null,null,null,null,null,null,null,null,null,null,null,null,null,null,null,null,null,null,null,null,null,null,null,null,null,{"$f":"IF(Indtastning!Y:Y=\"Ikke Aflagt\",1,\"\")","v":""},null,null,{"$f":"IF(Indtastning!U:U=\"Positiv\",1,\"\")","v":""},null,null,null,{"$f":"IF(Indtastning!Y:Y=\"Positiv\",1,\"\")","v":""},null,null,null,{"$f":"IF(Indtastning!AC:AC=\"Positiv\",1,\"\")","v":""},null,null,null,{"$f":"IF(Indtastning!AG:AG=\"Positiv\",1,\"\")","v":""}]
[null,null,null,null,null,null,null,null,null,null,null,null,null,null,null,null,null,null,null,null,null,null,null,null,null,null,null,null,null,null,null,null,null,null,null,null,null,null,null,null,null,null,null,null,null,{"$f":"IF(Indtastning!Y:Y=\"Ikke Aflagt\",1,\"\")","v":""},null,null,{"$f":"IF(Indtastning!U:U=\"Positiv\",1,\"\")","v":""},null,null,null,{"$f":"IF(Indtastning!Y:Y=\"Positiv\",1,\"\")","v":""},null,null,null,{"$f":"IF(Indtastning!AC:AC=\"Positiv\",1,\"\")","v":""},null,null,null,{"$f":"IF(Indtastning!AG:AG=\"Positiv\",1,\"\")","v":""}]
[null,null,null,null,null,null,null,null,null,null,null,null,null,null,null,null,null,null,null,null,null,null,null,null,null,null,null,null,null,null,null,null,null,null,null,null,null,null,null,null,null,null,null,null,null,{"$f":"IF(Indtastning!Y:Y=\"Ikke Aflagt\",1,\"\")","v":""},null,null,{"$f":"IF(Indtastning!U:U=\"Positiv\",1,\"\")","v":""},null,null,null,{"$f":"IF(Indtastning!Y:Y=\"Positiv\",1,\"\")","v":""},null,null,null,{"$f":"IF(Indtastning!AC:AC=\"Positiv\",1,\"\")","v":""},null,null,null,{"$f":"IF(Indtastning!AG:AG=\"Positiv\",1,\"\")","v":""}]
[null,null,null,null,null,null,null,null,null,null,null,null,null,null,null,null,null,null,null,null,null,null,null,null,null,null,null,null,null,null,null,null,null,null,null,null,null,null,null,null,null,null,null,null,null,{"$f":"IF(Indtastning!Y:Y=\"Ikke Aflagt\",1,\"\")","v":""},null,null,{"$f":"IF(Indtastning!U:U=\"Positiv\",1,\"\")","v":""},null,null,null,{"$f":"IF(Indtastning!Y:Y=\"Positiv\",1,\"\")","v":""},null,null,null,{"$f":"IF(Indtastning!AC:AC=\"Positiv\",1,\"\")","v":""},null,null,null,{"$f":"IF(Indtastning!AG:AG=\"Positiv\",1,\"\")","v":""}]
[null,null,null,null,null,null,null,null,null,null,null,null,null,null,null,null,null,null,null,null,null,null,null,null,null,null,null,null,null,null,null,null,null,null,null,null,null,null,null,null,null,null,null,null,null,{"$f":"IF(Indtastning!Y:Y=\"Ikke Aflagt\",1,\"\")","v":""},null,null,{"$f":"IF(Indtastning!U:U=\"Positiv\",1,\"\")","v":""},null,null,null,{"$f":"IF(Indtastning!Y:Y=\"Positiv\",1,\"\")","v":""},null,null,null,{"$f":"IF(Indtastning!AC:AC=\"Positiv\",1,\"\")","v":""},null,null,null,{"$f":"IF(Indtastning!AG:AG=\"Positiv\",1,\"\")","v":""}]
[null,null,null,null,null,null,null,null,null,null,null,null,null,null,null,null,null,null,null,null,null,null,null,null,null,null,null,null,null,null,null,null,null,null,null,null,null,null,null,null,null,null,null,null,null,{"$f":"IF(Indtastning!Y:Y=\"Ikke Aflagt\",1,\"\")","v":""},null,null,{"$f":"IF(Indtastning!U:U=\"Positiv\",1,\"\")","v":""},null,null,null,{"$f":"IF(Indtastning!Y:Y=\"Positiv\",1,\"\")","v":""},null,null,null,{"$f":"IF(Indtastning!AC:AC=\"Positiv\",1,\"\")","v":""},null,null,null,{"$f":"IF(Indtastning!AG:AG=\"Positiv\",1,\"\")","v":""}]
[null,null,null,null,null,null,null,null,null,null,null,null,null,null,null,null,null,null,null,null,null,null,null,null,null,null,null,null,null,null,null,null,null,null,null,null,null,null,null,null,null,null,null,null,null,{"$f":"IF(Indtastning!Y:Y=\"Ikke Aflagt\",1,\"\")","v":""},null,null,{"$f":"IF(Indtastning!U:U=\"Positiv\",1,\"\")","v":""},null,null,null,{"$f":"IF(Indtastning!Y:Y=\"Positiv\",1,\"\")","v":""},null,null,null,{"$f":"IF(Indtastning!AC:AC=\"Positiv\",1,\"\")","v":""},null,null,null,{"$f":"IF(Indtastning!AG:AG=\"Positiv\",1,\"\")","v":""}]
[null,null,null,null,null,null,null,null,null,null,null,null,null,null,null,null,null,null,null,null,null,null,null,null,null,null,null,null,null,null,null,null,null,null,null,null,null,null,null,null,null,null,null,null,null,{"$f":"IF(Indtastning!Y:Y=\"Ikke Aflagt\",1,\"\")","v":""},null,null,{"$f":"IF(Indtastning!U:U=\"Positiv\",1,\"\")","v":""},null,null,null,{"$f":"IF(Indtastning!Y:Y=\"Positiv\",1,\"\")","v":""},null,null,null,{"$f":"IF(Indtastning!AC:AC=\"Positiv\",1,\"\")","v":""},null,null,null,{"$f":"IF(Indtastning!AG:AG=\"Positiv\",1,\"\")","v":""}]
[null,null,null,null,null,null,null,null,null,null,null,null,null,null,null,null,null,null,null,null,null,null,null,null,null,null,null,null,null,null,null,null,null,null,null,null,null,null,null,null,null,null,null,null,null,{"$f":"IF(Indtastning!Y:Y=\"Ikke Aflagt\",1,\"\")","v":""},null,null,{"$f":"IF(Indtastning!U:U=\"Positiv\",1,\"\")","v":""},null,null,null,{"$f":"IF(Indtastning!Y:Y=\"Positiv\",1,\"\")","v":""},null,null,null,{"$f":"IF(Indtastning!AC:AC=\"Positiv\",1,\"\")","v":""},null,null,null,{"$f":"IF(Indtastning!AG:AG=\"Positiv\",1,\"\")","v":""}]
[null,null,null,null,null,null,null,null,null,null,null,null,null,null,null,null,null,null,null,null,null,null,null,null,null,null,null,null,null,null,null,null,null,null,null,null,null,null,null,null,null,null,null,null,null,{"$f":"IF(Indtastning!Y:Y=\"Ikke Aflagt\",1,\"\")","v":""},null,null,{"$f":"IF(Indtastning!U:U=\"Positiv\",1,\"\")","v":""},null,null,null,{"$f":"IF(Indtastning!Y:Y=\"Positiv\",1,\"\")","v":""},null,null,null,{"$f":"IF(Indtastning!AC:AC=\"Positiv\",1,\"\")","v":""},null,null,null,{"$f":"IF(Indtastning!AG:AG=\"Positiv\",1,\"\")","v":""}]
[null,null,null,null,null,null,null,null,null,null,null,null,null,null,null,null,null,null,null,null,null,null,null,null,null,null,null,null,null,null,null,null,null,null,null,null,null,null,null,null,null,null,null,null,null,{"$f":"IF(Indtastning!Y:Y=\"Ikke Aflagt\",1,\"\")","v":""},null,null,{"$f":"IF(Indtastning!U:U=\"Positiv\",1,\"\")","v":""},null,null,null,{"$f":"IF(Indtastning!Y:Y=\"Positiv\",1,\"\")","v":""},null,null,null,{"$f":"IF(Indtastning!AC:AC=\"Positiv\",1,\"\")","v":""},null,null,null,{"$f":"IF(Indtastning!AG:AG=\"Positiv\",1,\"\")","v":""}]
[null,null,null,null,null,null,null,null,null,null,null,null,null,null,null,null,null,null,null,null,null,null,null,null,null,null,null,null,null,null,null,null,null,null,null,null,null,null,null,null,null,null,null,null,null,{"$f":"IF(Indtastning!Y:Y=\"Ikke Aflagt\",1,\"\")","v":""},null,null,{"$f":"IF(Indtastning!U:U=\"Positiv\",1,\"\")","v":""},null,null,null,{"$f":"IF(Indtastning!Y:Y=\"Positiv\",1,\"\")","v":""},null,null,null,{"$f":"IF(Indtastning!AC:AC=\"Positiv\",1,\"\")","v":""},null,null,null,{"$f":"IF(Indtastning!AG:AG=\"Positiv\",1,\"\")","v":""}]
[null,null,null,null,null,null,null,null,null,null,null,null,null,null,null,null,null,null,null,null,null,null,null,null,null,null,null,null,null,null,null,null,null,null,null,null,null,null,null,null,null,null,null,null,null,{"$f":"IF(Indtastning!Y:Y=\"Ikke Aflagt\",1,\"\")","v":""},null,null,{"$f":"IF(Indtastning!U:U=\"Positiv\",1,\"\")","v":""},null,null,null,{"$f":"IF(Indtastning!Y:Y=\"Positiv\",1,\"\")","v":""},null,null,null,{"$f":"IF(Indtastning!AC:AC=\"Positiv\",1,\"\")","v":""},null,null,null,{"$f":"IF(Indtastning!AG:AG=\"Positiv\",1,\"\")","v":""}]
[null,null,null,null,null,null,null,null,null,null,null,null,null,null,null,null,null,null,null,null,null,null,null,null,null,null,null,null,null,null,null,null,null,null,null,null,null,null,null,null,null,null,null,null,null,{"$f":"IF(Indtastning!Y:Y=\"Ikke Aflagt\",1,\"\")","v":""},null,null,{"$f":"IF(Indtastning!U:U=\"Positiv\",1,\"\")","v":""},null,null,null,{"$f":"IF(Indtastning!Y:Y=\"Positiv\",1,\"\")","v":""},null,null,null,{"$f":"IF(Indtastning!AC:AC=\"Positiv\",1,\"\")","v":""},null,null,null,{"$f":"IF(Indtastning!AG:AG=\"Positiv\",1,\"\")","v":""}]
[null,null,null,null,null,null,null,null,null,null,null,null,null,null,null,null,null,null,null,null,null,null,null,null,null,null,null,null,null,null,null,null,null,null,null,null,null,null,null,null,null,null,null,null,null,{"$f":"IF(Indtastning!Y:Y=\"Ikke Aflagt\",1,\"\")","v":""},null,null,{"$f":"IF(Indtastning!U:U=\"Positiv\",1,\"\")","v":""},null,null,null,{"$f":"IF(Indtastning!Y:Y=\"Positiv\",1,\"\")","v":""},null,null,null,{"$f":"IF(Indtastning!AC:AC=\"Positiv\",1,\"\")","v":""},null,null,null,{"$f":"IF(Indtastning!AG:AG=\"Positiv\",1,\"\")","v":""}]
[null,null,null,null,null,null,null,null,null,null,null,null,null,null,null,null,null,null,null,null,null,null,null,null,null,null,null,null,null,null,null,null,null,null,null,null,null,null,null,null,null,null,null,null,null,{"$f":"IF(Indtastning!Y:Y=\"Ikke Aflagt\",1,\"\")","v":""},null,null,{"$f":"IF(Indtastning!U:U=\"Positiv\",1,\"\")","v":""},null,null,null,{"$f":"IF(Indtastning!Y:Y=\"Positiv\",1,\"\")","v":""},null,null,null,{"$f":"IF(Indtastning!AC:AC=\"Positiv\",1,\"\")","v":""},null,null,null,{"$f":"IF(Indtastning!AG:AG=\"Positiv\",1,\"\")","v":""}]
[null,null,null,null,null,null,null,null,null,null,null,null,null,null,null,null,null,null,null,null,null,null,null,null,null,null,null,null,null,null,null,null,null,null,null,null,null,null,null,null,null,null,null,null,null,{"$f":"IF(Indtastning!Y:Y=\"Ikke Aflagt\",1,\"\")","v":""},null,null,{"$f":"IF(Indtastning!U:U=\"Positiv\",1,\"\")","v":""},null,null,null,{"$f":"IF(Indtastning!Y:Y=\"Positiv\",1,\"\")","v":""},null,null,null,{"$f":"IF(Indtastning!AC:AC=\"Positiv\",1,\"\")","v":""},null,null,null,{"$f":"IF(Indtastning!AG:AG=\"Positiv\",1,\"\")","v":""}]
[null,null,null,null,null,null,null,null,null,null,null,null,null,null,null,null,null,null,null,null,null,null,null,null,null,null,null,null,null,null,null,null,null,null,null,null,null,null,null,null,null,null,null,null,null,{"$f":"IF(Indtastning!Y:Y=\"Ikke Aflagt\",1,\"\")","v":""},null,null,{"$f":"IF(Indtastning!U:U=\"Positiv\",1,\"\")","v":""},null,null,null,{"$f":"IF(Indtastning!Y:Y=\"Positiv\",1,\"\")","v":""},null,null,null,{"$f":"IF(Indtastning!AC:AC=\"Positiv\",1,\"\")","v":""},null,null,null,{"$f":"IF(Indtastning!AG:AG=\"Positiv\",1,\"\")","v":""}]
[null,null,null,null,null,null,null,null,null,null,null,null,null,null,null,null,null,null,null,null,null,null,null,null,null,null,null,null,null,null,null,null,null,null,null,null,null,null,null,null,null,null,null,null,null,{"$f":"IF(Indtastning!Y:Y=\"Ikke Aflagt\",1,\"\")","v":""},null,null,{"$f":"IF(Indtastning!U:U=\"Positiv\",1,\"\")","v":""},null,null,null,{"$f":"IF(Indtastning!Y:Y=\"Positiv\",1,\"\")","v":""},null,null,null,{"$f":"IF(Indtastning!AC:AC=\"Positiv\",1,\"\")","v":""},null,null,null,{"$f":"IF(Indtastning!AG:AG=\"Positiv\",1,\"\")","v":""}]
[null,null,null,null,null,null,null,null,null,null,null,null,null,null,null,null,null,null,null,null,null,null,null,null,null,null,null,null,null,null,null,null,null,null,null,null,null,null,null,null,null,null,null,null,null,{"$f":"IF(Indtastning!Y:Y=\"Ikke Aflagt\",1,\"\")","v":""},null,null,{"$f":"IF(Indtastning!U:U=\"Positiv\",1,\"\")","v":""},null,null,null,{"$f":"IF(Indtastning!Y:Y=\"Positiv\",1,\"\")","v":""},null,null,null,{"$f":"IF(Indtastning!AC:AC=\"Positiv\",1,\"\")","v":""},null,null,null,{"$f":"IF(Indtastning!AG:AG=\"Positiv\",1,\"\")","v":""}]
[null,null,null,null,null,null,null,null,null,null,null,null,null,null,null,null,null,null,null,null,null,null,null,null,null,null,null,null,null,null,null,null,null,null,null,null,null,null,null,null,null,null,null,null,null,{"$f":"IF(Indtastning!Y:Y=\"Ikke Aflagt\",1,\"\")","v":""},null,null,{"$f":"IF(Indtastning!U:U=\"Positiv\",1,\"\")","v":""},null,null,null,{"$f":"IF(Indtastning!Y:Y=\"Positiv\",1,\"\")","v":""},null,null,null,{"$f":"IF(Indtastning!AC:AC=\"Positiv\",1,\"\")","v":""},null,null,null,{"$f":"IF(Indtastning!AG:AG=\"Positiv\",1,\"\")","v":""}]
[null,null,null,null,null,null,null,null,null,null,null,null,null,null,null,null,null,null,null,null,null,null,null,null,null,null,null,null,null,null,null,null,null,null,null,null,null,null,null,null,null,null,null,null,null,{"$f":"IF(Indtastning!Y:Y=\"Ikke Aflagt\",1,\"\")","v":""},null,null,{"$f":"IF(Indtastning!U:U=\"Positiv\",1,\"\")","v":""},null,null,null,{"$f":"IF(Indtastning!Y:Y=\"Positiv\",1,\"\")","v":""},null,null,null,{"$f":"IF(Indtastning!AC:AC=\"Positiv\",1,\"\")","v":""},null,null,null,{"$f":"IF(Indtastning!AG:AG=\"Positiv\",1,\"\")","v":""}]
[null,null,null,null,null,null,null,null,null,null,null,null,null,null,null,null,null,null,null,null,null,null,null,null,null,null,null,null,null,null,null,null,null,null,null,null,null,null,null,null,null,null,null,null,null,{"$f":"IF(Indtastning!Y:Y=\"Ikke Aflagt\",1,\"\")","v":""},null,null,{"$f":"IF(Indtastning!U:U=\"Positiv\",1,\"\")","v":""},null,null,null,{"$f":"IF(Indtastning!Y:Y=\"Positiv\",1,\"\")","v":""},null,null,null,{"$f":"IF(Indtastning!AC:AC=\"Positiv\",1,\"\")","v":""},null,null,null,{"$f":"IF(Indtastning!AG:AG=\"Positiv\",1,\"\")","v":""}]
[null,null,null,null,null,null,null,null,null,null,null,null,null,null,null,null,null,null,null,null,null,null,null,null,null,null,null,null,null,null,null,null,null,null,null,null,null,null,null,null,null,null,null,null,null,{"$f":"IF(Indtastning!Y:Y=\"Ikke Aflagt\",1,\"\")","v":""},null,null,{"$f":"IF(Indtastning!U:U=\"Positiv\",1,\"\")","v":""},null,null,null,{"$f":"IF(Indtastning!Y:Y=\"Positiv\",1,\"\")","v":""},null,null,null,{"$f":"IF(Indtastning!AC:AC=\"Positiv\",1,\"\")","v":""},null,null,null,{"$f":"IF(Indtastning!AG:AG=\"Positiv\",1,\"\")","v":""}]
[null,null,null,null,null,null,null,null,null,null,null,null,null,null,null,null,null,null,null,null,null,null,null,null,null,null,null,null,null,null,null,null,null,null,null,null,null,null,null,null,null,null,null,null,null,{"$f":"IF(Indtastning!Y:Y=\"Ikke Aflagt\",1,\"\")","v":""},null,null,{"$f":"IF(Indtastning!U:U=\"Positiv\",1,\"\")","v":""},null,null,null,{"$f":"IF(Indtastning!Y:Y=\"Positiv\",1,\"\")","v":""},null,null,null,{"$f":"IF(Indtastning!AC:AC=\"Positiv\",1,\"\")","v":""},null,null,null,{"$f":"IF(Indtastning!AG:AG=\"Positiv\",1,\"\")","v":""}]
[null,null,null,null,null,null,null,null,null,null,null,null,null,null,null,null,null,null,null,null,null,null,null,null,null,null,null,null,null,null,null,null,null,null,null,null,null,null,null,null,null,null,null,null,null,{"$f":"IF(Indtastning!Y:Y=\"Ikke Aflagt\",1,\"\")","v":""},null,null,{"$f":"IF(Indtastning!U:U=\"Positiv\",1,\"\")","v":""},null,null,null,{"$f":"IF(Indtastning!Y:Y=\"Positiv\",1,\"\")","v":""},null,null,null,{"$f":"IF(Indtastning!AC:AC=\"Positiv\",1,\"\")","v":""},null,null,null,{"$f":"IF(Indtastning!AG:AG=\"Positiv\",1,\"\")","v":""}]
[null,null,null,null,null,null,null,null,null,null,null,null,null,null,null,null,null,null,null,null,null,null,null,null,null,null,null,null,null,null,null,null,null,null,null,null,null,null,null,null,null,null,null,null,null,{"$f":"IF(Indtastning!Y:Y=\"Ikke Aflagt\",1,\"\")","v":""},null,null,{"$f":"IF(Indtastning!U:U=\"Positiv\",1,\"\")","v":""},null,null,null,{"$f":"IF(Indtastning!Y:Y=\"Positiv\",1,\"\")","v":""},null,null,null,{"$f":"IF(Indtastning!AC:AC=\"Positiv\",1,\"\")","v":""},null,null,null,{"$f":"IF(Indtastning!AG:AG=\"Positiv\",1,\"\")","v":""}]
[null,null,null,null,null,null,null,null,null,null,null,null,null,null,null,null,null,null,null,null,null,null,null,null,null,null,null,null,null,null,null,null,null,null,null,null,null,null,null,null,null,null,null,null,null,{"$f":"IF(Indtastning!Y:Y=\"Ikke Aflagt\",1,\"\")","v":""},null,null,{"$f":"IF(Indtastning!U:U=\"Positiv\",1,\"\")","v":""},null,null,null,{"$f":"IF(Indtastning!Y:Y=\"Positiv\",1,\"\")","v":""},null,null,null,{"$f":"IF(Indtastning!AC:AC=\"Positiv\",1,\"\")","v":""},null,null,null,{"$f":"IF(Indtastning!AG:AG=\"Positiv\",1,\"\")","v":""}]
[null,null,null,null,null,null,null,null,null,null,null,null,null,null,null,null,null,null,null,null,null,null,null,null,null,null,null,null,null,null,null,null,null,null,null,null,null,null,null,null,null,null,null,null,null,{"$f":"IF(Indtastning!Y:Y=\"Ikke Aflagt\",1,\"\")","v":""},null,null,{"$f":"IF(Indtastning!U:U=\"Positiv\",1,\"\")","v":""},null,null,null,{"$f":"IF(Indtastning!Y:Y=\"Positiv\",1,\"\")","v":""},null,null,null,{"$f":"IF(Indtastning!AC:AC=\"Positiv\",1,\"\")","v":""},null,null,null,{"$f":"IF(Indtastning!AG:AG=\"Positiv\",1,\"\")","v":""}]
[null,null,null,null,null,null,null,null,null,null,null,null,null,null,null,null,null,null,null,null,null,null,null,null,null,null,null,null,null,null,null,null,null,null,null,null,null,null,null,null,null,null,null,null,null,{"$f":"IF(Indtastning!Y:Y=\"Ikke Aflagt\",1,\"\")","v":""},null,null,{"$f":"IF(Indtastning!U:U=\"Positiv\",1,\"\")","v":""},null,null,null,{"$f":"IF(Indtastning!Y:Y=\"Positiv\",1,\"\")","v":""},null,null,null,{"$f":"IF(Indtastning!AC:AC=\"Positiv\",1,\"\")","v":""},null,null,null,{"$f":"IF(Indtastning!AG:AG=\"Positiv\",1,\"\")","v":""}]
[null,null,null,null,null,null,null,null,null,null,null,null,null,null,null,null,null,null,null,null,null,null,null,null,null,null,null,null,null,null,null,null,null,null,null,null,null,null,null,null,null,null,null,null,null,{"$f":"IF(Indtastning!Y:Y=\"Ikke Aflagt\",1,\"\")","v":""},null,null,{"$f":"IF(Indtastning!U:U=\"Positiv\",1,\"\")","v":""},null,null,null,{"$f":"IF(Indtastning!Y:Y=\"Positiv\",1,\"\")","v":""},null,null,null,{"$f":"IF(Indtastning!AC:AC=\"Positiv\",1,\"\")","v":""},null,null,null,{"$f":"IF(Indtastning!AG:AG=\"Positiv\",1,\"\")","v":""}]
[null,null,null,null,null,null,null,null,null,null,null,null,null,null,null,null,null,null,null,null,null,null,null,null,null,null,null,null,null,null,null,null,null,null,null,null,null,null,null,null,null,null,null,null,null,{"$f":"IF(Indtastning!Y:Y=\"Ikke Aflagt\",1,\"\")","v":""},null,null,{"$f":"IF(Indtastning!U:U=\"Positiv\",1,\"\")","v":""},null,null,null,{"$f":"IF(Indtastning!Y:Y=\"Positiv\",1,\"\")","v":""},null,null,null,{"$f":"IF(Indtastning!AC:AC=\"Positiv\",1,\"\")","v":""},null,null,null,{"$f":"IF(Indtastning!AG:AG=\"Positiv\",1,\"\")","v":""}]
[null,null,null,null,null,null,null,null,null,null,null,null,null,null,null,null,null,null,null,null,null,null,null,null,null,null,null,null,null,null,null,null,null,null,null,null,null,null,null,null,null,null,null,null,null,{"$f":"IF(Indtastning!Y:Y=\"Ikke Aflagt\",1,\"\")","v":""},null,null,{"$f":"IF(Indtastning!U:U=\"Positiv\",1,\"\")","v":""},null,null,null,{"$f":"IF(Indtastning!Y:Y=\"Positiv\",1,\"\")","v":""},null,null,null,{"$f":"IF(Indtastning!AC:AC=\"Positiv\",1,\"\")","v":""},null,null,null,{"$f":"IF(Indtastning!AG:AG=\"Positiv\",1,\"\")","v":""}]
[null,null,null,null,null,null,null,null,null,null,null,null,null,null,null,null,null,null,null,null,null,null,null,null,null,null,null,null,null,null,null,null,null,null,null,null,null,null,null,null,null,null,null,null,null,{"$f":"IF(Indtastning!Y:Y=\"Ikke Aflagt\",1,\"\")","v":""},null,null,{"$f":"IF(Indtastning!U:U=\"Positiv\",1,\"\")","v":""},null,null,null,{"$f":"IF(Indtastning!Y:Y=\"Positiv\",1,\"\")","v":""},null,null,null,{"$f":"IF(Indtastning!AC:AC=\"Positiv\",1,\"\")","v":""},null,null,null,{"$f":"IF(Indtastning!AG:AG=\"Positiv\",1,\"\")","v":""}]
[null,null,null,null,null,null,null,null,null,null,null,null,null,null,null,null,null,null,null,null,null,null,null,null,null,null,null,null,null,null,null,null,null,null,null,null,null,null,null,null,null,null,null,null,null,{"$f":"IF(Indtastning!Y:Y=\"Ikke Aflagt\",1,\"\")","v":""},null,null,{"$f":"IF(Indtastning!U:U=\"Positiv\",1,\"\")","v":""},null,null,null,{"$f":"IF(Indtastning!Y:Y=\"Positiv\",1,\"\")","v":""},null,null,null,{"$f":"IF(Indtastning!AC:AC=\"Positiv\",1,\"\")","v":""},null,null,null,{"$f":"IF(Indtastning!AG:AG=\"Positiv\",1,\"\")","v":""}]
[null,null,null,null,null,null,null,null,null,null,null,null,null,null,null,null,null,null,null,null,null,null,null,null,null,null,null,null,null,null,null,null,null,null,null,null,null,null,null,null,null,null,null,null,null,{"$f":"IF(Indtastning!Y:Y=\"Ikke Aflagt\",1,\"\")","v":""},null,null,{"$f":"IF(Indtastning!U:U=\"Positiv\",1,\"\")","v":""},null,null,null,{"$f":"IF(Indtastning!Y:Y=\"Positiv\",1,\"\")","v":""},null,null,null,{"$f":"IF(Indtastning!AC:AC=\"Positiv\",1,\"\")","v":""},null,null,null,{"$f":"IF(Indtastning!AG:AG=\"Positiv\",1,\"\")","v":""}]
[null,null,null,null,null,null,null,null,null,null,null,null,null,null,null,null,null,null,null,null,null,null,null,null,null,null,null,null,null,null,null,null,null,null,null,null,null,null,null,null,null,null,null,null,null,{"$f":"IF(Indtastning!Y:Y=\"Ikke Aflagt\",1,\"\")","v":""},null,null,{"$f":"IF(Indtastning!U:U=\"Positiv\",1,\"\")","v":""},null,null,null,{"$f":"IF(Indtastning!Y:Y=\"Positiv\",1,\"\")","v":""},null,null,null,{"$f":"IF(Indtastning!AC:AC=\"Positiv\",1,\"\")","v":""},null,null,null,{"$f":"IF(Indtastning!AG:AG=\"Positiv\",1,\"\")","v":""}]
[null,null,null,null,null,null,null,null,null,null,null,null,null,null,null,null,null,null,null,null,null,null,null,null,null,null,null,null,null,null,null,null,null,null,null,null,null,null,null,null,null,null,null,null,null,{"$f":"IF(Indtastning!Y:Y=\"Ikke Aflagt\",1,\"\")","v":""},null,null,{"$f":"IF(Indtastning!U:U=\"Positiv\",1,\"\")","v":""},null,null,null,{"$f":"IF(Indtastning!Y:Y=\"Positiv\",1,\"\")","v":""},null,null,null,{"$f":"IF(Indtastning!AC:AC=\"Positiv\",1,\"\")","v":""},null,null,null,{"$f":"IF(Indtastning!AG:AG=\"Positiv\",1,\"\")","v":""}]
[null,null,null,null,null,null,null,null,null,null,null,null,null,null,null,null,null,null,null,null,null,null,null,null,null,null,null,null,null,null,null,null,null,null,null,null,null,null,null,null,null,null,null,null,null,{"$f":"IF(Indtastning!Y:Y=\"Ikke Aflagt\",1,\"\")","v":""},null,null,{"$f":"IF(Indtastning!U:U=\"Positiv\",1,\"\")","v":""},null,null,null,{"$f":"IF(Indtastning!Y:Y=\"Positiv\",1,\"\")","v":""},null,null,null,{"$f":"IF(Indtastning!AC:AC=\"Positiv\",1,\"\")","v":""},null,null,null,{"$f":"IF(Indtastning!AG:AG=\"Positiv\",1,\"\")","v":""}]
[null,null,null,null,null,null,null,null,null,null,null,null,null,null,null,null,null,null,null,null,null,null,null,null,null,null,null,null,null,null,null,null,null,null,null,null,null,null,null,null,null,null,null,null,null,{"$f":"IF(Indtastning!Y:Y=\"Ikke Aflagt\",1,\"\")","v":""},null,null,{"$f":"IF(Indtastning!U:U=\"Positiv\",1,\"\")","v":""},null,null,null,{"$f":"IF(Indtastning!Y:Y=\"Positiv\",1,\"\")","v":""},null,null,null,{"$f":"IF(Indtastning!AC:AC=\"Positiv\",1,\"\")","v":""},null,null,null,{"$f":"IF(Indtastning!AG:AG=\"Positiv\",1,\"\")","v":""}]
[null,null,null,null,null,null,null,null,null,null,null,null,null,null,null,null,null,null,null,null,null,null,null,null,null,null,null,null,null,null,null,null,null,null,null,null,null,null,null,null,null,null,null,null,null,{"$f":"IF(Indtastning!Y:Y=\"Ikke Aflagt\",1,\"\")","v":""},null,null,{"$f":"IF(Indtastning!U:U=\"Positiv\",1,\"\")","v":""},null,null,null,{"$f":"IF(Indtastning!Y:Y=\"Positiv\",1,\"\")","v":""},null,null,null,{"$f":"IF(Indtastning!AC:AC=\"Positiv\",1,\"\")","v":""},null,null,null,{"$f":"IF(Indtastning!AG:AG=\"Positiv\",1,\"\")","v":""}]
[null,null,null,null,null,null,null,null,null,null,null,null,null,null,null,null,null,null,null,null,null,null,null,null,null,null,null,null,null,null,null,null,null,null,null,null,null,null,null,null,null,null,null,null,null,{"$f":"IF(Indtastning!Y:Y=\"Ikke Aflagt\",1,\"\")","v":""},null,null,{"$f":"IF(Indtastning!U:U=\"Positiv\",1,\"\")","v":""},null,null,null,{"$f":"IF(Indtastning!Y:Y=\"Positiv\",1,\"\")","v":""},null,null,null,{"$f":"IF(Indtastning!AC:AC=\"Positiv\",1,\"\")","v":""},null,null,null,{"$f":"IF(Indtastning!AG:AG=\"Positiv\",1,\"\")","v":""}]
[null,null,null,null,null,null,null,null,null,null,null,null,null,null,null,null,null,null,null,null,null,null,null,null,null,null,null,null,null,null,null,null,null,null,null,null,null,null,null,null,null,null,null,null,null,{"$f":"IF(Indtastning!Y:Y=\"Ikke Aflagt\",1,\"\")","v":""},null,null,{"$f":"IF(Indtastning!U:U=\"Positiv\",1,\"\")","v":""},null,null,null,{"$f":"IF(Indtastning!Y:Y=\"Positiv\",1,\"\")","v":""},null,null,null,{"$f":"IF(Indtastning!AC:AC=\"Positiv\",1,\"\")","v":""},null,null,null,{"$f":"IF(Indtastning!AG:AG=\"Positiv\",1,\"\")","v":""}]
[null,null,null,null,null,null,null,null,null,null,null,null,null,null,null,null,null,null,null,null,null,null,null,null,null,null,null,null,null,null,null,null,null,null,null,null,null,null,null,null,null,null,null,null,null,{"$f":"IF(Indtastning!Y:Y=\"Ikke Aflagt\",1,\"\")","v":""},null,null,{"$f":"IF(Indtastning!U:U=\"Positiv\",1,\"\")","v":""},null,null,null,{"$f":"IF(Indtastning!Y:Y=\"Positiv\",1,\"\")","v":""},null,null,null,{"$f":"IF(Indtastning!AC:AC=\"Positiv\",1,\"\")","v":""},null,null,null,{"$f":"IF(Indtastning!AG:AG=\"Positiv\",1,\"\")","v":""}]
[null,null,null,null,null,null,null,null,null,null,null,null,null,null,null,null,null,null,null,null,null,null,null,null,null,null,null,null,null,null,null,null,null,null,null,null,null,null,null,null,null,null,null,null,null,{"$f":"IF(Indtastning!Y:Y=\"Ikke Aflagt\",1,\"\")","v":""},null,null,{"$f":"IF(Indtastning!U:U=\"Positiv\",1,\"\")","v":""},null,null,null,{"$f":"IF(Indtastning!Y:Y=\"Positiv\",1,\"\")","v":""},null,null,null,{"$f":"IF(Indtastning!AC:AC=\"Positiv\",1,\"\")","v":""},null,null,null,{"$f":"IF(Indtastning!AG:AG=\"Positiv\",1,\"\")","v":""}]
[null,null,null,null,null,null,null,null,null,null,null,null,null,null,null,null,null,null,null,null,null,null,null,null,null,null,null,null,null,null,null,null,null,null,null,null,null,null,null,null,null,null,null,null,null,{"$f":"IF(Indtastning!Y:Y=\"Ikke Aflagt\",1,\"\")","v":""},null,null,{"$f":"IF(Indtastning!U:U=\"Positiv\",1,\"\")","v":""},null,null,null,{"$f":"IF(Indtastning!Y:Y=\"Positiv\",1,\"\")","v":""},null,null,null,{"$f":"IF(Indtastning!AC:AC=\"Positiv\",1,\"\")","v":""},null,null,null,{"$f":"IF(Indtastning!AG:AG=\"Positiv\",1,\"\")","v":""}]
[null,null,null,null,null,null,null,null,null,null,null,null,null,null,null,null,null,null,null,null,null,null,null,null,null,null,null,null,null,null,null,null,null,null,null,null,null,null,null,null,null,null,null,null,null,{"$f":"IF(Indtastning!Y:Y=\"Ikke Aflagt\",1,\"\")","v":""},null,null,{"$f":"IF(Indtastning!U:U=\"Positiv\",1,\"\")","v":""},null,null,null,{"$f":"IF(Indtastning!Y:Y=\"Positiv\",1,\"\")","v":""},null,null,null,{"$f":"IF(Indtastning!AC:AC=\"Positiv\",1,\"\")","v":""},null,null,null,{"$f":"IF(Indtastning!AG:AG=\"Positiv\",1,\"\")","v":""}]
[null,null,null,null,null,null,null,null,null,null,null,null,null,null,null,null,null,null,null,null,null,null,null,null,null,null,null,null,null,null,null,null,null,null,null,null,null,null,null,null,null,null,null,null,null,{"$f":"IF(Indtastning!Y:Y=\"Ikke Aflagt\",1,\"\")","v":""},null,null,{"$f":"IF(Indtastning!U:U=\"Positiv\",1,\"\")","v":""},null,null,null,{"$f":"IF(Indtastning!Y:Y=\"Positiv\",1,\"\")","v":""},null,null,null,{"$f":"IF(Indtastning!AC:AC=\"Positiv\",1,\"\")","v":""},null,null,null,{"$f":"IF(Indtastning!AG:AG=\"Positiv\",1,\"\")","v":""}]
[null,null,null,null,null,null,null,null,null,null,null,null,null,null,null,null,null,null,null,null,null,null,null,null,null,null,null,null,null,null,null,null,null,null,null,null,null,null,null,null,null,null,null,null,null,{"$f":"IF(Indtastning!Y:Y=\"Ikke Aflagt\",1,\"\")","v":""},null,null,{"$f":"IF(Indtastning!U:U=\"Positiv\",1,\"\")","v":""},null,null,null,{"$f":"IF(Indtastning!Y:Y=\"Positiv\",1,\"\")","v":""},null,null,null,{"$f":"IF(Indtastning!AC:AC=\"Positiv\",1,\"\")","v":""},null,null,null,{"$f":"IF(Indtastning!AG:AG=\"Positiv\",1,\"\")","v":""}]
[null,null,null,null,null,null,null,null,null,null,null,null,null,null,null,null,null,null,null,null,null,null,null,null,null,null,null,null,null,null,null,null,null,null,null,null,null,null,null,null,null,null,null,null,null,{"$f":"IF(Indtastning!Y:Y=\"Ikke Aflagt\",1,\"\")","v":""},null,null,{"$f":"IF(Indtastning!U:U=\"Positiv\",1,\"\")","v":""},null,null,null,{"$f":"IF(Indtastning!Y:Y=\"Positiv\",1,\"\")","v":""},null,null,null,{"$f":"IF(Indtastning!AC:AC=\"Positiv\",1,\"\")","v":""},null,null,null,{"$f":"IF(Indtastning!AG:AG=\"Positiv\",1,\"\")","v":""}]
[null,null,null,null,null,null,null,null,null,null,null,null,null,null,null,null,null,null,null,null,null,null,null,null,null,null,null,null,null,null,null,null,null,null,null,null,null,null,null,null,null,null,null,null,null,{"$f":"IF(Indtastning!Y:Y=\"Ikke Aflagt\",1,\"\")","v":""},null,null,{"$f":"IF(Indtastning!U:U=\"Positiv\",1,\"\")","v":""},null,null,null,{"$f":"IF(Indtastning!Y:Y=\"Positiv\",1,\"\")","v":""},null,null,null,{"$f":"IF(Indtastning!AC:AC=\"Positiv\",1,\"\")","v":""},null,null,null,{"$f":"IF(Indtastning!AG:AG=\"Positiv\",1,\"\")","v":""}]
[null,null,null,null,null,null,null,null,null,null,null,null,null,null,null,null,null,null,null,null,null,null,null,null,null,null,null,null,null,null,null,null,null,null,null,null,null,null,null,null,null,null,null,null,null,{"$f":"IF(Indtastning!Y:Y=\"Ikke Aflagt\",1,\"\")","v":""},null,null,{"$f":"IF(Indtastning!U:U=\"Positiv\",1,\"\")","v":""},null,null,null,{"$f":"IF(Indtastning!Y:Y=\"Positiv\",1,\"\")","v":""},null,null,null,{"$f":"IF(Indtastning!AC:AC=\"Positiv\",1,\"\")","v":""},null,null,null,{"$f":"IF(Indtastning!AG:AG=\"Positiv\",1,\"\")","v":""}]
[null,null,null,null,null,null,null,null,null,null,null,null,null,null,null,null,null,null,null,null,null,null,null,null,null,null,null,null,null,null,null,null,null,null,null,null,null,null,null,null,null,null,null,null,null,{"$f":"IF(Indtastning!Y:Y=\"Ikke Aflagt\",1,\"\")","v":""},null,null,{"$f":"IF(Indtastning!U:U=\"Positiv\",1,\"\")","v":""},null,null,null,{"$f":"IF(Indtastning!Y:Y=\"Positiv\",1,\"\")","v":""},null,null,null,{"$f":"IF(Indtastning!AC:AC=\"Positiv\",1,\"\")","v":""},null,null,null,{"$f":"IF(Indtastning!AG:AG=\"Positiv\",1,\"\")","v":""}]
[null,null,null,null,null,null,null,null,null,null,null,null,null,null,null,null,null,null,null,null,null,null,null,null,null,null,null,null,null,null,null,null,null,null,null,null,null,null,null,null,null,null,null,null,null,{"$f":"IF(Indtastning!Y:Y=\"Ikke Aflagt\",1,\"\")","v":""},null,null,{"$f":"IF(Indtastning!U:U=\"Positiv\",1,\"\")","v":""},null,null,null,{"$f":"IF(Indtastning!Y:Y=\"Positiv\",1,\"\")","v":""},null,null,null,{"$f":"IF(Indtastning!AC:AC=\"Positiv\",1,\"\")","v":""},null,null,null,{"$f":"IF(Indtastning!AG:AG=\"Positiv\",1,\"\")","v":""}]
[null,null,null,null,null,null,null,null,null,null,null,null,null,null,null,null,null,null,null,null,null,null,null,null,null,null,null,null,null,null,null,null,null,null,null,null,null,null,null,null,null,null,null,null,null,{"$f":"IF(Indtastning!Y:Y=\"Ikke Aflagt\",1,\"\")","v":""},null,null,{"$f":"IF(Indtastning!U:U=\"Positiv\",1,\"\")","v":""},null,null,null,{"$f":"IF(Indtastning!Y:Y=\"Positiv\",1,\"\")","v":""},null,null,null,{"$f":"IF(Indtastning!AC:AC=\"Positiv\",1,\"\")","v":""},null,null,null,{"$f":"IF(Indtastning!AG:AG=\"Positiv\",1,\"\")","v":""}]
[null,null,null,null,null,null,null,null,null,null,null,null,null,null,null,null,null,null,null,null,null,null,null,null,null,null,null,null,null,null,null,null,null,null,null,null,null,null,null,null,null,null,null,null,null,{"$f":"IF(Indtastning!Y:Y=\"Ikke Aflagt\",1,\"\")","v":""},null,null,{"$f":"IF(Indtastning!U:U=\"Positiv\",1,\"\")","v":""},null,null,null,{"$f":"IF(Indtastning!Y:Y=\"Positiv\",1,\"\")","v":""},null,null,null,{"$f":"IF(Indtastning!AC:AC=\"Positiv\",1,\"\")","v":""},null,null,null,{"$f":"IF(Indtastning!AG:AG=\"Positiv\",1,\"\")","v":""}]
[null,null,null,null,null,null,null,null,null,null,null,null,null,null,null,null,null,null,null,null,null,null,null,null,null,null,null,null,null,null,null,null,null,null,null,null,null,null,null,null,null,null,null,null,null,{"$f":"IF(Indtastning!Y:Y=\"Ikke Aflagt\",1,\"\")","v":""},null,null,{"$f":"IF(Indtastning!U:U=\"Positiv\",1,\"\")","v":""},null,null,null,{"$f":"IF(Indtastning!Y:Y=\"Positiv\",1,\"\")","v":""},null,null,null,{"$f":"IF(Indtastning!AC:AC=\"Positiv\",1,\"\")","v":""},null,null,null,{"$f":"IF(Indtastning!AG:AG=\"Positiv\",1,\"\")","v":""}]
[null,null,null,null,null,null,null,null,null,null,null,null,null,null,null,null,null,null,null,null,null,null,null,null,null,null,null,null,null,null,null,null,null,null,null,null,null,null,null,null,null,null,null,null,null,{"$f":"IF(Indtastning!Y:Y=\"Ikke Aflagt\",1,\"\")","v":""},null,null,{"$f":"IF(Indtastning!U:U=\"Positiv\",1,\"\")","v":""},null,null,null,{"$f":"IF(Indtastning!Y:Y=\"Positiv\",1,\"\")","v":""},null,null,null,{"$f":"IF(Indtastning!AC:AC=\"Positiv\",1,\"\")","v":""},null,null,null,{"$f":"IF(Indtastning!AG:AG=\"Positiv\",1,\"\")","v":""}]
[null,null,null,null,null,null,null,null,null,null,null,null,null,null,null,null,null,null,null,null,null,null,null,null,null,null,null,null,null,null,null,null,null,null,null,null,null,null,null,null,null,null,null,null,null,{"$f":"IF(Indtastning!Y:Y=\"Ikke Aflagt\",1,\"\")","v":""},null,null,{"$f":"IF(Indtastning!U:U=\"Positiv\",1,\"\")","v":""},null,null,null,{"$f":"IF(Indtastning!Y:Y=\"Positiv\",1,\"\")","v":""},null,null,null,{"$f":"IF(Indtastning!AC:AC=\"Positiv\",1,\"\")","v":""},null,null,null,{"$f":"IF(Indtastning!AG:AG=\"Positiv\",1,\"\")","v":""}]
[null,null,null,null,null,null,null,null,null,null,null,null,null,null,null,null,null,null,null,null,null,null,null,null,null,null,null,null,null,null,null,null,null,null,null,null,null,null,null,null,null,null,null,null,null,{"$f":"IF(Indtastning!Y:Y=\"Ikke Aflagt\",1,\"\")","v":""},null,null,{"$f":"IF(Indtastning!U:U=\"Positiv\",1,\"\")","v":""},null,null,null,{"$f":"IF(Indtastning!Y:Y=\"Positiv\",1,\"\")","v":""},null,null,null,{"$f":"IF(Indtastning!AC:AC=\"Positiv\",1,\"\")","v":""},null,null,null,{"$f":"IF(Indtastning!AG:AG=\"Positiv\",1,\"\")","v":""}]
[null,null,null,null,null,null,null,null,null,null,null,null,null,null,null,null,null,null,null,null,null,null,null,null,null,null,null,null,null,null,null,null,null,null,null,null,null,null,null,null,null,null,null,null,null,{"$f":"IF(Indtastning!Y:Y=\"Ikke Aflagt\",1,\"\")","v":""},null,null,{"$f":"IF(Indtastning!U:U=\"Positiv\",1,\"\")","v":""},null,null,null,{"$f":"IF(Indtastning!Y:Y=\"Positiv\",1,\"\")","v":""},null,null,null,{"$f":"IF(Indtastning!AC:AC=\"Positiv\",1,\"\")","v":""},null,null,null,{"$f":"IF(Indtastning!AG:AG=\"Positiv\",1,\"\")","v":""}]
[null,null,null,null,null,null,null,null,null,null,null,null,null,null,null,null,null,null,null,null,null,null,null,null,null,null,null,null,null,null,null,null,null,null,null,null,null,null,null,null,null,null,null,null,null,{"$f":"IF(Indtastning!Y:Y=\"Ikke Aflagt\",1,\"\")","v":""},null,null,{"$f":"IF(Indtastning!U:U=\"Positiv\",1,\"\")","v":""},null,null,null,{"$f":"IF(Indtastning!Y:Y=\"Positiv\",1,\"\")","v":""},null,null,null,{"$f":"IF(Indtastning!AC:AC=\"Positiv\",1,\"\")","v":""},null,null,null,{"$f":"IF(Indtastning!AG:AG=\"Positiv\",1,\"\")","v":""}]
[null,null,null,null,null,null,null,null,null,null,null,null,null,null,null,null,null,null,null,null,null,null,null,null,null,null,null,null,null,null,null,null,null,null,null,null,null,null,null,null,null,null,null,null,null,{"$f":"IF(Indtastning!Y:Y=\"Ikke Aflagt\",1,\"\")","v":""},null,null,{"$f":"IF(Indtastning!U:U=\"Positiv\",1,\"\")","v":""},null,null,null,{"$f":"IF(Indtastning!Y:Y=\"Positiv\",1,\"\")","v":""},null,null,null,{"$f":"IF(Indtastning!AC:AC=\"Positiv\",1,\"\")","v":""},null,null,null,{"$f":"IF(Indtastning!AG:AG=\"Positiv\",1,\"\")","v":""}]
[null,null,null,null,null,null,null,null,null,null,null,null,null,null,null,null,null,null,null,null,null,null,null,null,null,null,null,null,null,null,null,null,null,null,null,null,null,null,null,null,null,null,null,null,null,{"$f":"IF(Indtastning!Y:Y=\"Ikke Aflagt\",1,\"\")","v":""},null,null,{"$f":"IF(Indtastning!U:U=\"Positiv\",1,\"\")","v":""},null,null,null,{"$f":"IF(Indtastning!Y:Y=\"Positiv\",1,\"\")","v":""},null,null,null,{"$f":"IF(Indtastning!AC:AC=\"Positiv\",1,\"\")","v":""},null,null,null,{"$f":"IF(Indtastning!AG:AG=\"Positiv\",1,\"\")","v":""}]
[null,null,null,null,null,null,null,null,null,null,null,null,null,null,null,null,null,null,null,null,null,null,null,null,null,null,null,null,null,null,null,null,null,null,null,null,null,null,null,null,null,null,null,null,null,{"$f":"IF(Indtastning!Y:Y=\"Ikke Aflagt\",1,\"\")","v":""},null,null,{"$f":"IF(Indtastning!U:U=\"Positiv\",1,\"\")","v":""},null,null,null,{"$f":"IF(Indtastning!Y:Y=\"Positiv\",1,\"\")","v":""},null,null,null,{"$f":"IF(Indtastning!AC:AC=\"Positiv\",1,\"\")","v":""},null,null,null,{"$f":"IF(Indtastning!AG:AG=\"Positiv\",1,\"\")","v":""}]
[null,null,null,null,null,null,null,null,null,null,null,null,null,null,null,null,null,null,null,null,null,null,null,null,null,null,null,null,null,null,null,null,null,null,null,null,null,null,null,null,null,null,null,null,null,{"$f":"IF(Indtastning!Y:Y=\"Ikke Aflagt\",1,\"\")","v":""},null,null,{"$f":"IF(Indtastning!U:U=\"Positiv\",1,\"\")","v":""},null,null,null,{"$f":"IF(Indtastning!Y:Y=\"Positiv\",1,\"\")","v":""},null,null,null,{"$f":"IF(Indtastning!AC:AC=\"Positiv\",1,\"\")","v":""},null,null,null,{"$f":"IF(Indtastning!AG:AG=\"Positiv\",1,\"\")","v":""}]
[null,null,null,null,null,null,null,null,null,null,null,null,null,null,null,null,null,null,null,null,null,null,null,null,null,null,null,null,null,null,null,null,null,null,null,null,null,null,null,null,null,null,null,null,null,{"$f":"IF(Indtastning!Y:Y=\"Ikke Aflagt\",1,\"\")","v":""},null,null,{"$f":"IF(Indtastning!U:U=\"Positiv\",1,\"\")","v":""},null,null,null,{"$f":"IF(Indtastning!Y:Y=\"Positiv\",1,\"\")","v":""},null,null,null,{"$f":"IF(Indtastning!AC:AC=\"Positiv\",1,\"\")","v":""},null,null,null,{"$f":"IF(Indtastning!AG:AG=\"Positiv\",1,\"\")","v":""}]
[null,null,null,null,null,null,null,null,null,null,null,null,null,null,null,null,null,null,null,null,null,null,null,null,null,null,null,null,null,null,null,null,null,null,null,null,null,null,null,null,null,null,null,null,null,{"$f":"IF(Indtastning!Y:Y=\"Ikke Aflagt\",1,\"\")","v":""},null,null,{"$f":"IF(Indtastning!U:U=\"Positiv\",1,\"\")","v":""},null,null,null,{"$f":"IF(Indtastning!Y:Y=\"Positiv\",1,\"\")","v":""},null,null,null,{"$f":"IF(Indtastning!AC:AC=\"Positiv\",1,\"\")","v":""},null,null,null,{"$f":"IF(Indtastning!AG:AG=\"Positiv\",1,\"\")","v":""}]
[null,null,null,null,null,null,null,null,null,null,null,null,null,null,null,null,null,null,null,null,null,null,null,null,null,null,null,null,null,null,null,null,null,null,null,null,null,null,null,null,null,null,null,null,null,{"$f":"IF(Indtastning!Y:Y=\"Ikke Aflagt\",1,\"\")","v":""},null,null,{"$f":"IF(Indtastning!U:U=\"Positiv\",1,\"\")","v":""},null,null,null,{"$f":"IF(Indtastning!Y:Y=\"Positiv\",1,\"\")","v":""},null,null,null,{"$f":"IF(Indtastning!AC:AC=\"Positiv\",1,\"\")","v":""},null,null,null,{"$f":"IF(Indtastning!AG:AG=\"Positiv\",1,\"\")","v":""}]
[null,null,null,null,null,null,null,null,null,null,null,null,null,null,null,null,null,null,null,null,null,null,null,null,null,null,null,null,null,null,null,null,null,null,null,null,null,null,null,null,null,null,null,null,null,{"$f":"IF(Indtastning!Y:Y=\"Ikke Aflagt\",1,\"\")","v":""},null,null,{"$f":"IF(Indtastning!U:U=\"Positiv\",1,\"\")","v":""},null,null,null,{"$f":"IF(Indtastning!Y:Y=\"Positiv\",1,\"\")","v":""},null,null,null,{"$f":"IF(Indtastning!AC:AC=\"Positiv\",1,\"\")","v":""},null,null,null,{"$f":"IF(Indtastning!AG:AG=\"Positiv\",1,\"\")","v":""}]
[null,null,null,null,null,null,null,null,null,null,null,null,null,null,null,null,null,null,null,null,null,null,null,null,null,null,null,null,null,null,null,null,null,null,null,null,null,null,null,null,null,null,null,null,null,{"$f":"IF(Indtastning!Y:Y=\"Ikke Aflagt\",1,\"\")","v":""},null,null,{"$f":"IF(Indtastning!U:U=\"Positiv\",1,\"\")","v":""},null,null,null,{"$f":"IF(Indtastning!Y:Y=\"Positiv\",1,\"\")","v":""},null,null,null,{"$f":"IF(Indtastning!AC:AC=\"Positiv\",1,\"\")","v":""},null,null,null,{"$f":"IF(Indtastning!AG:AG=\"Positiv\",1,\"\")","v":""}]
[null,null,null,null,null,null,null,null,null,null,null,null,null,null,null,null,null,null,null,null,null,null,null,null,null,null,null,null,null,null,null,null,null,null,null,null,null,null,null,null,null,null,null,null,null,{"$f":"IF(Indtastning!Y:Y=\"Ikke Aflagt\",1,\"\")","v":""},null,null,{"$f":"IF(Indtastning!U:U=\"Positiv\",1,\"\")","v":""},null,null,null,{"$f":"IF(Indtastning!Y:Y=\"Positiv\",1,\"\")","v":""},null,null,null,{"$f":"IF(Indtastning!AC:AC=\"Positiv\",1,\"\")","v":""},null,null,null,{"$f":"IF(Indtastning!AG:AG=\"Positiv\",1,\"\")","v":""}]
[null,null,null,null,null,null,null,null,null,null,null,null,null,null,null,null,null,null,null,null,null,null,null,null,null,null,null,null,null,null,null,null,null,null,null,null,null,null,null,null,null,null,null,null,null,{"$f":"IF(Indtastning!Y:Y=\"Ikke Aflagt\",1,\"\")","v":""},null,null,{"$f":"IF(Indtastning!U:U=\"Positiv\",1,\"\")","v":""},null,null,null,{"$f":"IF(Indtastning!Y:Y=\"Positiv\",1,\"\")","v":""},null,null,null,{"$f":"IF(Indtastning!AC:AC=\"Positiv\",1,\"\")","v":""},null,null,null,{"$f":"IF(Indtastning!AG:AG=\"Positiv\",1,\"\")","v":""}]
[null,null,null,null,null,null,null,null,null,null,null,null,null,null,null,null,null,null,null,null,null,null,null,null,null,null,null,null,null,null,null,null,null,null,null,null,null,null,null,null,null,null,null,null,null,{"$f":"IF(Indtastning!Y:Y=\"Ikke Aflagt\",1,\"\")","v":""},null,null,{"$f":"IF(Indtastning!U:U=\"Positiv\",1,\"\")","v":""},null,null,null,{"$f":"IF(Indtastning!Y:Y=\"Positiv\",1,\"\")","v":""},null,null,null,{"$f":"IF(Indtastning!AC:AC=\"Positiv\",1,\"\")","v":""},null,null,null,{"$f":"IF(Indtastning!AG:AG=\"Positiv\",1,\"\")","v":""}]
[null,null,null,null,null,null,null,null,null,null,null,null,null,null,null,null,null,null,null,null,null,null,null,null,null,null,null,null,null,null,null,null,null,null,null,null,null,null,null,null,null,null,null,null,null,{"$f":"IF(Indtastning!Y:Y=\"Ikke Aflagt\",1,\"\")","v":""},null,null,{"$f":"IF(Indtastning!U:U=\"Positiv\",1,\"\")","v":""},null,null,null,{"$f":"IF(Indtastning!Y:Y=\"Positiv\",1,\"\")","v":""},null,null,null,{"$f":"IF(Indtastning!AC:AC=\"Positiv\",1,\"\")","v":""},null,null,null,{"$f":"IF(Indtastning!AG:AG=\"Positiv\",1,\"\")","v":""}]
[null,null,null,null,null,null,null,null,null,null,null,null,null,null,null,null,null,null,null,null,null,null,null,null,null,null,null,null,null,null,null,null,null,null,null,null,null,null,null,null,null,null,null,null,null,{"$f":"IF(Indtastning!Y:Y=\"Ikke Aflagt\",1,\"\")","v":""},null,null,{"$f":"IF(Indtastning!U:U=\"Positiv\",1,\"\")","v":""},null,null,null,{"$f":"IF(Indtastning!Y:Y=\"Positiv\",1,\"\")","v":""},null,null,null,{"$f":"IF(Indtastning!AC:AC=\"Positiv\",1,\"\")","v":""},null,null,null,{"$f":"IF(Indtastning!AG:AG=\"Positiv\",1,\"\")","v":""}]
[null,null,null,null,null,null,null,null,null,null,null,null,null,null,null,null,null,null,null,null,null,null,null,null,null,null,null,null,null,null,null,null,null,null,null,null,null,null,null,null,null,null,null,null,null,{"$f":"IF(Indtastning!Y:Y=\"Ikke Aflagt\",1,\"\")","v":""},null,null,{"$f":"IF(Indtastning!U:U=\"Positiv\",1,\"\")","v":""},null,null,null,{"$f":"IF(Indtastning!Y:Y=\"Positiv\",1,\"\")","v":""},null,null,null,{"$f":"IF(Indtastning!AC:AC=\"Positiv\",1,\"\")","v":""},null,null,null,{"$f":"IF(Indtastning!AG:AG=\"Positiv\",1,\"\")","v":""}]
[null,null,null,null,null,null,null,null,null,null,null,null,null,null,null,null,null,null,null,null,null,null,null,null,null,null,null,null,null,null,null,null,null,null,null,null,null,null,null,null,null,null,null,null,null,{"$f":"IF(Indtastning!Y:Y=\"Ikke Aflagt\",1,\"\")","v":""},null,null,{"$f":"IF(Indtastning!U:U=\"Positiv\",1,\"\")","v":""},null,null,null,{"$f":"IF(Indtastning!Y:Y=\"Positiv\",1,\"\")","v":""},null,null,null,{"$f":"IF(Indtastning!AC:AC=\"Positiv\",1,\"\")","v":""},null,null,null,{"$f":"IF(Indtastning!AG:AG=\"Positiv\",1,\"\")","v":""}]
[null,null,null,null,null,null,null,null,null,null,null,null,null,null,null,null,null,null,null,null,null,null,null,null,null,null,null,null,null,null,null,null,null,null,null,null,null,null,null,null,null,null,null,null,null,{"$f":"IF(Indtastning!Y:Y=\"Ikke Aflagt\",1,\"\")","v":""},null,null,{"$f":"IF(Indtastning!U:U=\"Positiv\",1,\"\")","v":""},null,null,null,{"$f":"IF(Indtastning!Y:Y=\"Positiv\",1,\"\")","v":""},null,null,null,{"$f":"IF(Indtastning!AC:AC=\"Positiv\",1,\"\")","v":""},null,null,null,{"$f":"IF(Indtastning!AG:AG=\"Positiv\",1,\"\")","v":""}]
[null,null,null,null,null,null,null,null,null,null,null,null,null,null,null,null,null,null,null,null,null,null,null,null,null,null,null,null,null,null,null,null,null,null,null,null,null,null,null,null,null,null,null,null,null,{"$f":"IF(Indtastning!Y:Y=\"Ikke Aflagt\",1,\"\")","v":""},null,null,{"$f":"IF(Indtastning!U:U=\"Positiv\",1,\"\")","v":""},null,null,null,{"$f":"IF(Indtastning!Y:Y=\"Positiv\",1,\"\")","v":""},null,null,null,{"$f":"IF(Indtastning!AC:AC=\"Positiv\",1,\"\")","v":""},null,null,null,{"$f":"IF(Indtastning!AG:AG=\"Positiv\",1,\"\")","v":""}]
[null,null,null,null,null,null,null,null,null,null,null,null,null,null,null,null,null,null,null,null,null,null,null,null,null,null,null,null,null,null,null,null,null,null,null,null,null,null,null,null,null,null,null,null,null,{"$f":"IF(Indtastning!Y:Y=\"Ikke Aflagt\",1,\"\")","v":""},null,null,{"$f":"IF(Indtastning!U:U=\"Positiv\",1,\"\")","v":""},null,null,null,{"$f":"IF(Indtastning!Y:Y=\"Positiv\",1,\"\")","v":""},null,null,null,{"$f":"IF(Indtastning!AC:AC=\"Positiv\",1,\"\")","v":""},null,null,null,{"$f":"IF(Indtastning!AG:AG=\"Positiv\",1,\"\")","v":""}]
[null,null,null,null,null,null,null,null,null,null,null,null,null,null,null,null,null,null,null,null,null,null,null,null,null,null,null,null,null,null,null,null,null,null,null,null,null,null,null,null,null,null,null,null,null,{"$f":"IF(Indtastning!Y:Y=\"Ikke Aflagt\",1,\"\")","v":""},null,null,{"$f":"IF(Indtastning!U:U=\"Positiv\",1,\"\")","v":""},null,null,null,{"$f":"IF(Indtastning!Y:Y=\"Positiv\",1,\"\")","v":""},null,null,null,{"$f":"IF(Indtastning!AC:AC=\"Positiv\",1,\"\")","v":""},null,null,null,{"$f":"IF(Indtastning!AG:AG=\"Positiv\",1,\"\")","v":""}]
[null,null,null,null,null,null,null,null,null,null,null,null,null,null,null,null,null,null,null,null,null,null,null,null,null,null,null,null,null,null,null,null,null,null,null,null,null,null,null,null,null,null,null,null,null,{"$f":"IF(Indtastning!Y:Y=\"Ikke Aflagt\",1,\"\")","v":""},null,null,{"$f":"IF(Indtastning!U:U=\"Positiv\",1,\"\")","v":""},null,null,null,{"$f":"IF(Indtastning!Y:Y=\"Positiv\",1,\"\")","v":""},null,null,null,{"$f":"IF(Indtastning!AC:AC=\"Positiv\",1,\"\")","v":""},null,null,null,{"$f":"IF(Indtastning!AG:AG=\"Positiv\",1,\"\")","v":""}]
[null,null,null,null,null,null,null,null,null,null,null,null,null,null,null,null,null,null,null,null,null,null,null,null,null,null,null,null,null,null,null,null,null,null,null,null,null,null,null,null,null,null,null,null,null,{"$f":"IF(Indtastning!Y:Y=\"Ikke Aflagt\",1,\"\")","v":""},null,null,{"$f":"IF(Indtastning!U:U=\"Positiv\",1,\"\")","v":""},null,null,null,{"$f":"IF(Indtastning!Y:Y=\"Positiv\",1,\"\")","v":""},null,null,null,{"$f":"IF(Indtastning!AC:AC=\"Positiv\",1,\"\")","v":""},null,null,null,{"$f":"IF(Indtastning!AG:AG=\"Positiv\",1,\"\")","v":""}]
[null,null,null,null,null,null,null,null,null,null,null,null,null,null,null,null,null,null,null,null,null,null,null,null,null,null,null,null,null,null,null,null,null,null,null,null,null,null,null,null,null,null,null,null,null,{"$f":"IF(Indtastning!Y:Y=\"Ikke Aflagt\",1,\"\")","v":""},null,null,{"$f":"IF(Indtastning!U:U=\"Positiv\",1,\"\")","v":""},null,null,null,{"$f":"IF(Indtastning!Y:Y=\"Positiv\",1,\"\")","v":""},null,null,null,{"$f":"IF(Indtastning!AC:AC=\"Positiv\",1,\"\")","v":""},null,null,null,{"$f":"IF(Indtastning!AG:AG=\"Positiv\",1,\"\")","v":""}]
[null,null,null,null,null,null,null,null,null,null,null,null,null,null,null,null,null,null,null,null,null,null,null,null,null,null,null,null,null,null,null,null,null,null,null,null,null,null,null,null,null,null,null,null,null,{"$f":"IF(Indtastning!Y:Y=\"Ikke Aflagt\",1,\"\")","v":""},null,null,{"$f":"IF(Indtastning!U:U=\"Positiv\",1,\"\")","v":""},null,null,null,{"$f":"IF(Indtastning!Y:Y=\"Positiv\",1,\"\")","v":""},null,null,null,{"$f":"IF(Indtastning!AC:AC=\"Positiv\",1,\"\")","v":""},null,null,null,{"$f":"IF(Indtastning!AG:AG=\"Positiv\",1,\"\")","v":""}]
[null,null,null,null,null,null,null,null,null,null,null,null,null,null,null,null,null,null,null,null,null,null,null,null,null,null,null,null,null,null,null,null,null,null,null,null,null,null,null,null,null,null,null,null,null,{"$f":"IF(Indtastning!Y:Y=\"Ikke Aflagt\",1,\"\")","v":""},null,null,{"$f":"IF(Indtastning!U:U=\"Positiv\",1,\"\")","v":""},null,null,null,{"$f":"IF(Indtastning!Y:Y=\"Positiv\",1,\"\")","v":""},null,null,null,{"$f":"IF(Indtastning!AC:AC=\"Positiv\",1,\"\")","v":""},null,null,null,{"$f":"IF(Indtastning!AG:AG=\"Positiv\",1,\"\")","v":""}]
[null,null,null,null,null,null,null,null,null,null,null,null,null,null,null,null,null,null,null,null,null,null,null,null,null,null,null,null,null,null,null,null,null,null,null,null,null,null,null,null,null,null,null,null,null,{"$f":"IF(Indtastning!Y:Y=\"Ikke Aflagt\",1,\"\")","v":""},null,null,{"$f":"IF(Indtastning!U:U=\"Positiv\",1,\"\")","v":""},null,null,null,{"$f":"IF(Indtastning!Y:Y=\"Positiv\",1,\"\")","v":""},null,null,null,{"$f":"IF(Indtastning!AC:AC=\"Positiv\",1,\"\")","v":""},null,null,null,{"$f":"IF(Indtastning!AG:AG=\"Positiv\",1,\"\")","v":""}]
[null,null,null,null,null,null,null,null,null,null,null,null,null,null,null,null,null,null,null,null,null,null,null,null,null,null,null,null,null,null,null,null,null,null,null,null,null,null,null,null,null,null,null,null,null,{"$f":"IF(Indtastning!Y:Y=\"Ikke Aflagt\",1,\"\")","v":""},null,null,{"$f":"IF(Indtastning!U:U=\"Positiv\",1,\"\")","v":""},null,null,null,{"$f":"IF(Indtastning!Y:Y=\"Positiv\",1,\"\")","v":""},null,null,null,{"$f":"IF(Indtastning!AC:AC=\"Positiv\",1,\"\")","v":""},null,null,null,{"$f":"IF(Indtastning!AG:AG=\"Positiv\",1,\"\")","v":""}]
[null,null,null,null,null,null,null,null,null,null,null,null,null,null,null,null,null,null,null,null,null,null,null,null,null,null,null,null,null,null,null,null,null,null,null,null,null,null,null,null,null,null,null,null,null,{"$f":"IF(Indtastning!Y:Y=\"Ikke Aflagt\",1,\"\")","v":""},null,null,{"$f":"IF(Indtastning!U:U=\"Positiv\",1,\"\")","v":""},null,null,null,{"$f":"IF(Indtastning!Y:Y=\"Positiv\",1,\"\")","v":""},null,null,null,{"$f":"IF(Indtastning!AC:AC=\"Positiv\",1,\"\")","v":""},null,null,null,{"$f":"IF(Indtastning!AG:AG=\"Positiv\",1,\"\")","v":""}]
[null,null,null,null,null,null,null,null,null,null,null,null,null,null,null,null,null,null,null,null,null,null,null,null,null,null,null,null,null,null,null,null,null,null,null,null,null,null,null,null,null,null,null,null,null,{"$f":"IF(Indtastning!Y:Y=\"Ikke Aflagt\",1,\"\")","v":""},null,null,{"$f":"IF(Indtastning!U:U=\"Positiv\",1,\"\")","v":""},null,null,null,{"$f":"IF(Indtastning!Y:Y=\"Positiv\",1,\"\")","v":""},null,null,null,{"$f":"IF(Indtastning!AC:AC=\"Positiv\",1,\"\")","v":""},null,null,null,{"$f":"IF(Indtastning!AG:AG=\"Positiv\",1,\"\")","v":""}]
[null,null,null,null,null,null,null,null,null,null,null,null,null,null,null,null,null,null,null,null,null,null,null,null,null,null,null,null,null,null,null,null,null,null,null,null,null,null,null,null,null,null,null,null,null,{"$f":"IF(Indtastning!Y:Y=\"Ikke Aflagt\",1,\"\")","v":""},null,null,{"$f":"IF(Indtastning!U:U=\"Positiv\",1,\"\")","v":""},null,null,null,{"$f":"IF(Indtastning!Y:Y=\"Positiv\",1,\"\")","v":""},null,null,null,{"$f":"IF(Indtastning!AC:AC=\"Positiv\",1,\"\")","v":""},null,null,null,{"$f":"IF(Indtastning!AG:AG=\"Positiv\",1,\"\")","v":""}]
[null,null,null,null,null,null,null,null,null,null,null,null,null,null,null,null,null,null,null,null,null,null,null,null,null,null,null,null,null,null,null,null,null,null,null,null,null,null,null,null,null,null,null,null,null,{"$f":"IF(Indtastning!Y:Y=\"Ikke Aflagt\",1,\"\")","v":""},null,null,{"$f":"IF(Indtastning!U:U=\"Positiv\",1,\"\")","v":""},null,null,null,{"$f":"IF(Indtastning!Y:Y=\"Positiv\",1,\"\")","v":""},null,null,null,{"$f":"IF(Indtastning!AC:AC=\"Positiv\",1,\"\")","v":""},null,null,null,{"$f":"IF(Indtastning!AG:AG=\"Positiv\",1,\"\")","v":""}]
[null,null,null,null,null,null,null,null,null,null,null,null,null,null,null,null,null,null,null,null,null,null,null,null,null,null,null,null,null,null,null,null,null,null,null,null,null,null,null,null,null,null,null,null,null,null,null,null,null,null,null,null,null,null,null,null,null,null,null,null,{"$f":"IF(Indtastning!AG:AG=\"Positiv\",1,\"\")","v":""}]
[null,null,null,null,null,null,null,null,null,null,null,null,null,null,null,null,null,null,null,null,null,null,null,null,null,null,null,null,null,null,null,null,null,null,null,null,null,null,null,null,null,null,null,null,null,null,null,null,null,null,null,null,null,null,null,null,null,null,null,null,{"$f":"IF(Indtastning!AG:AG=\"Positiv\",1,\"\")","v":""}]
[null,null,null,null,null,null,null,null,null,null,null,null,null,null,null,null,null,null,null,null,null,null,null,null,null,null,null,null,null,null,null,null,null,null,null,null,null,null,null,null,null,null,null,null,null,null,null,null,null,null,null,null,null,null,null,null,null,null,null,null,{"$f":"IF(Indtastning!AG:AG=\"Positiv\",1,\"\")","v":""}]
[null,null,null,null,null,null,null,null,null,null,null,null,null,null,null,null,null,null,null,null,null,null,null,null,null,null,null,null,null,null,null,null,null,null,null,null,null,null,null,null,null,null,null,null,null,null,null,null,null,null,null,null,null,null,null,null,null,null,null,null,{"$f":"IF(Indtastning!AG:AG=\"Positiv\",1,\"\")","v":""}]
[null,null,null,null,null,null,null,null,null,null,null,null,null,null,null,null,null,null,null,null,null,null,null,null,null,null,null,null,null,null,null,null,null,null,null,null,null,null,null,null,null,null,null,null,null,null,null,null,null,null,null,null,null,null,null,null,null,null,null,null,{"$f":"IF(Indtastning!AG:AG=\"Positiv\",1,\"\")","v":""}]
[null,null,null,null,null,null,null,null,null,null,null,null,null,null,null,null,null,null,null,null,null,null,null,null,null,null,null,null,null,null,null,null,null,null,null,null,null,null,null,null,null,null,null,null,null,null,null,null,null,null,null,null,null,null,null,null,null,null,null,null,{"$f":"IF(Indtastning!AG:AG=\"Positiv\",1,\"\")","v":""}]
[null,null,null,null,null,null,null,null,null,null,null,null,null,null,null,null,null,null,null,null,null,null,null,null,null,null,null,null,null,null,null,null,null,null,null,null,null,null,null,null,null,null,null,null,null,null,null,null,null,null,null,null,null,null,null,null,null,null,null,null,{"$f":"IF(Indtastning!AG:AG=\"Positiv\",1,\"\")","v":""}]
[null,null,null,null,null,null,null,null,null,null,null,null,null,null,null,null,null,null,null,null,null,null,null,null,null,null,null,null,null,null,null,null,null,null,null,null,null,null,null,null,null,null,null,null,null,null,null,null,null,null,null,null,null,null,null,null,null,null,null,null,{"$f":"IF(Indtastning!AG:AG=\"Positiv\",1,\"\")","v":""}]
[null,null,null,null,null,null,null,null,null,null,null,null,null,null,null,null,null,null,null,null,null,null,null,null,null,null,null,null,null,null,null,null,null,null,null,null,null,null,null,null,null,null,null,null,null,null,null,null,null,null,null,null,null,null,null,null,null,null,null,null,{"$f":"IF(Indtastning!AG:AG=\"Positiv\",1,\"\")","v":""}]
[null,null,null,null,null,null,null,null,null,null,null,null,null,null,null,null,null,null,null,null,null,null,null,null,null,null,null,null,null,null,null,null,null,null,null,null,null,null,null,null,null,null,null,null,null,null,null,null,null,null,null,null,null,null,null,null,null,null,null,null,{"$f":"IF(Indtastning!AG:AG=\"Positiv\",1,\"\")","v":""}]
[null,null,null,null,null,null,null,null,null,null,null,null,null,null,null,null,null,null,null,null,null,null,null,null,null,null,null,null,null,null,null,null,null,null,null,null,null,null,null,null,null,null,null,null,null,null,null,null,null,null,null,null,null,null,null,null,null,null,null,null,{"$f":"IF(Indtastning!AG:AG=\"Positiv\",1,\"\")","v":""}]
[null,null,null,null,null,null,null,null,null,null,null,null,null,null,null,null,null,null,null,null,null,null,null,null,null,null,null,null,null,null,null,null,null,null,null,null,null,null,null,null,null,null,null,null,null,null,null,null,null,null,null,null,null,null,null,null,null,null,null,null,{"$f":"IF(Indtastning!AG:AG=\"Positiv\",1,\"\")","v":""}]
[null,null,null,null,null,null,null,null,null,null,null,null,null,null,null,null,null,null,null,null,null,null,null,null,null,null,null,null,null,null,null,null,null,null,null,null,null,null,null,null,null,null,null,null,null,null,null,null,null,null,null,null,null,null,null,null,null,null,null,null,{"$f":"IF(Indtastning!AG:AG=\"Positiv\",1,\"\")","v":""}]
[null,null,null,null,null,null,null,null,null,null,null,null,null,null,null,null,null,null,null,null,null,null,null,null,null,null,null,null,null,null,null,null,null,null,null,null,null,null,null,null,null,null,null,null,null,null,null,null,null,null,null,null,null,null,null,null,null,null,null,null,{"$f":"IF(Indtastning!AG:AG=\"Positiv\",1,\"\")","v":""}]
[null,null,null,null,null,null,null,null,null,null,null,null,null,null,null,null,null,null,null,null,null,null,null,null,null,null,null,null,null,null,null,null,null,null,null,null,null,null,null,null,null,null,null,null,null,null,null,null,null,null,null,null,null,null,null,null,null,null,null,null,{"$f":"IF(Indtastning!AG:AG=\"Positiv\",1,\"\")","v":""}]
[null,null,null,null,null,null,null,null,null,null,null,null,null,null,null,null,null,null,null,null,null,null,null,null,null,null,null,null,null,null,null,null,null,null,null,null,null,null,null,null,null,null,null,null,null,null,null,null,null,null,null,null,null,null,null,null,null,null,null,null,{"$f":"IF(Indtastning!AG:AG=\"Positiv\",1,\"\")","v":""}]
[null,null,null,null,null,null,null,null,null,null,null,null,null,null,null,null,null,null,null,null,null,null,null,null,null,null,null,null,null,null,null,null,null,null,null,null,null,null,null,null,null,null,null,null,null,null,null,null,null,null,null,null,null,null,null,null,null,null,null,null,{"$f":"IF(Indtastning!AG:AG=\"Positiv\",1,\"\")","v":""}]
[null,null,null,null,null,null,null,null,null,null,null,null,null,null,null,null,null,null,null,null,null,null,null,null,null,null,null,null,null,null,null,null,null,null,null,null,null,null,null,null,null,null,null,null,null,null,null,null,null,null,null,null,null,null,null,null,null,null,null,null,{"$f":"IF(Indtastning!AG:AG=\"Positiv\",1,\"\")","v":""}]
[null,null,null,null,null,null,null,null,null,null,null,null,null,null,null,null,null,null,null,null,null,null,null,null,null,null,null,null,null,null,null,null,null,null,null,null,null,null,null,null,null,null,null,null,null,null,null,null,null,null,null,null,null,null,null,null,null,null,null,null,{"$f":"IF(Indtastning!AG:AG=\"Positiv\",1,\"\")","v":""}]
[null,null,null,null,null,null,null,null,null,null,null,null,null,null,null,null,null,null,null,null,null,null,null,null,null,null,null,null,null,null,null,null,null,null,null,null,null,null,null,null,null,null,null,null,null,null,null,null,null,null,null,null,null,null,null,null,null,null,null,null,{"$f":"IF(Indtastning!AG:AG=\"Positiv\",1,\"\")","v":""}]
[null,null,null,null,null,null,null,null,null,null,null,null,null,null,null,null,null,null,null,null,null,null,null,null,null,null,null,null,null,null,null,null,null,null,null,null,null,null,null,null,null,null,null,null,null,null,null,null,null,null,null,null,null,null,null,null,null,null,null,null,{"$f":"IF(Indtastning!AG:AG=\"Positiv\",1,\"\")","v":""}]
[null,null,null,null,null,null,null,null,null,null,null,null,null,null,null,null,null,null,null,null,null,null,null,null,null,null,null,null,null,null,null,null,null,null,null,null,null,null,null,null,null,null,null,null,null,null,null,null,null,null,null,null,null,null,null,null,null,null,null,null,{"$f":"IF(Indtastning!AG:AG=\"Positiv\",1,\"\")","v":""}]
[null,null,null,null,null,null,null,null,null,null,null,null,null,null,null,null,null,null,null,null,null,null,null,null,null,null,null,null,null,null,null,null,null,null,null,null,null,null,null,null,null,null,null,null,null,null,null,null,null,null,null,null,null,null,null,null,null,null,null,null,{"$f":"IF(Indtastning!AG:AG=\"Positiv\",1,\"\")","v":""}]
[null,null,null,null,null,null,null,null,null,null,null,null,null,null,null,null,null,null,null,null,null,null,null,null,null,null,null,null,null,null,null,null,null,null,null,null,null,null,null,null,null,null,null,null,null,null,null,null,null,null,null,null,null,null,null,null,null,null,null,null,{"$f":"IF(Indtastning!AG:AG=\"Positiv\",1,\"\")","v":""}]
[null,null,null,null,null,null,null,null,null,null,null,null,null,null,null,null,null,null,null,null,null,null,null,null,null,null,null,null,null,null,null,null,null,null,null,null,null,null,null,null,null,null,null,null,null,null,null,null,null,null,null,null,null,null,null,null,null,null,null,null,{"$f":"IF(Indtastning!AG:AG=\"Positiv\",1,\"\")","v":""}]
[null,null,null,null,null,null,null,null,null,null,null,null,null,null,null,null,null,null,null,null,null,null,null,null,null,null,null,null,null,null,null,null,null,null,null,null,null,null,null,null,null,null,null,null,null,null,null,null,null,null,null,null,null,null,null,null,null,null,null,null,{"$f":"IF(Indtastning!AG:AG=\"Positiv\",1,\"\")","v":""}]
[null,null,null,null,null,null,null,null,null,null,null,null,null,null,null,null,null,null,null,null,null,null,null,null,null,null,null,null,null,null,null,null,null,null,null,null,null,null,null,null,null,null,null,null,null,null,null,null,null,null,null,null,null,null,null,null,null,null,null,null,{"$f":"IF(Indtastning!AG:AG=\"Positiv\",1,\"\")","v":""}]
[null,null,null,null,null,null,null,null,null,null,null,null,null,null,null,null,null,null,null,null,null,null,null,null,null,null,null,null,null,null,null,null,null,null,null,null,null,null,null,null,null,null,null,null,null,null,null,null,null,null,null,null,null,null,null,null,null,null,null,null,{"$f":"IF(Indtastning!AG:AG=\"Positiv\",1,\"\")","v":""}]
[null,null,null,null,null,null,null,null,null,null,null,null,null,null,null,null,null,null,null,null,null,null,null,null,null,null,null,null,null,null,null,null,null,null,null,null,null,null,null,null,null,null,null,null,null,null,null,null,null,null,null,null,null,null,null,null,null,null,null,null,{"$f":"IF(Indtastning!AG:AG=\"Positiv\",1,\"\")","v":""}]
[null,null,null,null,null,null,null,null,null,null,null,null,null,null,null,null,null,null,null,null,null,null,null,null,null,null,null,null,null,null,null,null,null,null,null,null,null,null,null,null,null,null,null,null,null,null,null,null,null,null,null,null,null,null,null,null,null,null,null,null,{"$f":"IF(Indtastning!AG:AG=\"Positiv\",1,\"\")","v":""}]
[null,null,null,null,null,null,null,null,null,null,null,null,null,null,null,null,null,null,null,null,null,null,null,null,null,null,null,null,null,null,null,null,null,null,null,null,null,null,null,null,null,null,null,null,null,null,null,null,null,null,null,null,null,null,null,null,null,null,null,null,{"$f":"IF(Indtastning!AG:AG=\"Positiv\",1,\"\")","v":""}]
[null,null,null,null,null,null,null,null,null,null,null,null,null,null,null,null,null,null,null,null,null,null,null,null,null,null,null,null,null,null,null,null,null,null,null,null,null,null,null,null,null,null,null,null,null,null,null,null,null,null,null,null,null,null,null,null,null,null,null,null,{"$f":"IF(Indtastning!AG:AG=\"Positiv\",1,\"\")","v":""}]
[null,null,null,null,null,null,null,null,null,null,null,null,null,null,null,null,null,null,null,null,null,null,null,null,null,null,null,null,null,null,null,null,null,null,null,null,null,null,null,null,null,null,null,null,null,null,null,null,null,null,null,null,null,null,null,null,null,null,null,null,{"$f":"IF(Indtastning!AG:AG=\"Positiv\",1,\"\")","v":""}]
[null,null,null,null,null,null,null,null,null,null,null,null,null,null,null,null,null,null,null,null,null,null,null,null,null,null,null,null,null,null,null,null,null,null,null,null,null,null,null,null,null,null,null,null,null,null,null,null,null,null,null,null,null,null,null,null,null,null,null,null,{"$f":"IF(Indtastning!AG:AG=\"Positiv\",1,\"\")","v":""}]
[null,null,null,null,null,null,null,null,null,null,null,null,null,null,null,null,null,null,null,null,null,null,null,null,null,null,null,null,null,null,null,null,null,null,null,null,null,null,null,null,null,null,null,null,null,null,null,null,null,null,null,null,null,null,null,null,null,null,null,null,{"$f":"IF(Indtastning!AG:AG=\"Positiv\",1,\"\")","v":""}]
[null,null,null,null,null,null,null,null,null,null,null,null,null,null,null,null,null,null,null,null,null,null,null,null,null,null,null,null,null,null,null,null,null,null,null,null,null,null,null,null,null,null,null,null,null,null,null,null,null,null,null,null,null,null,null,null,null,null,null,null,{"$f":"IF(Indtastning!AG:AG=\"Positiv\",1,\"\")","v":""}]
[null,null,null,null,null,null,null,null,null,null,null,null,null,null,null,null,null,null,null,null,null,null,null,null,null,null,null,null,null,null,null,null,null,null,null,null,null,null,null,null,null,null,null,null,null,null,null,null,null,null,null,null,null,null,null,null,null,null,null,null,{"$f":"IF(Indtastning!AG:AG=\"Positiv\",1,\"\")","v":""}]
[null,null,null,null,null,null,null,null,null,null,null,null,null,null,null,null,null,null,null,null,null,null,null,null,null,null,null,null,null,null,null,null,null,null,null,null,null,null,null,null,null,null,null,null,null,null,null,null,null,null,null,null,null,null,null,null,null,null,null,null,{"$f":"IF(Indtastning!AG:AG=\"Positiv\",1,\"\")","v":""}]
[null,null,null,null,null,null,null,null,null,null,null,null,null,null,null,null,null,null,null,null,null,null,null,null,null,null,null,null,null,null,null,null,null,null,null,null,null,null,null,null,null,null,null,null,null,null,null,null,null,null,null,null,null,null,null,null,null,null,null,null,{"$f":"IF(Indtastning!AG:AG=\"Positiv\",1,\"\")","v":""}]
[null,null,null,null,null,null,null,null,null,null,null,null,null,null,null,null,null,null,null,null,null,null,null,null,null,null,null,null,null,null,null,null,null,null,null,null,null,null,null,null,null,null,null,null,null,null,null,null,null,null,null,null,null,null,null,null,null,null,null,null,{"$f":"IF(Indtastning!AG:AG=\"Positiv\",1,\"\")","v":""}]
[null,null,null,null,null,null,null,null,null,null,null,null,null,null,null,null,null,null,null,null,null,null,null,null,null,null,null,null,null,null,null,null,null,null,null,null,null,null,null,null,null,null,null,null,null,null,null,null,null,null,null,null,null,null,null,null,null,null,null,null,{"$f":"IF(Indtastning!AG:AG=\"Positiv\",1,\"\")","v":""}]
[null,null,null,null,null,null,null,null,null,null,null,null,null,null,null,null,null,null,null,null,null,null,null,null,null,null,null,null,null,null,null,null,null,null,null,null,null,null,null,null,null,null,null,null,null,null,null,null,null,null,null,null,null,null,null,null,null,null,null,null,{"$f":"IF(Indtastning!AG:AG=\"Positiv\",1,\"\")","v":""}]
[null,null,null,null,null,null,null,null,null,null,null,null,null,null,null,null,null,null,null,null,null,null,null,null,null,null,null,null,null,null,null,null,null,null,null,null,null,null,null,null,null,null,null,null,null,null,null,null,null,null,null,null,null,null,null,null,null,null,null,null,{"$f":"IF(Indtastning!AG:AG=\"Positiv\",1,\"\")","v":""}]
[null,null,null,null,null,null,null,null,null,null,null,null,null,null,null,null,null,null,null,null,null,null,null,null,null,null,null,null,null,null,null,null,null,null,null,null,null,null,null,null,null,null,null,null,null,null,null,null,null,null,null,null,null,null,null,null,null,null,null,null,{"$f":"IF(Indtastning!AG:AG=\"Positiv\",1,\"\")","v":""}]
[null,null,null,null,null,null,null,null,null,null,null,null,null,null,null,null,null,null,null,null,null,null,null,null,null,null,null,null,null,null,null,null,null,null,null,null,null,null,null,null,null,null,null,null,null,null,null,null,null,null,null,null,null,null,null,null,null,null,null,null,{"$f":"IF(Indtastning!AG:AG=\"Positiv\",1,\"\")","v":""}]
[null,null,null,null,null,null,null,null,null,null,null,null,null,null,null,null,null,null,null,null,null,null,null,null,null,null,null,null,null,null,null,null,null,null,null,null,null,null,null,null,null,null,null,null,null,null,null,null,null,null,null,null,null,null,null,null,null,null,null,null,{"$f":"IF(Indtastning!AG:AG=\"Positiv\",1,\"\")","v":""}]
[null,null,null,null,null,null,null,null,null,null,null,null,null,null,null,null,null,null,null,null,null,null,null,null,null,null,null,null,null,null,null,null,null,null,null,null,null,null,null,null,null,null,null,null,null,null,null,null,null,null,null,null,null,null,null,null,null,null,null,null,{"$f":"IF(Indtastning!AG:AG=\"Positiv\",1,\"\")","v":""}]
[null,null,null,null,null,null,null,null,null,null,null,null,null,null,null,null,null,null,null,null,null,null,null,null,null,null,null,null,null,null,null,null,null,null,null,null,null,null,null,null,null,null,null,null,null,null,null,null,null,null,null,null,null,null,null,null,null,null,null,null,{"$f":"IF(Indtastning!AG:AG=\"Positiv\",1,\"\")","v":""}]
[null,null,null,null,null,null,null,null,null,null,null,null,null,null,null,null,null,null,null,null,null,null,null,null,null,null,null,null,null,null,null,null,null,null,null,null,null,null,null,null,null,null,null,null,null,null,null,null,null,null,null,null,null,null,null,null,null,null,null,null,{"$f":"IF(Indtastning!AG:AG=\"Positiv\",1,\"\")","v":""}]
[null,null,null,null,null,null,null,null,null,null,null,null,null,null,null,null,null,null,null,null,null,null,null,null,null,null,null,null,null,null,null,null,null,null,null,null,null,null,null,null,null,null,null,null,null,null,null,null,null,null,null,null,null,null,null,null,null,null,null,null,{"$f":"IF(Indtastning!AG:AG=\"Positiv\",1,\"\")","v":""}]
[null,null,null,null,null,null,null,null,null,null,null,null,null,null,null,null,null,null,null,null,null,null,null,null,null,null,null,null,null,null,null,null,null,null,null,null,null,null,null,null,null,null,null,null,null,null,null,null,null,null,null,null,null,null,null,null,null,null,null,null,{"$f":"IF(Indtastning!AG:AG=\"Positiv\",1,\"\")","v":""}]
[null,null,null,null,null,null,null,null,null,null,null,null,null,null,null,null,null,null,null,null,null,null,null,null,null,null,null,null,null,null,null,null,null,null,null,null,null,null,null,null,null,null,null,null,null,null,null,null,null,null,null,null,null,null,null,null,null,null,null,null,{"$f":"IF(Indtastning!AG:AG=\"Positiv\",1,\"\")","v":""}]
[null,null,null,null,null,null,null,null,null,null,null,null,null,null,null,null,null,null,null,null,null,null,null,null,null,null,null,null,null,null,null,null,null,null,null,null,null,null,null,null,null,null,null,null,null,null,null,null,null,null,null,null,null,null,null,null,null,null,null,null,{"$f":"IF(Indtastning!AG:AG=\"Positiv\",1,\"\")","v":""}]
[null,null,null,null,null,null,null,null,null,null,null,null,null,null,null,null,null,null,null,null,null,null,null,null,null,null,null,null,null,null,null,null,null,null,null,null,null,null,null,null,null,null,null,null,null,null,null,null,null,null,null,null,null,null,null,null,null,null,null,null,{"$f":"IF(Indtastning!AG:AG=\"Positiv\",1,\"\")","v":""}]
[null,null,null,null,null,null,null,null,null,null,null,null,null,null,null,null,null,null,null,null,null,null,null,null,null,null,null,null,null,null,null,null,null,null,null,null,null,null,null,null,null,null,null,null,null,null,null,null,null,null,null,null,null,null,null,null,null,null,null,null,{"$f":"IF(Indtastning!AG:AG=\"Positiv\",1,\"\")","v":""}]
[null,null,null,null,null,null,null,null,null,null,null,null,null,null,null,null,null,null,null,null,null,null,null,null,null,null,null,null,null,null,null,null,null,null,null,null,null,null,null,null,null,null,null,null,null,null,null,null,null,null,null,null,null,null,null,null,null,null,null,null,{"$f":"IF(Indtastning!AG:AG=\"Positiv\",1,\"\")","v":""}]
[null,null,null,null,null,null,null,null,null,null,null,null,null,null,null,null,null,null,null,null,null,null,null,null,null,null,null,null,null,null,null,null,null,null,null,null,null,null,null,null,null,null,null,null,null,null,null,null,null,null,null,null,null,null,null,null,null,null,null,null,{"$f":"IF(Indtastning!AG:AG=\"Positiv\",1,\"\")","v":""}]
[null,null,null,null,null,null,null,null,null,null,null,null,null,null,null,null,null,null,null,null,null,null,null,null,null,null,null,null,null,null,null,null,null,null,null,null,null,null,null,null,null,null,null,null,null,null,null,null,null,null,null,null,null,null,null,null,null,null,null,null,{"$f":"IF(Indtastning!AG:AG=\"Positiv\",1,\"\")","v":""}]
[null,null,null,null,null,null,null,null,null,null,null,null,null,null,null,null,null,null,null,null,null,null,null,null,null,null,null,null,null,null,null,null,null,null,null,null,null,null,null,null,null,null,null,null,null,null,null,null,null,null,null,null,null,null,null,null,null,null,null,null,{"$f":"IF(Indtastning!AG:AG=\"Positiv\",1,\"\")","v":""}]
[null,null,null,null,null,null,null,null,null,null,null,null,null,null,null,null,null,null,null,null,null,null,null,null,null,null,null,null,null,null,null,null,null,null,null,null,null,null,null,null,null,null,null,null,null,null,null,null,null,null,null,null,null,null,null,null,null,null,null,null,{"$f":"IF(Indtastning!AG:AG=\"Positiv\",1,\"\")","v":""}]
[null,null,null,null,null,null,null,null,null,null,null,null,null,null,null,null,null,null,null,null,null,null,null,null,null,null,null,null,null,null,null,null,null,null,null,null,null,null,null,null,null,null,null,null,null,null,null,null,null,null,null,null,null,null,null,null,null,null,null,null,{"$f":"IF(Indtastning!AG:AG=\"Positiv\",1,\"\")","v":""}]
[null,null,null,null,null,null,null,null,null,null,null,null,null,null,null,null,null,null,null,null,null,null,null,null,null,null,null,null,null,null,null,null,null,null,null,null,null,null,null,null,null,null,null,null,null,null,null,null,null,null,null,null,null,null,null,null,null,null,null,null,{"$f":"IF(Indtastning!AG:AG=\"Positiv\",1,\"\")","v":""}]
[null,null,null,null,null,null,null,null,null,null,null,null,null,null,null,null,null,null,null,null,null,null,null,null,null,null,null,null,null,null,null,null,null,null,null,null,null,null,null,null,null,null,null,null,null,null,null,null,null,null,null,null,null,null,null,null,null,null,null,null,{"$f":"IF(Indtastning!AG:AG=\"Positiv\",1,\"\")","v":""}]
[null,null,null,null,null,null,null,null,null,null,null,null,null,null,null,null,null,null,null,null,null,null,null,null,null,null,null,null,null,null,null,null,null,null,null,null,null,null,null,null,null,null,null,null,null,null,null,null,null,null,null,null,null,null,null,null,null,null,null,null,{"$f":"IF(Indtastning!AG:AG=\"Positiv\",1,\"\")","v":""}]
[null,null,null,null,null,null,null,null,null,null,null,null,null,null,null,null,null,null,null,null,null,null,null,null,null,null,null,null,null,null,null,null,null,null,null,null,null,null,null,null,null,null,null,null,null,null,null,null,null,null,null,null,null,null,null,null,null,null,null,null,{"$f":"IF(Indtastning!AG:AG=\"Positiv\",1,\"\")","v":""}]
[null,null,null,null,null,null,null,null,null,null,null,null,null,null,null,null,null,null,null,null,null,null,null,null,null,null,null,null,null,null,null,null,null,null,null,null,null,null,null,null,null,null,null,null,null,null,null,null,null,null,null,null,null,null,null,null,null,null,null,null,{"$f":"IF(Indtastning!AG:AG=\"Positiv\",1,\"\")","v":""}]
[null,null,null,null,null,null,null,null,null,null,null,null,null,null,null,null,null,null,null,null,null,null,null,null,null,null,null,null,null,null,null,null,null,null,null,null,null,null,null,null,null,null,null,null,null,null,null,null,null,null,null,null,null,null,null,null,null,null,null,null,{"$f":"IF(Indtastning!AG:AG=\"Positiv\",1,\"\")","v":""}]
[null,null,null,null,null,null,null,null,null,null,null,null,null,null,null,null,null,null,null,null,null,null,null,null,null,null,null,null,null,null,null,null,null,null,null,null,null,null,null,null,null,null,null,null,null,null,null,null,null,null,null,null,null,null,null,null,null,null,null,null,{"$f":"IF(Indtastning!AG:AG=\"Positiv\",1,\"\")","v":""}]
[null,null,null,null,null,null,null,null,null,null,null,null,null,null,null,null,null,null,null,null,null,null,null,null,null,null,null,null,null,null,null,null,null,null,null,null,null,null,null,null,null,null,null,null,null,null,null,null,null,null,null,null,null,null,null,null,null,null,null,null,{"$f":"IF(Indtastning!AG:AG=\"Positiv\",1,\"\")","v":""}]
[null,null,null,null,null,null,null,null,null,null,null,null,null,null,null,null,null,null,null,null,null,null,null,null,null,null,null,null,null,null,null,null,null,null,null,null,null,null,null,null,null,null,null,null,null,null,null,null,null,null,null,null,null,null,null,null,null,null,null,null,{"$f":"IF(Indtastning!AG:AG=\"Positiv\",1,\"\")","v":""}]
[null,null,null,null,null,null,null,null,null,null,null,null,null,null,null,null,null,null,null,null,null,null,null,null,null,null,null,null,null,null,null,null,null,null,null,null,null,null,null,null,null,null,null,null,null,null,null,null,null,null,null,null,null,null,null,null,null,null,null,null,{"$f":"IF(Indtastning!AG:AG=\"Positiv\",1,\"\")","v":""}]
[null,null,null,null,null,null,null,null,null,null,null,null,null,null,null,null,null,null,null,null,null,null,null,null,null,null,null,null,null,null,null,null,null,null,null,null,null,null,null,null,null,null,null,null,null,null,null,null,null,null,null,null,null,null,null,null,null,null,null,null,{"$f":"IF(Indtastning!AG:AG=\"Positiv\",1,\"\")","v":""}]
[null,null,null,null,null,null,null,null,null,null,null,null,null,null,null,null,null,null,null,null,null,null,null,null,null,null,null,null,null,null,null,null,null,null,null,null,null,null,null,null,null,null,null,null,null,null,null,null,null,null,null,null,null,null,null,null,null,null,null,null,{"$f":"IF(Indtastning!AG:AG=\"Positiv\",1,\"\")","v":""}]
[null,null,null,null,null,null,null,null,null,null,null,null,null,null,null,null,null,null,null,null,null,null,null,null,null,null,null,null,null,null,null,null,null,null,null,null,null,null,null,null,null,null,null,null,null,null,null,null,null,null,null,null,null,null,null,null,null,null,null,null,{"$f":"IF(Indtastning!AG:AG=\"Positiv\",1,\"\")","v":""}]
[null,null,null,null,null,null,null,null,null,null,null,null,null,null,null,null,null,null,null,null,null,null,null,null,null,null,null,null,null,null,null,null,null,null,null,null,null,null,null,null,null,null,null,null,null,null,null,null,null,null,null,null,null,null,null,null,null,null,null,null,{"$f":"IF(Indtastning!AG:AG=\"Positiv\",1,\"\")","v":""}]
[null,null,null,null,null,null,null,null,null,null,null,null,null,null,null,null,null,null,null,null,null,null,null,null,null,null,null,null,null,null,null,null,null,null,null,null,null,null,null,null,null,null,null,null,null,null,null,null,null,null,null,null,null,null,null,null,null,null,null,null,{"$f":"IF(Indtastning!AG:AG=\"Positiv\",1,\"\")","v":""}]
[null,null,null,null,null,null,null,null,null,null,null,null,null,null,null,null,null,null,null,null,null,null,null,null,null,null,null,null,null,null,null,null,null,null,null,null,null,null,null,null,null,null,null,null,null,null,null,null,null,null,null,null,null,null,null,null,null,null,null,null,{"$f":"IF(Indtastning!AG:AG=\"Positiv\",1,\"\")","v":""}]
[null,null,null,null,null,null,null,null,null,null,null,null,null,null,null,null,null,null,null,null,null,null,null,null,null,null,null,null,null,null,null,null,null,null,null,null,null,null,null,null,null,null,null,null,null,null,null,null,null,null,null,null,null,null,null,null,null,null,null,null,{"$f":"IF(Indtastning!AG:AG=\"Positiv\",1,\"\")","v":""}]
[null,null,null,null,null,null,null,null,null,null,null,null,null,null,null,null,null,null,null,null,null,null,null,null,null,null,null,null,null,null,null,null,null,null,null,null,null,null,null,null,null,null,null,null,null,null,null,null,null,null,null,null,null,null,null,null,null,null,null,null,{"$f":"IF(Indtastning!AG:AG=\"Positiv\",1,\"\")","v":""}]
[null,null,null,null,null,null,null,null,null,null,null,null,null,null,null,null,null,null,null,null,null,null,null,null,null,null,null,null,null,null,null,null,null,null,null,null,null,null,null,null,null,null,null,null,null,null,null,null,null,null,null,null,null,null,null,null,null,null,null,null,{"$f":"IF(Indtastning!AG:AG=\"Positiv\",1,\"\")","v":""}]
[null,null,null,null,null,null,null,null,null,null,null,null,null,null,null,null,null,null,null,null,null,null,null,null,null,null,null,null,null,null,null,null,null,null,null,null,null,null,null,null,null,null,null,null,null,null,null,null,null,null,null,null,null,null,null,null,null,null,null,null,{"$f":"IF(Indtastning!AG:AG=\"Positiv\",1,\"\")","v":""}]
[null,null,null,null,null,null,null,null,null,null,null,null,null,null,null,null,null,null,null,null,null,null,null,null,null,null,null,null,null,null,null,null,null,null,null,null,null,null,null,null,null,null,null,null,null,null,null,null,null,null,null,null,null,null,null,null,null,null,null,null,{"$f":"IF(Indtastning!AG:AG=\"Positiv\",1,\"\")","v":""}]
[null,null,null,null,null,null,null,null,null,null,null,null,null,null,null,null,null,null,null,null,null,null,null,null,null,null,null,null,null,null,null,null,null,null,null,null,null,null,null,null,null,null,null,null,null,null,null,null,null,null,null,null,null,null,null,null,null,null,null,null,{"$f":"IF(Indtastning!AG:AG=\"Positiv\",1,\"\")","v":""}]
[null,null,null,null,null,null,null,null,null,null,null,null,null,null,null,null,null,null,null,null,null,null,null,null,null,null,null,null,null,null,null,null,null,null,null,null,null,null,null,null,null,null,null,null,null,null,null,null,null,null,null,null,null,null,null,null,null,null,null,null,{"$f":"IF(Indtastning!AG:AG=\"Positiv\",1,\"\")","v":""}]
[null,null,null,null,null,null,null,null,null,null,null,null,null,null,null,null,null,null,null,null,null,null,null,null,null,null,null,null,null,null,null,null,null,null,null,null,null,null,null,null,null,null,null,null,null,null,null,null,null,null,null,null,null,null,null,null,null,null,null,null,{"$f":"IF(Indtastning!AG:AG=\"Positiv\",1,\"\")","v":""}]
[null,null,null,null,null,null,null,null,null,null,null,null,null,null,null,null,null,null,null,null,null,null,null,null,null,null,null,null,null,null,null,null,null,null,null,null,null,null,null,null,null,null,null,null,null,null,null,null,null,null,null,null,null,null,null,null,null,null,null,null,{"$f":"IF(Indtastning!AG:AG=\"Positiv\",1,\"\")","v":""}]
[null,null,null,null,null,null,null,null,null,null,null,null,null,null,null,null,null,null,null,null,null,null,null,null,null,null,null,null,null,null,null,null,null,null,null,null,null,null,null,null,null,null,null,null,null,null,null,null,null,null,null,null,null,null,null,null,null,null,null,null,{"$f":"IF(Indtastning!AG:AG=\"Positiv\",1,\"\")","v":""}]
[null,null,null,null,null,null,null,null,null,null,null,null,null,null,null,null,null,null,null,null,null,null,null,null,null,null,null,null,null,null,null,null,null,null,null,null,null,null,null,null,null,null,null,null,null,null,null,null,null,null,null,null,null,null,null,null,null,null,null,null,{"$f":"IF(Indtastning!AG:AG=\"Positiv\",1,\"\")","v":""}]
[null,null,null,null,null,null,null,null,null,null,null,null,null,null,null,null,null,null,null,null,null,null,null,null,null,null,null,null,null,null,null,null,null,null,null,null,null,null,null,null,null,null,null,null,null,null,null,null,null,null,null,null,null,null,null,null,null,null,null,null,{"$f":"IF(Indtastning!AG:AG=\"Positiv\",1,\"\")","v":""}]
[null,null,null,null,null,null,null,null,null,null,null,null,null,null,null,null,null,null,null,null,null,null,null,null,null,null,null,null,null,null,null,null,null,null,null,null,null,null,null,null,null,null,null,null,null,null,null,null,null,null,null,null,null,null,null,null,null,null,null,null,{"$f":"IF(Indtastning!AG:AG=\"Positiv\",1,\"\")","v":""}]
[null,null,null,null,null,null,null,null,null,null,null,null,null,null,null,null,null,null,null,null,null,null,null,null,null,null,null,null,null,null,null,null,null,null,null,null,null,null,null,null,null,null,null,null,null,null,null,null,null,null,null,null,null,null,null,null,null,null,null,null,{"$f":"IF(Indtastning!AG:AG=\"Positiv\",1,\"\")","v":""}]
[null,null,null,null,null,null,null,null,null,null,null,null,null,null,null,null,null,null,null,null,null,null,null,null,null,null,null,null,null,null,null,null,null,null,null,null,null,null,null,null,null,null,null,null,null,null,null,null,null,null,null,null,null,null,null,null,null,null,null,null,{"$f":"IF(Indtastning!AG:AG=\"Positiv\",1,\"\")","v":""}]
[null,null,null,null,null,null,null,null,null,null,null,null,null,null,null,null,null,null,null,null,null,null,null,null,null,null,null,null,null,null,null,null,null,null,null,null,null,null,null,null,null,null,null,null,null,null,null,null,null,null,null,null,null,null,null,null,null,null,null,null,{"$f":"IF(Indtastning!AG:AG=\"Positiv\",1,\"\")","v":""}]
[null,null,null,null,null,null,null,null,null,null,null,null,null,null,null,null,null,null,null,null,null,null,null,null,null,null,null,null,null,null,null,null,null,null,null,null,null,null,null,null,null,null,null,null,null,null,null,null,null,null,null,null,null,null,null,null,null,null,null,null,{"$f":"IF(Indtastning!AG:AG=\"Positiv\",1,\"\")","v":""}]
[null,null,null,null,null,null,null,null,null,null,null,null,null,null,null,null,null,null,null,null,null,null,null,null,null,null,null,null,null,null,null,null,null,null,null,null,null,null,null,null,null,null,null,null,null,null,null,null,null,null,null,null,null,null,null,null,null,null,null,null,{"$f":"IF(Indtastning!AG:AG=\"Positiv\",1,\"\")","v":""}]
[null,null,null,null,null,null,null,null,null,null,null,null,null,null,null,null,null,null,null,null,null,null,null,null,null,null,null,null,null,null,null,null,null,null,null,null,null,null,null,null,null,null,null,null,null,null,null,null,null,null,null,null,null,null,null,null,null,null,null,null,{"$f":"IF(Indtastning!AG:AG=\"Positiv\",1,\"\")","v":""}]
[null,null,null,null,null,null,null,null,null,null,null,null,null,null,null,null,null,null,null,null,null,null,null,null,null,null,null,null,null,null,null,null,null,null,null,null,null,null,null,null,null,null,null,null,null,null,null,null,null,null,null,null,null,null,null,null,null,null,null,null,{"$f":"IF(Indtastning!AG:AG=\"Positiv\",1,\"\")","v":""}]
[null,null,null,null,null,null,null,null,null,null,null,null,null,null,null,null,null,null,null,null,null,null,null,null,null,null,null,null,null,null,null,null,null,null,null,null,null,null,null,null,null,null,null,null,null,null,null,null,null,null,null,null,null,null,null,null,null,null,null,null,{"$f":"IF(Indtastning!AG:AG=\"Positiv\",1,\"\")","v":""}]
[null,null,null,null,null,null,null,null,null,null,null,null,null,null,null,null,null,null,null,null,null,null,null,null,null,null,null,null,null,null,null,null,null,null,null,null,null,null,null,null,null,null,null,null,null,null,null,null,null,null,null,null,null,null,null,null,null,null,null,null,{"$f":"IF(Indtastning!AG:AG=\"Positiv\",1,\"\")","v":""}]
[null,null,null,null,null,null,null,null,null,null,null,null,null,null,null,null,null,null,null,null,null,null,null,null,null,null,null,null,null,null,null,null,null,null,null,null,null,null,null,null,null,null,null,null,null,null,null,null,null,null,null,null,null,null,null,null,null,null,null,null,{"$f":"IF(Indtastning!AG:AG=\"Positiv\",1,\"\")","v":""}]
[null,null,null,null,null,null,null,null,null,null,null,null,null,null,null,null,null,null,null,null,null,null,null,null,null,null,null,null,null,null,null,null,null,null,null,null,null,null,null,null,null,null,null,null,null,null,null,null,null,null,null,null,null,null,null,null,null,null,null,null,{"$f":"IF(Indtastning!AG:AG=\"Positiv\",1,\"\")","v":""}]
[null,null,null,null,null,null,null,null,null,null,null,null,null,null,null,null,null,null,null,null,null,null,null,null,null,null,null,null,null,null,null,null,null,null,null,null,null,null,null,null,null,null,null,null,null,null,null,null,null,null,null,null,null,null,null,null,null,null,null,null,{"$f":"IF(Indtastning!AG:AG=\"Positiv\",1,\"\")","v":""}]
[null,null,null,null,null,null,null,null,null,null,null,null,null,null,null,null,null,null,null,null,null,null,null,null,null,null,null,null,null,null,null,null,null,null,null,null,null,null,null,null,null,null,null,null,null,null,null,null,null,null,null,null,null,null,null,null,null,null,null,null,{"$f":"IF(Indtastning!AG:AG=\"Positiv\",1,\"\")","v":""}]
[null,null,null,null,null,null,null,null,null,null,null,null,null,null,null,null,null,null,null,null,null,null,null,null,null,null,null,null,null,null,null,null,null,null,null,null,null,null,null,null,null,null,null,null,null,null,null,null,null,null,null,null,null,null,null,null,null,null,null,null,{"$f":"IF(Indtastning!AG:AG=\"Positiv\",1,\"\")","v":""}]
[null,null,null,null,null,null,null,null,null,null,null,null,null,null,null,null,null,null,null,null,null,null,null,null,null,null,null,null,null,null,null,null,null,null,null,null,null,null,null,null,null,null,null,null,null,null,null,null,null,null,null,null,null,null,null,null,null,null,null,null,{"$f":"IF(Indtastning!AG:AG=\"Positiv\",1,\"\")","v":""}]
[null,null,null,null,null,null,null,null,null,null,null,null,null,null,null,null,null,null,null,null,null,null,null,null,null,null,null,null,null,null,null,null,null,null,null,null,null,null,null,null,null,null,null,null,null,null,null,null,null,null,null,null,null,null,null,null,null,null,null,null,{"$f":"IF(Indtastning!AG:AG=\"Positiv\",1,\"\")","v":""}]
[null,null,null,null,null,null,null,null,null,null,null,null,null,null,null,null,null,null,null,null,null,null,null,null,null,null,null,null,null,null,null,null,null,null,null,null,null,null,null,null,null,null,null,null,null,null,null,null,null,null,null,null,null,null,null,null,null,null,null,null,{"$f":"IF(Indtastning!AG:AG=\"Positiv\",1,\"\")","v":""}]
[null,null,null,null,null,null,null,null,null,null,null,null,null,null,null,null,null,null,null,null,null,null,null,null,null,null,null,null,null,null,null,null,null,null,null,null,null,null,null,null,null,null,null,null,null,null,null,null,null,null,null,null,null,null,null,null,null,null,null,null,{"$f":"IF(Indtastning!AG:AG=\"Positiv\",1,\"\")","v":""}]
[null,null,null,null,null,null,null,null,null,null,null,null,null,null,null,null,null,null,null,null,null,null,null,null,null,null,null,null,null,null,null,null,null,null,null,null,null,null,null,null,null,null,null,null,null,null,null,null,null,null,null,null,null,null,null,null,null,null,null,null,{"$f":"IF(Indtastning!AG:AG=\"Positiv\",1,\"\")","v":""}]
[null,null,null,null,null,null,null,null,null,null,null,null,null,null,null,null,null,null,null,null,null,null,null,null,null,null,null,null,null,null,null,null,null,null,null,null,null,null,null,null,null,null,null,null,null,null,null,null,null,null,null,null,null,null,null,null,null,null,null,null,{"$f":"IF(Indtastning!AG:AG=\"Positiv\",1,\"\")","v":""}]
[null,null,null,null,null,null,null,null,null,null,null,null,null,null,null,null,null,null,null,null,null,null,null,null,null,null,null,null,null,null,null,null,null,null,null,null,null,null,null,null,null,null,null,null,null,null,null,null,null,null,null,null,null,null,null,null,null,null,null,null,{"$f":"IF(Indtastning!AG:AG=\"Positiv\",1,\"\")","v":""}]
[null,null,null,null,null,null,null,null,null,null,null,null,null,null,null,null,null,null,null,null,null,null,null,null,null,null,null,null,null,null,null,null,null,null,null,null,null,null,null,null,null,null,null,null,null,null,null,null,null,null,null,null,null,null,null,null,null,null,null,null,{"$f":"IF(Indtastning!AG:AG=\"Positiv\",1,\"\")","v":""}]
[null,null,null,null,null,null,null,null,null,null,null,null,null,null,null,null,null,null,null,null,null,null,null,null,null,null,null,null,null,null,null,null,null,null,null,null,null,null,null,null,null,null,null,null,null,null,null,null,null,null,null,null,null,null,null,null,null,null,null,null,{"$f":"IF(Indtastning!AG:AG=\"Positiv\",1,\"\")","v":""}]
[null,null,null,null,null,null,null,null,null,null,null,null,null,null,null,null,null,null,null,null,null,null,null,null,null,null,null,null,null,null,null,null,null,null,null,null,null,null,null,null,null,null,null,null,null,null,null,null,null,null,null,null,null,null,null,null,null,null,null,null,{"$f":"IF(Indtastning!AG:AG=\"Positiv\",1,\"\")","v":""}]
[null,null,null,null,null,null,null,null,null,null,null,null,null,null,null,null,null,null,null,null,null,null,null,null,null,null,null,null,null,null,null,null,null,null,null,null,null,null,null,null,null,null,null,null,null,null,null,null,null,null,null,null,null,null,null,null,null,null,null,null,{"$f":"IF(Indtastning!AG:AG=\"Positiv\",1,\"\")","v":""}]
[null,null,null,null,null,null,null,null,null,null,null,null,null,null,null,null,null,null,null,null,null,null,null,null,null,null,null,null,null,null,null,null,null,null,null,null,null,null,null,null,null,null,null,null,null,null,null,null,null,null,null,null,null,null,null,null,null,null,null,null,{"$f":"IF(Indtastning!AG:AG=\"Positiv\",1,\"\")","v":""}]
[null,null,null,null,null,null,null,null,null,null,null,null,null,null,null,null,null,null,null,null,null,null,null,null,null,null,null,null,null,null,null,null,null,null,null,null,null,null,null,null,null,null,null,null,null,null,null,null,null,null,null,null,null,null,null,null,null,null,null,null,{"$f":"IF(Indtastning!AG:AG=\"Positiv\",1,\"\")","v":""}]
[null,null,null,null,null,null,null,null,null,null,null,null,null,null,null,null,null,null,null,null,null,null,null,null,null,null,null,null,null,null,null,null,null,null,null,null,null,null,null,null,null,null,null,null,null,null,null,null,null,null,null,null,null,null,null,null,null,null,null,null,{"$f":"IF(Indtastning!AG:AG=\"Positiv\",1,\"\")","v":""}]
[null,null,null,null,null,null,null,null,null,null,null,null,null,null,null,null,null,null,null,null,null,null,null,null,null,null,null,null,null,null,null,null,null,null,null,null,null,null,null,null,null,null,null,null,null,null,null,null,null,null,null,null,null,null,null,null,null,null,null,null,{"$f":"IF(Indtastning!AG:AG=\"Positiv\",1,\"\")","v":""}]
[null,null,null,null,null,null,null,null,null,null,null,null,null,null,null,null,null,null,null,null,null,null,null,null,null,null,null,null,null,null,null,null,null,null,null,null,null,null,null,null,null,null,null,null,null,null,null,null,null,null,null,null,null,null,null,null,null,null,null,null,{"$f":"IF(Indtastning!AG:AG=\"Positiv\",1,\"\")","v":""}]
[null,null,null,null,null,null,null,null,null,null,null,null,null,null,null,null,null,null,null,null,null,null,null,null,null,null,null,null,null,null,null,null,null,null,null,null,null,null,null,null,null,null,null,null,null,null,null,null,null,null,null,null,null,null,null,null,null,null,null,null,{"$f":"IF(Indtastning!AG:AG=\"Positiv\",1,\"\")","v":""}]
[null,null,null,null,null,null,null,null,null,null,null,null,null,null,null,null,null,null,null,null,null,null,null,null,null,null,null,null,null,null,null,null,null,null,null,null,null,null,null,null,null,null,null,null,null,null,null,null,null,null,null,null,null,null,null,null,null,null,null,null,{"$f":"IF(Indtastning!AG:AG=\"Positiv\",1,\"\")","v":""}]
[null,null,null,null,null,null,null,null,null,null,null,null,null,null,null,null,null,null,null,null,null,null,null,null,null,null,null,null,null,null,null,null,null,null,null,null,null,null,null,null,null,null,null,null,null,null,null,null,null,null,null,null,null,null,null,null,null,null,null,null,{"$f":"IF(Indtastning!AG:AG=\"Positiv\",1,\"\")","v":""}]
[null,null,null,null,null,null,null,null,null,null,null,null,null,null,null,null,null,null,null,null,null,null,null,null,null,null,null,null,null,null,null,null,null,null,null,null,null,null,null,null,null,null,null,null,null,null,null,null,null,null,null,null,null,null,null,null,null,null,null,null,{"$f":"IF(Indtastning!AG:AG=\"Positiv\",1,\"\")","v":""}]
[null,null,null,null,null,null,null,null,null,null,null,null,null,null,null,null,null,null,null,null,null,null,null,null,null,null,null,null,null,null,null,null,null,null,null,null,null,null,null,null,null,null,null,null,null,null,null,null,null,null,null,null,null,null,null,null,null,null,null,null,{"$f":"IF(Indtastning!AG:AG=\"Positiv\",1,\"\")","v":""}]
[null,null,null,null,null,null,null,null,null,null,null,null,null,null,null,null,null,null,null,null,null,null,null,null,null,null,null,null,null,null,null,null,null,null,null,null,null,null,null,null,null,null,null,null,null,null,null,null,null,null,null,null,null,null,null,null,null,null,null,null,{"$f":"IF(Indtastning!AG:AG=\"Positiv\",1,\"\")","v":""}]
[null,null,null,null,null,null,null,null,null,null,null,null,null,null,null,null,null,null,null,null,null,null,null,null,null,null,null,null,null,null,null,null,null,null,null,null,null,null,null,null,null,null,null,null,null,null,null,null,null,null,null,null,null,null,null,null,null,null,null,null,{"$f":"IF(Indtastning!AG:AG=\"Positiv\",1,\"\")","v":""}]
[null,null,null,null,null,null,null,null,null,null,null,null,null,null,null,null,null,null,null,null,null,null,null,null,null,null,null,null,null,null,null,null,null,null,null,null,null,null,null,null,null,null,null,null,null,null,null,null,null,null,null,null,null,null,null,null,null,null,null,null,{"$f":"IF(Indtastning!AG:AG=\"Positiv\",1,\"\")","v":""}]
[null,null,null,null,null,null,null,null,null,null,null,null,null,null,null,null,null,null,null,null,null,null,null,null,null,null,null,null,null,null,null,null,null,null,null,null,null,null,null,null,null,null,null,null,null,null,null,null,null,null,null,null,null,null,null,null,null,null,null,null,{"$f":"IF(Indtastning!AG:AG=\"Positiv\",1,\"\")","v":""}]
[null,null,null,null,null,null,null,null,null,null,null,null,null,null,null,null,null,null,null,null,null,null,null,null,null,null,null,null,null,null,null,null,null,null,null,null,null,null,null,null,null,null,null,null,null,null,null,null,null,null,null,null,null,null,null,null,null,null,null,null,{"$f":"IF(Indtastning!AG:AG=\"Positiv\",1,\"\")","v":""}]
[null,null,null,null,null,null,null,null,null,null,null,null,null,null,null,null,null,null,null,null,null,null,null,null,null,null,null,null,null,null,null,null,null,null,null,null,null,null,null,null,null,null,null,null,null,null,null,null,null,null,null,null,null,null,null,null,null,null,null,null,{"$f":"IF(Indtastning!AG:AG=\"Positiv\",1,\"\")","v":""}]
[null,null,null,null,null,null,null,null,null,null,null,null,null,null,null,null,null,null,null,null,null,null,null,null,null,null,null,null,null,null,null,null,null,null,null,null,null,null,null,null,null,null,null,null,null,null,null,null,null,null,null,null,null,null,null,null,null,null,null,null,{"$f":"IF(Indtastning!AG:AG=\"Positiv\",1,\"\")","v":""}]
[null,null,null,null,null,null,null,null,null,null,null,null,null,null,null,null,null,null,null,null,null,null,null,null,null,null,null,null,null,null,null,null,null,null,null,null,null,null,null,null,null,null,null,null,null,null,null,null,null,null,null,null,null,null,null,null,null,null,null,null,{"$f":"IF(Indtastning!AG:AG=\"Positiv\",1,\"\")","v":""}]
[null,null,null,null,null,null,null,null,null,null,null,null,null,null,null,null,null,null,null,null,null,null,null,null,null,null,null,null,null,null,null,null,null,null,null,null,null,null,null,null,null,null,null,null,null,null,null,null,null,null,null,null,null,null,null,null,null,null,null,null,{"$f":"IF(Indtastning!AG:AG=\"Positiv\",1,\"\")","v":""}]
[null,null,null,null,null,null,null,null,null,null,null,null,null,null,null,null,null,null,null,null,null,null,null,null,null,null,null,null,null,null,null,null,null,null,null,null,null,null,null,null,null,null,null,null,null,null,null,null,null,null,null,null,null,null,null,null,null,null,null,null,{"$f":"IF(Indtastning!AG:AG=\"Positiv\",1,\"\")","v":""}]
[null,null,null,null,null,null,null,null,null,null,null,null,null,null,null,null,null,null,null,null,null,null,null,null,null,null,null,null,null,null,null,null,null,null,null,null,null,null,null,null,null,null,null,null,null,null,null,null,null,null,null,null,null,null,null,null,null,null,null,null,{"$f":"IF(Indtastning!AG:AG=\"Positiv\",1,\"\")","v":""}]
[null,null,null,null,null,null,null,null,null,null,null,null,null,null,null,null,null,null,null,null,null,null,null,null,null,null,null,null,null,null,null,null,null,null,null,null,null,null,null,null,null,null,null,null,null,null,null,null,null,null,null,null,null,null,null,null,null,null,null,null,{"$f":"IF(Indtastning!AG:AG=\"Positiv\",1,\"\")","v":""}]
[null,null,null,null,null,null,null,null,null,null,null,null,null,null,null,null,null,null,null,null,null,null,null,null,null,null,null,null,null,null,null,null,null,null,null,null,null,null,null,null,null,null,null,null,null,null,null,null,null,null,null,null,null,null,null,null,null,null,null,null,{"$f":"IF(Indtastning!AG:AG=\"Positiv\",1,\"\")","v":""}]
[null,null,null,null,null,null,null,null,null,null,null,null,null,null,null,null,null,null,null,null,null,null,null,null,null,null,null,null,null,null,null,null,null,null,null,null,null,null,null,null,null,null,null,null,null,null,null,null,null,null,null,null,null,null,null,null,null,null,null,null,{"$f":"IF(Indtastning!AG:AG=\"Positiv\",1,\"\")","v":""}]
[null,null,null,null,null,null,null,null,null,null,null,null,null,null,null,null,null,null,null,null,null,null,null,null,null,null,null,null,null,null,null,null,null,null,null,null,null,null,null,null,null,null,null,null,null,null,null,null,null,null,null,null,null,null,null,null,null,null,null,null,{"$f":"IF(Indtastning!AG:AG=\"Positiv\",1,\"\")","v":""}]
[null,null,null,null,null,null,null,null,null,null,null,null,null,null,null,null,null,null,null,null,null,null,null,null,null,null,null,null,null,null,null,null,null,null,null,null,null,null,null,null,null,null,null,null,null,null,null,null,null,null,null,null,null,null,null,null,null,null,null,null,{"$f":"IF(Indtastning!AG:AG=\"Positiv\",1,\"\")","v":""}]
[null,null,null,null,null,null,null,null,null,null,null,null,null,null,null,null,null,null,null,null,null,null,null,null,null,null,null,null,null,null,null,null,null,null,null,null,null,null,null,null,null,null,null,null,null,null,null,null,null,null,null,null,null,null,null,null,null,null,null,null,{"$f":"IF(Indtastning!AG:AG=\"Positiv\",1,\"\")","v":""}]
[null,null,null,null,null,null,null,null,null,null,null,null,null,null,null,null,null,null,null,null,null,null,null,null,null,null,null,null,null,null,null,null,null,null,null,null,null,null,null,null,null,null,null,null,null,null,null,null,null,null,null,null,null,null,null,null,null,null,null,null,{"$f":"IF(Indtastning!AG:AG=\"Positiv\",1,\"\")","v":""}]
[null,null,null,null,null,null,null,null,null,null,null,null,null,null,null,null,null,null,null,null,null,null,null,null,null,null,null,null,null,null,null,null,null,null,null,null,null,null,null,null,null,null,null,null,null,null,null,null,null,null,null,null,null,null,null,null,null,null,null,null,{"$f":"IF(Indtastning!AG:AG=\"Positiv\",1,\"\")","v":""}]
[null,null,null,null,null,null,null,null,null,null,null,null,null,null,null,null,null,null,null,null,null,null,null,null,null,null,null,null,null,null,null,null,null,null,null,null,null,null,null,null,null,null,null,null,null,null,null,null,null,null,null,null,null,null,null,null,null,null,null,null,{"$f":"IF(Indtastning!AG:AG=\"Positiv\",1,\"\")","v":""}]
[null,null,null,null,null,null,null,null,null,null,null,null,null,null,null,null,null,null,null,null,null,null,null,null,null,null,null,null,null,null,null,null,null,null,null,null,null,null,null,null,null,null,null,null,null,null,null,null,null,null,null,null,null,null,null,null,null,null,null,null,{"$f":"IF(Indtastning!AG:AG=\"Positiv\",1,\"\")","v":""}]
[null,null,null,null,null,null,null,null,null,null,null,null,null,null,null,null,null,null,null,null,null,null,null,null,null,null,null,null,null,null,null,null,null,null,null,null,null,null,null,null,null,null,null,null,null,null,null,null,null,null,null,null,null,null,null,null,null,null,null,null,{"$f":"IF(Indtastning!AG:AG=\"Positiv\",1,\"\")","v":""}]
[null,null,null,null,null,null,null,null,null,null,null,null,null,null,null,null,null,null,null,null,null,null,null,null,null,null,null,null,null,null,null,null,null,null,null,null,null,null,null,null,null,null,null,null,null,null,null,null,null,null,null,null,null,null,null,null,null,null,null,null,{"$f":"IF(Indtastning!AG:AG=\"Positiv\",1,\"\")","v":""}]
[null,null,null,null,null,null,null,null,null,null,null,null,null,null,null,null,null,null,null,null,null,null,null,null,null,null,null,null,null,null,null,null,null,null,null,null,null,null,null,null,null,null,null,null,null,null,null,null,null,null,null,null,null,null,null,null,null,null,null,null,{"$f":"IF(Indtastning!AG:AG=\"Positiv\",1,\"\")","v":""}]
[null,null,null,null,null,null,null,null,null,null,null,null,null,null,null,null,null,null,null,null,null,null,null,null,null,null,null,null,null,null,null,null,null,null,null,null,null,null,null,null,null,null,null,null,null,null,null,null,null,null,null,null,null,null,null,null,null,null,null,null,{"$f":"IF(Indtastning!AG:AG=\"Positiv\",1,\"\")","v":""}]
[null,null,null,null,null,null,null,null,null,null,null,null,null,null,null,null,null,null,null,null,null,null,null,null,null,null,null,null,null,null,null,null,null,null,null,null,null,null,null,null,null,null,null,null,null,null,null,null,null,null,null,null,null,null,null,null,null,null,null,null,{"$f":"IF(Indtastning!AG:AG=\"Positiv\",1,\"\")","v":""}]
[null,null,null,null,null,null,null,null,null,null,null,null,null,null,null,null,null,null,null,null,null,null,null,null,null,null,null,null,null,null,null,null,null,null,null,null,null,null,null,null,null,null,null,null,null,null,null,null,null,null,null,null,null,null,null,null,null,null,null,null,{"$f":"IF(Indtastning!AG:AG=\"Positiv\",1,\"\")","v":""}]
[null,null,null,null,null,null,null,null,null,null,null,null,null,null,null,null,null,null,null,null,null,null,null,null,null,null,null,null,null,null,null,null,null,null,null,null,null,null,null,null,null,null,null,null,null,null,null,null,null,null,null,null,null,null,null,null,null,null,null,null,{"$f":"IF(Indtastning!AG:AG=\"Positiv\",1,\"\")","v":""}]
[null,null,null,null,null,null,null,null,null,null,null,null,null,null,null,null,null,null,null,null,null,null,null,null,null,null,null,null,null,null,null,null,null,null,null,null,null,null,null,null,null,null,null,null,null,null,null,null,null,null,null,null,null,null,null,null,null,null,null,null,{"$f":"IF(Indtastning!AG:AG=\"Positiv\",1,\"\")","v":""}]
[null,null,null,null,null,null,null,null,null,null,null,null,null,null,null,null,null,null,null,null,null,null,null,null,null,null,null,null,null,null,null,null,null,null,null,null,null,null,null,null,null,null,null,null,null,null,null,null,null,null,null,null,null,null,null,null,null,null,null,null,{"$f":"IF(Indtastning!AG:AG=\"Positiv\",1,\"\")","v":""}]
[null,null,null,null,null,null,null,null,null,null,null,null,null,null,null,null,null,null,null,null,null,null,null,null,null,null,null,null,null,null,null,null,null,null,null,null,null,null,null,null,null,null,null,null,null,null,null,null,null,null,null,null,null,null,null,null,null,null,null,null,{"$f":"IF(Indtastning!AG:AG=\"Positiv\",1,\"\")","v":""}]
[null,null,null,null,null,null,null,null,null,null,null,null,null,null,null,null,null,null,null,null,null,null,null,null,null,null,null,null,null,null,null,null,null,null,null,null,null,null,null,null,null,null,null,null,null,null,null,null,null,null,null,null,null,null,null,null,null,null,null,null,{"$f":"IF(Indtastning!AG:AG=\"Positiv\",1,\"\")","v":""}]
[null,null,null,null,null,null,null,null,null,null,null,null,null,null,null,null,null,null,null,null,null,null,null,null,null,null,null,null,null,null,null,null,null,null,null,null,null,null,null,null,null,null,null,null,null,null,null,null,null,null,null,null,null,null,null,null,null,null,null,null,{"$f":"IF(Indtastning!AG:AG=\"Positiv\",1,\"\")","v":""}]
[null,null,null,null,null,null,null,null,null,null,null,null,null,null,null,null,null,null,null,null,null,null,null,null,null,null,null,null,null,null,null,null,null,null,null,null,null,null,null,null,null,null,null,null,null,null,null,null,null,null,null,null,null,null,null,null,null,null,null,null,{"$f":"IF(Indtastning!AG:AG=\"Positiv\",1,\"\")","v":""}]
[null,null,null,null,null,null,null,null,null,null,null,null,null,null,null,null,null,null,null,null,null,null,null,null,null,null,null,null,null,null,null,null,null,null,null,null,null,null,null,null,null,null,null,null,null,null,null,null,null,null,null,null,null,null,null,null,null,null,null,null,{"$f":"IF(Indtastning!AG:AG=\"Positiv\",1,\"\")","v":""}]
[null,null,null,null,null,null,null,null,null,null,null,null,null,null,null,null,null,null,null,null,null,null,null,null,null,null,null,null,null,null,null,null,null,null,null,null,null,null,null,null,null,null,null,null,null,null,null,null,null,null,null,null,null,null,null,null,null,null,null,null,{"$f":"IF(Indtastning!AG:AG=\"Positiv\",1,\"\")","v":""}]
[null,null,null,null,null,null,null,null,null,null,null,null,null,null,null,null,null,null,null,null,null,null,null,null,null,null,null,null,null,null,null,null,null,null,null,null,null,null,null,null,null,null,null,null,null,null,null,null,null,null,null,null,null,null,null,null,null,null,null,null,{"$f":"IF(Indtastning!AG:AG=\"Positiv\",1,\"\")","v":""}]
[null,null,null,null,null,null,null,null,null,null,null,null,null,null,null,null,null,null,null,null,null,null,null,null,null,null,null,null,null,null,null,null,null,null,null,null,null,null,null,null,null,null,null,null,null,null,null,null,null,null,null,null,null,null,null,null,null,null,null,null,{"$f":"IF(Indtastning!AG:AG=\"Positiv\",1,\"\")","v":""}]
[null,null,null,null,null,null,null,null,null,null,null,null,null,null,null,null,null,null,null,null,null,null,null,null,null,null,null,null,null,null,null,null,null,null,null,null,null,null,null,null,null,null,null,null,null,null,null,null,null,null,null,null,null,null,null,null,null,null,null,null,{"$f":"IF(Indtastning!AG:AG=\"Positiv\",1,\"\")","v":""}]
[null,null,null,null,null,null,null,null,null,null,null,null,null,null,null,null,null,null,null,null,null,null,null,null,null,null,null,null,null,null,null,null,null,null,null,null,null,null,null,null,null,null,null,null,null,null,null,null,null,null,null,null,null,null,null,null,null,null,null,null,{"$f":"IF(Indtastning!AG:AG=\"Positiv\",1,\"\")","v":""}]
[null,null,null,null,null,null,null,null,null,null,null,null,null,null,null,null,null,null,null,null,null,null,null,null,null,null,null,null,null,null,null,null,null,null,null,null,null,null,null,null,null,null,null,null,null,null,null,null,null,null,null,null,null,null,null,null,null,null,null,null,{"$f":"IF(Indtastning!AG:AG=\"Positiv\",1,\"\")","v":""}]
[null,null,null,null,null,null,null,null,null,null,null,null,null,null,null,null,null,null,null,null,null,null,null,null,null,null,null,null,null,null,null,null,null,null,null,null,null,null,null,null,null,null,null,null,null,null,null,null,null,null,null,null,null,null,null,null,null,null,null,null,{"$f":"IF(Indtastning!AG:AG=\"Positiv\",1,\"\")","v":""}]
[null,null,null,null,null,null,null,null,null,null,null,null,null,null,null,null,null,null,null,null,null,null,null,null,null,null,null,null,null,null,null,null,null,null,null,null,null,null,null,null,null,null,null,null,null,null,null,null,null,null,null,null,null,null,null,null,null,null,null,null,{"$f":"IF(Indtastning!AG:AG=\"Positiv\",1,\"\")","v":""}]
[null,null,null,null,null,null,null,null,null,null,null,null,null,null,null,null,null,null,null,null,null,null,null,null,null,null,null,null,null,null,null,null,null,null,null,null,null,null,null,null,null,null,null,null,null,null,null,null,null,null,null,null,null,null,null,null,null,null,null,null,{"$f":"IF(Indtastning!AG:AG=\"Positiv\",1,\"\")","v":""}]
[null,null,null,null,null,null,null,null,null,null,null,null,null,null,null,null,null,null,null,null,null,null,null,null,null,null,null,null,null,null,null,null,null,null,null,null,null,null,null,null,null,null,null,null,null,null,null,null,null,null,null,null,null,null,null,null,null,null,null,null,{"$f":"IF(Indtastning!AG:AG=\"Positiv\",1,\"\")","v":""}]
[null,null,null,null,null,null,null,null,null,null,null,null,null,null,null,null,null,null,null,null,null,null,null,null,null,null,null,null,null,null,null,null,null,null,null,null,null,null,null,null,null,null,null,null,null,null,null,null,null,null,null,null,null,null,null,null,null,null,null,null,{"$f":"IF(Indtastning!AG:AG=\"Positiv\",1,\"\")","v":""}]
[null,null,null,null,null,null,null,null,null,null,null,null,null,null,null,null,null,null,null,null,null,null,null,null,null,null,null,null,null,null,null,null,null,null,null,null,null,null,null,null,null,null,null,null,null,null,null,null,null,null,null,null,null,null,null,null,null,null,null,null,{"$f":"IF(Indtastning!AG:AG=\"Positiv\",1,\"\")","v":""}]
[null,null,null,null,null,null,null,null,null,null,null,null,null,null,null,null,null,null,null,null,null,null,null,null,null,null,null,null,null,null,null,null,null,null,null,null,null,null,null,null,null,null,null,null,null,null,null,null,null,null,null,null,null,null,null,null,null,null,null,null,{"$f":"IF(Indtastning!AG:AG=\"Positiv\",1,\"\")","v":""}]
[null,null,null,null,null,null,null,null,null,null,null,null,null,null,null,null,null,null,null,null,null,null,null,null,null,null,null,null,null,null,null,null,null,null,null,null,null,null,null,null,null,null,null,null,null,null,null,null,null,null,null,null,null,null,null,null,null,null,null,null,{"$f":"IF(Indtastning!AG:AG=\"Positiv\",1,\"\")","v":""}]
[null,null,null,null,null,null,null,null,null,null,null,null,null,null,null,null,null,null,null,null,null,null,null,null,null,null,null,null,null,null,null,null,null,null,null,null,null,null,null,null,null,null,null,null,null,null,null,null,null,null,null,null,null,null,null,null,null,null,null,null,{"$f":"IF(Indtastning!AG:AG=\"Positiv\",1,\"\")","v":""}]
[null,null,null,null,null,null,null,null,null,null,null,null,null,null,null,null,null,null,null,null,null,null,null,null,null,null,null,null,null,null,null,null,null,null,null,null,null,null,null,null,null,null,null,null,null,null,null,null,null,null,null,null,null,null,null,null,null,null,null,null,{"$f":"IF(Indtastning!AG:AG=\"Positiv\",1,\"\")","v":""}]
[null,null,null,null,null,null,null,null,null,null,null,null,null,null,null,null,null,null,null,null,null,null,null,null,null,null,null,null,null,null,null,null,null,null,null,null,null,null,null,null,null,null,null,null,null,null,null,null,null,null,null,null,null,null,null,null,null,null,null,null,{"$f":"IF(Indtastning!AG:AG=\"Positiv\",1,\"\")","v":""}]
[null,null,null,null,null,null,null,null,null,null,null,null,null,null,null,null,null,null,null,null,null,null,null,null,null,null,null,null,null,null,null,null,null,null,null,null,null,null,null,null,null,null,null,null,null,null,null,null,null,null,null,null,null,null,null,null,null,null,null,null,{"$f":"IF(Indtastning!AG:AG=\"Positiv\",1,\"\")","v":""}]
[null,null,null,null,null,null,null,null,null,null,null,null,null,null,null,null,null,null,null,null,null,null,null,null,null,null,null,null,null,null,null,null,null,null,null,null,null,null,null,null,null,null,null,null,null,null,null,null,null,null,null,null,null,null,null,null,null,null,null,null,{"$f":"IF(Indtastning!AG:AG=\"Positiv\",1,\"\")","v":""}]
[null,null,null,null,null,null,null,null,null,null,null,null,null,null,null,null,null,null,null,null,null,null,null,null,null,null,null,null,null,null,null,null,null,null,null,null,null,null,null,null,null,null,null,null,null,null,null,null,null,null,null,null,null,null,null,null,null,null,null,null,{"$f":"IF(Indtastning!AG:AG=\"Positiv\",1,\"\")","v":""}]
[null,null,null,null,null,null,null,null,null,null,null,null,null,null,null,null,null,null,null,null,null,null,null,null,null,null,null,null,null,null,null,null,null,null,null,null,null,null,null,null,null,null,null,null,null,null,null,null,null,null,null,null,null,null,null,null,null,null,null,null,{"$f":"IF(Indtastning!AG:AG=\"Positiv\",1,\"\")","v":""}]
[null,null,null,null,null,null,null,null,null,null,null,null,null,null,null,null,null,null,null,null,null,null,null,null,null,null,null,null,null,null,null,null,null,null,null,null,null,null,null,null,null,null,null,null,null,null,null,null,null,null,null,null,null,null,null,null,null,null,null,null,{"$f":"IF(Indtastning!AG:AG=\"Positiv\",1,\"\")","v":""}]
[null,null,null,null,null,null,null,null,null,null,null,null,null,null,null,null,null,null,null,null,null,null,null,null,null,null,null,null,null,null,null,null,null,null,null,null,null,null,null,null,null,null,null,null,null,null,null,null,null,null,null,null,null,null,null,null,null,null,null,null,{"$f":"IF(Indtastning!AG:AG=\"Positiv\",1,\"\")","v":""}]
[null,null,null,null,null,null,null,null,null,null,null,null,null,null,null,null,null,null,null,null,null,null,null,null,null,null,null,null,null,null,null,null,null,null,null,null,null,null,null,null,null,null,null,null,null,null,null,null,null,null,null,null,null,null,null,null,null,null,null,null,{"$f":"IF(Indtastning!AG:AG=\"Positiv\",1,\"\")","v":""}]
[null,null,null,null,null,null,null,null,null,null,null,null,null,null,null,null,null,null,null,null,null,null,null,null,null,null,null,null,null,null,null,null,null,null,null,null,null,null,null,null,null,null,null,null,null,null,null,null,null,null,null,null,null,null,null,null,null,null,null,null,{"$f":"IF(Indtastning!AG:AG=\"Positiv\",1,\"\")","v":""}]
[null,null,null,null,null,null,null,null,null,null,null,null,null,null,null,null,null,null,null,null,null,null,null,null,null,null,null,null,null,null,null,null,null,null,null,null,null,null,null,null,null,null,null,null,null,null,null,null,null,null,null,null,null,null,null,null,null,null,null,null,{"$f":"IF(Indtastning!AG:AG=\"Positiv\",1,\"\")","v":""}]
[null,null,null,null,null,null,null,null,null,null,null,null,null,null,null,null,null,null,null,null,null,null,null,null,null,null,null,null,null,null,null,null,null,null,null,null,null,null,null,null,null,null,null,null,null,null,null,null,null,null,null,null,null,null,null,null,null,null,null,null,{"$f":"IF(Indtastning!AG:AG=\"Positiv\",1,\"\")","v":""}]
[null,null,null,null,null,null,null,null,null,null,null,null,null,null,null,null,null,null,null,null,null,null,null,null,null,null,null,null,null,null,null,null,null,null,null,null,null,null,null,null,null,null,null,null,null,null,null,null,null,null,null,null,null,null,null,null,null,null,null,null,{"$f":"IF(Indtastning!AG:AG=\"Positiv\",1,\"\")","v":""}]
[null,null,null,null,null,null,null,null,null,null,null,null,null,null,null,null,null,null,null,null,null,null,null,null,null,null,null,null,null,null,null,null,null,null,null,null,null,null,null,null,null,null,null,null,null,null,null,null,null,null,null,null,null,null,null,null,null,null,null,null,{"$f":"IF(Indtastning!AG:AG=\"Positiv\",1,\"\")","v":""}]
[null,null,null,null,null,null,null,null,null,null,null,null,null,null,null,null,null,null,null,null,null,null,null,null,null,null,null,null,null,null,null,null,null,null,null,null,null,null,null,null,null,null,null,null,null,null,null,null,null,null,null,null,null,null,null,null,null,null,null,null,{"$f":"IF(Indtastning!AG:AG=\"Positiv\",1,\"\")","v":""}]
[null,null,null,null,null,null,null,null,null,null,null,null,null,null,null,null,null,null,null,null,null,null,null,null,null,null,null,null,null,null,null,null,null,null,null,null,null,null,null,null,null,null,null,null,null,null,null,null,null,null,null,null,null,null,null,null,null,null,null,null,{"$f":"IF(Indtastning!AG:AG=\"Positiv\",1,\"\")","v":""}]
[null,null,null,null,null,null,null,null,null,null,null,null,null,null,null,null,null,null,null,null,null,null,null,null,null,null,null,null,null,null,null,null,null,null,null,null,null,null,null,null,null,null,null,null,null,null,null,null,null,null,null,null,null,null,null,null,null,null,null,null,{"$f":"IF(Indtastning!AG:AG=\"Positiv\",1,\"\")","v":""}]
[null,null,null,null,null,null,null,null,null,null,null,null,null,null,null,null,null,null,null,null,null,null,null,null,null,null,null,null,null,null,null,null,null,null,null,null,null,null,null,null,null,null,null,null,null,null,null,null,null,null,null,null,null,null,null,null,null,null,null,null,{"$f":"IF(Indtastning!AG:AG=\"Positiv\",1,\"\")","v":""}]
[null,null,null,null,null,null,null,null,null,null,null,null,null,null,null,null,null,null,null,null,null,null,null,null,null,null,null,null,null,null,null,null,null,null,null,null,null,null,null,null,null,null,null,null,null,null,null,null,null,null,null,null,null,null,null,null,null,null,null,null,{"$f":"IF(Indtastning!AG:AG=\"Positiv\",1,\"\")","v":""}]
[null,null,null,null,null,null,null,null,null,null,null,null,null,null,null,null,null,null,null,null,null,null,null,null,null,null,null,null,null,null,null,null,null,null,null,null,null,null,null,null,null,null,null,null,null,null,null,null,null,null,null,null,null,null,null,null,null,null,null,null,{"$f":"IF(Indtastning!AG:AG=\"Positiv\",1,\"\")","v":""}]
[null,null,null,null,null,null,null,null,null,null,null,null,null,null,null,null,null,null,null,null,null,null,null,null,null,null,null,null,null,null,null,null,null,null,null,null,null,null,null,null,null,null,null,null,null,null,null,null,null,null,null,null,null,null,null,null,null,null,null,null,{"$f":"IF(Indtastning!AG:AG=\"Positiv\",1,\"\")","v":""}]
[null,null,null,null,null,null,null,null,null,null,null,null,null,null,null,null,null,null,null,null,null,null,null,null,null,null,null,null,null,null,null,null,null,null,null,null,null,null,null,null,null,null,null,null,null,null,null,null,null,null,null,null,null,null,null,null,null,null,null,null,{"$f":"IF(Indtastning!AG:AG=\"Positiv\",1,\"\")","v":""}]
[null,null,null,null,null,null,null,null,null,null,null,null,null,null,null,null,null,null,null,null,null,null,null,null,null,null,null,null,null,null,null,null,null,null,null,null,null,null,null,null,null,null,null,null,null,null,null,null,null,null,null,null,null,null,null,null,null,null,null,null,{"$f":"IF(Indtastning!AG:AG=\"Positiv\",1,\"\")","v":""}]
[null,null,null,null,null,null,null,null,null,null,null,null,null,null,null,null,null,null,null,null,null,null,null,null,null,null,null,null,null,null,null,null,null,null,null,null,null,null,null,null,null,null,null,null,null,null,null,null,null,null,null,null,null,null,null,null,null,null,null,null,{"$f":"IF(Indtastning!AG:AG=\"Positiv\",1,\"\")","v":""}]
[null,null,null,null,null,null,null,null,null,null,null,null,null,null,null,null,null,null,null,null,null,null,null,null,null,null,null,null,null,null,null,null,null,null,null,null,null,null,null,null,null,null,null,null,null,null,null,null,null,null,null,null,null,null,null,null,null,null,null,null,{"$f":"IF(Indtastning!AG:AG=\"Positiv\",1,\"\")","v":""}]
[null,null,null,null,null,null,null,null,null,null,null,null,null,null,null,null,null,null,null,null,null,null,null,null,null,null,null,null,null,null,null,null,null,null,null,null,null,null,null,null,null,null,null,null,null,null,null,null,null,null,null,null,null,null,null,null,null,null,null,null,{"$f":"IF(Indtastning!AG:AG=\"Positiv\",1,\"\")","v":""}]
[null,null,null,null,null,null,null,null,null,null,null,null,null,null,null,null,null,null,null,null,null,null,null,null,null,null,null,null,null,null,null,null,null,null,null,null,null,null,null,null,null,null,null,null,null,null,null,null,null,null,null,null,null,null,null,null,null,null,null,null,{"$f":"IF(Indtastning!AG:AG=\"Positiv\",1,\"\")","v":""}]
[null,null,null,null,null,null,null,null,null,null,null,null,null,null,null,null,null,null,null,null,null,null,null,null,null,null,null,null,null,null,null,null,null,null,null,null,null,null,null,null,null,null,null,null,null,null,null,null,null,null,null,null,null,null,null,null,null,null,null,null,{"$f":"IF(Indtastning!AG:AG=\"Positiv\",1,\"\")","v":""}]
[null,null,null,null,null,null,null,null,null,null,null,null,null,null,null,null,null,null,null,null,null,null,null,null,null,null,null,null,null,null,null,null,null,null,null,null,null,null,null,null,null,null,null,null,null,null,null,null,null,null,null,null,null,null,null,null,null,null,null,null,{"$f":"IF(Indtastning!AG:AG=\"Positiv\",1,\"\")","v":""}]
[null,null,null,null,null,null,null,null,null,null,null,null,null,null,null,null,null,null,null,null,null,null,null,null,null,null,null,null,null,null,null,null,null,null,null,null,null,null,null,null,null,null,null,null,null,null,null,null,null,null,null,null,null,null,null,null,null,null,null,null,{"$f":"IF(Indtastning!AG:AG=\"Positiv\",1,\"\")","v":""}]
[null,null,null,null,null,null,null,null,null,null,null,null,null,null,null,null,null,null,null,null,null,null,null,null,null,null,null,null,null,null,null,null,null,null,null,null,null,null,null,null,null,null,null,null,null,null,null,null,null,null,null,null,null,null,null,null,null,null,null,null,{"$f":"IF(Indtastning!AG:AG=\"Positiv\",1,\"\")","v":""}]
[null,null,null,null,null,null,null,null,null,null,null,null,null,null,null,null,null,null,null,null,null,null,null,null,null,null,null,null,null,null,null,null,null,null,null,null,null,null,null,null,null,null,null,null,null,null,null,null,null,null,null,null,null,null,null,null,null,null,null,null,{"$f":"IF(Indtastning!AG:AG=\"Positiv\",1,\"\")","v":""}]
[null,null,null,null,null,null,null,null,null,null,null,null,null,null,null,null,null,null,null,null,null,null,null,null,null,null,null,null,null,null,null,null,null,null,null,null,null,null,null,null,null,null,null,null,null,null,null,null,null,null,null,null,null,null,null,null,null,null,null,null,{"$f":"IF(Indtastning!AG:AG=\"Positiv\",1,\"\")","v":""}]
[null,null,null,null,null,null,null,null,null,null,null,null,null,null,null,null,null,null,null,null,null,null,null,null,null,null,null,null,null,null,null,null,null,null,null,null,null,null,null,null,null,null,null,null,null,null,null,null,null,null,null,null,null,null,null,null,null,null,null,null,{"$f":"IF(Indtastning!AG:AG=\"Positiv\",1,\"\")","v":""}]
[null,null,null,null,null,null,null,null,null,null,null,null,null,null,null,null,null,null,null,null,null,null,null,null,null,null,null,null,null,null,null,null,null,null,null,null,null,null,null,null,null,null,null,null,null,null,null,null,null,null,null,null,null,null,null,null,null,null,null,null,{"$f":"IF(Indtastning!AG:AG=\"Positiv\",1,\"\")","v":""}]
[null,null,null,null,null,null,null,null,null,null,null,null,null,null,null,null,null,null,null,null,null,null,null,null,null,null,null,null,null,null,null,null,null,null,null,null,null,null,null,null,null,null,null,null,null,null,null,null,null,null,null,null,null,null,null,null,null,null,null,null,{"$f":"IF(Indtastning!AG:AG=\"Positiv\",1,\"\")","v":""}]
[null,null,null,null,null,null,null,null,null,null,null,null,null,null,null,null,null,null,null,null,null,null,null,null,null,null,null,null,null,null,null,null,null,null,null,null,null,null,null,null,null,null,null,null,null,null,null,null,null,null,null,null,null,null,null,null,null,null,null,null,{"$f":"IF(Indtastning!AG:AG=\"Positiv\",1,\"\")","v":""}]
[null,null,null,null,null,null,null,null,null,null,null,null,null,null,null,null,null,null,null,null,null,null,null,null,null,null,null,null,null,null,null,null,null,null,null,null,null,null,null,null,null,null,null,null,null,null,null,null,null,null,null,null,null,null,null,null,null,null,null,null,{"$f":"IF(Indtastning!AG:AG=\"Positiv\",1,\"\")","v":""}]
[null,null,null,null,null,null,null,null,null,null,null,null,null,null,null,null,null,null,null,null,null,null,null,null,null,null,null,null,null,null,null,null,null,null,null,null,null,null,null,null,null,null,null,null,null,null,null,null,null,null,null,null,null,null,null,null,null,null,null,null,{"$f":"IF(Indtastning!AG:AG=\"Positiv\",1,\"\")","v":""}]
[null,null,null,null,null,null,null,null,null,null,null,null,null,null,null,null,null,null,null,null,null,null,null,null,null,null,null,null,null,null,null,null,null,null,null,null,null,null,null,null,null,null,null,null,null,null,null,null,null,null,null,null,null,null,null,null,null,null,null,null,{"$f":"IF(Indtastning!AG:AG=\"Positiv\",1,\"\")","v":""}]
[null,null,null,null,null,null,null,null,null,null,null,null,null,null,null,null,null,null,null,null,null,null,null,null,null,null,null,null,null,null,null,null,null,null,null,null,null,null,null,null,null,null,null,null,null,null,null,null,null,null,null,null,null,null,null,null,null,null,null,null,{"$f":"IF(Indtastning!AG:AG=\"Positiv\",1,\"\")","v":""}]
[null,null,null,null,null,null,null,null,null,null,null,null,null,null,null,null,null,null,null,null,null,null,null,null,null,null,null,null,null,null,null,null,null,null,null,null,null,null,null,null,null,null,null,null,null,null,null,null,null,null,null,null,null,null,null,null,null,null,null,null,{"$f":"IF(Indtastning!AG:AG=\"Positiv\",1,\"\")","v":""}]
[null,null,null,null,null,null,null,null,null,null,null,null,null,null,null,null,null,null,null,null,null,null,null,null,null,null,null,null,null,null,null,null,null,null,null,null,null,null,null,null,null,null,null,null,null,null,null,null,null,null,null,null,null,null,null,null,null,null,null,null,{"$f":"IF(Indtastning!AG:AG=\"Positiv\",1,\"\")","v":""}]
[null,null,null,null,null,null,null,null,null,null,null,null,null,null,null,null,null,null,null,null,null,null,null,null,null,null,null,null,null,null,null,null,null,null,null,null,null,null,null,null,null,null,null,null,null,null,null,null,null,null,null,null,null,null,null,null,null,null,null,null,{"$f":"IF(Indtastning!AG:AG=\"Positiv\",1,\"\")","v":""}]
[null,null,null,null,null,null,null,null,null,null,null,null,null,null,null,null,null,null,null,null,null,null,null,null,null,null,null,null,null,null,null,null,null,null,null,null,null,null,null,null,null,null,null,null,null,null,null,null,null,null,null,null,null,null,null,null,null,null,null,null,{"$f":"IF(Indtastning!AG:AG=\"Positiv\",1,\"\")","v":""}]
[null,null,null,null,null,null,null,null,null,null,null,null,null,null,null,null,null,null,null,null,null,null,null,null,null,null,null,null,null,null,null,null,null,null,null,null,null,null,null,null,null,null,null,null,null,null,null,null,null,null,null,null,null,null,null,null,null,null,null,null,{"$f":"IF(Indtastning!AG:AG=\"Positiv\",1,\"\")","v":""}]
[null,null,null,null,null,null,null,null,null,null,null,null,null,null,null,null,null,null,null,null,null,null,null,null,null,null,null,null,null,null,null,null,null,null,null,null,null,null,null,null,null,null,null,null,null,null,null,null,null,null,null,null,null,null,null,null,null,null,null,null,{"$f":"IF(Indtastning!AG:AG=\"Positiv\",1,\"\")","v":""}]
[null,null,null,null,null,null,null,null,null,null,null,null,null,null,null,null,null,null,null,null,null,null,null,null,null,null,null,null,null,null,null,null,null,null,null,null,null,null,null,null,null,null,null,null,null,null,null,null,null,null,null,null,null,null,null,null,null,null,null,null,{"$f":"IF(Indtastning!AG:AG=\"Positiv\",1,\"\")","v":""}]
[null,null,null,null,null,null,null,null,null,null,null,null,null,null,null,null,null,null,null,null,null,null,null,null,null,null,null,null,null,null,null,null,null,null,null,null,null,null,null,null,null,null,null,null,null,null,null,null,null,null,null,null,null,null,null,null,null,null,null,null,{"$f":"IF(Indtastning!AG:AG=\"Positiv\",1,\"\")","v":""}]
[null,null,null,null,null,null,null,null,null,null,null,null,null,null,null,null,null,null,null,null,null,null,null,null,null,null,null,null,null,null,null,null,null,null,null,null,null,null,null,null,null,null,null,null,null,null,null,null,null,null,null,null,null,null,null,null,null,null,null,null,{"$f":"IF(Indtastning!AG:AG=\"Positiv\",1,\"\")","v":""}]
[null,null,null,null,null,null,null,null,null,null,null,null,null,null,null,null,null,null,null,null,null,null,null,null,null,null,null,null,null,null,null,null,null,null,null,null,null,null,null,null,null,null,null,null,null,null,null,null,null,null,null,null,null,null,null,null,null,null,null,null,{"$f":"IF(Indtastning!AG:AG=\"Positiv\",1,\"\")","v":""}]
[null,null,null,null,null,null,null,null,null,null,null,null,null,null,null,null,null,null,null,null,null,null,null,null,null,null,null,null,null,null,null,null,null,null,null,null,null,null,null,null,null,null,null,null,null,null,null,null,null,null,null,null,null,null,null,null,null,null,null,null,{"$f":"IF(Indtastning!AG:AG=\"Positiv\",1,\"\")","v":""}]
[null,null,null,null,null,null,null,null,null,null,null,null,null,null,null,null,null,null,null,null,null,null,null,null,null,null,null,null,null,null,null,null,null,null,null,null,null,null,null,null,null,null,null,null,null,null,null,null,null,null,null,null,null,null,null,null,null,null,null,null,{"$f":"IF(Indtastning!AG:AG=\"Positiv\",1,\"\")","v":""}]
[null,null,null,null,null,null,null,null,null,null,null,null,null,null,null,null,null,null,null,null,null,null,null,null,null,null,null,null,null,null,null,null,null,null,null,null,null,null,null,null,null,null,null,null,null,null,null,null,null,null,null,null,null,null,null,null,null,null,null,null,{"$f":"IF(Indtastning!AG:AG=\"Positiv\",1,\"\")","v":""}]
[null,null,null,null,null,null,null,null,null,null,null,null,null,null,null,null,null,null,null,null,null,null,null,null,null,null,null,null,null,null,null,null,null,null,null,null,null,null,null,null,null,null,null,null,null,null,null,null,null,null,null,null,null,null,null,null,null,null,null,null,{"$f":"IF(Indtastning!AG:AG=\"Positiv\",1,\"\")","v":""}]
[null,null,null,null,null,null,null,null,null,null,null,null,null,null,null,null,null,null,null,null,null,null,null,null,null,null,null,null,null,null,null,null,null,null,null,null,null,null,null,null,null,null,null,null,null,null,null,null,null,null,null,null,null,null,null,null,null,null,null,null,{"$f":"IF(Indtastning!AG:AG=\"Positiv\",1,\"\")","v":""}]
[null,null,null,null,null,null,null,null,null,null,null,null,null,null,null,null,null,null,null,null,null,null,null,null,null,null,null,null,null,null,null,null,null,null,null,null,null,null,null,null,null,null,null,null,null,null,null,null,null,null,null,null,null,null,null,null,null,null,null,null,{"$f":"IF(Indtastning!AG:AG=\"Positiv\",1,\"\")","v":""}]
[null,null,null,null,null,null,null,null,null,null,null,null,null,null,null,null,null,null,null,null,null,null,null,null,null,null,null,null,null,null,null,null,null,null,null,null,null,null,null,null,null,null,null,null,null,null,null,null,null,null,null,null,null,null,null,null,null,null,null,null,{"$f":"IF(Indtastning!AG:AG=\"Positiv\",1,\"\")","v":""}]
[null,null,null,null,null,null,null,null,null,null,null,null,null,null,null,null,null,null,null,null,null,null,null,null,null,null,null,null,null,null,null,null,null,null,null,null,null,null,null,null,null,null,null,null,null,null,null,null,null,null,null,null,null,null,null,null,null,null,null,null,{"$f":"IF(Indtastning!AG:AG=\"Positiv\",1,\"\")","v":""}]
[null,null,null,null,null,null,null,null,null,null,null,null,null,null,null,null,null,null,null,null,null,null,null,null,null,null,null,null,null,null,null,null,null,null,null,null,null,null,null,null,null,null,null,null,null,null,null,null,null,null,null,null,null,null,null,null,null,null,null,null,{"$f":"IF(Indtastning!AG:AG=\"Positiv\",1,\"\")","v":""}]
[null,null,null,null,null,null,null,null,null,null,null,null,null,null,null,null,null,null,null,null,null,null,null,null,null,null,null,null,null,null,null,null,null,null,null,null,null,null,null,null,null,null,null,null,null,null,null,null,null,null,null,null,null,null,null,null,null,null,null,null,{"$f":"IF(Indtastning!AG:AG=\"Positiv\",1,\"\")","v":""}]
[null,null,null,null,null,null,null,null,null,null,null,null,null,null,null,null,null,null,null,null,null,null,null,null,null,null,null,null,null,null,null,null,null,null,null,null,null,null,null,null,null,null,null,null,null,null,null,null,null,null,null,null,null,null,null,null,null,null,null,null,{"$f":"IF(Indtastning!AG:AG=\"Positiv\",1,\"\")","v":""}]
[null,null,null,null,null,null,null,null,null,null,null,null,null,null,null,null,null,null,null,null,null,null,null,null,null,null,null,null,null,null,null,null,null,null,null,null,null,null,null,null,null,null,null,null,null,null,null,null,null,null,null,null,null,null,null,null,null,null,null,null,{"$f":"IF(Indtastning!AG:AG=\"Positiv\",1,\"\")","v":""}]
[null,null,null,null,null,null,null,null,null,null,null,null,null,null,null,null,null,null,null,null,null,null,null,null,null,null,null,null,null,null,null,null,null,null,null,null,null,null,null,null,null,null,null,null,null,null,null,null,null,null,null,null,null,null,null,null,null,null,null,null,{"$f":"IF(Indtastning!AG:AG=\"Positiv\",1,\"\")","v":""}]
[null,null,null,null,null,null,null,null,null,null,null,null,null,null,null,null,null,null,null,null,null,null,null,null,null,null,null,null,null,null,null,null,null,null,null,null,null,null,null,null,null,null,null,null,null,null,null,null,null,null,null,null,null,null,null,null,null,null,null,null,{"$f":"IF(Indtastning!AG:AG=\"Positiv\",1,\"\")","v":""}]
[null,null,null,null,null,null,null,null,null,null,null,null,null,null,null,null,null,null,null,null,null,null,null,null,null,null,null,null,null,null,null,null,null,null,null,null,null,null,null,null,null,null,null,null,null,null,null,null,null,null,null,null,null,null,null,null,null,null,null,null,{"$f":"IF(Indtastning!AG:AG=\"Positiv\",1,\"\")","v":""}]
[null,null,null,null,null,null,null,null,null,null,null,null,null,null,null,null,null,null,null,null,null,null,null,null,null,null,null,null,null,null,null,null,null,null,null,null,null,null,null,null,null,null,null,null,null,null,null,null,null,null,null,null,null,null,null,null,null,null,null,null,{"$f":"IF(Indtastning!AG:AG=\"Positiv\",1,\"\")","v":""}]
[null,null,null,null,null,null,null,null,null,null,null,null,null,null,null,null,null,null,null,null,null,null,null,null,null,null,null,null,null,null,null,null,null,null,null,null,null,null,null,null,null,null,null,null,null,null,null,null,null,null,null,null,null,null,null,null,null,null,null,null,{"$f":"IF(Indtastning!AG:AG=\"Positiv\",1,\"\")","v":""}]
[null,null,null,null,null,null,null,null,null,null,null,null,null,null,null,null,null,null,null,null,null,null,null,null,null,null,null,null,null,null,null,null,null,null,null,null,null,null,null,null,null,null,null,null,null,null,null,null,null,null,null,null,null,null,null,null,null,null,null,null,{"$f":"IF(Indtastning!AG:AG=\"Positiv\",1,\"\")","v":""}]
[null,null,null,null,null,null,null,null,null,null,null,null,null,null,null,null,null,null,null,null,null,null,null,null,null,null,null,null,null,null,null,null,null,null,null,null,null,null,null,null,null,null,null,null,null,null,null,null,null,null,null,null,null,null,null,null,null,null,null,null,{"$f":"IF(Indtastning!AG:AG=\"Positiv\",1,\"\")","v":""}]
[null,null,null,null,null,null,null,null,null,null,null,null,null,null,null,null,null,null,null,null,null,null,null,null,null,null,null,null,null,null,null,null,null,null,null,null,null,null,null,null,null,null,null,null,null,null,null,null,null,null,null,null,null,null,null,null,null,null,null,null,{"$f":"IF(Indtastning!AG:AG=\"Positiv\",1,\"\")","v":""}]
[null,null,null,null,null,null,null,null,null,null,null,null,null,null,null,null,null,null,null,null,null,null,null,null,null,null,null,null,null,null,null,null,null,null,null,null,null,null,null,null,null,null,null,null,null,null,null,null,null,null,null,null,null,null,null,null,null,null,null,null,{"$f":"IF(Indtastning!AG:AG=\"Positiv\",1,\"\")","v":""}]
[null,null,null,null,null,null,null,null,null,null,null,null,null,null,null,null,null,null,null,null,null,null,null,null,null,null,null,null,null,null,null,null,null,null,null,null,null,null,null,null,null,null,null,null,null,null,null,null,null,null,null,null,null,null,null,null,null,null,null,null,{"$f":"IF(Indtastning!AG:AG=\"Positiv\",1,\"\")","v":""}]
[null,null,null,null,null,null,null,null,null,null,null,null,null,null,null,null,null,null,null,null,null,null,null,null,null,null,null,null,null,null,null,null,null,null,null,null,null,null,null,null,null,null,null,null,null,null,null,null,null,null,null,null,null,null,null,null,null,null,null,null,{"$f":"IF(Indtastning!AG:AG=\"Positiv\",1,\"\")","v":""}]
[null,null,null,null,null,null,null,null,null,null,null,null,null,null,null,null,null,null,null,null,null,null,null,null,null,null,null,null,null,null,null,null,null,null,null,null,null,null,null,null,null,null,null,null,null,null,null,null,null,null,null,null,null,null,null,null,null,null,null,null,{"$f":"IF(Indtastning!AG:AG=\"Positiv\",1,\"\")","v":""}]
[null,null,null,null,null,null,null,null,null,null,null,null,null,null,null,null,null,null,null,null,null,null,null,null,null,null,null,null,null,null,null,null,null,null,null,null,null,null,null,null,null,null,null,null,null,null,null,null,null,null,null,null,null,null,null,null,null,null,null,null,{"$f":"IF(Indtastning!AG:AG=\"Positiv\",1,\"\")","v":""}]
[null,null,null,null,null,null,null,null,null,null,null,null,null,null,null,null,null,null,null,null,null,null,null,null,null,null,null,null,null,null,null,null,null,null,null,null,null,null,null,null,null,null,null,null,null,null,null,null,null,null,null,null,null,null,null,null,null,null,null,null,{"$f":"IF(Indtastning!AG:AG=\"Positiv\",1,\"\")","v":""}]
[null,null,null,null,null,null,null,null,null,null,null,null,null,null,null,null,null,null,null,null,null,null,null,null,null,null,null,null,null,null,null,null,null,null,null,null,null,null,null,null,null,null,null,null,null,null,null,null,null,null,null,null,null,null,null,null,null,null,null,null,{"$f":"IF(Indtastning!AG:AG=\"Positiv\",1,\"\")","v":""}]
[null,null,null,null,null,null,null,null,null,null,null,null,null,null,null,null,null,null,null,null,null,null,null,null,null,null,null,null,null,null,null,null,null,null,null,null,null,null,null,null,null,null,null,null,null,null,null,null,null,null,null,null,null,null,null,null,null,null,null,null,{"$f":"IF(Indtastning!AG:AG=\"Positiv\",1,\"\")","v":""}]
[null,null,null,null,null,null,null,null,null,null,null,null,null,null,null,null,null,null,null,null,null,null,null,null,null,null,null,null,null,null,null,null,null,null,null,null,null,null,null,null,null,null,null,null,null,null,null,null,null,null,null,null,null,null,null,null,null,null,null,null,{"$f":"IF(Indtastning!AG:AG=\"Positiv\",1,\"\")","v":""}]
[null,null,null,null,null,null,null,null,null,null,null,null,null,null,null,null,null,null,null,null,null,null,null,null,null,null,null,null,null,null,null,null,null,null,null,null,null,null,null,null,null,null,null,null,null,null,null,null,null,null,null,null,null,null,null,null,null,null,null,null,{"$f":"IF(Indtastning!AG:AG=\"Positiv\",1,\"\")","v":""}]
[null,null,null,null,null,null,null,null,null,null,null,null,null,null,null,null,null,null,null,null,null,null,null,null,null,null,null,null,null,null,null,null,null,null,null,null,null,null,null,null,null,null,null,null,null,null,null,null,null,null,null,null,null,null,null,null,null,null,null,null,{"$f":"IF(Indtastning!AG:AG=\"Positiv\",1,\"\")","v":""}]
[null,null,null,null,null,null,null,null,null,null,null,null,null,null,null,null,null,null,null,null,null,null,null,null,null,null,null,null,null,null,null,null,null,null,null,null,null,null,null,null,null,null,null,null,null,null,null,null,null,null,null,null,null,null,null,null,null,null,null,null,{"$f":"IF(Indtastning!AG:AG=\"Positiv\",1,\"\")","v":""}]
[null,null,null,null,null,null,null,null,null,null,null,null,null,null,null,null,null,null,null,null,null,null,null,null,null,null,null,null,null,null,null,null,null,null,null,null,null,null,null,null,null,null,null,null,null,null,null,null,null,null,null,null,null,null,null,null,null,null,null,null,{"$f":"IF(Indtastning!AG:AG=\"Positiv\",1,\"\")","v":""}]
[null,null,null,null,null,null,null,null,null,null,null,null,null,null,null,null,null,null,null,null,null,null,null,null,null,null,null,null,null,null,null,null,null,null,null,null,null,null,null,null,null,null,null,null,null,null,null,null,null,null,null,null,null,null,null,null,null,null,null,null,{"$f":"IF(Indtastning!AG:AG=\"Positiv\",1,\"\")","v":""}]
[null,null,null,null,null,null,null,null,null,null,null,null,null,null,null,null,null,null,null,null,null,null,null,null,null,null,null,null,null,null,null,null,null,null,null,null,null,null,null,null,null,null,null,null,null,null,null,null,null,null,null,null,null,null,null,null,null,null,null,null,{"$f":"IF(Indtastning!AG:AG=\"Positiv\",1,\"\")","v":""}]
[null,null,null,null,null,null,null,null,null,null,null,null,null,null,null,null,null,null,null,null,null,null,null,null,null,null,null,null,null,null,null,null,null,null,null,null,null,null,null,null,null,null,null,null,null,null,null,null,null,null,null,null,null,null,null,null,null,null,null,null,{"$f":"IF(Indtastning!AG:AG=\"Positiv\",1,\"\")","v":""}]
[null,null,null,null,null,null,null,null,null,null,null,null,null,null,null,null,null,null,null,null,null,null,null,null,null,null,null,null,null,null,null,null,null,null,null,null,null,null,null,null,null,null,null,null,null,null,null,null,null,null,null,null,null,null,null,null,null,null,null,null,{"$f":"IF(Indtastning!AG:AG=\"Positiv\",1,\"\")","v":""}]
[null,null,null,null,null,null,null,null,null,null,null,null,null,null,null,null,null,null,null,null,null,null,null,null,null,null,null,null,null,null,null,null,null,null,null,null,null,null,null,null,null,null,null,null,null,null,null,null,null,null,null,null,null,null,null,null,null,null,null,null,{"$f":"IF(Indtastning!AG:AG=\"Positiv\",1,\"\")","v":""}]
[null,null,null,null,null,null,null,null,null,null,null,null,null,null,null,null,null,null,null,null,null,null,null,null,null,null,null,null,null,null,null,null,null,null,null,null,null,null,null,null,null,null,null,null,null,null,null,null,null,null,null,null,null,null,null,null,null,null,null,null,{"$f":"IF(Indtastning!AG:AG=\"Positiv\",1,\"\")","v":""}]
[null,null,null,null,null,null,null,null,null,null,null,null,null,null,null,null,null,null,null,null,null,null,null,null,null,null,null,null,null,null,null,null,null,null,null,null,null,null,null,null,null,null,null,null,null,null,null,null,null,null,null,null,null,null,null,null,null,null,null,null,{"$f":"IF(Indtastning!AG:AG=\"Positiv\",1,\"\")","v":""}]
[null,null,null,null,null,null,null,null,null,null,null,null,null,null,null,null,null,null,null,null,null,null,null,null,null,null,null,null,null,null,null,null,null,null,null,null,null,null,null,null,null,null,null,null,null,null,null,null,null,null,null,null,null,null,null,null,null,null,null,null,{"$f":"IF(Indtastning!AG:AG=\"Positiv\",1,\"\")","v":""}]
[null,null,null,null,null,null,null,null,null,null,null,null,null,null,null,null,null,null,null,null,null,null,null,null,null,null,null,null,null,null,null,null,null,null,null,null,null,null,null,null,null,null,null,null,null,null,null,null,null,null,null,null,null,null,null,null,null,null,null,null,{"$f":"IF(Indtastning!AG:AG=\"Positiv\",1,\"\")","v":""}]
[null,null,null,null,null,null,null,null,null,null,null,null,null,null,null,null,null,null,null,null,null,null,null,null,null,null,null,null,null,null,null,null,null,null,null,null,null,null,null,null,null,null,null,null,null,null,null,null,null,null,null,null,null,null,null,null,null,null,null,null,{"$f":"IF(Indtastning!AG:AG=\"Positiv\",1,\"\")","v":""}]
[null,null,null,null,null,null,null,null,null,null,null,null,null,null,null,null,null,null,null,null,null,null,null,null,null,null,null,null,null,null,null,null,null,null,null,null,null,null,null,null,null,null,null,null,null,null,null,null,null,null,null,null,null,null,null,null,null,null,null,null,{"$f":"IF(Indtastning!AG:AG=\"Positiv\",1,\"\")","v":""}]
[null,null,null,null,null,null,null,null,null,null,null,null,null,null,null,null,null,null,null,null,null,null,null,null,null,null,null,null,null,null,null,null,null,null,null,null,null,null,null,null,null,null,null,null,null,null,null,null,null,null,null,null,null,null,null,null,null,null,null,null,{"$f":"IF(Indtastning!AG:AG=\"Positiv\",1,\"\")","v":""}]
[null,null,null,null,null,null,null,null,null,null,null,null,null,null,null,null,null,null,null,null,null,null,null,null,null,null,null,null,null,null,null,null,null,null,null,null,null,null,null,null,null,null,null,null,null,null,null,null,null,null,null,null,null,null,null,null,null,null,null,null,{"$f":"IF(Indtastning!AG:AG=\"Positiv\",1,\"\")","v":""}]
[null,null,null,null,null,null,null,null,null,null,null,null,null,null,null,null,null,null,null,null,null,null,null,null,null,null,null,null,null,null,null,null,null,null,null,null,null,null,null,null,null,null,null,null,null,null,null,null,null,null,null,null,null,null,null,null,null,null,null,null,{"$f":"IF(Indtastning!AG:AG=\"Positiv\",1,\"\")","v":""}]
[null,null,null,null,null,null,null,null,null,null,null,null,null,null,null,null,null,null,null,null,null,null,null,null,null,null,null,null,null,null,null,null,null,null,null,null,null,null,null,null,null,null,null,null,null,null,null,null,null,null,null,null,null,null,null,null,null,null,null,null,{"$f":"IF(Indtastning!AG:AG=\"Positiv\",1,\"\")","v":""}]
[null,null,null,null,null,null,null,null,null,null,null,null,null,null,null,null,null,null,null,null,null,null,null,null,null,null,null,null,null,null,null,null,null,null,null,null,null,null,null,null,null,null,null,null,null,null,null,null,null,null,null,null,null,null,null,null,null,null,null,null,{"$f":"IF(Indtastning!AG:AG=\"Positiv\",1,\"\")","v":""}]
[null,null,null,null,null,null,null,null,null,null,null,null,null,null,null,null,null,null,null,null,null,null,null,null,null,null,null,null,null,null,null,null,null,null,null,null,null,null,null,null,null,null,null,null,null,null,null,null,null,null,null,null,null,null,null,null,null,null,null,null,{"$f":"IF(Indtastning!AG:AG=\"Positiv\",1,\"\")","v":""}]
[null,null,null,null,null,null,null,null,null,null,null,null,null,null,null,null,null,null,null,null,null,null,null,null,null,null,null,null,null,null,null,null,null,null,null,null,null,null,null,null,null,null,null,null,null,null,null,null,null,null,null,null,null,null,null,null,null,null,null,null,{"$f":"IF(Indtastning!AG:AG=\"Positiv\",1,\"\")","v":""}]
[null,null,null,null,null,null,null,null,null,null,null,null,null,null,null,null,null,null,null,null,null,null,null,null,null,null,null,null,null,null,null,null,null,null,null,null,null,null,null,null,null,null,null,null,null,null,null,null,null,null,null,null,null,null,null,null,null,null,null,null,{"$f":"IF(Indtastning!AG:AG=\"Positiv\",1,\"\")","v":""}]
[null,null,null,null,null,null,null,null,null,null,null,null,null,null,null,null,null,null,null,null,null,null,null,null,null,null,null,null,null,null,null,null,null,null,null,null,null,null,null,null,null,null,null,null,null,null,null,null,null,null,null,null,null,null,null,null,null,null,null,null,{"$f":"IF(Indtastning!AG:AG=\"Positiv\",1,\"\")","v":""}]
[null,null,null,null,null,null,null,null,null,null,null,null,null,null,null,null,null,null,null,null,null,null,null,null,null,null,null,null,null,null,null,null,null,null,null,null,null,null,null,null,null,null,null,null,null,null,null,null,null,null,null,null,null,null,null,null,null,null,null,null,{"$f":"IF(Indtastning!AG:AG=\"Positiv\",1,\"\")","v":""}]
[null,null,null,null,null,null,null,null,null,null,null,null,null,null,null,null,null,null,null,null,null,null,null,null,null,null,null,null,null,null,null,null,null,null,null,null,null,null,null,null,null,null,null,null,null,null,null,null,null,null,null,null,null,null,null,null,null,null,null,null,{"$f":"IF(Indtastning!AG:AG=\"Positiv\",1,\"\")","v":""}]
[null,null,null,null,null,null,null,null,null,null,null,null,null,null,null,null,null,null,null,null,null,null,null,null,null,null,null,null,null,null,null,null,null,null,null,null,null,null,null,null,null,null,null,null,null,null,null,null,null,null,null,null,null,null,null,null,null,null,null,null,{"$f":"IF(Indtastning!AG:AG=\"Positiv\",1,\"\")","v":""}]
[null,null,null,null,null,null,null,null,null,null,null,null,null,null,null,null,null,null,null,null,null,null,null,null,null,null,null,null,null,null,null,null,null,null,null,null,null,null,null,null,null,null,null,null,null,null,null,null,null,null,null,null,null,null,null,null,null,null,null,null,{"$f":"IF(Indtastning!AG:AG=\"Positiv\",1,\"\")","v":""}]
[null,null,null,null,null,null,null,null,null,null,null,null,null,null,null,null,null,null,null,null,null,null,null,null,null,null,null,null,null,null,null,null,null,null,null,null,null,null,null,null,null,null,null,null,null,null,null,null,null,null,null,null,null,null,null,null,null,null,null,null,{"$f":"IF(Indtastning!AG:AG=\"Positiv\",1,\"\")","v":""}]
[null,null,null,null,null,null,null,null,null,null,null,null,null,null,null,null,null,null,null,null,null,null,null,null,null,null,null,null,null,null,null,null,null,null,null,null,null,null,null,null,null,null,null,null,null,null,null,null,null,null,null,null,null,null,null,null,null,null,null,null,{"$f":"IF(Indtastning!AG:AG=\"Positiv\",1,\"\")","v":""}]
[null,null,null,null,null,null,null,null,null,null,null,null,null,null,null,null,null,null,null,null,null,null,null,null,null,null,null,null,null,null,null,null,null,null,null,null,null,null,null,null,null,null,null,null,null,null,null,null,null,null,null,null,null,null,null,null,null,null,null,null,{"$f":"IF(Indtastning!AG:AG=\"Positiv\",1,\"\")","v":""}]
[null,null,null,null,null,null,null,null,null,null,null,null,null,null,null,null,null,null,null,null,null,null,null,null,null,null,null,null,null,null,null,null,null,null,null,null,null,null,null,null,null,null,null,null,null,null,null,null,null,null,null,null,null,null,null,null,null,null,null,null,{"$f":"IF(Indtastning!AG:AG=\"Positiv\",1,\"\")","v":""}]
[null,null,null,null,null,null,null,null,null,null,null,null,null,null,null,null,null,null,null,null,null,null,null,null,null,null,null,null,null,null,null,null,null,null,null,null,null,null,null,null,null,null,null,null,null,null,null,null,null,null,null,null,null,null,null,null,null,null,null,null,{"$f":"IF(Indtastning!AG:AG=\"Positiv\",1,\"\")","v":""}]
[null,null,null,null,null,null,null,null,null,null,null,null,null,null,null,null,null,null,null,null,null,null,null,null,null,null,null,null,null,null,null,null,null,null,null,null,null,null,null,null,null,null,null,null,null,null,null,null,null,null,null,null,null,null,null,null,null,null,null,null,{"$f":"IF(Indtastning!AG:AG=\"Positiv\",1,\"\")","v":""}]
[null,null,null,null,null,null,null,null,null,null,null,null,null,null,null,null,null,null,null,null,null,null,null,null,null,null,null,null,null,null,null,null,null,null,null,null,null,null,null,null,null,null,null,null,null,null,null,null,null,null,null,null,null,null,null,null,null,null,null,null,{"$f":"IF(Indtastning!AG:AG=\"Positiv\",1,\"\")","v":""}]
[null,null,null,null,null,null,null,null,null,null,null,null,null,null,null,null,null,null,null,null,null,null,null,null,null,null,null,null,null,null,null,null,null,null,null,null,null,null,null,null,null,null,null,null,null,null,null,null,null,null,null,null,null,null,null,null,null,null,null,null,{"$f":"IF(Indtastning!AG:AG=\"Positiv\",1,\"\")","v":""}]
[null,null,null,null,null,null,null,null,null,null,null,null,null,null,null,null,null,null,null,null,null,null,null,null,null,null,null,null,null,null,null,null,null,null,null,null,null,null,null,null,null,null,null,null,null,null,null,null,null,null,null,null,null,null,null,null,null,null,null,null,{"$f":"IF(Indtastning!AG:AG=\"Positiv\",1,\"\")","v":""}]
[null,null,null,null,null,null,null,null,null,null,null,null,null,null,null,null,null,null,null,null,null,null,null,null,null,null,null,null,null,null,null,null,null,null,null,null,null,null,null,null,null,null,null,null,null,null,null,null,null,null,null,null,null,null,null,null,null,null,null,null,{"$f":"IF(Indtastning!AG:AG=\"Positiv\",1,\"\")","v":""}]
[null,null,null,null,null,null,null,null,null,null,null,null,null,null,null,null,null,null,null,null,null,null,null,null,null,null,null,null,null,null,null,null,null,null,null,null,null,null,null,null,null,null,null,null,null,null,null,null,null,null,null,null,null,null,null,null,null,null,null,null,{"$f":"IF(Indtastning!AG:AG=\"Positiv\",1,\"\")","v":""}]
[null,null,null,null,null,null,null,null,null,null,null,null,null,null,null,null,null,null,null,null,null,null,null,null,null,null,null,null,null,null,null,null,null,null,null,null,null,null,null,null,null,null,null,null,null,null,null,null,null,null,null,null,null,null,null,null,null,null,null,null,{"$f":"IF(Indtastning!AG:AG=\"Positiv\",1,\"\")","v":""}]
[null,null,null,null,null,null,null,null,null,null,null,null,null,null,null,null,null,null,null,null,null,null,null,null,null,null,null,null,null,null,null,null,null,null,null,null,null,null,null,null,null,null,null,null,null,null,null,null,null,null,null,null,null,null,null,null,null,null,null,null,{"$f":"IF(Indtastning!AG:AG=\"Positiv\",1,\"\")","v":""}]
[null,null,null,null,null,null,null,null,null,null,null,null,null,null,null,null,null,null,null,null,null,null,null,null,null,null,null,null,null,null,null,null,null,null,null,null,null,null,null,null,null,null,null,null,null,null,null,null,null,null,null,null,null,null,null,null,null,null,null,null,{"$f":"IF(Indtastning!AG:AG=\"Positiv\",1,\"\")","v":""}]
[null,null,null,null,null,null,null,null,null,null,null,null,null,null,null,null,null,null,null,null,null,null,null,null,null,null,null,null,null,null,null,null,null,null,null,null,null,null,null,null,null,null,null,null,null,null,null,null,null,null,null,null,null,null,null,null,null,null,null,null,{"$f":"IF(Indtastning!AG:AG=\"Positiv\",1,\"\")","v":""}]
[null,null,null,null,null,null,null,null,null,null,null,null,null,null,null,null,null,null,null,null,null,null,null,null,null,null,null,null,null,null,null,null,null,null,null,null,null,null,null,null,null,null,null,null,null,null,null,null,null,null,null,null,null,null,null,null,null,null,null,null,{"$f":"IF(Indtastning!AG:AG=\"Positiv\",1,\"\")","v":""}]
[null,null,null,null,null,null,null,null,null,null,null,null,null,null,null,null,null,null,null,null,null,null,null,null,null,null,null,null,null,null,null,null,null,null,null,null,null,null,null,null,null,null,null,null,null,null,null,null,null,null,null,null,null,null,null,null,null,null,null,null,{"$f":"IF(Indtastning!AG:AG=\"Positiv\",1,\"\")","v":""}]
[null,null,null,null,null,null,null,null,null,null,null,null,null,null,null,null,null,null,null,null,null,null,null,null,null,null,null,null,null,null,null,null,null,null,null,null,null,null,null,null,null,null,null,null,null,null,null,null,null,null,null,null,null,null,null,null,null,null,null,null,{"$f":"IF(Indtastning!AG:AG=\"Positiv\",1,\"\")","v":""}]
[null,null,null,null,null,null,null,null,null,null,null,null,null,null,null,null,null,null,null,null,null,null,null,null,null,null,null,null,null,null,null,null,null,null,null,null,null,null,null,null,null,null,null,null,null,null,null,null,null,null,null,null,null,null,null,null,null,null,null,null,{"$f":"IF(Indtastning!AG:AG=\"Positiv\",1,\"\")","v":""}]
[null,null,null,null,null,null,null,null,null,null,null,null,null,null,null,null,null,null,null,null,null,null,null,null,null,null,null,null,null,null,null,null,null,null,null,null,null,null,null,null,null,null,null,null,null,null,null,null,null,null,null,null,null,null,null,null,null,null,null,null,{"$f":"IF(Indtastning!AG:AG=\"Positiv\",1,\"\")","v":""}]
[null,null,null,null,null,null,null,null,null,null,null,null,null,null,null,null,null,null,null,null,null,null,null,null,null,null,null,null,null,null,null,null,null,null,null,null,null,null,null,null,null,null,null,null,null,null,null,null,null,null,null,null,null,null,null,null,null,null,null,null,{"$f":"IF(Indtastning!AG:AG=\"Positiv\",1,\"\")","v":""}]
[null,null,null,null,null,null,null,null,null,null,null,null,null,null,null,null,null,null,null,null,null,null,null,null,null,null,null,null,null,null,null,null,null,null,null,null,null,null,null,null,null,null,null,null,null,null,null,null,null,null,null,null,null,null,null,null,null,null,null,null,{"$f":"IF(Indtastning!AG:AG=\"Positiv\",1,\"\")","v":""}]
[null,null,null,null,null,null,null,null,null,null,null,null,null,null,null,null,null,null,null,null,null,null,null,null,null,null,null,null,null,null,null,null,null,null,null,null,null,null,null,null,null,null,null,null,null,null,null,null,null,null,null,null,null,null,null,null,null,null,null,null,{"$f":"IF(Indtastning!AG:AG=\"Positiv\",1,\"\")","v":""}]
[null,null,null,null,null,null,null,null,null,null,null,null,null,null,null,null,null,null,null,null,null,null,null,null,null,null,null,null,null,null,null,null,null,null,null,null,null,null,null,null,null,null,null,null,null,null,null,null,null,null,null,null,null,null,null,null,null,null,null,null,{"$f":"IF(Indtastning!AG:AG=\"Positiv\",1,\"\")","v":""}]
[null,null,null,null,null,null,null,null,null,null,null,null,null,null,null,null,null,null,null,null,null,null,null,null,null,null,null,null,null,null,null,null,null,null,null,null,null,null,null,null,null,null,null,null,null,null,null,null,null,null,null,null,null,null,null,null,null,null,null,null,{"$f":"IF(Indtastning!AG:AG=\"Positiv\",1,\"\")","v":""}]
[null,null,null,null,null,null,null,null,null,null,null,null,null,null,null,null,null,null,null,null,null,null,null,null,null,null,null,null,null,null,null,null,null,null,null,null,null,null,null,null,null,null,null,null,null,null,null,null,null,null,null,null,null,null,null,null,null,null,null,null,{"$f":"IF(Indtastning!AG:AG=\"Positiv\",1,\"\")","v":""}]
[null,null,null,null,null,null,null,null,null,null,null,null,null,null,null,null,null,null,null,null,null,null,null,null,null,null,null,null,null,null,null,null,null,null,null,null,null,null,null,null,null,null,null,null,null,null,null,null,null,null,null,null,null,null,null,null,null,null,null,null,{"$f":"IF(Indtastning!AG:AG=\"Positiv\",1,\"\")","v":""}]
[null,null,null,null,null,null,null,null,null,null,null,null,null,null,null,null,null,null,null,null,null,null,null,null,null,null,null,null,null,null,null,null,null,null,null,null,null,null,null,null,null,null,null,null,null,null,null,null,null,null,null,null,null,null,null,null,null,null,null,null,{"$f":"IF(Indtastning!AG:AG=\"Positiv\",1,\"\")","v":""}]
[null,null,null,null,null,null,null,null,null,null,null,null,null,null,null,null,null,null,null,null,null,null,null,null,null,null,null,null,null,null,null,null,null,null,null,null,null,null,null,null,null,null,null,null,null,null,null,null,null,null,null,null,null,null,null,null,null,null,null,null,{"$f":"IF(Indtastning!AG:AG=\"Positiv\",1,\"\")","v":""}]
[null,null,null,null,null,null,null,null,null,null,null,null,null,null,null,null,null,null,null,null,null,null,null,null,null,null,null,null,null,null,null,null,null,null,null,null,null,null,null,null,null,null,null,null,null,null,null,null,null,null,null,null,null,null,null,null,null,null,null,null,{"$f":"IF(Indtastning!AG:AG=\"Positiv\",1,\"\")","v":""}]
[null,null,null,null,null,null,null,null,null,null,null,null,null,null,null,null,null,null,null,null,null,null,null,null,null,null,null,null,null,null,null,null,null,null,null,null,null,null,null,null,null,null,null,null,null,null,null,null,null,null,null,null,null,null,null,null,null,null,null,null,{"$f":"IF(Indtastning!AG:AG=\"Positiv\",1,\"\")","v":""}]
[null,null,null,null,null,null,null,null,null,null,null,null,null,null,null,null,null,null,null,null,null,null,null,null,null,null,null,null,null,null,null,null,null,null,null,null,null,null,null,null,null,null,null,null,null,null,null,null,null,null,null,null,null,null,null,null,null,null,null,null,{"$f":"IF(Indtastning!AG:AG=\"Positiv\",1,\"\")","v":""}]
[null,null,null,null,null,null,null,null,null,null,null,null,null,null,null,null,null,null,null,null,null,null,null,null,null,null,null,null,null,null,null,null,null,null,null,null,null,null,null,null,null,null,null,null,null,null,null,null,null,null,null,null,null,null,null,null,null,null,null,null,{"$f":"IF(Indtastning!AG:AG=\"Positiv\",1,\"\")","v":""}]
[null,null,null,null,null,null,null,null,null,null,null,null,null,null,null,null,null,null,null,null,null,null,null,null,null,null,null,null,null,null,null,null,null,null,null,null,null,null,null,null,null,null,null,null,null,null,null,null,null,null,null,null,null,null,null,null,null,null,null,null,{"$f":"IF(Indtastning!AG:AG=\"Positiv\",1,\"\")","v":""}]
[null,null,null,null,null,null,null,null,null,null,null,null,null,null,null,null,null,null,null,null,null,null,null,null,null,null,null,null,null,null,null,null,null,null,null,null,null,null,null,null,null,null,null,null,null,null,null,null,null,null,null,null,null,null,null,null,null,null,null,null,{"$f":"IF(Indtastning!AG:AG=\"Positiv\",1,\"\")","v":""}]
[null,null,null,null,null,null,null,null,null,null,null,null,null,null,null,null,null,null,null,null,null,null,null,null,null,null,null,null,null,null,null,null,null,null,null,null,null,null,null,null,null,null,null,null,null,null,null,null,null,null,null,null,null,null,null,null,null,null,null,null,{"$f":"IF(Indtastning!AG:AG=\"Positiv\",1,\"\")","v":""}]
[null,null,null,null,null,null,null,null,null,null,null,null,null,null,null,null,null,null,null,null,null,null,null,null,null,null,null,null,null,null,null,null,null,null,null,null,null,null,null,null,null,null,null,null,null,null,null,null,null,null,null,null,null,null,null,null,null,null,null,null,{"$f":"IF(Indtastning!AG:AG=\"Positiv\",1,\"\")","v":""}]
[null,null,null,null,null,null,null,null,null,null,null,null,null,null,null,null,null,null,null,null,null,null,null,null,null,null,null,null,null,null,null,null,null,null,null,null,null,null,null,null,null,null,null,null,null,null,null,null,null,null,null,null,null,null,null,null,null,null,null,null,{"$f":"IF(Indtastning!AG:AG=\"Positiv\",1,\"\")","v":""}]
[null,null,null,null,null,null,null,null,null,null,null,null,null,null,null,null,null,null,null,null,null,null,null,null,null,null,null,null,null,null,null,null,null,null,null,null,null,null,null,null,null,null,null,null,null,null,null,null,null,null,null,null,null,null,null,null,null,null,null,null,{"$f":"IF(Indtastning!AG:AG=\"Positiv\",1,\"\")","v":""}]
[null,null,null,null,null,null,null,null,null,null,null,null,null,null,null,null,null,null,null,null,null,null,null,null,null,null,null,null,null,null,null,null,null,null,null,null,null,null,null,null,null,null,null,null,null,null,null,null,null,null,null,null,null,null,null,null,null,null,null,null,{"$f":"IF(Indtastning!AG:AG=\"Positiv\",1,\"\")","v":""}]
[null,null,null,null,null,null,null,null,null,null,null,null,null,null,null,null,null,null,null,null,null,null,null,null,null,null,null,null,null,null,null,null,null,null,null,null,null,null,null,null,null,null,null,null,null,null,null,null,null,null,null,null,null,null,null,null,null,null,null,null,{"$f":"IF(Indtastning!AG:AG=\"Positiv\",1,\"\")","v":""}]
[null,null,null,null,null,null,null,null,null,null,null,null,null,null,null,null,null,null,null,null,null,null,null,null,null,null,null,null,null,null,null,null,null,null,null,null,null,null,null,null,null,null,null,null,null,null,null,null,null,null,null,null,null,null,null,null,null,null,null,null,{"$f":"IF(Indtastning!AG:AG=\"Positiv\",1,\"\")","v":""}]
[null,null,null,null,null,null,null,null,null,null,null,null,null,null,null,null,null,null,null,null,null,null,null,null,null,null,null,null,null,null,null,null,null,null,null,null,null,null,null,null,null,null,null,null,null,null,null,null,null,null,null,null,null,null,null,null,null,null,null,null,{"$f":"IF(Indtastning!AG:AG=\"Positiv\",1,\"\")","v":""}]
[null,null,null,null,null,null,null,null,null,null,null,null,null,null,null,null,null,null,null,null,null,null,null,null,null,null,null,null,null,null,null,null,null,null,null,null,null,null,null,null,null,null,null,null,null,null,null,null,null,null,null,null,null,null,null,null,null,null,null,null,{"$f":"IF(Indtastning!AG:AG=\"Positiv\",1,\"\")","v":""}]
[null,null,null,null,null,null,null,null,null,null,null,null,null,null,null,null,null,null,null,null,null,null,null,null,null,null,null,null,null,null,null,null,null,null,null,null,null,null,null,null,null,null,null,null,null,null,null,null,null,null,null,null,null,null,null,null,null,null,null,null,{"$f":"IF(Indtastning!AG:AG=\"Positiv\",1,\"\")","v":""}]
[null,null,null,null,null,null,null,null,null,null,null,null,null,null,null,null,null,null,null,null,null,null,null,null,null,null,null,null,null,null,null,null,null,null,null,null,null,null,null,null,null,null,null,null,null,null,null,null,null,null,null,null,null,null,null,null,null,null,null,null,{"$f":"IF(Indtastning!AG:AG=\"Positiv\",1,\"\")","v":""}]
[null,null,null,null,null,null,null,null,null,null,null,null,null,null,null,null,null,null,null,null,null,null,null,null,null,null,null,null,null,null,null,null,null,null,null,null,null,null,null,null,null,null,null,null,null,null,null,null,null,null,null,null,null,null,null,null,null,null,null,null,{"$f":"IF(Indtastning!AG:AG=\"Positiv\",1,\"\")","v":""}]
[null,null,null,null,null,null,null,null,null,null,null,null,null,null,null,null,null,null,null,null,null,null,null,null,null,null,null,null,null,null,null,null,null,null,null,null,null,null,null,null,null,null,null,null,null,null,null,null,null,null,null,null,null,null,null,null,null,null,null,null,{"$f":"IF(Indtastning!AG:AG=\"Positiv\",1,\"\")","v":""}]
[null,null,null,null,null,null,null,null,null,null,null,null,null,null,null,null,null,null,null,null,null,null,null,null,null,null,null,null,null,null,null,null,null,null,null,null,null,null,null,null,null,null,null,null,null,null,null,null,null,null,null,null,null,null,null,null,null,null,null,null,{"$f":"IF(Indtastning!AG:AG=\"Positiv\",1,\"\")","v":""}]
[null,null,null,null,null,null,null,null,null,null,null,null,null,null,null,null,null,null,null,null,null,null,null,null,null,null,null,null,null,null,null,null,null,null,null,null,null,null,null,null,null,null,null,null,null,null,null,null,null,null,null,null,null,null,null,null,null,null,null,null,{"$f":"IF(Indtastning!AG:AG=\"Positiv\",1,\"\")","v":""}]
[null,null,null,null,null,null,null,null,null,null,null,null,null,null,null,null,null,null,null,null,null,null,null,null,null,null,null,null,null,null,null,null,null,null,null,null,null,null,null,null,null,null,null,null,null,null,null,null,null,null,null,null,null,null,null,null,null,null,null,null,{"$f":"IF(Indtastning!AG:AG=\"Positiv\",1,\"\")","v":""}]
[null,null,null,null,null,null,null,null,null,null,null,null,null,null,null,null,null,null,null,null,null,null,null,null,null,null,null,null,null,null,null,null,null,null,null,null,null,null,null,null,null,null,null,null,null,null,null,null,null,null,null,null,null,null,null,null,null,null,null,null,{"$f":"IF(Indtastning!AG:AG=\"Positiv\",1,\"\")","v":""}]
[null,null,null,null,null,null,null,null,null,null,null,null,null,null,null,null,null,null,null,null,null,null,null,null,null,null,null,null,null,null,null,null,null,null,null,null,null,null,null,null,null,null,null,null,null,null,null,null,null,null,null,null,null,null,null,null,null,null,null,null,{"$f":"IF(Indtastning!AG:AG=\"Positiv\",1,\"\")","v":""}]
[null,null,null,null,null,null,null,null,null,null,null,null,null,null,null,null,null,null,null,null,null,null,null,null,null,null,null,null,null,null,null,null,null,null,null,null,null,null,null,null,null,null,null,null,null,null,null,null,null,null,null,null,null,null,null,null,null,null,null,null,{"$f":"IF(Indtastning!AG:AG=\"Positiv\",1,\"\")","v":""}]
[null,null,null,null,null,null,null,null,null,null,null,null,null,null,null,null,null,null,null,null,null,null,null,null,null,null,null,null,null,null,null,null,null,null,null,null,null,null,null,null,null,null,null,null,null,null,null,null,null,null,null,null,null,null,null,null,null,null,null,null,{"$f":"IF(Indtastning!AG:AG=\"Positiv\",1,\"\")","v":""}]
[null,null,null,null,null,null,null,null,null,null,null,null,null,null,null,null,null,null,null,null,null,null,null,null,null,null,null,null,null,null,null,null,null,null,null,null,null,null,null,null,null,null,null,null,null,null,null,null,null,null,null,null,null,null,null,null,null,null,null,null,{"$f":"IF(Indtastning!AG:AG=\"Positiv\",1,\"\")","v":""}]
[null,null,null,null,null,null,null,null,null,null,null,null,null,null,null,null,null,null,null,null,null,null,null,null,null,null,null,null,null,null,null,null,null,null,null,null,null,null,null,null,null,null,null,null,null,null,null,null,null,null,null,null,null,null,null,null,null,null,null,null,{"$f":"IF(Indtastning!AG:AG=\"Positiv\",1,\"\")","v":""}]
[null,null,null,null,null,null,null,null,null,null,null,null,null,null,null,null,null,null,null,null,null,null,null,null,null,null,null,null,null,null,null,null,null,null,null,null,null,null,null,null,null,null,null,null,null,null,null,null,null,null,null,null,null,null,null,null,null,null,null,null,{"$f":"IF(Indtastning!AG:AG=\"Positiv\",1,\"\")","v":""}]
[null,null,null,null,null,null,null,null,null,null,null,null,null,null,null,null,null,null,null,null,null,null,null,null,null,null,null,null,null,null,null,null,null,null,null,null,null,null,null,null,null,null,null,null,null,null,null,null,null,null,null,null,null,null,null,null,null,null,null,null,{"$f":"IF(Indtastning!AG:AG=\"Positiv\",1,\"\")","v":""}]
[null,null,null,null,null,null,null,null,null,null,null,null,null,null,null,null,null,null,null,null,null,null,null,null,null,null,null,null,null,null,null,null,null,null,null,null,null,null,null,null,null,null,null,null,null,null,null,null,null,null,null,null,null,null,null,null,null,null,null,null,{"$f":"IF(Indtastning!AG:AG=\"Positiv\",1,\"\")","v":""}]
[null,null,null,null,null,null,null,null,null,null,null,null,null,null,null,null,null,null,null,null,null,null,null,null,null,null,null,null,null,null,null,null,null,null,null,null,null,null,null,null,null,null,null,null,null,null,null,null,null,null,null,null,null,null,null,null,null,null,null,null,{"$f":"IF(Indtastning!AG:AG=\"Positiv\",1,\"\")","v":""}]
[null,null,null,null,null,null,null,null,null,null,null,null,null,null,null,null,null,null,null,null,null,null,null,null,null,null,null,null,null,null,null,null,null,null,null,null,null,null,null,null,null,null,null,null,null,null,null,null,null,null,null,null,null,null,null,null,null,null,null,null,{"$f":"IF(Indtastning!AG:AG=\"Positiv\",1,\"\")","v":""}]
[null,null,null,null,null,null,null,null,null,null,null,null,null,null,null,null,null,null,null,null,null,null,null,null,null,null,null,null,null,null,null,null,null,null,null,null,null,null,null,null,null,null,null,null,null,null,null,null,null,null,null,null,null,null,null,null,null,null,null,null,{"$f":"IF(Indtastning!AG:AG=\"Positiv\",1,\"\")","v":""}]
[null,null,null,null,null,null,null,null,null,null,null,null,null,null,null,null,null,null,null,null,null,null,null,null,null,null,null,null,null,null,null,null,null,null,null,null,null,null,null,null,null,null,null,null,null,null,null,null,null,null,null,null,null,null,null,null,null,null,null,null,{"$f":"IF(Indtastning!AG:AG=\"Positiv\",1,\"\")","v":""}]
[null,null,null,null,null,null,null,null,null,null,null,null,null,null,null,null,null,null,null,null,null,null,null,null,null,null,null,null,null,null,null,null,null,null,null,null,null,null,null,null,null,null,null,null,null,null,null,null,null,null,null,null,null,null,null,null,null,null,null,null,{"$f":"IF(Indtastning!AG:AG=\"Positiv\",1,\"\")","v":""}]
[null,null,null,null,null,null,null,null,null,null,null,null,null,null,null,null,null,null,null,null,null,null,null,null,null,null,null,null,null,null,null,null,null,null,null,null,null,null,null,null,null,null,null,null,null,null,null,null,null,null,null,null,null,null,null,null,null,null,null,null,{"$f":"IF(Indtastning!AG:AG=\"Positiv\",1,\"\")","v":""}]
[null,null,null,null,null,null,null,null,null,null,null,null,null,null,null,null,null,null,null,null,null,null,null,null,null,null,null,null,null,null,null,null,null,null,null,null,null,null,null,null,null,null,null,null,null,null,null,null,null,null,null,null,null,null,null,null,null,null,null,null,{"$f":"IF(Indtastning!AG:AG=\"Positiv\",1,\"\")","v":""}]
[null,null,null,null,null,null,null,null,null,null,null,null,null,null,null,null,null,null,null,null,null,null,null,null,null,null,null,null,null,null,null,null,null,null,null,null,null,null,null,null,null,null,null,null,null,null,null,null,null,null,null,null,null,null,null,null,null,null,null,null,{"$f":"IF(Indtastning!AG:AG=\"Positiv\",1,\"\")","v":""}]
[null,null,null,null,null,null,null,null,null,null,null,null,null,null,null,null,null,null,null,null,null,null,null,null,null,null,null,null,null,null,null,null,null,null,null,null,null,null,null,null,null,null,null,null,null,null,null,null,null,null,null,null,null,null,null,null,null,null,null,null,{"$f":"IF(Indtastning!AG:AG=\"Positiv\",1,\"\")","v":""}]
[null,null,null,null,null,null,null,null,null,null,null,null,null,null,null,null,null,null,null,null,null,null,null,null,null,null,null,null,null,null,null,null,null,null,null,null,null,null,null,null,null,null,null,null,null,null,null,null,null,null,null,null,null,null,null,null,null,null,null,null,{"$f":"IF(Indtastning!AG:AG=\"Positiv\",1,\"\")","v":""}]
[null,null,null,null,null,null,null,null,null,null,null,null,null,null,null,null,null,null,null,null,null,null,null,null,null,null,null,null,null,null,null,null,null,null,null,null,null,null,null,null,null,null,null,null,null,null,null,null,null,null,null,null,null,null,null,null,null,null,null,null,{"$f":"IF(Indtastning!AG:AG=\"Positiv\",1,\"\")","v":""}]
[null,null,null,null,null,null,null,null,null,null,null,null,null,null,null,null,null,null,null,null,null,null,null,null,null,null,null,null,null,null,null,null,null,null,null,null,null,null,null,null,null,null,null,null,null,null,null,null,null,null,null,null,null,null,null,null,null,null,null,null,{"$f":"IF(Indtastning!AG:AG=\"Positiv\",1,\"\")","v":""}]
[null,null,null,null,null,null,null,null,null,null,null,null,null,null,null,null,null,null,null,null,null,null,null,null,null,null,null,null,null,null,null,null,null,null,null,null,null,null,null,null,null,null,null,null,null,null,null,null,null,null,null,null,null,null,null,null,null,null,null,null,{"$f":"IF(Indtastning!AG:AG=\"Positiv\",1,\"\")","v":""}]
[null,null,null,null,null,null,null,null,null,null,null,null,null,null,null,null,null,null,null,null,null,null,null,null,null,null,null,null,null,null,null,null,null,null,null,null,null,null,null,null,null,null,null,null,null,null,null,null,null,null,null,null,null,null,null,null,null,null,null,null,{"$f":"IF(Indtastning!AG:AG=\"Positiv\",1,\"\")","v":""}]
[null,null,null,null,null,null,null,null,null,null,null,null,null,null,null,null,null,null,null,null,null,null,null,null,null,null,null,null,null,null,null,null,null,null,null,null,null,null,null,null,null,null,null,null,null,null,null,null,null,null,null,null,null,null,null,null,null,null,null,null,{"$f":"IF(Indtastning!AG:AG=\"Positiv\",1,\"\")","v":""}]
[null,null,null,null,null,null,null,null,null,null,null,null,null,null,null,null,null,null,null,null,null,null,null,null,null,null,null,null,null,null,null,null,null,null,null,null,null,null,null,null,null,null,null,null,null,null,null,null,null,null,null,null,null,null,null,null,null,null,null,null,{"$f":"IF(Indtastning!AG:AG=\"Positiv\",1,\"\")","v":""}]
[null,null,null,null,null,null,null,null,null,null,null,null,null,null,null,null,null,null,null,null,null,null,null,null,null,null,null,null,null,null,null,null,null,null,null,null,null,null,null,null,null,null,null,null,null,null,null,null,null,null,null,null,null,null,null,null,null,null,null,null,{"$f":"IF(Indtastning!AG:AG=\"Positiv\",1,\"\")","v":""}]
[null,null,null,null,null,null,null,null,null,null,null,null,null,null,null,null,null,null,null,null,null,null,null,null,null,null,null,null,null,null,null,null,null,null,null,null,null,null,null,null,null,null,null,null,null,null,null,null,null,null,null,null,null,null,null,null,null,null,null,null,{"$f":"IF(Indtastning!AG:AG=\"Positiv\",1,\"\")","v":""}]
[null,null,null,null,null,null,null,null,null,null,null,null,null,null,null,null,null,null,null,null,null,null,null,null,null,null,null,null,null,null,null,null,null,null,null,null,null,null,null,null,null,null,null,null,null,null,null,null,null,null,null,null,null,null,null,null,null,null,null,null,{"$f":"IF(Indtastning!AG:AG=\"Positiv\",1,\"\")","v":""}]
[null,null,null,null,null,null,null,null,null,null,null,null,null,null,null,null,null,null,null,null,null,null,null,null,null,null,null,null,null,null,null,null,null,null,null,null,null,null,null,null,null,null,null,null,null,null,null,null,null,null,null,null,null,null,null,null,null,null,null,null,{"$f":"IF(Indtastning!AG:AG=\"Positiv\",1,\"\")","v":""}]
[null,null,null,null,null,null,null,null,null,null,null,null,null,null,null,null,null,null,null,null,null,null,null,null,null,null,null,null,null,null,null,null,null,null,null,null,null,null,null,null,null,null,null,null,null,null,null,null,null,null,null,null,null,null,null,null,null,null,null,null,{"$f":"IF(Indtastning!AG:AG=\"Positiv\",1,\"\")","v":""}]
[null,null,null,null,null,null,null,null,null,null,null,null,null,null,null,null,null,null,null,null,null,null,null,null,null,null,null,null,null,null,null,null,null,null,null,null,null,null,null,null,null,null,null,null,null,null,null,null,null,null,null,null,null,null,null,null,null,null,null,null,{"$f":"IF(Indtastning!AG:AG=\"Positiv\",1,\"\")","v":""}]
[null,null,null,null,null,null,null,null,null,null,null,null,null,null,null,null,null,null,null,null,null,null,null,null,null,null,null,null,null,null,null,null,null,null,null,null,null,null,null,null,null,null,null,null,null,null,null,null,null,null,null,null,null,null,null,null,null,null,null,null,{"$f":"IF(Indtastning!AG:AG=\"Positiv\",1,\"\")","v":""}]
[null,null,null,null,null,null,null,null,null,null,null,null,null,null,null,null,null,null,null,null,null,null,null,null,null,null,null,null,null,null,null,null,null,null,null,null,null,null,null,null,null,null,null,null,null,null,null,null,null,null,null,null,null,null,null,null,null,null,null,null,{"$f":"IF(Indtastning!AG:AG=\"Positiv\",1,\"\")","v":""}]
[null,null,null,null,null,null,null,null,null,null,null,null,null,null,null,null,null,null,null,null,null,null,null,null,null,null,null,null,null,null,null,null,null,null,null,null,null,null,null,null,null,null,null,null,null,null,null,null,null,null,null,null,null,null,null,null,null,null,null,null,{"$f":"IF(Indtastning!AG:AG=\"Positiv\",1,\"\")","v":""}]
[null,null,null,null,null,null,null,null,null,null,null,null,null,null,null,null,null,null,null,null,null,null,null,null,null,null,null,null,null,null,null,null,null,null,null,null,null,null,null,null,null,null,null,null,null,null,null,null,null,null,null,null,null,null,null,null,null,null,null,null,{"$f":"IF(Indtastning!AG:AG=\"Positiv\",1,\"\")","v":""}]
[null,null,null,null,null,null,null,null,null,null,null,null,null,null,null,null,null,null,null,null,null,null,null,null,null,null,null,null,null,null,null,null,null,null,null,null,null,null,null,null,null,null,null,null,null,null,null,null,null,null,null,null,null,null,null,null,null,null,null,null,{"$f":"IF(Indtastning!AG:AG=\"Positiv\",1,\"\")","v":""}]
[null,null,null,null,null,null,null,null,null,null,null,null,null,null,null,null,null,null,null,null,null,null,null,null,null,null,null,null,null,null,null,null,null,null,null,null,null,null,null,null,null,null,null,null,null,null,null,null,null,null,null,null,null,null,null,null,null,null,null,null,{"$f":"IF(Indtastning!AG:AG=\"Positiv\",1,\"\")","v":""}]
[null,null,null,null,null,null,null,null,null,null,null,null,null,null,null,null,null,null,null,null,null,null,null,null,null,null,null,null,null,null,null,null,null,null,null,null,null,null,null,null,null,null,null,null,null,null,null,null,null,null,null,null,null,null,null,null,null,null,null,null,{"$f":"IF(Indtastning!AG:AG=\"Positiv\",1,\"\")","v":""}]
[null,null,null,null,null,null,null,null,null,null,null,null,null,null,null,null,null,null,null,null,null,null,null,null,null,null,null,null,null,null,null,null,null,null,null,null,null,null,null,null,null,null,null,null,null,null,null,null,null,null,null,null,null,null,null,null,null,null,null,null,{"$f":"IF(Indtastning!AG:AG=\"Positiv\",1,\"\")","v":""}]
[null,null,null,null,null,null,null,null,null,null,null,null,null,null,null,null,null,null,null,null,null,null,null,null,null,null,null,null,null,null,null,null,null,null,null,null,null,null,null,null,null,null,null,null,null,null,null,null,null,null,null,null,null,null,null,null,null,null,null,null,{"$f":"IF(Indtastning!AG:AG=\"Positiv\",1,\"\")","v":""}]
[null,null,null,null,null,null,null,null,null,null,null,null,null,null,null,null,null,null,null,null,null,null,null,null,null,null,null,null,null,null,null,null,null,null,null,null,null,null,null,null,null,null,null,null,null,null,null,null,null,null,null,null,null,null,null,null,null,null,null,null,{"$f":"IF(Indtastning!AG:AG=\"Positiv\",1,\"\")","v":""}]
[null,null,null,null,null,null,null,null,null,null,null,null,null,null,null,null,null,null,null,null,null,null,null,null,null,null,null,null,null,null,null,null,null,null,null,null,null,null,null,null,null,null,null,null,null,null,null,null,null,null,null,null,null,null,null,null,null,null,null,null,{"$f":"IF(Indtastning!AG:AG=\"Positiv\",1,\"\")","v":""}]
[null,null,null,null,null,null,null,null,null,null,null,null,null,null,null,null,null,null,null,null,null,null,null,null,null,null,null,null,null,null,null,null,null,null,null,null,null,null,null,null,null,null,null,null,null,null,null,null,null,null,null,null,null,null,null,null,null,null,null,null,{"$f":"IF(Indtastning!AG:AG=\"Positiv\",1,\"\")","v":""}]
[null,null,null,null,null,null,null,null,null,null,null,null,null,null,null,null,null,null,null,null,null,null,null,null,null,null,null,null,null,null,null,null,null,null,null,null,null,null,null,null,null,null,null,null,null,null,null,null,null,null,null,null,null,null,null,null,null,null,null,null,{"$f":"IF(Indtastning!AG:AG=\"Positiv\",1,\"\")","v":""}]
[null,null,null,null,null,null,null,null,null,null,null,null,null,null,null,null,null,null,null,null,null,null,null,null,null,null,null,null,null,null,null,null,null,null,null,null,null,null,null,null,null,null,null,null,null,null,null,null,null,null,null,null,null,null,null,null,null,null,null,null,{"$f":"IF(Indtastning!AG:AG=\"Positiv\",1,\"\")","v":""}]
[null,null,null,null,null,null,null,null,null,null,null,null,null,null,null,null,null,null,null,null,null,null,null,null,null,null,null,null,null,null,null,null,null,null,null,null,null,null,null,null,null,null,null,null,null,null,null,null,null,null,null,null,null,null,null,null,null,null,null,null,{"$f":"IF(Indtastning!AG:AG=\"Positiv\",1,\"\")","v":""}]
[null,null,null,null,null,null,null,null,null,null,null,null,null,null,null,null,null,null,null,null,null,null,null,null,null,null,null,null,null,null,null,null,null,null,null,null,null,null,null,null,null,null,null,null,null,null,null,null,null,null,null,null,null,null,null,null,null,null,null,null,{"$f":"IF(Indtastning!AG:AG=\"Positiv\",1,\"\")","v":""}]
[null,null,null,null,null,null,null,null,null,null,null,null,null,null,null,null,null,null,null,null,null,null,null,null,null,null,null,null,null,null,null,null,null,null,null,null,null,null,null,null,null,null,null,null,null,null,null,null,null,null,null,null,null,null,null,null,null,null,null,null,{"$f":"IF(Indtastning!AG:AG=\"Positiv\",1,\"\")","v":""}]
[null,null,null,null,null,null,null,null,null,null,null,null,null,null,null,null,null,null,null,null,null,null,null,null,null,null,null,null,null,null,null,null,null,null,null,null,null,null,null,null,null,null,null,null,null,null,null,null,null,null,null,null,null,null,null,null,null,null,null,null,{"$f":"IF(Indtastning!AG:AG=\"Positiv\",1,\"\")","v":""}]
[null,null,null,null,null,null,null,null,null,null,null,null,null,null,null,null,null,null,null,null,null,null,null,null,null,null,null,null,null,null,null,null,null,null,null,null,null,null,null,null,null,null,null,null,null,null,null,null,null,null,null,null,null,null,null,null,null,null,null,null,{"$f":"IF(Indtastning!AG:AG=\"Positiv\",1,\"\")","v":""}]
[null,null,null,null,null,null,null,null,null,null,null,null,null,null,null,null,null,null,null,null,null,null,null,null,null,null,null,null,null,null,null,null,null,null,null,null,null,null,null,null,null,null,null,null,null,null,null,null,null,null,null,null,null,null,null,null,null,null,null,null,{"$f":"IF(Indtastning!AG:AG=\"Positiv\",1,\"\")","v":""}]
[null,null,null,null,null,null,null,null,null,null,null,null,null,null,null,null,null,null,null,null,null,null,null,null,null,null,null,null,null,null,null,null,null,null,null,null,null,null,null,null,null,null,null,null,null,null,null,null,null,null,null,null,null,null,null,null,null,null,null,null,{"$f":"IF(Indtastning!AG:AG=\"Positiv\",1,\"\")","v":""}]
[null,null,null,null,null,null,null,null,null,null,null,null,null,null,null,null,null,null,null,null,null,null,null,null,null,null,null,null,null,null,null,null,null,null,null,null,null,null,null,null,null,null,null,null,null,null,null,null,null,null,null,null,null,null,null,null,null,null,null,null,{"$f":"IF(Indtastning!AG:AG=\"Positiv\",1,\"\")","v":""}]
[null,null,null,null,null,null,null,null,null,null,null,null,null,null,null,null,null,null,null,null,null,null,null,null,null,null,null,null,null,null,null,null,null,null,null,null,null,null,null,null,null,null,null,null,null,null,null,null,null,null,null,null,null,null,null,null,null,null,null,null,{"$f":"IF(Indtastning!AG:AG=\"Positiv\",1,\"\")","v":""}]
[null,null,null,null,null,null,null,null,null,null,null,null,null,null,null,null,null,null,null,null,null,null,null,null,null,null,null,null,null,null,null,null,null,null,null,null,null,null,null,null,null,null,null,null,null,null,null,null,null,null,null,null,null,null,null,null,null,null,null,null,{"$f":"IF(Indtastning!AG:AG=\"Positiv\",1,\"\")","v":""}]
[null,null,null,null,null,null,null,null,null,null,null,null,null,null,null,null,null,null,null,null,null,null,null,null,null,null,null,null,null,null,null,null,null,null,null,null,null,null,null,null,null,null,null,null,null,null,null,null,null,null,null,null,null,null,null,null,null,null,null,null,{"$f":"IF(Indtastning!AG:AG=\"Positiv\",1,\"\")","v":""}]
[null,null,null,null,null,null,null,null,null,null,null,null,null,null,null,null,null,null,null,null,null,null,null,null,null,null,null,null,null,null,null,null,null,null,null,null,null,null,null,null,null,null,null,null,null,null,null,null,null,null,null,null,null,null,null,null,null,null,null,null,{"$f":"IF(Indtastning!AG:AG=\"Positiv\",1,\"\")","v":""}]
[null,null,null,null,null,null,null,null,null,null,null,null,null,null,null,null,null,null,null,null,null,null,null,null,null,null,null,null,null,null,null,null,null,null,null,null,null,null,null,null,null,null,null,null,null,null,null,null,null,null,null,null,null,null,null,null,null,null,null,null,{"$f":"IF(Indtastning!AG:AG=\"Positiv\",1,\"\")","v":""}]
[null,null,null,null,null,null,null,null,null,null,null,null,null,null,null,null,null,null,null,null,null,null,null,null,null,null,null,null,null,null,null,null,null,null,null,null,null,null,null,null,null,null,null,null,null,null,null,null,null,null,null,null,null,null,null,null,null,null,null,null,{"$f":"IF(Indtastning!AG:AG=\"Positiv\",1,\"\")","v":""}]
[null,null,null,null,null,null,null,null,null,null,null,null,null,null,null,null,null,null,null,null,null,null,null,null,null,null,null,null,null,null,null,null,null,null,null,null,null,null,null,null,null,null,null,null,null,null,null,null,null,null,null,null,null,null,null,null,null,null,null,null,{"$f":"IF(Indtastning!AG:AG=\"Positiv\",1,\"\")","v":""}]
[null,null,null,null,null,null,null,null,null,null,null,null,null,null,null,null,null,null,null,null,null,null,null,null,null,null,null,null,null,null,null,null,null,null,null,null,null,null,null,null,null,null,null,null,null,null,null,null,null,null,null,null,null,null,null,null,null,null,null,null,{"$f":"IF(Indtastning!AG:AG=\"Positiv\",1,\"\")","v":""}]
[null,null,null,null,null,null,null,null,null,null,null,null,null,null,null,null,null,null,null,null,null,null,null,null,null,null,null,null,null,null,null,null,null,null,null,null,null,null,null,null,null,null,null,null,null,null,null,null,null,null,null,null,null,null,null,null,null,null,null,null,{"$f":"IF(Indtastning!AG:AG=\"Positiv\",1,\"\")","v":""}]
[null,null,null,null,null,null,null,null,null,null,null,null,null,null,null,null,null,null,null,null,null,null,null,null,null,null,null,null,null,null,null,null,null,null,null,null,null,null,null,null,null,null,null,null,null,null,null,null,null,null,null,null,null,null,null,null,null,null,null,null,{"$f":"IF(Indtastning!AG:AG=\"Positiv\",1,\"\")","v":""}]
[null,null,null,null,null,null,null,null,null,null,null,null,null,null,null,null,null,null,null,null,null,null,null,null,null,null,null,null,null,null,null,null,null,null,null,null,null,null,null,null,null,null,null,null,null,null,null,null,null,null,null,null,null,null,null,null,null,null,null,null,{"$f":"IF(Indtastning!AG:AG=\"Positiv\",1,\"\")","v":""}]
[null,null,null,null,null,null,null,null,null,null,null,null,null,null,null,null,null,null,null,null,null,null,null,null,null,null,null,null,null,null,null,null,null,null,null,null,null,null,null,null,null,null,null,null,null,null,null,null,null,null,null,null,null,null,null,null,null,null,null,null,{"$f":"IF(Indtastning!AG:AG=\"Positiv\",1,\"\")","v":""}]
[null,null,null,null,null,null,null,null,null,null,null,null,null,null,null,null,null,null,null,null,null,null,null,null,null,null,null,null,null,null,null,null,null,null,null,null,null,null,null,null,null,null,null,null,null,null,null,null,null,null,null,null,null,null,null,null,null,null,null,null,{"$f":"IF(Indtastning!AG:AG=\"Positiv\",1,\"\")","v":""}]
[null,null,null,null,null,null,null,null,null,null,null,null,null,null,null,null,null,null,null,null,null,null,null,null,null,null,null,null,null,null,null,null,null,null,null,null,null,null,null,null,null,null,null,null,null,null,null,null,null,null,null,null,null,null,null,null,null,null,null,null,{"$f":"IF(Indtastning!AG:AG=\"Positiv\",1,\"\")","v":""}]

{"sheet":"PopUp variabler","index":12,"n_rows":20,"n_cols":5,"rows_kept":20,"cut":false,"hidden":false,"merged":[[1,3,1,4]]}
["Pop Up liste med BVC-udløsende temaer (triggere)","SOAS Niveauer"]
["Psykotisk","6  Drab",null,"Prøvetagning"]
["Medicin ","5  Overfald med farlig genstand / Forsøg på kvælning",null,"Positiv",1]
["Behovsudsættelse","4  Trusler med farlig genstand / Fysisk vold med forhåndenværende midler*",null,"Negativ",-1]
["Korrigering af adfærd","3  Korporlig truende attitude / Personrettede verbale trusler** / Selvmordsforsøg",null,"Ikke Aflagt",-2]
["Rammerne","2  Aggression rettet mod inventar / Selvskade",null,"Ikke ordineret",0]
["Behandlingen","1  Nedgørende skældsord / Verbale trusler - generaliserede eller personligt rettet  "]
["Irritabilitet på personalet","  mod nogen ikke tilstede"]
["Udgang"," *  Slag, Spark, Benspænd, Skaller, Bid, Spyt, Kras eller udfald med kasteskyts af mindre alvorlig karakter"]
["Medpatient","** Trusler kan udtrykkes gennem grove devaluerende ytringer, eller uden ord; f.eks. ved knyttede "]
["Økonomi","      næver, bevægelse af en finger hen over halsen eller gennem tegninger."]
["Udefrakommende faktorer","Husk at plotte tallet ind i rette vagtlag"]
["Personaleudløst"]
["Patientens ejendele"]
["Somatisk"]
["Vækning/søvn"]
["Indlæggelse/udskrivelse"]
["Årsager kan ikke bestemmes"]
[" Listen kan tilpasses ved indledende opsætning af ny patient/periode. Vagtlag ændres her…"]
["OBS Trigger \"Medpatient\" samt Trigger \"Irritabilitet på personale\" indgår i Risiko Algoritme (RA) og bør derfor ikke ændres"]

{"sheet":"Manualer","index":13,"n_rows":2,"n_cols":5,"rows_kept":2,"cut":false,"hidden":false,"merged":[]}
["BVC","SOAS","Positiv","Negativ","Ikke Afgivet"]
[6,1,{"$error":"#N/A"},-114,-104.4]

{"sheet":"CC","index":14,"n_rows":0,"n_cols":0,"rows_kept":0,"cut":false,"hidden":false,"merged":[]}