{"text_format":"1","workbook":"xlsx","n_sheets":3,"sheets":["Emcee Copy","DJ Copy","Dressing Room Copy"],"not_rendered":{"charts":0,"images":0,"macros":0,"external_links":0,"defined_names":1,"comments":0,"pivot_tables":0},"unopened":[],"bounds":{"document_bytes":16777216,"sheet_cells":100000,"rows_first":2000,"rows_last":500,"rows_between":2000,"halvings":0,"cell_chars":16384,"cell_head_chars":4096},"cells_cut":0,"cells_raw":0,"read":"whole","date_system":"1900"}

{"sheet":"Emcee Copy","index":0,"n_rows":25,"n_cols":3,"rows_kept":25,"cut":false,"hidden":false,"merged":[]}
["#","PERFORMER","TITLE"]
[1]
[2]
[3]
[4]
[5]
[6]
[7]
[8]
[9]
[10]
[11]
[12]
[13]
[14]
[15]
[16]
[17]
[18]
[19]
[20]
[21]
[22]
[23]
[24]

{"sheet":"DJ Copy","index":1,"n_rows":25,"n_cols":4,"rows_kept":25,"cut":false,"hidden":false,"merged":[]}
["#","PERFORMER","CD","TRACK #"]
[1,{"$f":"'Emcee Copy'!B2","v":0}]
[2,{"$f":"'Emcee Copy'!B3","v":0}]
[3,{"$f":"'Emcee Copy'!B4","v":0}]
[4,{"$f":"'Emcee Copy'!B5","v":0}]
[5,{"$f":"'Emcee Copy'!B6","v":0}]
[6,{"$f":"'Emcee Copy'!B7","v":0}]
[7,{"$f":"'Emcee Copy'!B8","v":0}]
[8,{"$f":"'Emcee Copy'!B9","v":0}]
[9,{"$f":"'Emcee Copy'!B10","v":0}]
[10,{"$f":"'Emcee Copy'!B11","v":0}]
[11,{"$f":"'Emcee Copy'!B12","v":0}]
[12,{"$f":"'Emcee Copy'!B13","v":0}]
[13,{"$f":"'Emcee Copy'!B14","v":0}]
[14,{"$f":"'Emcee Copy'!B15","v":0}]
[15,{"$f":"'Emcee Copy'!B16","v":0}]
[16,{"$f":"'Emcee Copy'!B17","v":0}]
[17,{"$f":"'Emcee Copy'!B18","v":0}]
[18,{"$f":"'Emcee Copy'!B19","v":0}]
[19,{"$f":"'Emcee Copy'!B20","v":0}]
[20,{"$f":"'Emcee Copy'!B21","v":0}]
[21,{"$f":"'Emcee Copy'!B22","v":0}]
[22,{"$f":"'Emcee Copy'!B23","v":0}]
[23,{"$f":"'Emcee Copy'!B24","v":0}]
[24,{"$f":"'Emcee Copy'!B25","v":0}]

{"sheet":"Dressing Room Copy","index":2,"n_rows":25,"n_cols":2,"rows_kept":25,"cut":false,"hidden":false,"merged":[]}
["#","PERFORMER"]
[1,{"$f":"'Emcee Copy'!B2","v":0}]
[2,{"$f":"'Emcee Copy'!B3","v":0}]
[3,{"$f":"'Emcee Copy'!B4","v":0}]
[4,{"$f":"'Emcee Copy'!B5","v":0}]
[5,{"$f":"'Emcee Copy'!B6","v":0}]
[6,{"$f":"'Emcee Copy'!B7","v":0}]
[7,{"$f":"'Emcee Copy'!B8","v":0}]
[8,{"$f":"'Emcee Copy'!B9","v":0}]
[9,{"$f":"'Emcee Copy'!B10","v":0}]
[10,{"$f":"'Emcee Copy'!B11","v":0}]
[11,{"$f":"'Emcee Copy'!B12","v":0}]
[12,{"$f":"'Emcee Copy'!B13","v":0}]
[13,{"$f":"'Emcee Copy'!B14","v":0}]
[14,{"$f":"'Emcee Copy'!B15","v":0}]
[15,{"$f":"'Emcee Copy'!B16","v":0}]
[16,{"$f":"'Emcee Copy'!B17","v":0}]
[17,{"$f":"'Emcee Copy'!B18","v":0}]
[18,{"$f":"'Emcee Copy'!B19","v":0}]
[19,{"$f":"'Emcee Copy'!B20","v":0}]
[20,{"$f":"'Emcee Copy'!B21","v":0}]
[21,{"$f":"'Emcee Copy'!B22","v":0}]
[22,{"$f":"'Emcee Copy'!B23","v":0}]
[23,{"$f":"'Emcee Copy'!B24","v":0}]
[24,{"$f":"'Emcee Copy'!B25","v":0}]